{"text_format":"1","workbook":"xlsx","n_sheets":76,"sheets":["Wks1 Obgr","Wks1 Obge","Wks2 Obgr","Wks2 Obge","Sch1 Obgr","Sch1 Obge","Sch2 Obgr","Sch2 Obge","SchA Obgr","SchA Obge","SchB1 Obgr","SchB2 Obgr","SchB3 Obgr","SchB4 Obgr","SchB5 Obgr","SchB6 Obgr","SchB7 Obgr","SchB8 Obgr","SchB9 Obgr","SchB1 Obge","SchB2 Obge","SchB3 Obge","SchB4 Obge","SchB5 Obge","SchB6 Obge","SchB7 Obge","SchB8 Obge","SchB9 Obge","SchC Obgr","SchC Obge","SchD Obgr","SchD Obge","SchE Obgr","Intro","HomeScr","FCQues","EqualQues","PartialQues","SplitQues","NameScr","QuesScr","SE obr Rdc","SE obe Rdc","MultFam","ExtParTm","ImpInc","GrsInc","SE Obr1","SE Obr2","SE Obr3","SE Obr4","SE Obr5","SE Obr6","SE Obr7","SE Obr8","SE Obr9","SE Loss-Obr","SE Obe1","SE Obe2","SE Obe3","SE Obe4","SE Obe5","SE Obe6","SE Obe7","SE Obe8","SE Obe9","SE Loss-Obe","DedApp","TaxEnt","HlthInsr","FCEnt","TotScr","ListEnt","ViewScr","PrtScr","Rates"],"not_rendered":{"charts":0,"images":20,"macros":1,"external_links":0,"defined_names":80,"comments":5,"pivot_tables":0},"unopened":[],"bounds":{"document_bytes":16777216,"sheet_cells":100000,"rows_first":2000,"rows_last":500,"rows_between":2000,"halvings":0,"cell_chars":16384,"cell_head_chars":4096},"cells_cut":0,"cells_raw":0,"read":"whole","date_system":"1900"}

{"sheet":"Wks1 Obgr","index":0,"n_rows":51,"n_cols":12,"rows_kept":51,"cut":false,"hidden":false,"merged":[[0,0,0,11],[1,0,1,11],[2,0,2,11],[11,3,11,7],[10,5,10,7]]}
["CHILD SUPPORT GUIDELINES"]
["WORKSHEET"]
["(N.D. Admin. Code ch. 75-02-04.1)"]
[]
["OBLIGOR:",null,null,{"$f":"HomeScr!$C$5","v":" "}]
["OBLIGEE:",null,null,{"$f":"HomeScr!$C$6","v":" "}]
[]
["1.","GROSS ANNUAL EMPLOYMENT INCOME:"]
[null,null,"Actual",null,null,null,null,null,{"$f":"IF(Rates!K22=\"Yes\",0,GrsInc!K9)","v":0}]
[null,null,null,"Source of financial data used; e.g., tax return,"]
[null,null,null,"pay stubs, etc",null,{"$f":"IF(Rates!K22=\"Yes\",0,GrsInc!I11)","v":0}]
[]
[null,null,"Imputed (from Schedule A)",null,null,null,null,null,{"$f":"IF(Rates!K22=\"Yes\",0,Rates!J26)","v":0}]
[null,null,null,"Total gross annual employment income",null,null,null,null,null,null,{"$f":"IF(Rates!K22=\"Yes\",0,I9+I13)","v":0}]
[]
["2.","OTHER GROSS ANNUAL INCOME:"]
[null,null,"Children's Benefits -01(3)&(4)",null,null,null,null,null,{"$f":"IF(Rates!K22=\"Yes\",0,GrsInc!K14)","v":0}]
[null,null,"Military Subsistence -01(4)",null,null,null,null,null,{"$f":"IF(Rates!K22=\"Yes\",0,GrsInc!K15)","v":0}]
[null,null,"Spousal Support (Alimony) -01(4)",null,null,null,null,null,{"$f":"IF(Rates!K22=\"Yes\",0,GrsInc!K16)","v":0}]
[null,null,"Unemployment/Workers' Comp. Benefits -01(4)",null,null,null,null,null,{"$f":"IF(Rates!K22=\"Yes\",0,GrsInc!K17)","v":0}]
[null,null,"Social Security Benefits -01(4)",null,null,null,null,null,{"$f":"IF(Rates!K22=\"Yes\",0,GrsInc!K18)","v":0}]
[null,null,"Pensions/Veterans' Benefits/Retirement Income -01(4)",null,null,null,null,null,{"$f":"IF(Rates!K22=\"Yes\",0,GrsInc!K19)","v":0}]
[null,null,"Refundable Tax Credits -01(4)",null,null,null,null,null,{"$f":"IF(Rates!K22=\"Yes\",0,GrsInc!K20)","v":0}]
[null,null,"Dividends and Interest -01(4)",null,null,null,null,null,{"$f":"IF(Rates!K22=\"Yes\",0,GrsInc!K21)","v":0}]
[null,null,"In-kind Income -01(4)&(5)",null,null,null,null,null,{"$f":"IF(Rates!K22=\"Yes\",0,GrsInc!K22)","v":0}]
[null,null,"Other",{"$f":"IF(Rates!K22=\"Yes\",0,GrsInc!I24)","v":0},null,null,null,null,{"$f":"IF(Rates!K22=\"Yes\",0,GrsInc!K23)","v":0}]
[null,null,null,"Total other gross annual income",null,null,null,null,null,null,{"$f":"SUM(I17:I26)","v":0}]
[]
["3.","ANNUAL NET INCOME FROM SELF-EMPLOYMENT(from Schedule B)",null,null,null,null,null,null,null,null,{"$f":"IF(Rates!K22=\"Yes\",0,'SE Loss-Obr'!T20)","v":0}]
[]
["4.","TOTAL GROSS ANNUAL INCOME (total of Lines 1, 2 and 3)",null,null,null,null,null,null,null,null,{"$f":"K14+K27+K29","v":0}]
[]
["5.","ANNUAL DEDUCTIONS:"]
[null,null,"Federal income tax obligation"]
[null,null,"(from Schedule 1) -01(6)(a)",null,null,null,null,null,{"$f":"IF(Rates!K22=\"Yes\",0,'Sch1 Obgr'!M21)","v":0}]
[null,null,"State income tax obligation"]
[null,null,"(from Schedule 1) -01(6)(b)",null,null,null,null,null,{"$f":"IF(Rates!K22=\"Yes\",0,'Sch1 Obgr'!M27)","v":0}]
[null,null,"FICA/Medicare/RRTA -01(6)(c)    ",null,null,null,null,null,{"$f":"IF(Rates!K22=\"Yes\",0,IF(QuesScr!I23<>\"Y\",IF((K14-DedApp!F11)<0,0,ROUND(IF((K14-DedApp!F11)<Rates!G17,((K14-DedApp!F11)*Rates!G13)+((K14-DedApp!F11)*Rates!G15),IF((K14-DedApp!F11)<Rates!G18,(Rates!G17*Rates!G13)+((K14-DedApp!F11)*Rates!G15),(Rates!G17*Rates!G13)+(Rates!G18*Rates!G15)+(((K14-DedApp!F11-Rates!G18))*Rates!G16))),0)),DedApp!F25))","v":0}]
[null,null,"Self-employment tax -01(6)(c)  ",null,null,null,null,null,{"$f":"IF(Rates!K22=\"Yes\",0,IF(DedApp!F10>0,ROUND(IF((DedApp!F10*Rates!G23)<400,0,IF((DedApp!F10*Rates!G23)<Rates!G25,((DedApp!F10*Rates!G23)*Rates!G19)+((DedApp!F10*Rates!G23)*Rates!G21),IF((DedApp!F10*Rates!G23)<Rates!G20,(Rates!G25*Rates!G19)+((DedApp!F10*Rates!G23)*Rates!G21),(Rates!G25*Rates!G19)+(Rates!G20*Rates!G21)+(((DedApp!F10*Rates!G23)-Rates!G20)*Rates!G22)))),0),0))","v":0}]
[null,null,"Health insurance for children"]
[null,null,"(from Schedule 2) -01(6)(d)",null,null,null,null,null,{"$f":"IF(Rates!K22=\"Yes\",0,IF('Sch2 Obgr'!E26=0,'Sch2 Obgr'!E39,'Sch2 Obgr'!E26))","v":0}]
[null,null,"Other medical expenses for children -01(6)(e)",null,null,null,null,null,{"$f":"IF(Rates!K22=\"Yes\",0,DedApp!F15)","v":0}]
[null,null,"Required union dues and occupational license"]
[null,null,"fees -01(6)(f)",null,null,null,null,null,{"$f":"IF(Rates!K22=\"Yes\",0,DedApp!F17)","v":0}]
[null,null,"Required retirement contributions -01(6)(g)",null,null,null,null,null,{"$f":"IF(Rates!K22=\"Yes\",0,DedApp!F18)","v":0}]
[null,null,"Required employee expenses -01(6)(h)&(i)",null,null,null,null,null,{"$f":"IF(Rates!K22=\"Yes\",0,DedApp!F19)","v":0}]
[null,null,null,"Total annual deductions",null,null,null,null,null,null,{"$f":"SUM(I35:I46)","v":0}]
[]
["6.","TOTAL NET ANNUAL INCOME (Line 4 less Line 5)",null,null,null,null,null,null,null,null,{"$f":"IF(Rates!K22=\"Yes\",'SchA Obgr'!O215,K31-K47)","v":0}]
["This document was created by using Child"]
["Support's web based guidelines calculator.",null,null,null,null,null,null,null,null,null,null,{"$f":"\"Worksheet/Page 1 of 2/\"&Rates!N16&\" \"&Rates!O16","v":"Worksheet/Page 1 of 2/July 2023"}]

{"sheet":"Wks1 Obge","index":1,"n_rows":51,"n_cols":12,"rows_kept":51,"cut":false,"hidden":false,"merged":[[0,0,0,11],[1,0,1,11],[2,0,2,11],[11,3,11,7],[10,5,10,7]]}
["CHILD SUPPORT GUIDELINES"]
["WORKSHEET"]
["(N.D. Admin. Code ch. 75-02-04.1)"]
[]
["OBLIGOR:",null,null,{"$f":"IF(OR(Rates!O49=\"S\",Rates!O49=\"E\",Rates!O49=\"P\"),'Wks1 Obgr'!D6,0)","v":0}]
["OBLIGEE:",null,null,{"$f":"IF(OR(Rates!O49=\"S\",Rates!O49=\"E\",Rates!O49=\"P\"),'Wks1 Obgr'!D5,0)","v":0}]
[]
["1.","GROSS ANNUAL EMPLOYMENT INCOME:"]
[null,null,"Actual",null,null,null,null,null,{"$f":"IF(OR(Rates!O49=\"N\",Rates!O49=\"F\",Rates!O22=\"Yes\"),0,GrsInc!N9)","v":0}]
[null,null,null,"Source of financial data used; e.g., tax return,"]
[null,null,null,"pay stubs, etc",null,{"$f":"IF(OR(Rates!O49=\"N\",Rates!O49=\"F\",Rates!O22=\"Yes\"),0,GrsInc!L11)","v":0}]
[]
[null,null,"Imputed (from Schedule A)",null,null,null,null,null,{"$f":"IF(OR(Rates!O49=\"N\",Rates!O49=\"F\",Rates!O22=\"Yes\"),0,Rates!N26)","v":0}]
[null,null,null,"Total gross annual employment income",null,null,null,null,null,null,{"$f":"IF(OR(Rates!O49=\"N\",Rates!O49=\"F\",Rates!O22=\"Yes\"),0,I9+I13)","v":0}]
[]
["2.","OTHER GROSS ANNUAL INCOME:"]
[null,null,"Children's Benefits -01(3)&(4)",null,null,null,null,null,{"$f":"IF(OR(Rates!O49=\"N\",Rates!O49=\"F\",Rates!O22=\"Yes\"),0,GrsInc!N14)","v":0}]
[null,null,"Military Subsistence -01(4)",null,null,null,null,null,{"$f":"IF(OR(Rates!O49=\"N\",Rates!O49=\"F\",Rates!O22=\"Yes\"),0,GrsInc!N15)","v":0}]
[null,null,"Spousal Support (Alimony) -01(4)",null,null,null,null,null,{"$f":"IF(OR(Rates!O49=\"N\",Rates!O49=\"F\",Rates!O22=\"Yes\"),0,GrsInc!N16)","v":0}]
[null,null,"Unemployment/Workers' Comp. Benefits -01(4)",null,null,null,null,null,{"$f":"IF(OR(Rates!O49=\"N\",Rates!O49=\"F\",Rates!O22=\"Yes\"),0,GrsInc!N17)","v":0}]
[null,null,"Social Security Benefits -01(4)",null,null,null,null,null,{"$f":"IF(OR(Rates!O49=\"N\",Rates!O49=\"F\",Rates!O22=\"Yes\"),0,GrsInc!N18)","v":0}]
[null,null,"Pensions/Veterans' Benefits/Retirement Income -01(4)",null,null,null,null,null,{"$f":"IF(OR(Rates!O49=\"N\",Rates!O49=\"F\",Rates!O22=\"Yes\"),0,GrsInc!N19)","v":0}]
[null,null,"Refundable Tax Credits -01(4)",null,null,null,null,null,{"$f":"IF(OR(Rates!O49=\"N\",Rates!O49=\"F\",Rates!O22=\"Yes\"),0,GrsInc!N20)","v":0}]
[null,null,"Dividends and Interest -01(4)",null,null,null,null,null,{"$f":"IF(OR(Rates!O49=\"N\",Rates!O49=\"F\",Rates!O22=\"Yes\"),0,GrsInc!N21)","v":0}]
[null,null,"In-kind Income -01(4)&(5)",null,null,null,null,null,{"$f":"IF(OR(Rates!O49=\"N\",Rates!O49=\"F\",Rates!O22=\"Yes\"),0,GrsInc!N22)","v":0}]
[null,null,"Other",{"$f":"IF(OR(Rates!O49=\"N\",Rates!O49=\"F\",Rates!O22=\"Yes\"),0,GrsInc!L24)","v":0},null,null,null,null,{"$f":"IF(OR(Rates!O49=\"N\",Rates!O49=\"F\",Rates!O22=\"Yes\"),0,GrsInc!N23)","v":0}]
[null,null,null,"Total other gross annual income",null,null,null,null,null,null,{"$f":"SUM(I17:I26)","v":0}]
[]
["3.","ANNUAL NET INCOME FROM SELF-EMPLOYMENT(from Schedule B)",null,null,null,null,null,null,null,null,{"$f":"IF(OR(Rates!O49=\"N\",Rates!O49=\"F\",Rates!O22=\"Yes\"),0,'SE Loss-Obe'!T20)","v":0}]
[]
["4.","TOTAL GROSS ANNUAL INCOME (total of Lines 1, 2 and 3)",null,null,null,null,null,null,null,null,{"$f":"K14+K27+K29","v":0}]
[]
["5.","ANNUAL DEDUCTIONS:"]
[null,null,"Federal income tax obligation"]
[null,null,"(from Schedule 1) -01(6)(a)",null,null,null,null,null,{"$f":"IF(OR(Rates!O49=\"N\",Rates!O49=\"F\",Rates!O22=\"Yes\"),0,'Sch1 Obge'!M21)","v":0}]
[null,null,"State income tax obligation"]
[null,null,"(from Schedule 1) -01(6)(b)",null,null,null,null,null,{"$f":"IF(OR(Rates!O49=\"N\",Rates!O49=\"F\",Rates!O22=\"Yes\"),0,'Sch1 Obge'!M27)","v":0}]
[null,null,"FICA/Medicare/RRTA -01(6)(c)    ",null,null,null,null,null,{"$f":"IF(Rates!O22=\"Yes\",0,IF(QuesScr!M23<>\"Y\",IF((K14-DedApp!H11)<0,0,ROUND(IF((K14-DedApp!H11)<Rates!G17,((K14-DedApp!H11)*Rates!G13)+((K14-DedApp!H11)*Rates!G15),IF((K14-DedApp!H11)<Rates!G18,(Rates!G17*Rates!G13)+((K14-DedApp!H11)*Rates!G15),(Rates!G17*Rates!G13)+(Rates!G18*Rates!G15)+(((K14-DedApp!H11-Rates!G18))*Rates!G16))),0)),DedApp!H25))","v":0}]
[null,null,"Self-employment tax -01(6)(c)  ",null,null,null,null,null,{"$f":"IF(OR(Rates!O49=\"N\",Rates!O49=\"F\",Rates!O22=\"Yes\"),0,IF(DedApp!H10>0,ROUND(IF((DedApp!H10*Rates!G23)<400,0,IF((DedApp!H10*Rates!G23)<Rates!G25,((DedApp!H10*Rates!G23)*Rates!G19)+((DedApp!H10*Rates!G23)*Rates!G21),IF((DedApp!H10*Rates!G23)<Rates!G20,(Rates!G25*Rates!G19)+((DedApp!H10*Rates!G23)*Rates!G21),(Rates!G25*Rates!G19)+(Rates!G20*Rates!G21)+(((DedApp!H10*Rates!G23)-Rates!G20)*Rates!G22)))),0),0))","v":0}]
[null,null,"Health insurance for children"]
[null,null,"(from Schedule 2) -01(6)(d)",null,null,null,null,null,{"$f":"IF(OR(Rates!O49=\"N\",Rates!O49=\"F\",Rates!O22=\"Yes\"),0,IF('Sch2 Obge'!E26=0,'Sch2 Obge'!E39,'Sch2 Obge'!E26))","v":0}]
[null,null,"Other medical expenses for children -01(6)(e)",null,null,null,null,null,{"$f":"IF(OR(Rates!O49=\"N\",Rates!O49=\"F\",Rates!O22=\"Yes\"),0,DedApp!H15)","v":0}]
[null,null,"Required union dues and occupational license"]
[null,null,"fees -01(6)(f)",null,null,null,null,null,{"$f":"IF(OR(Rates!O49=\"N\",Rates!O49=\"F\",Rates!O22=\"Yes\"),0,DedApp!H17)","v":0}]
[null,null,"Required retirement contributions -01(6)(g)",null,null,null,null,null,{"$f":"IF(OR(Rates!O49=\"N\",Rates!O49=\"F\",Rates!O22=\"Yes\"),0,DedApp!H18)","v":0}]
[null,null,"Required employee expenses -01(6)(h)&(i)",null,null,null,null,null,{"$f":"IF(OR(Rates!O49=\"N\",Rates!O49=\"F\",Rates!O22=\"Yes\"),0,DedApp!H19)","v":0}]
[null,null,null,"Total annual deductions",null,null,null,null,null,null,{"$f":"IF(OR(Rates!O49=\"N\",Rates!O49=\"F\",Rates!O22=\"Yes\"),0,SUM(I35:I46))","v":0}]
[]
["6.","TOTAL NET ANNUAL INCOME (Line 4 less Line 5)",null,null,null,null,null,null,null,null,{"$f":"IF(OR(Rates!O49=\"N\",Rates!O49=\"F\"),0,IF(Rates!O22=\"Yes\",'SchA Obge'!O118,'Wks1 Obge'!K31-'Wks1 Obge'!K47))","v":0}]
["This document was created by using Child"]
["Support's web based guidelines calculator.",null,null,null,null,null,null,null,null,null,null,{"$f":"\"Worksheet/Page 1 of 2/\"&Rates!N16&\" \"&Rates!O16","v":"Worksheet/Page 1 of 2/July 2023"}]

{"sheet":"Wks2 Obgr","index":2,"n_rows":51,"n_cols":9,"rows_kept":51,"cut":false,"hidden":false,"merged":[[42,4,42,8],[43,4,43,8]]}
["7.","TOTAL NET MONTHLY INCOME (Line 6 ÷ 12)",null,null,null,null,null,null,{"$f":"ROUND('Wks1 Obgr'!K49/12,0)","v":0}]
[]
["GUIDELINES APPLICATION:"]
[null,null,"Number of children for whom support is being determined",null,null,null,null,null,{"$f":"QuesScr!H12","v":0}]
[]
[null,null,"Support amount from guidelines -10",null,null,null,null,null,{"$f":"IF(I4=0,0,(VLOOKUP(IF(I1>25000,25000,IF(I1<100,100,(ROUND((I1/100),0))*100)),award03,IF(I4>6,7,I4+1),TRUE)))","v":0}]
[]
[null,null,"Split parental rights and responsibilities -03* or equal residential responsibilty for"]
[null,null,"some, but not all, children -08.2*"]
[null,null,null,"1.","Support obligation due from obligor",null,{"$f":"IF(OR(Rates!O49=\"S\",Rates!O49=\"P\"),I$39,0)","v":0}]
[null,null,null,"2.","Support obligation due from obligee",null,{"$f":"IF(OR(Rates!O49=\"S\",Rates!O49=\"P\"),'Wks2 Obge'!$I$39,0)","v":0}]
[null,null,null,"3.","Offset amount",null,null,null,{"$f":"IF(OR(Rates!O49=\"S\",Rates!O49=\"P\"),IF(G10>G11,G10-G11,G11-G10),0)","v":0}]
[null,null,null,null,"(Subtract the lesser obligation from the greater obligation"]
[null,null,null,null,"(Lines 1 and 2))"]
[]
[null,null,"Equal residential responsibility for the child, or when there are multiple children, for"]
[null,null,"all children -08.2*"]
[null,null,null,"1.","Support obligation due from obligor",null,{"$f":"IF(Rates!O49=\"E\",I$39,0)","v":0}]
[null,null,null,"2.","Support obligation due from obligee",null,{"$f":"IF(Rates!O49=\"E\",'Wks2 Obge'!I$39,0)","v":0}]
[null,null,null,"3.","Offset amount",null,null,null,{"$f":"IF(Rates!O49=\"E\",IF(G18>G19,G18-G19,G19-G18),0)","v":0}]
[null,null,null,null,"(Subtract the lesser obligation from the greater obligation"]
[null,null,null,null,"(Lines 1 and 2))"]
[]
[null,null,"*Split parental rights and responsibilities means the parents have more than one"]
[null,null,"child in common and each parent has physical custody of or primary residential "]
[null,null,"responsibility for at least one child.  Equal residential responsibility means each "]
[null,null,"parent has residential responsibility for their child or children for an equal amount"]
[null,null,"of time as determined by the court.  In situations involving split parental rights "]
[null,null,"and responsibilities or equal residential responsibility, each parent is both obligee"]
[null,null,"and obligor. Accordingly, a separate worksheet must be completed for each"]
[null,null,"parent."]
[]
[null,null,"Multiple families (Schedule C)",null,null,null,null,null,{"$f":"IF(Rates!O49=\"F\",0,IF(QuesScr!I18<>\"Y\",0,IF(MultFam!J12>4,DedApp!F27,IF('SchC Obgr'!G49=0,I6,'SchC Obgr'!G49))))","v":0}]
[]
[null,null,"Extended parenting time (Schedule D)",null,null,null,null,null,{"$f":"IF(OR(Rates!O49=\"F\",QuesScr!I21<>\"Y\"),0,IF(ExtParTm!J9>5,DedApp!F29,'SchD Obgr'!H35))","v":0}]
[]
[null,null,"Foster Care (Schedule E)",null,null,null,null,null,{"$f":"IF(OR(FCEnt!K23=0,FCEnt!K23=\"\"),FCEnt!M24*I4,FCEnt!K23*I4)","v":0}]
[]
["CHILD SUPPORT AMOUNT",null,null,null,null,null,null,null,{"$f":"IF(I37=0,IF(I35=0,IF(I33=0,I6,I33),I35),I37)","v":0}]
[]
["Date calculation completed:",null,null,null,null,null,null,null,{"$f":"IF(TotScr!I28=0,TODAY(),TotScr!I28)","v":"2024-05-06"}]
[]
["Comments:",null,null,null,{"$f":"TotScr!E21","v":0}]
[null,null,null,null,{"$f":"TotScr!E22","v":0}]
[]
[]
[]
[]
[]
["This document was created by using Child"]
["Support's web based guidelines calculator.",null,null,null,null,null,null,null,{"$f":"\"Worksheet/Page 2 of 2/\"&Rates!N16&\" \"&Rates!O16","v":"Worksheet/Page 2 of 2/July 2023"}]

{"sheet":"Wks2 Obge","index":3,"n_rows":51,"n_cols":9,"rows_kept":51,"cut":false,"hidden":false,"merged":[[42,4,42,8],[43,4,43,8]]}
["7.","TOTAL NET MONTHLY INCOME (Line 6 ÷ 12)",null,null,null,null,null,null,{"$f":"IF(OR(Rates!O49=\"N\",Rates!O49=\"F\"),0,ROUND('Wks1 Obge'!K49/12,0))","v":0}]
[]
["GUIDELINES APPLICATION:"]
[null,null,"Number of children for whom support is being determined",null,null,null,null,null,{"$f":"IF(OR(Rates!O49=\"N\",Rates!O49=\"F\"),0,QuesScr!L12)","v":0}]
[]
[null,null,"Support amount from guidelines -10",null,null,null,null,null,{"$f":"IF(I4=0,0,(VLOOKUP(IF(I1>25000,25000,IF(I1<100,100,(ROUND((I1/100),0))*100)),award03,IF(I4>6,7,I4+1),TRUE)))","v":0}]
[]
[null,null,"Split parental rights and responsibilities -03* or equal residential responsibilty for"]
[null,null,"some, but not all, children -08.2*"]
[null,null,null,"1.","Support obligation due from obligor",null,{"$f":"IF(OR(Rates!O49=\"S\",Rates!O49=\"P\"),'Wks2 Obge'!$I$39,0)","v":0}]
[null,null,null,"2.","Support obligation due from obligee",null,{"$f":"IF(OR(Rates!O49=\"S\",Rates!O49=\"P\"),'Wks2 Obgr'!$I$39,0)","v":0}]
[null,null,null,"3.","Offset amount",null,null,null,{"$f":"IF(OR(Rates!O49=\"S\",Rates!O49=\"P\"),IF(G10>G11,G10-G11,G11-G10),0)","v":0}]
[null,null,null,null,"(Subtract the lesser obligation from the greater obligation"]
[null,null,null,null,"(Lines 1 and 2))"]
[]
[null,null,"Equal residential responsibility for the child, or when there are multiple children, for"]
[null,null,"all children -08.2*"]
[null,null,null,"1.","Support obligation due from obligor",null,{"$f":"IF(Rates!O49=\"E\",'Wks2 Obge'!$I$39,0)","v":0}]
[null,null,null,"2.","Support obligation due from obligee",null,{"$f":"IF(Rates!O49=\"E\",'Wks2 Obgr'!$I$39,0)","v":0}]
[null,null,null,"3.","Offset amount",null,null,null,{"$f":"IF(Rates!O49=\"E\",IF(G18>G19,G18-G19,G19-G18),0)","v":0}]
[null,null,null,null,"(Subtract the lesser obligation from the greater obligation"]
[null,null,null,null,"(Lines 1 and 2))"]
[]
[null,null,"*Split parental rights and responsibilities means the parents have more than one"]
[null,null,"child in common and each parent has physical custody of or primary residential "]
[null,null,"responsibility for at least one child.  Equal residential responsibility means each "]
[null,null,"parent has residential responsibility for their child or children for an equal amount"]
[null,null,"of time as determined by the court.  In situations involving split parental rights "]
[null,null,"and responsibilities or equal residential responsibility, each parent is both obligee"]
[null,null,"and obligor. Accordingly, a separate worksheet must be completed for each"]
[null,null,"parent."]
[]
[null,null,"Multiple families (Schedule C)",null,null,null,null,null,{"$f":"IF(OR(Rates!O49=\"N\",Rates!O49=\"F\",QuesScr!L18<>\"Y\"),0,IF(MultFam!N12>4,DedApp!H27,IF('SchC Obge'!G49=0,I6,'SchC Obge'!G49)))","v":0}]
[]
[null,null,"Extended parenting time (Schedule D)",null,null,null,null,null,{"$f":"IF(OR(Rates!O49=\"N\",Rates!O49=\"F\",QuesScr!L21<>\"Y\"),0,IF(ExtParTm!N9>5,DedApp!H29,'SchD Obge'!H35))","v":0}]
[]
[null,null,"Foster Care (Schedule E)",null,null,null,null,null,0]
[]
["CHILD SUPPORT AMOUNT",null,null,null,null,null,null,null,{"$f":"IF(I35=0,IF(I33=0,I6,I33),I35)","v":0}]
[]
["Date calculation completed:",null,null,null,null,null,null,null,{"$f":"IF(TotScr!I28=0,TODAY(),TotScr!I28)","v":"2024-05-06"}]
[]
["Comments:",null,null,null,{"$f":"IF(OR(Rates!O49=\"S\",Rates!O49=\"E\"),TotScr!E25,0)","v":0}]
[null,null,null,null,{"$f":"IF(OR(Rates!O49=\"S\",Rates!O49=\"E\"),TotScr!E26,0)","v":0}]
[]
[]
[]
[]
[]
["This document was created by using Child"]
["Support's web based guidelines calculator.",null,null,null,null,null,null,null,{"$f":"\"Worksheet/Page 2 of 2/\"&Rates!N16&\" \"&Rates!O16","v":"Worksheet/Page 2 of 2/July 2023"}]

{"sheet":"Sch1 Obgr","index":4,"n_rows":52,"n_cols":14,"rows_kept":52,"cut":false,"hidden":false,"merged":[[0,0,0,13],[1,0,1,13],[2,0,2,13]]}
["CHILD SUPPORT GUIDELINES"]
["SCHEDULE 1 -- HYPOTHETICAL FEDERAL AND STATE INCOME TAX"]
["(N.D. Admin. Code § 75-02-04.1-01(6)(a) and (b))"]
[]
["OBLIGOR:",null,null,{"$f":"'Wks1 Obgr'!D5","v":" "}]
["OBLIGEE:",null,null,{"$f":"'Wks1 Obgr'!D6","v":" "}]
[]
["This schedule is for use in determining the hypothetical federal and state income tax"]
["deductions from gross income."]
[]
["Federal -01(6)(a)"]
["1.",null,"Total gross annual income",null,null,null,null,null,null,null,null,null,{"$f":"IF(Rates!K22=\"Yes\",0,'Wks1 Obgr'!K31)","v":0}]
["2.",null,"Amount of Line 1 not subject to income tax per IRC",null,null,null,null,null,null,null,null,null,{"$f":"IF(Rates!K22=\"Yes\",0,TaxEnt!H10)","v":0}]
["3.",null,"Amount of deductions allowed in arriving at \"adjusted"]
[null,null,"gross income\" per IRC",null,null,{"$f":"\"(i.e., from \"&Rates!O17 &\" 1040 form, line 36)\"","v":"(i.e., from 2017 1040 form, line 36)"},null,null,null,null,null,null,{"$f":"IF(Rates!K22=\"Yes\",0,TaxEnt!H12)","v":0}]
["4.",null,"Total of Line 2 plus Line 3",null,null,null,null,null,null,null,null,null,{"$f":"IF(Rates!K22=\"Yes\",0,M13+M15)","v":0}]
["5.",null,"Gross annual income subject to hypothetical federal income"]
[null,null,"tax (Line 1 - Line 4)",null,null,null,null,null,null,null,null,null,{"$f":"IF(Rates!K22=\"Yes\",0,M12-M16)","v":0}]
["6.",null,"Deduction: Standard Deduction (tax filing status of single)",null,null,null,null,null,null,null,null,null,{"$f":"IF(OR(Rates!K22=\"Yes\",M12=0),0,Rates!G5)","v":0}]
["7.",null,"Line 5 less Line 6",null,null,null,null,null,null,null,null,null,{"$f":"IF((M18-M19)<0,0,M18-M19)","v":0}]
["8.",null,"Apply Line 7 to tax tables for a single individual",null,null,null,null,null,null,null,null,null,{"$f":"Rates!Q19","v":0}]
[]
["LINE 8 AMOUNT IS THE DEDUCTION FOR THE HYPOTHETICAL FEDERAL"]
["INCOME TAX OBLIGATION.  RECORD AMOUNT ON THE WORKSHEET, PAGE 1."]
[]
["State -01(6)(b)"]
[{"$f":"\"Line 8 from above X \"&Rates!O18","v":"Line 8 from above X 0.11"},null,null,null,null,null,null,null,null,null,null,null,{"$f":"ROUND(M21*Rates!O18,0)","v":0}]
[]
["THIS AMOUNT IS THE DEDUCTION FOR THE HYPOTHETICAL STATE INCOME"]
["TAX OBLIGATION.  RECORD AMOUNT ON THE WORKSHEET, PAGE 1."]
[]
[]
[]
[]
[]
[]
[]
[]
[]
[]
[]
[]
[]
[]
[]
[]
[]
[]
[]
[]
["This document was created by using Child"]
["Support's web based guidelines calculator.",null,null,null,null,null,null,null,null,null,null,null,null,{"$f":"\"Schedule 1/\"&Rates!N16&\" \"&Rates!O16","v":"Schedule 1/July 2023"}]

{"sheet":"Sch1 Obge","index":5,"n_rows":52,"n_cols":14,"rows_kept":52,"cut":false,"hidden":false,"merged":[[0,0,0,13],[1,0,1,13],[2,0,2,13]]}
["CHILD SUPPORT GUIDELINES"]
["SCHEDULE 1 -- HYPOTHETICAL FEDERAL AND STATE INCOME TAX"]
["(N.D. Admin. Code § 75-02-04.1-01(6)(a) and (b))"]
[]
["OBLIGOR:",null,null,{"$f":"'Wks1 Obgr'!D6","v":" "}]
["OBLIGEE:",null,null,{"$f":"'Wks1 Obgr'!D5","v":" "}]
[]
["This schedule is for use in determining the hypothetical federal and state income tax"]
["deductions from gross income."]
[]
["Federal -01(6)(a)"]
["1.",null,"Total gross annual income",null,null,null,null,null,null,null,null,null,{"$f":"IF(OR(Rates!O49=\"N\",Rates!O49=\"F\",Rates!O22=\"Yes\"),0,'Wks1 Obge'!K31)","v":0}]
["2.",null,"Amount of Line 1 not subject to income tax per IRC",null,null,null,null,null,null,null,null,null,{"$f":"IF(OR(Rates!O49=\"N\",Rates!O49=\"F\",Rates!O22=\"Yes\"),0,TaxEnt!K10)","v":0}]
["3.",null,"Amount of deductions allowed in arriving at \"adjusted"]
[null,null,"gross income\" per IRC ",null,null,{"$f":"\"(i.e., from \"&Rates!O17 &\" 1040 form, line 36)\"","v":"(i.e., from 2017 1040 form, line 36)"},null,null,null,null,null,null,{"$f":"IF(OR(Rates!O49=\"N\",Rates!O49=\"F\",Rates!O22=\"Yes\"),0,TaxEnt!K12)","v":0}]
["4.",null,"Total of Line 2 plus Line 3",null,null,null,null,null,null,null,null,null,{"$f":"IF(OR(Rates!O49=\"N\",Rates!O49=\"F\",Rates!O22=\"Yes\"),0,M13+M15)","v":0}]
["5.",null,"Gross annual income subject to hypothetical federal income"]
[null,null,"tax (Line 1 - Line 4)",null,null,null,null,null,null,null,null,null,{"$f":"IF(OR(Rates!O49=\"N\",Rates!O49=\"F\",Rates!O22=\"Yes\"),0,M12-M16)","v":0}]
["6.",null,"Deduction: Standard Deduction (tax filing status of single)",null,null,null,null,null,null,null,null,null,{"$f":"IF(OR(Rates!O49=\"N\",Rates!O49=\"F\",Rates!O22=\"Yes\",M12=0),0,Rates!G5)","v":0}]
["7.",null,"Line 5 less Line 6",null,null,null,null,null,null,null,null,null,{"$f":"IF((M18-M19)<0,0,M18-M19)","v":0}]
["8.",null,"Apply Line 7 to tax tables for a single individual",null,null,null,null,null,null,null,null,null,{"$f":"Rates!T19","v":0}]
[]
["LINE 8 AMOUNT IS THE DEDUCTION FOR THE HYPOTHETICAL FEDERAL"]
["INCOME TAX OBLIGATION.  RECORD AMOUNT ON THE WORKSHEET, PAGE 1."]
[]
["State -01(6)(b)"]
[{"$f":"\"Line 8 from above X \"&Rates!O18","v":"Line 8 from above X 0.11"},null,null,null,null,null,null,null,null,null,null,null,{"$f":"ROUND(M21*Rates!O18,0)","v":0}]
[]
["THIS AMOUNT IS THE DEDUCTION FOR THE HYPOTHETICAL STATE INCOME"]
["TAX OBLIGATION.  RECORD AMOUNT ON THE WORKSHEET, PAGE 1."]
[]
[]
[]
[]
[]
[]
[]
[]
[]
[]
[]
[]
[]
[]
[]
[]
[]
[]
[]
[]
["This document was created by using Child"]
["Support's web based guidelines calculator.",null,null,null,null,null,null,null,null,null,null,null,null,{"$f":"\"Schedule 1/\"&Rates!N16&\" \"&Rates!O16","v":"Schedule 1/July 2023"}]

{"sheet":"Sch2 Obgr","index":6,"n_rows":51,"n_cols":5,"rows_kept":51,"cut":false,"hidden":false,"merged":[[4,2,4,4],[5,2,5,4],[0,0,0,5],[1,0,1,5],[2,0,2,5]]}
["CHILD SUPPORT GUIDELINES"]
["SCHEDULE 2 -- HEALTH INSURANCE"]
["(N.D. Admin. Code § 75-02-04.1-01(6)(d))"]
[]
["OBLIGOR:",null,{"$f":"IF(Rates!K22=\"Yes\",0,IF('Wks2 Obgr'!I4=0,0,'Wks1 Obgr'!D5))","v":0}]
["OBLIGEE:",null,{"$f":"IF(Rates!K22=\"Yes\",0,IF('Wks2 Obgr'!I4=0,0,'Wks1 Obgr'!D6))","v":0}]
[]
["This schedule is for use in determining the deduction from gross income for health"]
["insurance premiums, when applicable.  In this context, \"health insurance premiums\" "]
["include premiums for dental and vision insurance.  If the cost of single coverage for the "]
["obligor and the number of persons associated with the premium payment are known, "]
["complete Section 1 only.  If the cost of single coverage for the obligor is not known, "]
["complete Section 2 only."]
[]
["Section 1:  This section is for use in determining the deduction from gross income for"]
["health insurance premiums if the cost of single coverage for the obligor and the number"]
["of persons associated with the premium payment are known. (-01(6)(d)(1))"]
[]
["1.","Premium payment",null,null,{"$f":"IF(Rates!K22=\"Yes\",0,IF(HlthInsr!F10=\"Y\",IF(HlthInsr!G15=\"Y\",HlthInsr!I13,0),0))","v":0}]
["2.","Cost of single coverage for the obligor",null,null,{"$f":"IF(Rates!K22=\"Yes\",0,IF(HlthInsr!F10=\"Y\",IF(HlthInsr!G15=\"Y\",HlthInsr!I17,0),0))","v":0}]
["3.","Line 1 less Line 2",null,null,{"$f":"IF(HlthInsr!G10=\"Y\",IF(HlthInsr!G15=\"Y\",IF(E19-E20=0,\"0\",E19-E20),0),0)","v":0}]
["4.","Total number of persons, exclusive of obligor, associated with"]
[null,"premium payment",null,null,{"$f":"IF(Rates!K22=\"Yes\",0,IF(HlthInsr!G10=\"Y\",IF(HlthInsr!G15=\"Y\",HlthInsr!G19-1,0),0))","v":0}]
["5.","Line 3 ÷ Line 4",null,null,{"$f":"IF(E23=0,0,IF(E21=\"0\",0,ROUND(E21/E23,0)))","v":0}]
["6.","Number of insured children for whom support is being sought",null,null,{"$f":"IF(Rates!K22=\"Yes\",0,IF(HlthInsr!G10=\"Y\",IF(HlthInsr!G15=\"Y\",HlthInsr!G21,0),0))","v":0}]
["7.","Line 5 X Line 6",null,null,{"$f":"ROUND(IF(E24=\"0\",\"0\",E24*E25),0)","v":0}]
[]
["LINE 7 AMOUNT IS THE DEDUCTION FOR HEALTH INSURANCE PREMIUMS."]
["RECORD AMOUNT FROM LINE 7 ON THE WORKSHEET, PAGE 1."]
[]
["Section 2:  This section is for use in determining the deduction from gross income for"]
["health insurance premiums if the cost of single coverage for the obligor is not known."]
["(-01(6)(d)(2))"]
[]
["1.","Premium payment",null,null,{"$f":"IF(Rates!K22=\"Yes\",0,IF(HlthInsr!G10=\"Y\",IF(HlthInsr!G15<>\"Y\",HlthInsr!I13,0),0))","v":0}]
["2.","Total number of persons covered",null,null,{"$f":"IF(Rates!K22=\"Yes\",0,IF(HlthInsr!G10=\"Y\",IF(HlthInsr!G15<>\"Y\",HlthInsr!G19,0),0))","v":0}]
["3.","Line 1 ÷ Line 2",null,null,{"$f":"IF(E36=0,0,ROUND(E35/E36,0))","v":0}]
["4.","Number of insured children for whom support is being sought",null,null,{"$f":"IF(Rates!K22=\"Yes\",0,IF(HlthInsr!G10=\"Y\",IF(HlthInsr!G15<>\"Y\",HlthInsr!G21,0),0))","v":0}]
["5.","Line 3 X Line 4",null,null,{"$f":"ROUND(E37*E38,0)","v":0}]
[]
["LINE 5 AMOUNT IS THE DEDUCTION FOR HEALTH INSURANCE PREMIUMS."]
["RECORD AMOUNT FROM LINE 5 ON THE WORKSHEET, PAGE 1."]
[]
[]
[]
[]
[]
[]
[]
["This document was created by using Child"]
["Support's web based guidelines calculator.",null,null,null,{"$f":"\"Schedule 2/\"&Rates!N16&\" \"&Rates!O16","v":"Schedule 2/July 2023"}]

{"sheet":"Sch2 Obge","index":7,"n_rows":51,"n_cols":5,"rows_kept":51,"cut":false,"hidden":false,"merged":[[0,0,0,5],[1,0,1,5],[2,0,2,5],[4,2,4,4],[5,2,5,4]]}
["CHILD SUPPORT GUIDELINES"]
["SCHEDULE 2 -- HEALTH INSURANCE"]
["(N.D. Admin. Code § 75-02-04.1-01(6)(d))"]
[]
["OBLIGOR:",null,{"$f":"IF(OR(Rates!O49=\"N\",Rates!O49=\"F\",Rates!O22=\"Yes\"),0,IF('Wks2 Obge'!I4=0,0,'Wks1 Obgr'!D6))","v":0}]
["OBLIGEE:",null,{"$f":"IF(OR(Rates!O49=\"N\",Rates!O49=\"F\",Rates!O22=\"Yes\"),0,IF('Wks2 Obge'!I4=0,0,'Wks1 Obgr'!D5))","v":0}]
[]
["This schedule is for use in determining the deduction from gross income for health"]
["insurance premiums, when applicable.  In this context, \"health insurance premiums\" "]
["include premiums for dental and vision insurance.  If the cost of single coverage for the "]
["obligor and the number of persons associated with the premium payment are known, "]
["complete Section 1 only.  If the cost of single coverage for the obligor is not known, "]
["complete Section 2 only."]
[]
["Section 1:  This section is for use in determining the deduction from gross income for"]
["health insurance premiums if the cost of single coverage for the obligor and the number"]
["of persons associated with the premium payment are known. (-01(6)(d)(1))"]
[]
["1.","Premium payment",null,null,{"$f":"IF(OR(Rates!O49=\"N\",Rates!O49=\"F\",Rates!O22=\"Yes\"),0,IF(HlthInsr!K10=\"Y\",IF(HlthInsr!K15=\"Y\",HlthInsr!M13,0),0))","v":0}]
["2.","Cost of single coverage for the obligor",null,null,{"$f":"IF(OR(Rates!O49=\"N\",Rates!O49=\"F\",Rates!O22=\"Yes\"),0,IF(HlthInsr!K10=\"Y\",IF(HlthInsr!K15=\"Y\",HlthInsr!M17,0),0))","v":0}]
["3.","Line 1 less Line 2",null,null,{"$f":"IF(HlthInsr!K15=\"Y\",IF(E19-E20=0,\"0\",E19-E20),0)","v":0}]
["4.","Total number of persons, exclusive of obligor, associated with"]
[null,"premium payment",null,null,{"$f":"IF(OR(Rates!O49=\"N\",Rates!O49=\"F\",Rates!O22=\"Yes\"),0,IF(HlthInsr!K10=\"Y\",IF(HlthInsr!K15=\"Y\",HlthInsr!K19-1,0),0))","v":0}]
["5.","Line 3 ÷ Line 4",null,null,{"$f":"IF(E23=0,0,IF(E21=\"0\",0,ROUND(E21/E23,0)))","v":0}]
["6.","Number of insured children for whom support is being sought",null,null,{"$f":"IF(OR(Rates!O49=\"N\",Rates!O49=\"F\",Rates!O22=\"Yes\"),0,IF(HlthInsr!K10=\"Y\",IF(HlthInsr!K15=\"Y\",HlthInsr!K21,0),0))","v":0}]
["7.","Line 5 X Line 6",null,null,{"$f":"ROUND(IF(E24=\"0\",\"0\",E24*E25),0)","v":0}]
[]
["LINE 7 AMOUNT IS THE DEDUCTION FOR HEALTH INSURANCE PREMIUMS."]
["RECORD AMOUNT FROM LINE 7 ON THE WORKSHEET, PAGE 1."]
[]
["Section 2:  This section is for use in determining the deduction from gross income for"]
["health insurance premiums if the cost of single coverage for the obligor is not known."]
["(-01(6)(d)(2))"]
[]
["1.","Premium payment",null,null,{"$f":"IF(OR(Rates!O49=\"N\",Rates!O49=\"F\",Rates!O22=\"Yes\"),0,IF(HlthInsr!K10=\"Y\",IF(HlthInsr!K15<>\"Y\",HlthInsr!M13,0),0))","v":0}]
["2.","Total number of persons covered",null,null,{"$f":"IF(OR(Rates!O49=\"N\",Rates!O49=\"F\",Rates!O22=\"Yes\"),0,IF(HlthInsr!K10=\"Y\",IF(HlthInsr!K15<>\"Y\",HlthInsr!K19,0),0))","v":0}]
["3.","Line 1 ÷ Line 2",null,null,{"$f":"IF(E36=0,0,ROUND(E35/E36,0))","v":0}]
["4.","Number of insured children for whom support is being sought",null,null,{"$f":"IF(OR(Rates!O49=\"N\",Rates!O49=\"F\",Rates!O22=\"Yes\"),0,IF(HlthInsr!K10=\"Y\",IF(HlthInsr!K15<>\"Y\",HlthInsr!K21,0),0))","v":0}]
["5.","Line 3 X Line 4",null,null,{"$f":"ROUND(E37*E38,0)","v":0}]
[]
["LINE 5 AMOUNT IS THE DEDUCTION FOR HEALTH INSURANCE PREMIUMS."]
["RECORD AMOUNT FROM LINE 5 ON THE WORKSHEET, PAGE 1."]
[]
[]
[]
[]
[]
[]
[]
["This document was created by using Child"]
["Support's web based guidelines calculator.",null,null,null,{"$f":"\"Schedule 2/\"&Rates!N16&\" \"&Rates!O16","v":"Schedule 2/July 2023"}]

{"sheet":"SchA Obgr","index":8,"n_rows":266,"n_cols":16,"rows_kept":266,"cut":false,"hidden":false,"merged":[[56,4,56,5],[0,0,0,15],[1,0,1,15],[2,0,2,15],[4,4,4,14],[5,4,5,14],[23,4,23,5]]}
["CHILD SUPPORT GUIDELINES"]
["SCHEDULE A -- IMPUTED INCOME"]
["(N.D. Admin. Code § 75-02-04.1-07)"]
[]
["OBLIGOR:",null,null,null,{"$f":"IF(QuesScr!I14=\"Y\",'Wks1 Obgr'!D5,0)","v":0}]
["OBLIGEE:",null,null,null,{"$f":"IF(QuesScr!I14=\"Y\",'Wks1 Obgr'!D6,0)","v":0}]
[]
["This schedule is for use when employment income must be imputed to the obligor who"]
["is unemployed or underemployed.  Presumption of underemployment exists if the "]
["obligor's gross income from earnings is less than the greater of 167 times the federal"]
["hourly minimum wage or 60% of statewide average earnings for persons with similar "]
["work history and occupational qualifications.  A source of information for data to use in"]
["imputing income is \"Employment and Wages by Occupation,\" a publication by Job"]
["Service of North Dakota that contains wage and salary information by region and select"]
["cities. The publication is available on the Job Service website and is updated annually."]
[]
["1.","Statewide average earnings:",null,null,null,null,null,null,null,null,null,null,null,null,{"$f":"IF(QuesScr!I14<>\"Y\",0,ImpInc!N12)","v":0}]
[null,"Occupation:",null,null,null,null,{"$f":"IF(QuesScr!I14<>\"Y\",0,ImpInc!J8)","v":0}]
[null,"Source:",null,null,null,{"$f":"IF(QuesScr!I14<>\"Y\",0,LEFT(ImpInc!J10,ImpInc!A9))","v":0}]
[null,null,null,null,null,{"$f":"IF(QuesScr!I14<>\"Y\",0,RIGHT(ImpInc!J10,LEN(ImpInc!J10)-ImpInc!A9))","v":0}]
[]
["2.","Imputed income -- general rule: -07(3)"]
[null,"a.",null,"167 X federal minimum wage",null,null,null,null,null,null,null,null,{"$f":"IF(OR(QuesScr!I14<>\"Y\",ImpInc!K23=\"Y\"),0,ROUND(167*Rates!G11,0))","v":0},"X 12 =",{"$f":"M23*12","v":0}]
[null,null,null,"(",{"$f":"Rates!G11","v":7.25},null,"per hour ……. ",null,{"$f":"ROUND(Rates!G11*167,0)","v":1211},")"]
[]
[null,"b.",null,".6 X statewide average earnings as "]
[null,null,null,"determined in #1 above ",null,null,null,null,null,null,null,null,{"$f":"IF(OR(QuesScr!I14<>\"Y\",ImpInc!K23=\"Y\"),0,ROUND(O17*0.6,0))","v":0},"X 12 =",{"$f":"M27*12","v":0}]
[]
[null,"c.",null,".9 X obligor's greatest average gross",null,null,null,null,null,null,null,null,{"$f":"IF(OR(QuesScr!I14<>\"Y\",ImpInc!K23=\"Y\"),0,ROUND(ImpInc!N14*0.9,0))","v":0},"X 12 =",{"$f":"M29*12","v":0}]
[null,null,null,"monthly earnings in any 12 consecutive"]
[null,null,null,"months included in the current calendar"]
[null,null,null,"year and two previous calendar years"]
[null,null,null,null,null,null,null,null,null,null,null,null,null,null,{"$f":"IF(O23>O27,IF(O23>O29,O23,O29),IF(O27>O29,O27,O29))","v":0}]
[null,"Greatest of a through c:",null,null,null,null,null,null,null,null,null,null,null,null,{"$f":"IF(O215>O33,0,O33)","v":0}]
[]
[null,null,null,"Less: Actual gross annual earnings",null,null,null,null,null,null,null,null,null,null,{"$f":"IF(OR(QuesScr!I14<>\"Y\",O65>0),0,GrsInc!K27)","v":0}]
[]
[null,null,null,"Presumed Imputed Annual Income:",null,null,null,null,null,null,null,null,null,null,{"$f":"IF(O34=0,0,IF(O36>O33,0,O33-O36))","v":0}]
[]
[]
[]
[]
[]
[]
[]
[]
[]
[]
[]
["This document was created by using Child"]
["Support's web based guidelines calculator.",null,null,null,null,null,null,null,null,null,null,null,null,null,null,{"$f":"\"Schedule A/Page 1 of 2/\"&Rates!N16&\" \"&Rates!O16","v":"Schedule A/Page 1 of 2/July 2023"}]
["3.","Obligor noncooperation in establishment or review proceedings: -07(6)"]
[null,"In proceeding to establish or review a child support obligation, if the obligor fails  "]
[null,"to furnish reliable information on income and if that information cannot be"]
[null,"reasonably obtained from other sources, income is imputed at the greatest of:"]
[null,"a.",null,"167 X federal minimum wage",null,null,null,null,null,null,null,null,{"$f":"IF(OR(QuesScr!I14<>\"Y\",ImpInc!K23<>\"Y\"),0,ROUND(167*Rates!G11,0))","v":0},"X 12 =",{"$f":"M56*12","v":0}]
[null,null,null,"(",{"$f":"Rates!G11","v":7.25},null,"per hour ……. ",null,{"$f":"ROUND(Rates!G11*167,0)","v":1211},")"]
[]
[null,"b.",null,"1.0 X statewide average earnings as "]
[null,null,null,"determined in #1 above ",null,null,null,null,null,null,null,null,{"$f":"IF(OR(QuesScr!I14<>\"Y\",ImpInc!K23<>\"Y\"),0,ROUND(O17,0))","v":0},"X 12 =",{"$f":"M60*12","v":0}]
[]
[null,"c.",null,"1.0 X obligor's greatest average gross",null,null,null,null,null,null,null,null,{"$f":"IF(OR(QuesScr!I14<>\"Y\",ImpInc!K23<>\"Y\"),0,ROUND(ImpInc!N14*1,0))","v":0},"X 12 =",{"$f":"M62*12","v":0}]
[null,null,null,"monthly earnings in any 12 consecutive"]
[null,null,null,"months included in the current calendar"]
[null,null,null,"year and two previous calendar years",null,null,null,null,null,null,null,null,null,null,{"$f":"IF(O56>O60,IF(O56>O62,O56,O62),IF(O60>O62,O60,O62))","v":0}]
[]
["4.","Exceptions:  Review subsections 4, 5, and 7 of section 75-02-04.1-07 for other "]
[null,"exceptions to the imputation of income based on the general rule above."]
[]
[]
[]
[]
[]
[]
[]
[]
[]
[]
[]
[]
[]
[]
[]
[]
[]
[]
[]
[]
[]
[]
[]
[]
[]
[]
[]
[]
[]
[]
[]
[]
["This document was created by using Child"]
["Support's web based guidelines calculator.",null,null,null,null,null,null,null,null,null,null,null,null,null,null,{"$f":"\"Schedule A/Page 2 of 2/\"&Rates!N16&\" \"&Rates!O16","v":"Schedule A/Page 2 of 2/July 2023"}]
[]
[]
[]
[]
[]
[]
[]
[]
[]
[]
[]
[]
[]
[]
[]
[]
[]
[]
[]
[]
[]
[]
[]
[]
[]
[]
[]
[]
[]
[]
[]
[]
[]
[]
[]
[]
[]
[]
[]
[]
[]
[]
[]
[]
[]
[]
[]
[]
[]
[]
[]
[]
[]
[]
[]
[]
[]
[]
[]
[]
[]
[]
[]
[]
[]
[]
[]
[]
[]
[]
[]
[]
[]
[]
[]
[]
[]
[]
[]
[]
[]
[]
[]
[]
[]
[]
[]
[]
[]
[]
[]
[]
[]
[]
[]
[]
[]
[]
[]
[]
[]
[]
[]
[]
[]
[]
[]
[]
[]
[]
[]
[]
[]
[]
[]
[]
[]
[]
[]
[]
[]
[]
[]
[]
[]
[]
[]
[]
[]
[]
[]
[]
[]
[]
[]
[]
[]
[]
[]
[]
[]
[]
[]
[]
[]
[]
[]
[]
[]
[]
[]
[]
[]
[]
[null,null,null,null,null,"Presumed Imputed Annual Income:",null,null,null,null,null,null,null,null,{"$f":"IF(O255>O253,0,O253-O255)","v":0}]
[]
[]
["3.","Obligor under age 18 or under age 19 and enrolled in and "]
[null,"attending high school: -07(7)(a)"]
[null,".5 X 167 X federal minimum wage",null,null,null,null,null,null,null,null,null,null,{"$f":"IF(ImpInc!J60=\"Y\",ROUND(0.5*167*Rates!G11,0),0)","v":0},"X 12 =",{"$f":"M262*12","v":0}]
[]
[null,null,null,"Less: Actual gross annual earnings",null,null,null,null,null,null,null,null,null,null,{"$f":"IF(OR(ImpInc!J60=\"Y\",QuesScr!H14<>\"Y\"),GrsInc!K27,0)","v":0}]
[]
[null,null,null,"Presumed Imputed Annual Income:",null,null,null,null,null,null,null,null,null,null,{"$f":"IF(O264>O262,0,O262-O264)","v":0}]

{"sheet":"SchA Obge","index":9,"n_rows":266,"n_cols":16,"rows_kept":266,"cut":false,"hidden":false,"merged":[[56,4,56,5],[23,4,23,5],[0,0,0,15],[1,0,1,15],[2,0,2,15],[4,4,4,14],[5,4,5,14]]}
["CHILD SUPPORT GUIDELINES"]
["SCHEDULE A -- IMPUTED INCOME"]
["(N.D. Admin. Code § 75-02-04.1-07)"]
[]
["OBLIGOR:",null,null,null,{"$f":"IF(QuesScr!M14=\"Y\",'Wks1 Obge'!D5,0)","v":0}]
["OBLIGEE:",null,null,null,{"$f":"IF(QuesScr!M14=\"Y\",'Wks1 Obge'!D6,0)","v":0}]
[]
["This schedule is for use when employment income must be imputed to the obligor who"]
["is unemployed or underemployed.  Presumption of underemployment exists if the "]
["obligor's gross income from earnings is less than the greater of 167 times the federal"]
["hourly minimum wage or 60% of statewide average earnings for persons with similar"]
["work history and occupational qualifications.  A source of information for data to use "]
["in imputing income is \"Employment and Wages by Occupation,\" a publication by Job"]
["Service of North Dakota that contains wage and salary information by region and select"]
["cities. The publication is available on the Job Service website and is updated annually."]
[]
["1.","Statewide average earnings:",null,null,null,null,null,null,null,null,null,null,null,null,{"$f":"IF(QuesScr!M14<>\"Y\",0,ImpInc!T12)","v":0}]
[null,"Occupation:",null,null,null,null,{"$f":"IF(QuesScr!M14<>\"Y\",0,ImpInc!P8)","v":0}]
[null,"Source:",null,null,null,{"$f":"IF(QuesScr!M14<>\"Y\",0,LEFT(ImpInc!P10,ImpInc!A10))","v":0}]
[null,null,null,null,null,{"$f":"IF(QuesScr!M14<>\"Y\",0,RIGHT(ImpInc!P10,LEN(ImpInc!P10)-ImpInc!A10))","v":0}]
[]
["2.","Imputed income -- general rule: -07(3)"]
[null,"a.",null,"167 X federal minimum wage",null,null,null,null,null,null,null,null,{"$f":"IF(OR(QuesScr!M14<>\"Y\",ImpInc!Q23=\"Y\"),0,ROUND(167*Rates!G11,0))","v":0},"X 12 =",{"$f":"M23*12","v":0}]
[null,null,null,"(",{"$f":"Rates!G11","v":7.25},null,"per hour ……. ",null,{"$f":"ROUND(Rates!G11*167,0)","v":1211},")"]
[]
[null,"b.",null,".6 X statewide average earnings as "]
[null,null,null,"determined in #1 above ",null,null,null,null,null,null,null,null,{"$f":"IF(OR(QuesScr!M14<>\"Y\",ImpInc!Q23=\"Y\"),0,ROUND(O17*0.6,0))","v":0},"X 12 =",{"$f":"M27*12","v":0}]
[]
[null,"c.",null,".9 X obligor's greatest average gross",null,null,null,null,null,null,null,null,{"$f":"IF(OR(QuesScr!M14<>\"Y\",ImpInc!Q23=\"Y\"),0,ROUND(ImpInc!T14*0.9,0))","v":0},"X 12 =",{"$f":"M29*12","v":0}]
[null,null,null,"monthly earnings in any 12 consecutive"]
[null,null,null,"months included in the current calendar"]
[null,null,null,"year and two previous calendar years"]
[null,null,null,null,null,null,null,null,null,null,null,null,null,null,{"$f":"IF(O23>O27,IF(O23>O29,O23,O29),IF(O27>O29,O27,O29))","v":0}]
[null,"Greatest of a through c:",null,null,null,null,null,null,null,null,null,null,null,null,{"$f":"IF(O215>O33,0,O33)","v":0}]
[]
[null,null,null,"Less: Actual gross annual earnings",null,null,null,null,null,null,null,null,null,null,{"$f":"IF(OR(QuesScr!M14<>\"Y\",O65>0),0,GrsInc!N27)","v":0}]
[]
[null,null,null,"Presumed Imputed Annual Income:",null,null,null,null,null,null,null,null,null,null,{"$f":"IF(O34=0,0,IF(O36>O33,0,O33-O36))","v":0}]
[]
[]
[]
[]
[]
[]
[]
[]
[]
[]
[]
["This document was created by using Child"]
["Support's web based guidelines calculator.",null,null,null,null,null,null,null,null,null,null,null,null,null,null,{"$f":"\"Schedule A/Page 1 of 2/\"&Rates!N16&\" \"&Rates!O16","v":"Schedule A/Page 1 of 2/July 2023"}]
["3.","Obligor noncooperation in establishment or review proceedings: -07(6)"]
[null,"In proceeding to establish or review a child support obligation, if the obligor fails  "]
[null,"to furnish reliable information on income and if that information cannot be"]
[null,"reasonably obtained from other sources, income is imputed at the greatest of:"]
[null,"a.",null,"167 X federal minimum wage",null,null,null,null,null,null,null,null,{"$f":"IF(OR(QuesScr!I14<>\"Y\",ImpInc!Q23<>\"Y\"),0,ROUND(167*Rates!G11,0))","v":0},"X 12 =",{"$f":"M56*12","v":0}]
[null,null,null,"(",{"$f":"Rates!G11","v":7.25},null,"per hour ……. ",null,{"$f":"ROUND(Rates!G11*167,0)","v":1211},")"]
[]
[null,"b.",null,"1.0 X statewide average earnings as "]
[null,null,null,"determined in #1 above ",null,null,null,null,null,null,null,null,{"$f":"IF(OR(QuesScr!I14<>\"Y\",ImpInc!Q23<>\"Y\"),0,ROUND(O17,0))","v":0},"X 12 =",{"$f":"M60*12","v":0}]
[]
[null,"c.",null,"1.0 X obligor's greatest average gross",null,null,null,null,null,null,null,null,{"$f":"IF(OR(QuesScr!I14<>\"Y\",ImpInc!Q23<>\"Y\"),0,ROUND(ImpInc!T14*1,0))","v":0},"X 12 =",{"$f":"M62*12","v":0}]
[null,null,null,"monthly earnings in any 12 consecutive"]
[null,null,null,"months included in the current calendar"]
[null,null,null,"year and two previous calendar years",null,null,null,null,null,null,null,null,null,null,{"$f":"IF(O56>O60,IF(O56>O62,O56,O62),IF(O60>O62,O60,O62))","v":0}]
[]
["4.","Exceptions:  Review subsections 4, 5, and 7 of section 75-02-04.1-07 for other "]
[null,"exceptions to the imputation of income based on the general rule above."]
[]
[]
[]
[]
[]
[]
[]
[]
[]
[]
[]
[]
[]
[]
[]
[]
[]
[]
[]
[]
[]
[]
[]
[]
[]
[]
[]
[]
[]
[]
[]
[]
["This document was created by using Child"]
["Support's web based guidelines calculator.",null,null,null,null,null,null,null,null,null,null,null,null,null,null,{"$f":"\"Schedule A/Page 2 of 2/\"&Rates!N16&\" \"&Rates!O16","v":"Schedule A/Page 2 of 2/July 2023"}]
[]
[]
[]
[]
[]
[]
[]
[]
[]
[]
[]
[]
[]
[]
[]
[]
[]
[]
[]
[]
[]
[]
[]
[]
[]
[]
[]
[]
[]
[]
[]
[]
[]
[]
[]
[]
[]
[]
[]
[]
[]
[]
[]
[]
[]
[]
[]
[]
[]
[]
[]
[]
[]
[]
[]
[]
[]
[]
[]
[]
[]
[]
[]
[]
[]
[]
[]
[]
[]
[]
[]
[]
[]
[]
[]
[]
[]
[]
[]
[]
[]
[]
[]
[]
[]
[]
[]
[]
[]
[]
[]
[]
[]
[]
[]
[]
[]
[]
[]
[]
[]
[]
[]
[]
[]
[]
[]
[]
[]
[]
[]
[]
[]
[]
[]
[]
[]
[]
[]
[]
[]
[]
[]
[]
[]
[]
["4.","Obligor is currently incarcerated: -07(8)"]
[null,"The amount that may be imputed to an incarcerated obligor is based"]
[null,"on the length of time the obligor has been continuously incarcerated."]
[null,"\"Incarcerated\" means physically confined to a prison, jail, or other correctional"]
[null,"facility."]
[]
[null,"Imputed income may not be greater than:"]
[null,"a.",null,"167 X federal minimum wage if incarcerated less than one year."]
[null,"b.",null,".8 X 167 X federal minimum wage if incarcerated at least one year"]
[null,null,null,"but less than two years."]
[null,"c.",null,".6 X 167 X federal minimum wage if incarcerated at least two years"]
[null,null,null,"but less than three years."]
[null,"d.",null,".4 X 167 X federal minimum wage if incarcerated at least three years"]
[null,null,null,"but less than four years."]
[null,"e.",null,".2 X 167 X federal minimum wage if incarcerated at least four years"]
[null,null,null,"but less than five years."]
[]
[null,"Income may not be imputed in any amount if the obligor has been incarcerated"]
[null,"for at least five years. "]
[]
[null,"Number of months obligor has been incarcerated:",null,null,null,null,null,null,null,null,null,{"$f":"IF(OR(ImpInc!J60=\"Y\",ImpInc!J62<>\"Y\",QuesScr!I14<>\"Y\"),0,ImpInc!L64)","v":0}]
[]
[null,"Imputation percentage [Imp %] based on number of months incarcerated:  ",null,null,null,null,null,null,null,null,null,null,null,null,{"$f":"IF(L249=0,0,IF(L249<12,1,IF(L249<24,0.8,IF(L249<36,0.6,IF(L249<48,0.4,IF(L249<60,0.2,0))))))","v":0}]
[]
[null,{"$f":"IF(L249=0,0,IF(L249<12,1,IF(L249<24,0.8,IF(L249<36,0.6,IF(L249<48,0.4,IF(L249<60,0.2,0))))))","v":0},null,null,"[Imp %] X 167 X federal minimum wage",null,null,null,null,null,null,null,{"$f":"ROUND(B253*167*Rates!G11,0)","v":0},"X 12 =",{"$f":"M253*12","v":0}]
[]
[null,null,null,null,null,"Less: Actual gross annual earnings",null,null,null,null,null,null,null,null,{"$f":"IF(L249>0,GrsInc!K27,0)","v":0}]
[]
[null,null,null,null,null,"Presumed Imputed Annual Income:",null,null,null,null,null,null,null,null,{"$f":"IF(O255>O253,0,O253-O255)","v":0}]
[]
[]
["3.","Obligor under age 18 or under age 19 and enrolled in and "]
[null,"attending high school: -07(7)(a)"]
[null,".5 X 167 X federal minimum wage",null,null,null,null,null,null,null,null,null,null,{"$f":"IF(ImpInc!J60=\"Y\",ROUND(0.5*167*Rates!G11,0),0)","v":0},"X 12 =",{"$f":"M262*12","v":0}]
[]
[null,null,null,"Less: Actual gross annual earnings",null,null,null,null,null,null,null,null,null,null,{"$f":"IF(OR(ImpInc!J60=\"Y\",QuesScr!H14<>\"Y\"),GrsInc!K27,0)","v":0}]
[]
[null,null,null,"Presumed Imputed Annual Income:",null,null,null,null,null,null,null,null,null,null,{"$f":"IF(O264>O262,0,O262-O264)","v":0}]

{"sheet":"SchB1 Obgr","index":10,"n_rows":160,"n_cols":26,"rows_kept":160,"cut":false,"hidden":false,"merged":[[157,18,157,20],[53,6,53,8],[60,6,60,8],[65,6,65,8],[118,7,118,8],[146,7,146,8],[70,6,70,8],[71,6,71,8],[73,6,73,8],[65,10,65,12],[65,14,65,16],[65,18,65,20],[60,14,60,16],[68,10,68,12],[68,14,68,16],[68,18,68,20],[53,22,53,24],[60,22,60,24],[65,22,65,24],[68,22,68,24],[67,22,67,24],[43,6,43,8],[45,6,45,8],[29,18,29,20],[29,22,29,24],[1,0,1,25],[2,0,2,25],[37,10,37,12],[37,14,37,16],[37,18,37,20],[37,22,37,24],[29,6,29,8],[29,10,29,12],[29,14,29,16],[34,6,34,8],[37,6,37,8],[45,22,45,24],[0,0,0,22],[17,0,17,24],[18,0,18,24],[67,6,67,8],[68,6,68,8],[43,10,43,12],[43,14,43,16],[43,18,43,20],[43,22,43,24],[45,10,45,12],[45,14,45,16],[45,18,45,20],[34,10,34,12],[34,14,34,16],[34,18,34,20],[34,22,34,24],[67,10,67,12],[67,14,67,16],[53,10,53,12],[53,14,53,16],[53,18,53,20],[60,10,60,12],[60,18,60,20],[67,18,67,20],[70,10,70,12],[70,14,70,16],[70,18,70,20],[70,22,70,24],[71,10,71,12],[71,14,71,16],[71,18,71,20],[71,22,71,24],[73,10,73,12],[73,14,73,16],[73,18,73,20],[73,22,73,24],[78,10,78,12],[78,14,78,16],[78,18,78,20],[78,22,78,24],[88,22,88,24],[84,8,84,10],[84,12,84,14],[78,6,78,8],[89,22,89,24],[90,22,90,24],[111,22,111,24],[112,22,112,24],[113,22,113,24],[141,22,141,24],[139,22,139,24],[140,22,140,24],[126,22,126,24],[154,22,154,24],[145,18,145,20],[149,18,149,20],[154,18,154,20],[117,18,117,20],[121,18,121,20],[126,18,126,20]]}
["                 CHILD SUPPORT GUIDELINES",null,null,null,null,null,null,null,null,null,null,null,null,null,null,null,null,null,null,null,null,null,null,1,{"$f":"Rates!O52","v":0}]
["SCHEDULE B - SELF-EMPLOYMENT INCOME"]
["(N.D. Admin. Code § 75-02-04.1-05)"]
[]
["OBLIGOR:",null,null,{"$f":"IF(H22=0,0,'Wks1 Obgr'!D5)","v":0}]
["OBLIGEE:",null,null,{"$f":"IF(H22=0,0,'Wks1 Obgr'!D6)","v":0}]
[]
["This schedule is for use in determining net income from self-employment.  Self-"]
["employment means employment in one or more related activities that resuls in an"]
["obligor earning income from any business organization or entity which the obligor is "]
["able to directly or indirectly control to a significant extent.  It also includes any activity"]
[" that generates income from rental property, royalties, business gains, partnerships, "]
["trusts, corporations, and any other organization or entity regardless of form and "]
["regardless of whether such activity would be considered self-employment activity under "]
["the Internal Revenue Code."]
[]
["Name of business/description of self-employment activity to which this schedule relates:"]
[{"$f":"IF(H22=0,0,'SE Obr1'!$B$9)","v":0}]
[{"$f":"IF(H22=0,0,'SE Obr1'!$B$10)","v":0}]
[]
["TOTAL INCOME"]
["Tax year from IRS 1040 form",null,null,null,null,null,null,{"$f":"IF(OR(Rates!K22=\"Yes\",QuesScr!I16<1),0,'SE Obr1'!I$12)","v":0},null,null,null,{"$f":"IF(H22=0,0,'SE Obr1'!M$12)","v":0},null,null,null,{"$f":"IF(L22=0,0,'SE Obr1'!Q$12)","v":0},null,null,null,{"$f":"IF(P22=0,0,'SE Obr1'!U$12)","v":0},null,null,null,{"$f":"IF(T22=0,0,'SE Obr1'!Y$12)","v":0}]
["1.","Total income -05(1) (This"]
[null,"amount is taken from either"]
[null,"a tax return or from a profit"]
[null,"and loss statement.  If it is"]
[null,"taken from a tax return, use"]
[null,"the \"total income\" line on"]
[null,"the IRS form 1040;  i.e.,"]
[null,{"$f":"\"line 22 of \"&Rates!O17 &\" tax return.)\"","v":"line 22 of 2017 tax return.)"},null,null,null,null,{"$f":"IF(H22=0,0,'SE Obr1'!K$13)","v":0},null,null,null,{"$f":"IF(L22=0,0,'SE Obr1'!O$13)","v":0},null,null,null,{"$f":"IF(P22=0,0,'SE Obr1'!S$13)","v":0},null,null,null,{"$f":"IF(T22=0,0,'SE Obr1'!W$13)","v":0},null,null,null,{"$f":"IF(X22=0,0,'SE Obr1'!AA$13)","v":0}]
[]
["DEDUCTIONS"]
["2.","Amount of total income"]
[null,"that is not the obligor's"]
[null,"income -05(1)(a)(1)",null,null,null,null,{"$f":"IF(H22=0,0,'SE Obr1'!K$14)","v":0},null,null,null,{"$f":"IF(L22=0,0,'SE Obr1'!O$14)","v":0},null,null,null,{"$f":"IF(P22=0,0,'SE Obr1'!S$14)","v":0},null,null,null,{"$f":"IF(T22=0,0,'SE Obr1'!W$14)","v":0},null,null,null,{"$f":"IF(X22=0,0,'SE Obr1'!AA$14)","v":0}]
["3","Amount of total income that "]
[null,"does not come from this self-"]
[null,"employment -05(1)(a)(1)",null,null,null,null,{"$f":"IF(H22=0,0,'SE Obr1'!K$15)","v":0},null,null,null,{"$f":"IF(L22=0,0,'SE Obr1'!O$15)","v":0},null,null,null,{"$f":"IF(P22=0,0,'SE Obr1'!S$15)","v":0},null,null,null,{"$f":"IF(T22=0,0,'SE Obr1'!W$15)","v":0},null,null,null,{"$f":"IF(X22=0,0,'SE Obr1'!AA$15)","v":0}]
["4.","Amount of income from "]
[null,"partnership or S corporation "]
[null,"over which obligor "]
[null,"does not have significant "]
[null,"control that has not been "]
[null,"distributed -05(1)(a)(2)",null,null,null,null,{"$f":"IF(H22=0,0,'SE Obr1'!K$16)","v":0},null,null,null,{"$f":"IF(L22=0,0,'SE Obr1'!O$16)","v":0},null,null,null,{"$f":"IF(P22=0,0,'SE Obr1'!S$16)","v":0},null,null,null,{"$f":"IF(T22=0,0,'SE Obr1'!W$16)","v":0},null,null,null,{"$f":"IF(X22=0,0,'SE Obr1'!AA$16)","v":0}]
["5.","Total deductions (total of "]
[null,"Lines 2 through 4)",null,null,null,null,{"$f":"G35+G38+G44","v":0},null,null,null,{"$f":"K35+K38+K44","v":0},null,null,null,{"$f":"O35+O38+O44","v":0},null,null,null,{"$f":"S35+S38+S44","v":0},null,null,null,{"$f":"W35+W38+W44","v":0}]
[]
["ADDITIONS"]
["6.","Business expenses "]
[null,"attributable to the obligor or"]
[null,"a member of the obligor's"]
[null,"household for benefits,"]
[null,"pensions, profit-sharing"]
[null,"plans -05(1)(b)(1)",null,null,null,null,{"$f":"IF(H22=0,0,'SE Obr1'!K$17)","v":0},null,null,null,{"$f":"IF(L22=0,0,'SE Obr1'!O$17)","v":0},null,null,null,{"$f":"IF(P22=0,0,'SE Obr1'!S$17)","v":0},null,null,null,{"$f":"IF(T22=0,0,'SE Obr1'!W$17)","v":0},null,null,null,{"$f":"IF(X22=0,0,'SE Obr1'!AA$17)","v":0}]
[]
["This document was created by using Child"]
["Support's web based guidelines calculator.",null,null,null,null,null,null,null,null,null,null,null,null,null,null,null,null,null,null,null,null,null,null,null,null,{"$f":"\"Schedule B/Page 1 of 3/\"&Rates!N16&\" \"&Rates!O16","v":"Schedule B/Page 1 of 3/July 2023"}]
["7.","Payments to household member "]
[null,"to extent payment exceeds "]
[null,"fair market value of "]
[null,"services -05(1)(b)(2)",null,null,null,null,{"$f":"IF(H22=0,0,'SE Obr1'!K$18)","v":0},null,null,null,{"$f":"IF(L22=0,0,'SE Obr1'!O$18)","v":0},null,null,null,{"$f":"IF(P22=0,0,'SE Obr1'!S$18)","v":0},null,{"$f":"SUM(O61:P61)","v":0},null,{"$f":"IF(T22=0,0,'SE Obr1'!W$18)","v":0},null,null,null,{"$f":"IF(X22=0,0,'SE Obr1'!AA$18)","v":0}]
["8.","Income from C corporation "]
[null,"over which obligor has "]
[null,"significant control -05(1)(b)(3):"]
[null,"8a.","C corporation taxable "]
[null,null,"income",null,null,null,{"$f":"IF(H22=0,0,'SE Obr1'!K$19)","v":0},null,null,null,{"$f":"IF(L22=0,0,'SE Obr1'!O$19)","v":0},null,null,null,{"$f":"IF(P22=0,0,'SE Obr1'!S$19)","v":0},null,null,null,{"$f":"IF(T22=0,0,'SE Obr1'!W$19)","v":0},null,null,null,{"$f":"IF(X22=0,0,'SE Obr1'!AA$19)","v":0}]
[null,"8b.","C corporation federal "]
[null,null,"income tax",null,null,null,{"$f":"IF(H22=0,0,'SE Obr1'!K$20)","v":0},null,null,null,{"$f":"IF(L22=0,0,'SE Obr1'!O$20)","v":0},null,null,null,{"$f":"IF(P22=0,0,'SE Obr1'!S$20)","v":0},null,null,null,{"$f":"IF(T22=0,0,'SE Obr1'!W$20)","v":0},null,null,null,{"$f":"IF(X22=0,0,'SE Obr1'!AA$20)","v":0}]
[null,"8c.","Line 8a less Line 8b",null,null,null,{"$f":"G66-G68","v":0},null,null,null,{"$f":"K66-K68","v":0},null,null,null,{"$f":"O66-O68","v":0},null,null,null,{"$f":"S66-S68","v":0},null,null,null,{"$f":"W66-W68","v":0}]
[null,"8d.","Obligor's ownership "]
[null,null,"interest X .70",null,null,null,{"$f":"IF(H22=0,0,ROUND('SE Obr1'!I$21*0.7/100,2))","v":0},null,null,null,{"$f":"IF(L22=0,0,ROUND('SE Obr1'!M$21*0.7/100,2))","v":0},null,null,null,{"$f":"IF(P22=0,0,ROUND('SE Obr1'!Q$21*0.7/100,2))","v":0},null,null,null,{"$f":"IF(T22=0,0,ROUND('SE Obr1'!U$21*0.7/100,2))","v":0},null,null,null,{"$f":"IF(X22=0,0,ROUND('SE Obr1'!Y$21*0.7/100,2))","v":0}]
[null,"8e.","Line 8c X Line 8d",null,null,null,{"$f":"G71*G69","v":0},null,null,null,{"$f":"K71*K69","v":0},null,null,null,{"$f":"O71*O69","v":0},null,null,null,{"$f":"S71*S69","v":0},null,null,null,{"$f":"W71*W69","v":0}]
["9.","Total additions (total of "]
[null,"Lines 6, 7, and 8e)",null,null,null,null,{"$f":"G54+G61+G72","v":0},null,null,null,{"$f":"K54+K61+K72","v":0},null,null,null,{"$f":"O54+O61+O72","v":0},null,null,null,{"$f":"S54+S61+S72","v":0},null,null,null,{"$f":"W54+W61+W72","v":0}]
[]
["ANNUAL NET INCOME FROM SELF-EMPLOYMENT"]
["10.","Annual net income from "]
[null,"self-employment ((Line 1 "]
[null,"- Line 5) + Line 9)",null,null,null,null,{"$f":"G30-G46+G74","v":0},null,null,null,{"$f":"K30-K46+K74","v":0},null,null,null,{"$f":"O30-O46+O74","v":0},null,null,null,{"$f":"S30-S46+S74","v":0},null,null,null,{"$f":"W30-W46+W74","v":0}]
[]
["Note:  When dealing with self-employment income, the guidelines contemplate a"]
["calculation of up to a 5-year average of self-employment income to account for the"]
["significant changes that may occur in the business."]
[]
["Are multiple years being calculated:",null,null,null,null,null,null,null,{"$f":"IF(L22=0,\"\",\"X\")","v":""},null,null,"Yes",{"$f":"IF(L22=0,\"X\",\"\")","v":"X"},null,null,"No"]
[]
["If yes, complete the following calculation:"]
["1.","Total net income from self-employment for all years being averaged"]
[null,"i.e., total of Line 10 amounts for all years being averaged",null,null,null,null,null,null,null,null,null,null,null,null,null,null,null,null,null,null,{"$f":"G79+K79+O79+S79+W79","v":0},null,{"$f":"IF(M85=\"X\",0,G79+K79+O79+S79+W79)","v":0}]
["2.","Number of years being averaged",null,null,null,null,null,null,null,null,null,null,null,null,null,null,null,null,null,null,{"$f":"IF(H22=0,0,IF('SE Obr1'!I12=0,0,IF('SE Obr1'!M12=0,1,IF('SE Obr1'!Q12=0,2,IF('SE Obr1'!U12=0,3,IF('SE Obr1'!Y12=0,4,5))))))","v":0},null,{"$f":"IF(M85=\"X\",0,IF(H22=0,0,IF('SE Obr1'!I12=0,0,IF('SE Obr1'!M12=0,1,IF('SE Obr1'!Q12=0,2,IF('SE Obr1'!U12=0,3,IF('SE Obr1'!Y12=0,4,5)))))))","v":0}]
["3.","Average annual net income from self-employment (Line 1 ÷ Line 2)",null,null,null,null,null,null,null,null,null,null,null,null,null,null,null,null,null,null,{"$f":"ROUND(IF(U90=0,0,U89/U90),0)","v":0},null,{"$f":"ROUND(IF(W90=0,0,W89/W90),0)","v":0}]
[]
["If line 3 is a positive number, enter the amount onto the worksheet, line 3."]
[]
["Note: If there are multiple self-employment activities, income from each activity must be "]
["calculated and averaged separately.  Thus, a separate Schedule B must be completed"]
["for each activity."]
[]
["Treatment of self-employment losses"]
["If the result of averaging the self-employment income is a loss, if the self-employment"]
["activity is not a hobby, and if there is other income not related to the self-employment"]
["activity that produced the loss, the self-employment loss may be used to reduce the other"]
["income in certain circumstances.  If applicable, complete either Section 1 or Section 2 "]
["to determine if self-employment losses may be used to reduce other income."]
[]
["This document was created by using Child"]
["Support's web based guidelines calculator.",null,null,null,null,null,null,null,null,null,null,null,null,null,null,null,null,null,null,null,null,null,null,null,null,{"$f":"\"Schedule B/Page 2 of 3/\"&Rates!N16&\" \"&Rates!O16","v":"Schedule B/Page 2 of 3/July 2023"}]
["If less than three years were averaged, complete Section 1 only.  If three, four, or five "]
["years were averaged, complete Section 2 only."]
[]
["Section 1:  This section is for use if less than three years were averaged.  -05(6)"]
["1.","Monthly gross income",null,null,null,null,null,null,null,null,null,null,null,null,null,null,null,null,null,null,null,null,{"$f":"IF('SE Obr1'!$Z$26=\"Y\",IF('SE Loss-Obr'!J22=0,0,IF($U$91<0,IF($U$90<3,'SE Loss-Obr'!$N$22,0),0)),0)","v":0}]
["2.","One-twelfth of average annual self-employment loss",null,null,null,null,null,null,null,null,null,null,null,null,null,null,null,null,null,null,null,null,{"$f":"-ROUND(IF(W112>0,U91/12,0),0)","v":0}]
["3.","Line 1 less Line 2",null,null,null,null,null,null,null,null,null,null,null,null,null,null,null,null,null,null,null,null,{"$f":"W112-W113","v":0}]
[]
["Self-employment loss may be used to reduce other income only if amount on Line 3"]
["equals or exceeds the greatest of:"]
[null,"a.","167 times federal minimum wage",null,null,null,null,null,null,null,null,null,null,null,null,null,null,null,{"$f":"ROUND(IF(W112>0,167*Rates!G11,0),0)","v":0}]
[null,null,"(",{"$f":"Rates!G11","v":7.25},"per hour ……. ",null,null,{"$f":"ROUND(Rates!G11*167,0)","v":1211},null,")"]
[null,"b.",".6 times statewide average earnings for"]
[null,null,"persons with similar work history and"]
[null,null,"occupational qualifications",null,null,null,null,null,null,null,null,null,null,null,null,null,null,null,{"$f":"ROUND(IF(W112>0,'SE Loss-Obr'!N23*0.6,0),0)","v":0}]
[null,"c.",".8 times obligor's greatest average gross monthly"]
[null,null,"earnings, calculated without using self-employment"]
[null,null,"losses, in any 12 consecutive months included in"]
[null,null,"the current calendar year and the two previous"]
[null,null,"calendar years",null,null,null,null,null,null,null,null,null,null,null,null,null,null,null,{"$f":"ROUND(IF(W112>0,'SE Loss-Obr'!N24*0.8,0),0)","v":0},null,null,null,{"$f":"IF(W112=0,0,IF(W114+0.01>S118,IF(W114+0.01>S122,IF(W114+0.01>S127,W114,0),0),0))","v":0}]
[]
["If loss is allowable, enter amount from line 3 onto the worksheet, line 3."]
[]
["Section 2:  This section is for use if three, four, or five years were averaged.  -05(7)"]
["1.","When three or more years were averaged, were losses calculated for more than"]
[null,"40% of those years?"]
[null,null,null,null,null,null,null,{"$f":"IF(W91<0,IF(W90<3,\"\",IF(W90=5,IF(X134<3,\"\",\"X\"),IF(W90=4,IF(X134<2,\"\",\"X\"),IF(W90=3,IF(X134<2,\"\",\"X\"),0)))),\"\")","v":""},"Yes",null,null,{"$f":"IF(W91<0,IF(W90<3,\"\",IF(W90=5,IF(X134<3,\"X\",\"\"),IF(W90=4,IF(X134<2,\"X\",\"\"),IF(W90=3,IF(X134<2,\"X\",\"\"),0)))),\"\")","v":""},"No",null,null,null,null,null,null,null,null,null,null,{"$f":"IF(G79<0,1,0)+IF(K79<0,1,0)+IF(O79<0,1,0)+IF(S79<0,1,0)+IF(W79<0,1,0)","v":0}]
[]
[]
["If the answer to Line 1 is yes, STOP.  The self-employment loss may not be used to "]
["reduce other income.  If the answer to Line 1 is no, continue with analysis."]
[]
["2.","Monthly gross income",null,null,null,null,null,null,null,null,null,null,null,null,null,null,null,null,null,null,null,null,{"$f":"IF('SE Obr1'!$Z$26=\"Y\",IF('SE Loss-Obr'!J22=0,0,IF($U$91<0,IF(L134=\"X\",'SE Loss-Obr'!N22,0),0)),0)","v":0}]
["3.","One-twelfth of average annual self-employment loss",null,null,null,null,null,null,null,null,null,null,null,null,null,null,null,null,null,null,null,null,{"$f":"-ROUND(IF(W140>0,W91/12,0),0)","v":0}]
["4.","Line 2 less Line 3",null,null,null,null,null,null,null,null,null,null,null,null,null,null,null,null,null,null,null,null,{"$f":"W140-W141","v":0}]
[]
["Self-employment loss may be used to reduce other income only if amount on Line 4"]
["equals or exceeds the greatest of:"]
[null,"a.","167 times federal minimum wage",null,null,null,null,null,null,null,null,null,null,null,null,null,null,null,{"$f":"ROUND(IF(W140>0,167*Rates!G11,0),0)","v":0}]
[null,null,"(",{"$f":"Rates!G11","v":7.25},"per hour ……. ",null,null,{"$f":"ROUND(Rates!G11*167,0)","v":1211},null,")"]
[null,"b.",".6 times statewide average earnings for"]
[null,null,"persons with similar work history and"]
[null,null,"occupational qualifications",null,null,null,null,null,null,null,null,null,null,null,null,null,null,null,{"$f":"ROUND(IF(W140>0,'SE Loss-Obr'!N23*0.6,0),0)","v":0}]
[null,"c.",".9 times obligor's greatest average gross monthly"]
[null,null,"earnings, calculated without using self-employment"]
[null,null,"losses, in any 12 consecutive months included in"]
[null,null,"the current calendar year and the two previous"]
[null,null,"calendar years",null,null,null,null,null,null,null,null,null,null,null,null,null,null,null,{"$f":"ROUND(IF(W140>0,'SE Loss-Obr'!N24*0.9,0),0)","v":0},null,null,null,{"$f":"IF(W140=0,0,IF(W142+0.01>S146,IF(W142+0.01>S150,IF(W142+0.01>S155,W91,0),0),0))","v":0}]
[]
["If loss is allowable, enter amount from line 4 onto the worksheet, line 3."]
[null,"Countable Self-Employment profit or loss",null,null,null,null,null,null,null,null,null,null,null,null,null,null,null,null,{"$f":"IF(U91<0,IF(W127=0,IF(W155=0,0,W155),W127),U91)","v":0}]
["This document was created by using Child"]
["Support's web based guidelines calculator.",null,null,null,null,null,null,null,null,null,null,null,null,null,null,null,null,null,null,null,null,null,null,null,null,{"$f":"\"Schedule B/Page 3 of 3/\"&Rates!N16&\" \"&Rates!O16","v":"Schedule B/Page 3 of 3/July 2023"}]

{"sheet":"SchB2 Obgr","index":11,"n_rows":159,"n_cols":26,"rows_kept":159,"cut":false,"hidden":false,"merged":[[28,6,28,8],[28,10,28,12],[28,14,28,16],[28,18,28,20],[28,22,28,24],[0,0,0,22],[1,0,1,25],[2,0,2,25],[16,0,16,24],[17,0,17,24],[36,6,36,8],[36,10,36,12],[36,14,36,16],[36,18,36,20],[36,22,36,24],[33,6,33,8],[33,10,33,12],[33,14,33,16],[33,18,33,20],[33,22,33,24],[44,6,44,8],[44,10,44,12],[44,14,44,16],[44,18,44,20],[44,22,44,24],[42,6,42,8],[42,10,42,12],[42,14,42,16],[42,18,42,20],[42,22,42,24],[59,6,59,8],[59,10,59,12],[59,14,59,16],[59,18,59,20],[59,22,59,24],[52,6,52,8],[52,10,52,12],[52,14,52,16],[52,18,52,20],[52,22,52,24],[66,6,66,8],[66,10,66,12],[66,14,66,16],[66,18,66,20],[66,22,66,24],[64,6,64,8],[64,10,64,12],[64,14,64,16],[64,18,64,20],[64,22,64,24],[69,6,69,8],[69,10,69,12],[69,14,69,16],[69,18,69,20],[69,22,69,24],[67,6,67,8],[67,10,67,12],[67,14,67,16],[67,18,67,20],[67,22,67,24],[70,18,70,20],[70,22,70,24],[72,6,72,8],[72,10,72,12],[72,14,72,16],[72,18,72,20],[72,22,72,24],[83,8,83,10],[83,12,83,14],[70,6,70,8],[70,10,70,12],[70,14,70,16],[77,6,77,8],[77,10,77,12],[77,14,77,16],[156,18,156,20],[139,22,139,24],[140,22,140,24],[144,18,144,20],[77,18,77,20],[77,22,77,24],[138,22,138,24],[87,22,87,24],[88,22,88,24],[89,22,89,24],[110,22,110,24],[111,22,111,24],[112,22,112,24],[116,18,116,20],[145,7,145,8],[148,18,148,20],[153,18,153,20],[153,22,153,24],[117,7,117,8],[120,18,120,20],[125,18,125,20],[125,22,125,24]]}
["                 CHILD SUPPORT GUIDELINES",null,null,null,null,null,null,null,null,null,null,null,null,null,null,null,null,null,null,null,null,null,null,2,{"$f":"Rates!O52","v":0}]
["SCHEDULE B - SELF-EMPLOYMENT INCOME"]
["(N.D. Admin. Code § 75-02-04.1-05)"]
[]
["OBLIGOR:",null,null,{"$f":"IF(H21=0,0,'Wks1 Obgr'!D5)","v":0}]
["OBLIGEE:",null,null,{"$f":"IF(H21=0,0,'Wks1 Obgr'!D6)","v":0}]
[]
["This schedule is for use in determining net income from self-employment.  Self-"]
["employment means employment that results in an obligor earning income from any"]
["business organization or entity which the obligor is able to directly or indirectly control to"]
["a significant extent.  It also includes any activity that generates income from rental"]
["property, royalties, business gains, partnerships, trusts, corporations, and any other "]
["organization or entity regardless of form and regardless of whether such activity would"]
["be considered self-employment activity under the Internal Revenue Code."]
[]
["Name of business/description of self-employment activity to which this schedule relates:"]
[{"$f":"IF(H21=0,0,'SE Obr2'!$B$9)","v":0}]
[{"$f":"IF(H21=0,0,'SE Obr2'!$B$10)","v":0}]
[]
["TOTAL INCOME"]
["Tax year from IRS 1040 form",null,null,null,null,null,null,{"$f":"IF(OR(Rates!K22=\"Yes\",QuesScr!I16<1),0,'SE Obr2'!I$12)","v":0},null,null,null,{"$f":"IF(H21=0,0,'SE Obr2'!M$12)","v":0},null,null,null,{"$f":"IF(L21=0,0,'SE Obr2'!Q$12)","v":0},null,null,null,{"$f":"IF(P21=0,0,'SE Obr2'!U$12)","v":0},null,null,null,{"$f":"IF(T21=0,0,'SE Obr2'!Y$12)","v":0}]
["1.","Total income -05(1) (This"]
[null,"amount is taken from either"]
[null,"a tax return or from a profit"]
[null,"and loss statement.  If it is"]
[null,"taken from a tax return, use"]
[null,"the \"total income\" line on"]
[null,"the IRS form 1040;  i.e.,"]
[null,{"$f":"\"line 22 of \"&Rates!O17 &\" tax return.)\"","v":"line 22 of 2017 tax return.)"},null,null,null,null,{"$f":"IF(H21=0,0,'SE Obr2'!K$13)","v":0},null,null,null,{"$f":"IF(L21=0,0,'SE Obr2'!O$13)","v":0},null,null,null,{"$f":"IF(P21=0,0,'SE Obr2'!S$13)","v":0},null,null,null,{"$f":"IF(T21=0,0,'SE Obr2'!W$13)","v":0},null,null,null,{"$f":"IF(X21=0,0,'SE Obr2'!AA$13)","v":0}]
[]
["DEDUCTIONS"]
["2.","Amount of total income"]
[null,"that is not the obligor's"]
[null,"income -05(1)(a)(1)",null,null,null,null,{"$f":"IF(H21=0,0,'SE Obr2'!K$14)","v":0},null,null,null,{"$f":"IF(L21=0,0,'SE Obr2'!O$14)","v":0},null,null,null,{"$f":"IF(P21=0,0,'SE Obr2'!S$14)","v":0},null,null,null,{"$f":"IF(T21=0,0,'SE Obr2'!W$14)","v":0},null,null,null,{"$f":"IF(X21=0,0,'SE Obr2'!AA$14)","v":0}]
["3","Amount of total income that "]
[null,"does not come from this self-"]
[null,"employment -05(1)(a)(1)",null,null,null,null,{"$f":"IF(H21=0,0,'SE Obr2'!K$15)","v":0},null,null,null,{"$f":"IF(L21=0,0,'SE Obr2'!O$15)","v":0},null,null,null,{"$f":"IF(P21=0,0,'SE Obr2'!S$15)","v":0},null,null,null,{"$f":"IF(T21=0,0,'SE Obr2'!W$15)","v":0},null,null,null,{"$f":"IF(X21=0,0,'SE Obr2'!AA$15)","v":0}]
["4.","Amount of income from "]
[null,"partnership or S corporation "]
[null,"over which obligor "]
[null,"does not have significant "]
[null,"control that has not been "]
[null,"distributed -05(1)(a)(2)",null,null,null,null,{"$f":"IF(H21=0,0,'SE Obr2'!K$16)","v":0},null,null,null,{"$f":"IF(L21=0,0,'SE Obr2'!O$16)","v":0},null,null,null,{"$f":"IF(P21=0,0,'SE Obr2'!S$16)","v":0},null,null,null,{"$f":"IF(T21=0,0,'SE Obr2'!W$16)","v":0},null,null,null,{"$f":"IF(X21=0,0,'SE Obr2'!AA$16)","v":0}]
["5.","Total deductions (total of "]
[null,"Lines 2 through 4)",null,null,null,null,{"$f":"G34+G37+G43","v":0},null,null,null,{"$f":"K34+K37+K43","v":0},null,null,null,{"$f":"O34+O37+O43","v":0},null,null,null,{"$f":"S34+S37+S43","v":0},null,null,null,{"$f":"W34+W37+W43","v":0}]
[]
["ADDITIONS"]
["6.","Business expenses "]
[null,"attributable to the obligor or"]
[null,"a member of the obligor's"]
[null,"household for benefits,"]
[null,"pensions, profit-sharing"]
[null,"plans -05(1)(b)(1)",null,null,null,null,{"$f":"IF(H21=0,0,'SE Obr2'!K$17)","v":0},null,null,null,{"$f":"IF(L21=0,0,'SE Obr2'!O$17)","v":0},null,null,null,{"$f":"IF(P21=0,0,'SE Obr2'!S$17)","v":0},null,null,null,{"$f":"IF(T21=0,0,'SE Obr2'!W$17)","v":0},null,null,null,{"$f":"IF(X21=0,0,'SE Obr2'!AA$17)","v":0}]
[]
["This document was created by using Child"]
["Support's web based guidelines calculator.",null,null,null,null,null,null,null,null,null,null,null,null,null,null,null,null,null,null,null,null,null,null,null,null,{"$f":"\"Schedule B/Page 1 of 3/\"&Rates!N16&\" \"&Rates!O16","v":"Schedule B/Page 1 of 3/July 2023"}]
["7.","Payments to household member "]
[null,"to extent payment exceeds "]
[null,"fair market value of "]
[null,"services -05(1)(b)(2)",null,null,null,null,{"$f":"IF(H21=0,0,'SE Obr2'!K$18)","v":0},null,null,null,{"$f":"IF(L21=0,0,'SE Obr2'!O$18)","v":0},null,null,null,{"$f":"IF(P21=0,0,'SE Obr2'!S$18)","v":0},null,{"$f":"SUM(O60:P60)","v":0},null,{"$f":"IF(T21=0,0,'SE Obr2'!W$18)","v":0},null,null,null,{"$f":"IF(X21=0,0,'SE Obr2'!AA$18)","v":0}]
["8.","Income from C corporation "]
[null,"over which obligor has "]
[null,"significant control -05(1)(b)(3):"]
[null,"8a.","C corporation taxable "]
[null,null,"income",null,null,null,{"$f":"IF(H21=0,0,'SE Obr2'!K$19)","v":0},null,null,null,{"$f":"IF(L21=0,0,'SE Obr2'!O$19)","v":0},null,null,null,{"$f":"IF(P21=0,0,'SE Obr2'!S$19)","v":0},null,null,null,{"$f":"IF(T21=0,0,'SE Obr2'!W$19)","v":0},null,null,null,{"$f":"IF(X21=0,0,'SE Obr2'!AA$19)","v":0}]
[null,"8b.","C corporation federal "]
[null,null,"income tax",null,null,null,{"$f":"IF(H21=0,0,'SE Obr2'!K$20)","v":0},null,null,null,{"$f":"IF(L21=0,0,'SE Obr2'!O$20)","v":0},null,null,null,{"$f":"IF(P21=0,0,'SE Obr2'!S$20)","v":0},null,null,null,{"$f":"IF(T21=0,0,'SE Obr2'!W$20)","v":0},null,null,null,{"$f":"IF(X21=0,0,'SE Obr2'!AA$20)","v":0}]
[null,"8c.","Line 8a less Line 8b",null,null,null,{"$f":"G65-G67","v":0},null,null,null,{"$f":"K65-K67","v":0},null,null,null,{"$f":"O65-O67","v":0},null,null,null,{"$f":"S65-S67","v":0},null,null,null,{"$f":"W65-W67","v":0}]
[null,"8d.","Obligor's ownership "]
[null,null,"interest X .70",null,null,null,{"$f":"IF(H21=0,0,ROUND('SE Obr2'!I$21*0.7/100,2))","v":0},null,null,null,{"$f":"IF(L21=0,0,ROUND('SE Obr2'!M$21*0.7/100,2))","v":0},null,null,null,{"$f":"IF(P21=0,0,ROUND('SE Obr2'!Q$21*0.7/100,2))","v":0},null,null,null,{"$f":"IF(T21=0,0,ROUND('SE Obr2'!U$21*0.7/100,2))","v":0},null,null,null,{"$f":"IF(X21=0,0,ROUND('SE Obr2'!Y$21*0.7/100,2))","v":0}]
[null,"8e.","Line 8c X Line 8d",null,null,null,{"$f":"G70*G68","v":0},null,null,null,{"$f":"K70*K68","v":0},null,null,null,{"$f":"O70*O68","v":0},null,null,null,{"$f":"S70*S68","v":0},null,null,null,{"$f":"W70*W68","v":0}]
["9.","Total additions (total of "]
[null,"Lines 6, 7, and 8e)",null,null,null,null,{"$f":"G53+G60+G71","v":0},null,null,null,{"$f":"K53+K60+K71","v":0},null,null,null,{"$f":"O53+O60+O71","v":0},null,null,null,{"$f":"S53+S60+S71","v":0},null,null,null,{"$f":"W53+W60+W71","v":0}]
[]
["ANNUAL NET INCOME FROM SELF-EMPLOYMENT"]
["10.","Annual net income from "]
[null,"self-employment ((Line 1 "]
[null,"- Line 5) + Line 9)",null,null,null,null,{"$f":"G29-G45+G73","v":0},null,null,null,{"$f":"K29-K45+K73","v":0},null,null,null,{"$f":"O29-O45+O73","v":0},null,null,null,{"$f":"S29-S45+S73","v":0},null,null,null,{"$f":"W29-W45+W73","v":0}]
[]
["Note:  When dealing with self-employment income, the guidelines contemplate a"]
["calculation of up to a 5-year average of self-employment income to account for the"]
["significant changes that may occur in the business."]
[]
["Are multiple years being calculated:",null,null,null,null,null,null,null,{"$f":"IF(L21=0,\"\",\"X\")","v":""},null,null,"Yes",{"$f":"IF(L21=0,\"X\",\"\")","v":"X"},null,null,"No"]
[]
["If yes, complete the following calculation:"]
["1.","Total net income from self-employment for all years being averaged"]
[null,"i.e., total of Line 10 amounts for all years being averaged",null,null,null,null,null,null,null,null,null,null,null,null,null,null,null,null,null,null,{"$f":"G78+K78+O78+S78+W78","v":0},null,{"$f":"IF(M84=\"X\",0,G78+K78+O78+S78+W78)","v":0}]
["2.","Number of years being averaged",null,null,null,null,null,null,null,null,null,null,null,null,null,null,null,null,null,null,{"$f":"IF(H21=0,0,IF('SE Obr2'!I12=0,0,IF('SE Obr2'!M12=0,1,IF('SE Obr2'!Q12=0,2,IF('SE Obr2'!U12=0,3,IF('SE Obr2'!Y12=0,4,5))))))","v":0},null,{"$f":"IF(M84=\"X\",0,IF(H21=0,0,IF('SE Obr2'!I12=0,0,IF('SE Obr2'!M12=0,1,IF('SE Obr2'!Q12=0,2,IF('SE Obr2'!U12=0,3,IF('SE Obr2'!Y12=0,4,5)))))))","v":0}]
["3.","Average annual net income from self-employment (Line 1 ÷ Line 2)",null,null,null,null,null,null,null,null,null,null,null,null,null,null,null,null,null,null,{"$f":"ROUND(IF(U89=0,0,U88/U89),0)","v":0},null,{"$f":"ROUND(IF(W89=0,0,W88/W89),0)","v":0}]
[]
["If line 3 is a positive number, enter the amount onto the worksheet, line 3."]
[]
["Note: If there are multiple self-employment activities, income from each activity must be "]
["calculated and averaged separately.  Thus, a separate Schedule B must be completed"]
["for each activity."]
[]
["Treatment of self-employment losses"]
["If the result of averaging the self-employment income is a loss, if the self-employment"]
["activity is not a hobby, and if there is other income not related to the self-employment"]
["activity that produced the loss, the self-employment loss may be used to reduce the other"]
["income in certain circumstances.  If applicable, complete either Section 1 or Section 2 "]
["to determine if self-employment losses may be used to reduce other income."]
[]
["This document was created by using Child"]
["Support's web based guidelines calculator.",null,null,null,null,null,null,null,null,null,null,null,null,null,null,null,null,null,null,null,null,null,null,null,null,{"$f":"\"Schedule B/Page 2 of 3/\"&Rates!N16&\" \"&Rates!O16","v":"Schedule B/Page 2 of 3/July 2023"}]
["If less than three years were averaged, complete Section 1 only.  If three, four, or five "]
["years were averaged, complete Section 2 only."]
[]
["Section 1:  This section is for use if less than three years were averaged.  -05(6)"]
["1.","Monthly gross income",null,null,null,null,null,null,null,null,null,null,null,null,null,null,null,null,null,null,null,null,{"$f":"IF('SE Obr2'!$Z$26=\"Y\",IF('SE Loss-Obr'!J22=0,0,IF($U$90<0,IF($U$89<3,'SE Loss-Obr'!$N$22,0),0)),0)","v":0}]
["2.","One-twelfth of average annual self-employment loss",null,null,null,null,null,null,null,null,null,null,null,null,null,null,null,null,null,null,null,null,{"$f":"-ROUND(IF(W111>0,U90/12,0),0)","v":0}]
["3.","Line 1 less Line 2",null,null,null,null,null,null,null,null,null,null,null,null,null,null,null,null,null,null,null,null,{"$f":"W111-W112","v":0}]
[]
["Self-employment loss may be used to reduce other income only if amount on Line 3"]
["equals or exceeds the greatest of:"]
[null,"a.","167 times federal minimum wage",null,null,null,null,null,null,null,null,null,null,null,null,null,null,null,{"$f":"ROUND(IF(W111>0,167*Rates!G11,0),0)","v":0}]
[null,null,"(",{"$f":"Rates!G11","v":7.25},"per hour ……. ",null,null,{"$f":"ROUND(Rates!G11*167,0)","v":1211},null,")"]
[null,"b.",".6 times statewide average earnings for"]
[null,null,"persons with similar work history and"]
[null,null,"occupational qualifications",null,null,null,null,null,null,null,null,null,null,null,null,null,null,null,{"$f":"ROUND(IF(W111>0,'SE Loss-Obr'!N23*0.6,0),0)","v":0}]
[null,"c.",".8 times obligor's greatest average gross monthly"]
[null,null,"earnings, calculated without using self-employment"]
[null,null,"losses, in any 12 consecutive months included in"]
[null,null,"the current calendar year and the two previous"]
[null,null,"calendar years",null,null,null,null,null,null,null,null,null,null,null,null,null,null,null,{"$f":"ROUND(IF(W111>0,'SE Loss-Obr'!N24*0.8,0),0)","v":0},null,null,null,{"$f":"IF(W111=0,0,IF(W113+0.01>S117,IF(W113+0.01>S121,IF(W113+0.01>S126,W113,0),0),0))","v":0}]
[]
["If loss is allowable, enter amount from line 3 onto the worksheet, line 3."]
[]
["Section 2:  This section is for use if three, four, or five years were averaged.  -05(7)"]
["1.","When three or more years were averaged, were losses calculated for more than"]
[null,"40% of those years?"]
[null,null,null,null,null,null,null,{"$f":"IF(W90<0,IF(W89<3,\"\",IF(W89=5,IF(X133<3,\"\",\"X\"),IF(W89=4,IF(X133<2,\"\",\"X\"),IF(W89=3,IF(X133<2,\"\",\"X\"),0)))),\"\")","v":""},"Yes",null,null,{"$f":"IF(W90<0,IF(W89<3,\"\",IF(W89=5,IF(X133<3,\"X\",\"\"),IF(W89=4,IF(X133<2,\"X\",\"\"),IF(W89=3,IF(X133<2,\"X\",\"\"),0)))),\"\")","v":""},"No",null,null,null,null,null,null,null,null,null,null,{"$f":"IF(G78<0,1,0)+IF(K78<0,1,0)+IF(O78<0,1,0)+IF(S78<0,1,0)+IF(W78<0,1,0)","v":0}]
[]
[]
["If the answer to Line 1 is yes, STOP.  The self-employment loss may not be used to "]
["reduce other income.  If the answer to Line 1 is no, continue with analysis."]
[]
["2.","Monthly gross income",null,null,null,null,null,null,null,null,null,null,null,null,null,null,null,null,null,null,null,null,{"$f":"IF('SE Obr2'!$Z$26=\"Y\",IF('SE Loss-Obr'!J22=0,0,IF($W$90<0,IF(L133=\"X\",'SE Loss-Obr'!N22,0),0)),0)","v":0}]
["3.","One-twelfth of average annual self-employment loss",null,null,null,null,null,null,null,null,null,null,null,null,null,null,null,null,null,null,null,null,{"$f":"-ROUND(IF(W139>0,W90/12,0),0)","v":0}]
["4.","Line 2 less Line 3",null,null,null,null,null,null,null,null,null,null,null,null,null,null,null,null,null,null,null,null,{"$f":"W139-W140","v":0}]
[]
["Self-employment loss may be used to reduce other income only if amount on Line 4"]
["equals or exceeds the greatest of:"]
[null,"a.","167 times federal minimum wage",null,null,null,null,null,null,null,null,null,null,null,null,null,null,null,{"$f":"ROUND(IF(W139>0,167*Rates!G11,0),0)","v":0}]
[null,null,"(",{"$f":"Rates!G11","v":7.25},"per hour ……. ",null,null,{"$f":"ROUND(Rates!G11*167,0)","v":1211},null,")"]
[null,"b.",".6 times statewide average earnings for"]
[null,null,"persons with similar work history and"]
[null,null,"occupational qualifications",null,null,null,null,null,null,null,null,null,null,null,null,null,null,null,{"$f":"ROUND(IF(W139>0,'SE Loss-Obr'!N23*0.6,0),0)","v":0}]
[null,"c.",".9 times obligor's greatest average gross monthly"]
[null,null,"earnings, calculated without using self-employment"]
[null,null,"losses, in any 12 consecutive months included in"]
[null,null,"the current calendar year and the two previous"]
[null,null,"calendar years",null,null,null,null,null,null,null,null,null,null,null,null,null,null,null,{"$f":"ROUND(IF(W139>0,'SE Loss-Obr'!N24*0.9,0),0)","v":0},null,null,null,{"$f":"IF(W139=0,0,IF(W141+0.01>S145,IF(W141+0.01>S149,IF(W141+0.01>S154,W90,0),0),0))","v":0}]
[]
["If loss is allowable, enter amount from line 4 onto the worksheet, line 3."]
[null,"Countable Self-Employment profit or loss",null,null,null,null,null,null,null,null,null,null,null,null,null,null,null,null,{"$f":"IF(U90<0,IF(W126=0,IF(W154=0,0,W154),W126),U90)","v":0}]
["This document was created by using Child"]
["Support's web based guidelines calculator.",null,null,null,null,null,null,null,null,null,null,null,null,null,null,null,null,null,null,null,null,null,null,null,null,{"$f":"\"Schedule B/Page 3 of 3/\"&Rates!N16&\" \"&Rates!O16","v":"Schedule B/Page 3 of 3/July 2023"}]

{"sheet":"SchB3 Obgr","index":12,"n_rows":159,"n_cols":26,"rows_kept":159,"cut":false,"hidden":false,"merged":[[0,0,0,22],[1,0,1,25],[2,0,2,25],[16,0,16,24],[17,0,17,24],[28,6,28,8],[28,10,28,12],[28,14,28,16],[28,18,28,20],[28,22,28,24],[33,6,33,8],[33,10,33,12],[33,14,33,16],[33,18,33,20],[33,22,33,24],[36,6,36,8],[36,10,36,12],[36,14,36,16],[36,18,36,20],[36,22,36,24],[42,6,42,8],[42,10,42,12],[42,14,42,16],[42,18,42,20],[42,22,42,24],[44,6,44,8],[44,10,44,12],[44,14,44,16],[44,18,44,20],[44,22,44,24],[52,6,52,8],[52,10,52,12],[52,14,52,16],[52,18,52,20],[52,22,52,24],[59,18,59,20],[59,22,59,24],[64,6,64,8],[64,10,64,12],[64,14,64,16],[64,18,64,20],[64,22,64,24],[59,6,59,8],[59,10,59,12],[59,14,59,16],[66,14,66,16],[66,18,66,20],[66,22,66,24],[67,6,67,8],[67,10,67,12],[67,14,67,16],[67,18,67,20],[67,22,67,24],[66,6,66,8],[66,10,66,12],[69,6,69,8],[69,10,69,12],[69,14,69,16],[69,18,69,20],[69,22,69,24],[70,6,70,8],[70,10,70,12],[70,14,70,16],[70,18,70,20],[70,22,70,24],[72,6,72,8],[72,10,72,12],[72,14,72,16],[72,18,72,20],[72,22,72,24],[77,6,77,8],[77,10,77,12],[77,14,77,16],[77,18,77,20],[77,22,77,24],[83,8,83,10],[83,12,83,14],[87,22,87,24],[88,22,88,24],[89,22,89,24],[110,22,110,24],[111,22,111,24],[112,22,112,24],[116,18,116,20],[117,7,117,8],[120,18,120,20],[125,18,125,20],[125,22,125,24],[138,22,138,24],[139,22,139,24],[156,18,156,20],[140,22,140,24],[144,18,144,20],[145,7,145,8],[148,18,148,20],[153,18,153,20],[153,22,153,24]]}
["                 CHILD SUPPORT GUIDELINES",null,null,null,null,null,null,null,null,null,null,null,null,null,null,null,null,null,null,null,null,null,null,3,{"$f":"Rates!O52","v":0}]
["SCHEDULE B - SELF-EMPLOYMENT INCOME"]
["(N.D. Admin. Code § 75-02-04.1-05)"]
[]
["OBLIGOR:",null,null,{"$f":"IF(H21=0,0,'Wks1 Obgr'!D5)","v":0}]
["OBLIGEE:",null,null,{"$f":"IF(H21=0,0,'Wks1 Obgr'!D6)","v":0}]
[]
["This schedule is for use in determining net income from self-employment.  Self-"]
["employment means employment that results in an obligor earning income from any"]
["business organization or entity which the obligor is able to directly or indirectly control to"]
["a significant extent.  It also includes any activity that generates income from rental"]
["property, royalties, business gains, partnerships, trusts, corporations, and any other "]
["organization or entity regardless of form and regardless of whether such activity would"]
["be considered self-employment activity under the Internal Revenue Code."]
[]
["Name of business/description of self-employment activity to which this schedule relates:"]
[{"$f":"IF(H21=0,0,'SE Obr3'!$B$9)","v":0}]
[{"$f":"IF(H21=0,0,'SE Obr3'!$B$10)","v":0}]
[]
["TOTAL INCOME"]
["Tax year from IRS 1040 form",null,null,null,null,null,null,{"$f":"IF(OR(Rates!K22=\"Yes\",QuesScr!I16<1),0,'SE Obr3'!I$12)","v":0},null,null,null,{"$f":"IF(H21=0,0,'SE Obr3'!M$12)","v":0},null,null,null,{"$f":"IF(L21=0,0,'SE Obr3'!Q$12)","v":0},null,null,null,{"$f":"IF(P21=0,0,'SE Obr3'!U$12)","v":0},null,null,null,{"$f":"IF(T21=0,0,'SE Obr3'!Y$12)","v":0}]
["1.","Total income -05(1) (This"]
[null,"amount is taken from either"]
[null,"a tax return or from a profit"]
[null,"and loss statement.  If it is"]
[null,"taken from a tax return, use"]
[null,"the \"total income\" line on"]
[null,"the IRS form 1040;  i.e.,"]
[null,{"$f":"\"line 22 of \"&Rates!O17 &\" tax return.)\"","v":"line 22 of 2017 tax return.)"},null,null,null,null,{"$f":"IF(H21=0,0,'SE Obr3'!K$13)","v":0},null,null,null,{"$f":"IF(L21=0,0,'SE Obr3'!O$13)","v":0},null,null,null,{"$f":"IF(P21=0,0,'SE Obr3'!S$13)","v":0},null,null,null,{"$f":"IF(T21=0,0,'SE Obr3'!W$13)","v":0},null,null,null,{"$f":"IF(X21=0,0,'SE Obr3'!AA$13)","v":0}]
[]
["DEDUCTIONS"]
["2.","Amount of total income"]
[null,"that is not the obligor's"]
[null,"income -05(1)(a)(1)",null,null,null,null,{"$f":"IF(H21=0,0,'SE Obr3'!K$14)","v":0},null,null,null,{"$f":"IF(L21=0,0,'SE Obr3'!O$14)","v":0},null,null,null,{"$f":"IF(P21=0,0,'SE Obr3'!S$14)","v":0},null,null,null,{"$f":"IF(T21=0,0,'SE Obr3'!W$14)","v":0},null,null,null,{"$f":"IF(X21=0,0,'SE Obr3'!AA$14)","v":0}]
["3","Amount of total income that "]
[null,"does not come from this self-"]
[null,"employment -05(1)(a)(1)",null,null,null,null,{"$f":"IF(H21=0,0,'SE Obr3'!K$15)","v":0},null,null,null,{"$f":"IF(L21=0,0,'SE Obr3'!O$15)","v":0},null,null,null,{"$f":"IF(P21=0,0,'SE Obr3'!S$15)","v":0},null,null,null,{"$f":"IF(T21=0,0,'SE Obr3'!W$15)","v":0},null,null,null,{"$f":"IF(X21=0,0,'SE Obr3'!AA$15)","v":0}]
["4.","Amount of income from "]
[null,"partnership or S corporation "]
[null,"over which obligor "]
[null,"does not have significant "]
[null,"control that has not been "]
[null,"distributed -05(1)(a)(2)",null,null,null,null,{"$f":"IF(H21=0,0,'SE Obr3'!K$16)","v":0},null,null,null,{"$f":"IF(L21=0,0,'SE Obr3'!O$16)","v":0},null,null,null,{"$f":"IF(P21=0,0,'SE Obr3'!S$16)","v":0},null,null,null,{"$f":"IF(T21=0,0,'SE Obr3'!W$16)","v":0},null,null,null,{"$f":"IF(X21=0,0,'SE Obr3'!AA$16)","v":0}]
["5.","Total deductions (total of "]
[null,"Lines 2 through 4)",null,null,null,null,{"$f":"G34+G37+G43","v":0},null,null,null,{"$f":"K34+K37+K43","v":0},null,null,null,{"$f":"O34+O37+O43","v":0},null,null,null,{"$f":"S34+S37+S43","v":0},null,null,null,{"$f":"W34+W37+W43","v":0}]
[]
["ADDITIONS"]
["6.","Business expenses "]
[null,"attributable to the obligor or"]
[null,"a member of the obligor's"]
[null,"household for benefits,"]
[null,"pensions, profit-sharing"]
[null,"plans -05(1)(b)(1)",null,null,null,null,{"$f":"IF(H21=0,0,'SE Obr3'!K$17)","v":0},null,null,null,{"$f":"IF(L21=0,0,'SE Obr3'!O$17)","v":0},null,null,null,{"$f":"IF(P21=0,0,'SE Obr3'!S$17)","v":0},null,null,null,{"$f":"IF(T21=0,0,'SE Obr3'!W$17)","v":0},null,null,null,{"$f":"IF(X21=0,0,'SE Obr3'!AA$17)","v":0}]
[]
["This document was created by using Child"]
["Support's web based guidelines calculator.",null,null,null,null,null,null,null,null,null,null,null,null,null,null,null,null,null,null,null,null,null,null,null,null,{"$f":"\"Schedule B/Page 1 of 3/\"&Rates!N16&\" \"&Rates!O16","v":"Schedule B/Page 1 of 3/July 2023"}]
["7.","Payments to household member "]
[null,"to extent payment exceeds "]
[null,"fair market value of "]
[null,"services -05(1)(b)(2)",null,null,null,null,{"$f":"IF(H21=0,0,'SE Obr3'!K$18)","v":0},null,null,null,{"$f":"IF(L21=0,0,'SE Obr3'!O$18)","v":0},null,null,null,{"$f":"IF(P21=0,0,'SE Obr3'!S$18)","v":0},null,{"$f":"SUM(O60:P60)","v":0},null,{"$f":"IF(T21=0,0,'SE Obr3'!W$18)","v":0},null,null,null,{"$f":"IF(X21=0,0,'SE Obr3'!AA$18)","v":0}]
["8.","Income from C corporation "]
[null,"over which obligor has "]
[null,"significant control -05(1)(b)(3):"]
[null,"8a.","C corporation taxable "]
[null,null,"income",null,null,null,{"$f":"IF(H21=0,0,'SE Obr3'!K$19)","v":0},null,null,null,{"$f":"IF(L21=0,0,'SE Obr3'!O$19)","v":0},null,null,null,{"$f":"IF(P21=0,0,'SE Obr3'!S$19)","v":0},null,null,null,{"$f":"IF(T21=0,0,'SE Obr3'!W$19)","v":0},null,null,null,{"$f":"IF(X21=0,0,'SE Obr3'!AA$19)","v":0}]
[null,"8b.","C corporation federal "]
[null,null,"income tax",null,null,null,{"$f":"IF(H21=0,0,'SE Obr3'!K$20)","v":0},null,null,null,{"$f":"IF(L21=0,0,'SE Obr3'!O$20)","v":0},null,null,null,{"$f":"IF(P21=0,0,'SE Obr3'!S$20)","v":0},null,null,null,{"$f":"IF(T21=0,0,'SE Obr3'!W$20)","v":0},null,null,null,{"$f":"IF(X21=0,0,'SE Obr3'!AA$20)","v":0}]
[null,"8c.","Line 8a less Line 8b",null,null,null,{"$f":"G65-G67","v":0},null,null,null,{"$f":"K65-K67","v":0},null,null,null,{"$f":"O65-O67","v":0},null,null,null,{"$f":"S65-S67","v":0},null,null,null,{"$f":"W65-W67","v":0}]
[null,"8d.","Obligor's ownership "]
[null,null,"interest X .70",null,null,null,{"$f":"IF(H21=0,0,ROUND('SE Obr3'!I$21*0.7/100,2))","v":0},null,null,null,{"$f":"IF(L21=0,0,ROUND('SE Obr3'!M$21*0.7/100,2))","v":0},null,null,null,{"$f":"IF(P21=0,0,ROUND('SE Obr3'!Q$21*0.7/100,2))","v":0},null,null,null,{"$f":"IF(T21=0,0,ROUND('SE Obr3'!U$21*0.7/100,2))","v":0},null,null,null,{"$f":"IF(X21=0,0,ROUND('SE Obr3'!Y$21*0.7/100,2))","v":0}]
[null,"8e.","Line 8c X Line 8d",null,null,null,{"$f":"G70*G68","v":0},null,null,null,{"$f":"K70*K68","v":0},null,null,null,{"$f":"O70*O68","v":0},null,null,null,{"$f":"S70*S68","v":0},null,null,null,{"$f":"W70*W68","v":0}]
["9.","Total additions (total of "]
[null,"Lines 6, 7, and 8e)",null,null,null,null,{"$f":"G53+G60+G71","v":0},null,null,null,{"$f":"K53+K60+K71","v":0},null,null,null,{"$f":"O53+O60+O71","v":0},null,null,null,{"$f":"S53+S60+S71","v":0},null,null,null,{"$f":"W53+W60+W71","v":0}]
[]
["ANNUAL NET INCOME FROM SELF-EMPLOYMENT"]
["10.","Annual net income from "]
[null,"self-employment ((Line 1 "]
[null,"- Line 5) + Line 9)",null,null,null,null,{"$f":"G29-G45+G73","v":0},null,null,null,{"$f":"K29-K45+K73","v":0},null,null,null,{"$f":"O29-O45+O73","v":0},null,null,null,{"$f":"S29-S45+S73","v":0},null,null,null,{"$f":"W29-W45+W73","v":0}]
[]
["Note:  When dealing with self-employment income, the guidelines contemplate a"]
["calculation of up to a 5-year average of self-employment income to account for the"]
["significant changes that may occur in the business."]
[]
["Are multiple years being calculated:",null,null,null,null,null,null,null,{"$f":"IF(L21=0,\"\",\"X\")","v":""},null,null,"Yes",{"$f":"IF(L21=0,\"X\",\"\")","v":"X"},null,null,"No"]
[]
["If yes, complete the following calculation:"]
["1.","Total net income from self-employment for all years being averaged"]
[null,"i.e., total of Line 10 amounts for all years being averaged",null,null,null,null,null,null,null,null,null,null,null,null,null,null,null,null,null,null,{"$f":"G78+K78+O78+S78+W78","v":0},null,{"$f":"IF(M84=\"X\",0,G78+K78+O78+S78+W78)","v":0}]
["2.","Number of years being averaged",null,null,null,null,null,null,null,null,null,null,null,null,null,null,null,null,null,null,{"$f":"IF(H21=0,0,IF('SE Obr3'!I12=0,0,IF('SE Obr3'!M12=0,1,IF('SE Obr3'!Q12=0,2,IF('SE Obr3'!U12=0,3,IF('SE Obr3'!Y12=0,4,5))))))","v":0},null,{"$f":"IF(M84=\"X\",0,IF(H21=0,0,IF('SE Obr3'!I12=0,0,IF('SE Obr3'!M12=0,1,IF('SE Obr3'!Q12=0,2,IF('SE Obr3'!U12=0,3,IF('SE Obr3'!Y12=0,4,5)))))))","v":0}]
["3.","Average annual net income from self-employment (Line 1 ÷ Line 2)",null,null,null,null,null,null,null,null,null,null,null,null,null,null,null,null,null,null,{"$f":"ROUND(IF(U89=0,0,U88/U89),0)","v":0},null,{"$f":"ROUND(IF(W89=0,0,W88/W89),0)","v":0}]
[]
["If line 3 is a positive number, enter the amount onto the worksheet, line 3."]
[]
["Note: If there are multiple self-employment activities, income from each activity must be "]
["calculated and averaged separately.  Thus, a separate Schedule B must be completed"]
["for each activity."]
[]
["Treatment of self-employment losses"]
["If the result of averaging the self-employment income is a loss, if the self-employment"]
["activity is not a hobby, and if there is other income not related to the self-employment"]
["activity that produced the loss, the self-employment loss may be used to reduce the other"]
["income in certain circumstances.  If applicable, complete either Section 1 or Section 2 "]
["to determine if self-employment losses may be used to reduce other income."]
[]
["This document was created by using Child"]
["Support's web based guidelines calculator.",null,null,null,null,null,null,null,null,null,null,null,null,null,null,null,null,null,null,null,null,null,null,null,null,{"$f":"\"Schedule B/Page 2 of 3/\"&Rates!N16&\" \"&Rates!O16","v":"Schedule B/Page 2 of 3/July 2023"}]
["If less than three years were averaged, complete Section 1 only.  If three, four, or five "]
["years were averaged, complete Section 2 only."]
[]
["Section 1:  This section is for use if less than three years were averaged.  -05(6)"]
["1.","Monthly gross income",null,null,null,null,null,null,null,null,null,null,null,null,null,null,null,null,null,null,null,null,{"$f":"IF('SE Obr3'!$Z$26=\"Y\",IF('SE Loss-Obr'!J22=0,0,IF($U$90<0,IF($U$89<3,'SE Loss-Obr'!$N$22,0),0)),0)","v":0}]
["2.","One-twelfth of average annual self-employment loss",null,null,null,null,null,null,null,null,null,null,null,null,null,null,null,null,null,null,null,null,{"$f":"-ROUND(IF(W111>0,U90/12,0),0)","v":0}]
["3.","Line 1 less Line 2",null,null,null,null,null,null,null,null,null,null,null,null,null,null,null,null,null,null,null,null,{"$f":"W111-W112","v":0}]
[]
["Self-employment loss may be used to reduce other income only if amount on Line 3"]
["equals or exceeds the greatest of:"]
[null,"a.","167 times federal minimum wage",null,null,null,null,null,null,null,null,null,null,null,null,null,null,null,{"$f":"ROUND(IF(W111>0,167*Rates!G11,0),0)","v":0}]
[null,null,"(",{"$f":"Rates!G11","v":7.25},"per hour ……. ",null,null,{"$f":"ROUND(Rates!G11*167,0)","v":1211},null,")"]
[null,"b.",".6 times statewide average earnings for"]
[null,null,"persons with similar work history and"]
[null,null,"occupational qualifications",null,null,null,null,null,null,null,null,null,null,null,null,null,null,null,{"$f":"ROUND(IF(W111>0,'SE Loss-Obr'!N23*0.6,0),0)","v":0}]
[null,"c.",".8 times obligor's greatest average gross monthly"]
[null,null,"earnings, calculated without using self-employment"]
[null,null,"losses, in any 12 consecutive months included in"]
[null,null,"the current calendar year and the two previous"]
[null,null,"calendar years",null,null,null,null,null,null,null,null,null,null,null,null,null,null,null,{"$f":"ROUND(IF(W111>0,'SE Loss-Obr'!N24*0.8,0),0)","v":0},null,null,null,{"$f":"IF(W111=0,0,IF(W113+0.01>S117,IF(W113+0.01>S121,IF(W113+0.01>S126,W113,0),0),0))","v":0}]
[]
["If loss is allowable, enter amount from line 3 onto the worksheet, line 3."]
[]
["Section 2:  This section is for use if three, four, or five years were averaged.  -05(7)"]
["1.","When three or more years were averaged, were losses calculated for more than"]
[null,"40% of those years?"]
[null,null,null,null,null,null,null,{"$f":"IF(W90<0,IF(W89<3,\"\",IF(W89=5,IF(X133<3,\"\",\"X\"),IF(W89=4,IF(X133<2,\"\",\"X\"),IF(W89=3,IF(X133<2,\"\",\"X\"),0)))),\"\")","v":""},"Yes",null,null,{"$f":"IF(W90<0,IF(W89<3,\"\",IF(W89=5,IF(X133<3,\"X\",\"\"),IF(W89=4,IF(X133<2,\"X\",\"\"),IF(W89=3,IF(X133<2,\"X\",\"\"),0)))),\"\")","v":""},"No",null,null,null,null,null,null,null,null,null,null,{"$f":"IF(G78<0,1,0)+IF(K78<0,1,0)+IF(O78<0,1,0)+IF(S78<0,1,0)+IF(W78<0,1,0)","v":0}]
[]
[]
["If the answer to Line 1 is yes, STOP.  The self-employment loss may not be used to "]
["reduce other income.  If the answer to Line 1 is no, continue with analysis."]
[]
["2.","Monthly gross income",null,null,null,null,null,null,null,null,null,null,null,null,null,null,null,null,null,null,null,null,{"$f":"IF('SE Obr3'!$Z$26=\"Y\",IF('SE Loss-Obr'!J22=0,0,IF($W$90<0,IF(L133=\"X\",'SE Loss-Obr'!N22,0),0)),0)","v":0}]
["3.","One-twelfth of average annual self-employment loss",null,null,null,null,null,null,null,null,null,null,null,null,null,null,null,null,null,null,null,null,{"$f":"-ROUND(IF(W139>0,W90/12,0),0)","v":0}]
["4.","Line 2 less Line 3",null,null,null,null,null,null,null,null,null,null,null,null,null,null,null,null,null,null,null,null,{"$f":"W139-W140","v":0}]
[]
["Self-employment loss may be used to reduce other income only if amount on Line 4"]
["equals or exceeds the greatest of:"]
[null,"a.","167 times federal minimum wage",null,null,null,null,null,null,null,null,null,null,null,null,null,null,null,{"$f":"ROUND(IF(W139>0,167*Rates!G11,0),0)","v":0}]
[null,null,"(",{"$f":"Rates!G11","v":7.25},"per hour ……. ",null,null,{"$f":"ROUND(Rates!G11*167,0)","v":1211},null,")"]
[null,"b.",".6 times statewide average earnings for"]
[null,null,"persons with similar work history and"]
[null,null,"occupational qualifications",null,null,null,null,null,null,null,null,null,null,null,null,null,null,null,{"$f":"ROUND(IF(W139>0,'SE Loss-Obr'!N23*0.6,0),0)","v":0}]
[null,"c.",".9 times obligor's greatest average gross monthly"]
[null,null,"earnings, calculated without using self-employment"]
[null,null,"losses, in any 12 consecutive months included in"]
[null,null,"the current calendar year and the two previous"]
[null,null,"calendar years",null,null,null,null,null,null,null,null,null,null,null,null,null,null,null,{"$f":"ROUND(IF(W139>0,'SE Loss-Obr'!N24*0.9,0),0)","v":0},null,null,null,{"$f":"IF(W139=0,0,IF(W141+0.01>S145,IF(W141+0.01>S149,IF(W141+0.01>S154,W90,0),0),0))","v":0}]
[]
["If loss is allowable, enter amount from line 4 onto the worksheet, line 3."]
[null,"Countable Self-Employment profit or loss",null,null,null,null,null,null,null,null,null,null,null,null,null,null,null,null,{"$f":"IF(U90<0,IF(W126=0,IF(W154=0,0,W154),W126),U90)","v":0}]
["This document was created by using Child"]
["Support's web based guidelines calculator.",null,null,null,null,null,null,null,null,null,null,null,null,null,null,null,null,null,null,null,null,null,null,null,null,{"$f":"\"Schedule B/Page 3 of 3/\"&Rates!N16&\" \"&Rates!O16","v":"Schedule B/Page 3 of 3/July 2023"}]

{"sheet":"SchB4 Obgr","index":13,"n_rows":159,"n_cols":26,"rows_kept":159,"cut":false,"hidden":false,"merged":[[156,18,156,20],[140,22,140,24],[144,18,144,20],[145,7,145,8],[148,18,148,20],[153,18,153,20],[153,22,153,24],[120,18,120,20],[125,18,125,20],[125,22,125,24],[138,22,138,24],[139,22,139,24],[110,22,110,24],[111,22,111,24],[112,22,112,24],[116,18,116,20],[117,7,117,8],[83,8,83,10],[83,12,83,14],[87,22,87,24],[88,22,88,24],[89,22,89,24],[77,6,77,8],[77,10,77,12],[77,14,77,16],[77,18,77,20],[77,22,77,24],[72,6,72,8],[72,10,72,12],[72,14,72,16],[72,18,72,20],[72,22,72,24],[70,6,70,8],[70,10,70,12],[70,14,70,16],[70,18,70,20],[70,22,70,24],[69,6,69,8],[69,10,69,12],[69,14,69,16],[69,18,69,20],[69,22,69,24],[66,14,66,16],[66,18,66,20],[66,22,66,24],[67,6,67,8],[67,10,67,12],[67,14,67,16],[67,18,67,20],[67,22,67,24],[66,6,66,8],[66,10,66,12],[59,18,59,20],[59,22,59,24],[64,6,64,8],[64,10,64,12],[64,14,64,16],[64,18,64,20],[64,22,64,24],[59,6,59,8],[59,10,59,12],[59,14,59,16],[52,6,52,8],[52,10,52,12],[52,14,52,16],[52,18,52,20],[52,22,52,24],[44,6,44,8],[44,10,44,12],[44,14,44,16],[44,18,44,20],[44,22,44,24],[42,6,42,8],[42,10,42,12],[42,14,42,16],[42,18,42,20],[42,22,42,24],[36,6,36,8],[36,10,36,12],[36,14,36,16],[36,18,36,20],[36,22,36,24],[33,6,33,8],[33,10,33,12],[33,14,33,16],[33,18,33,20],[33,22,33,24],[28,6,28,8],[28,10,28,12],[28,14,28,16],[28,18,28,20],[28,22,28,24],[0,0,0,22],[1,0,1,25],[2,0,2,25],[16,0,16,24],[17,0,17,24]]}
["                 CHILD SUPPORT GUIDELINES",null,null,null,null,null,null,null,null,null,null,null,null,null,null,null,null,null,null,null,null,null,null,4,{"$f":"Rates!O52","v":0}]
["SCHEDULE B - SELF-EMPLOYMENT INCOME"]
["(N.D. Admin. Code § 75-02-04.1-05)"]
[]
["OBLIGOR:",null,null,{"$f":"IF(H21=0,0,'Wks1 Obgr'!D5)","v":0}]
["OBLIGEE:",null,null,{"$f":"IF(H21=0,0,'Wks1 Obgr'!D6)","v":0}]
[]
["This schedule is for use in determining net income from self-employment.  Self-"]
["employment means employment that results in an obligor earning income from any"]
["business organization or entity which the obligor is able to directly or indirectly control to"]
["a significant extent.  It also includes any activity that generates income from rental"]
["property, royalties, business gains, partnerships, trusts, corporations, and any other "]
["organization or entity regardless of form and regardless of whether such activity would"]
["be considered self-employment activity under the Internal Revenue Code."]
[]
["Name of business/description of self-employment activity to which this schedule relates:"]
[{"$f":"IF(H21=0,0,'SE Obr4'!$B$9)","v":0}]
[{"$f":"IF(H21=0,0,'SE Obr4'!$B$10)","v":0}]
[]
["TOTAL INCOME"]
["Tax year from IRS 1040 form",null,null,null,null,null,null,{"$f":"IF(OR(Rates!K22=\"Yes\",QuesScr!I16<1),0,'SE Obr4'!I$12)","v":0},null,null,null,{"$f":"IF(H21=0,0,'SE Obr4'!M$12)","v":0},null,null,null,{"$f":"IF(L21=0,0,'SE Obr4'!Q$12)","v":0},null,null,null,{"$f":"IF(P21=0,0,'SE Obr4'!U$12)","v":0},null,null,null,{"$f":"IF(T21=0,0,'SE Obr4'!Y$12)","v":0}]
["1.","Total income -05(1) (This"]
[null,"amount is taken from either"]
[null,"a tax return or from a profit"]
[null,"and loss statement.  If it is"]
[null,"taken from a tax return, use"]
[null,"the \"total income\" line on"]
[null,"the IRS form 1040;  i.e.,"]
[null,{"$f":"\"line 22 of \"&Rates!O17 &\" tax return.)\"","v":"line 22 of 2017 tax return.)"},null,null,null,null,{"$f":"IF(H21=0,0,'SE Obr4'!K$13)","v":0},null,null,null,{"$f":"IF(L21=0,0,'SE Obr4'!O$13)","v":0},null,null,null,{"$f":"IF(P21=0,0,'SE Obr4'!S$13)","v":0},null,null,null,{"$f":"IF(T21=0,0,'SE Obr4'!W$13)","v":0},null,null,null,{"$f":"IF(X21=0,0,'SE Obr4'!AA$13)","v":0}]
[]
["DEDUCTIONS"]
["2.","Amount of total income"]
[null,"that is not the obligor's"]
[null,"income -05(1)(a)(1)",null,null,null,null,{"$f":"IF(H21=0,0,'SE Obr4'!K$14)","v":0},null,null,null,{"$f":"IF(L21=0,0,'SE Obr4'!O$14)","v":0},null,null,null,{"$f":"IF(P21=0,0,'SE Obr4'!S$14)","v":0},null,null,null,{"$f":"IF(T21=0,0,'SE Obr4'!W$14)","v":0},null,null,null,{"$f":"IF(X21=0,0,'SE Obr4'!AA$14)","v":0}]
["3","Amount of total income that "]
[null,"does not come from this self-"]
[null,"employment -05(1)(a)(1)",null,null,null,null,{"$f":"IF(H21=0,0,'SE Obr4'!K$15)","v":0},null,null,null,{"$f":"IF(L21=0,0,'SE Obr4'!O$15)","v":0},null,null,null,{"$f":"IF(P21=0,0,'SE Obr4'!S$15)","v":0},null,null,null,{"$f":"IF(T21=0,0,'SE Obr4'!W$15)","v":0},null,null,null,{"$f":"IF(X21=0,0,'SE Obr4'!AA$15)","v":0}]
["4.","Amount of income from "]
[null,"partnership or S corporation "]
[null,"over which obligor "]
[null,"does not have significant "]
[null,"control that has not been "]
[null,"distributed -05(1)(a)(2)",null,null,null,null,{"$f":"IF(H21=0,0,'SE Obr4'!K$16)","v":0},null,null,null,{"$f":"IF(L21=0,0,'SE Obr4'!O$16)","v":0},null,null,null,{"$f":"IF(P21=0,0,'SE Obr4'!S$16)","v":0},null,null,null,{"$f":"IF(T21=0,0,'SE Obr4'!W$16)","v":0},null,null,null,{"$f":"IF(X21=0,0,'SE Obr4'!AA$16)","v":0}]
["5.","Total deductions (total of "]
[null,"Lines 2 through 4)",null,null,null,null,{"$f":"G34+G37+G43","v":0},null,null,null,{"$f":"K34+K37+K43","v":0},null,null,null,{"$f":"O34+O37+O43","v":0},null,null,null,{"$f":"S34+S37+S43","v":0},null,null,null,{"$f":"W34+W37+W43","v":0}]
[]
["ADDITIONS"]
["6.","Business expenses "]
[null,"attributable to the obligor or"]
[null,"a member of the obligor's"]
[null,"household for benefits,"]
[null,"pensions, profit-sharing"]
[null,"plans -05(1)(b)(1)",null,null,null,null,{"$f":"IF(H21=0,0,'SE Obr4'!K$17)","v":0},null,null,null,{"$f":"IF(L21=0,0,'SE Obr4'!O$17)","v":0},null,null,null,{"$f":"IF(P21=0,0,'SE Obr4'!S$17)","v":0},null,null,null,{"$f":"IF(T21=0,0,'SE Obr4'!W$17)","v":0},null,null,null,{"$f":"IF(X21=0,0,'SE Obr4'!AA$17)","v":0}]
[]
["This document was created by using Child"]
["Support's web based guidelines calculator.",null,null,null,null,null,null,null,null,null,null,null,null,null,null,null,null,null,null,null,null,null,null,null,null,{"$f":"\"Schedule B/Page 1 of 3/\"&Rates!N16&\" \"&Rates!O16","v":"Schedule B/Page 1 of 3/July 2023"}]
["7.","Payments to household member "]
[null,"to extent payment exceeds "]
[null,"fair market value of "]
[null,"services -05(1)(b)(2)",null,null,null,null,{"$f":"IF(H21=0,0,'SE Obr4'!K$18)","v":0},null,null,null,{"$f":"IF(L21=0,0,'SE Obr4'!O$18)","v":0},null,null,null,{"$f":"IF(P21=0,0,'SE Obr4'!S$18)","v":0},null,{"$f":"SUM(O60:P60)","v":0},null,{"$f":"IF(T21=0,0,'SE Obr4'!W$18)","v":0},null,null,null,{"$f":"IF(X21=0,0,'SE Obr4'!AA$18)","v":0}]
["8.","Income from C corporation "]
[null,"over which obligor has "]
[null,"significant control -05(1)(b)(3):"]
[null,"8a.","C corporation taxable "]
[null,null,"income",null,null,null,{"$f":"IF(H21=0,0,'SE Obr4'!K$19)","v":0},null,null,null,{"$f":"IF(L21=0,0,'SE Obr4'!O$19)","v":0},null,null,null,{"$f":"IF(P21=0,0,'SE Obr4'!S$19)","v":0},null,null,null,{"$f":"IF(T21=0,0,'SE Obr4'!W$19)","v":0},null,null,null,{"$f":"IF(X21=0,0,'SE Obr4'!AA$19)","v":0}]
[null,"8b.","C corporation federal "]
[null,null,"income tax",null,null,null,{"$f":"IF(H21=0,0,'SE Obr4'!K$20)","v":0},null,null,null,{"$f":"IF(L21=0,0,'SE Obr4'!O$20)","v":0},null,null,null,{"$f":"IF(P21=0,0,'SE Obr4'!S$20)","v":0},null,null,null,{"$f":"IF(T21=0,0,'SE Obr4'!W$20)","v":0},null,null,null,{"$f":"IF(X21=0,0,'SE Obr4'!AA$20)","v":0}]
[null,"8c.","Line 8a less Line 8b",null,null,null,{"$f":"G65-G67","v":0},null,null,null,{"$f":"K65-K67","v":0},null,null,null,{"$f":"O65-O67","v":0},null,null,null,{"$f":"S65-S67","v":0},null,null,null,{"$f":"W65-W67","v":0}]
[null,"8d.","Obligor's ownership "]
[null,null,"interest X .70",null,null,null,{"$f":"IF(H21=0,0,ROUND('SE Obr4'!I$21*0.7/100,2))","v":0},null,null,null,{"$f":"IF(L21=0,0,ROUND('SE Obr4'!M$21*0.7/100,2))","v":0},null,null,null,{"$f":"IF(P21=0,0,ROUND('SE Obr4'!Q$21*0.7/100,2))","v":0},null,null,null,{"$f":"IF(T21=0,0,ROUND('SE Obr4'!U$21*0.7/100,2))","v":0},null,null,null,{"$f":"IF(X21=0,0,ROUND('SE Obr4'!Y$21*0.7/100,2))","v":0}]
[null,"8e.","Line 8c X Line 8d",null,null,null,{"$f":"G70*G68","v":0},null,null,null,{"$f":"K70*K68","v":0},null,null,null,{"$f":"O70*O68","v":0},null,null,null,{"$f":"S70*S68","v":0},null,null,null,{"$f":"W70*W68","v":0}]
["9.","Total additions (total of "]
[null,"Lines 6, 7, and 8e)",null,null,null,null,{"$f":"G53+G60+G71","v":0},null,null,null,{"$f":"K53+K60+K71","v":0},null,null,null,{"$f":"O53+O60+O71","v":0},null,null,null,{"$f":"S53+S60+S71","v":0},null,null,null,{"$f":"W53+W60+W71","v":0}]
[]
["ANNUAL NET INCOME FROM SELF-EMPLOYMENT"]
["10.","Annual net income from "]
[null,"self-employment ((Line 1 "]
[null,"- Line 5) + Line 9)",null,null,null,null,{"$f":"G29-G45+G73","v":0},null,null,null,{"$f":"K29-K45+K73","v":0},null,null,null,{"$f":"O29-O45+O73","v":0},null,null,null,{"$f":"S29-S45+S73","v":0},null,null,null,{"$f":"W29-W45+W73","v":0}]
[]
["Note:  When dealing with self-employment income, the guidelines contemplate a"]
["calculation of up to a 5-year average of self-employment income to account for the"]
["significant changes that may occur in the business."]
[]
["Are multiple years being calculated:",null,null,null,null,null,null,null,{"$f":"IF(L21=0,\"\",\"X\")","v":""},null,null,"Yes",{"$f":"IF(L21=0,\"X\",\"\")","v":"X"},null,null,"No"]
[]
["If yes, complete the following calculation:"]
["1.","Total net income from self-employment for all years being averaged"]
[null,"i.e., total of Line 10 amounts for all years being averaged",null,null,null,null,null,null,null,null,null,null,null,null,null,null,null,null,null,null,{"$f":"G78+K78+O78+S78+W78","v":0},null,{"$f":"IF(M84=\"X\",0,G78+K78+O78+S78+W78)","v":0}]
["2.","Number of years being averaged",null,null,null,null,null,null,null,null,null,null,null,null,null,null,null,null,null,null,{"$f":"IF(H21=0,0,IF('SE Obr4'!I12=0,0,IF('SE Obr4'!M12=0,1,IF('SE Obr4'!Q12=0,2,IF('SE Obr4'!U12=0,3,IF('SE Obr4'!Y12=0,4,5))))))","v":0},null,{"$f":"IF(M84=\"X\",0,IF(H21=0,0,IF('SE Obr4'!I12=0,0,IF('SE Obr4'!M12=0,1,IF('SE Obr4'!Q12=0,2,IF('SE Obr4'!U12=0,3,IF('SE Obr4'!Y12=0,4,5)))))))","v":0}]
["3.","Average annual net income from self-employment (Line 1 ÷ Line 2)",null,null,null,null,null,null,null,null,null,null,null,null,null,null,null,null,null,null,{"$f":"ROUND(IF(U89=0,0,U88/U89),0)","v":0},null,{"$f":"ROUND(IF(W89=0,0,W88/W89),0)","v":0}]
[]
["If line 3 is a positive number, enter the amount onto the worksheet, line 3."]
[]
["Note: If there are multiple self-employment activities, income from each activity must be "]
["calculated and averaged separately.  Thus, a separate Schedule B must be completed"]
["for each activity."]
[]
["Treatment of self-employment losses"]
["If the result of averaging the self-employment income is a loss, if the self-employment"]
["activity is not a hobby, and if there is other income not related to the self-employment"]
["activity that produced the loss, the self-employment loss may be used to reduce the other"]
["income in certain circumstances.  If applicable, complete either Section 1 or Section 2 "]
["to determine if self-employment losses may be used to reduce other income."]
[]
["This document was created by using Child"]
["Support's web based guidelines calculator.",null,null,null,null,null,null,null,null,null,null,null,null,null,null,null,null,null,null,null,null,null,null,null,null,{"$f":"\"Schedule B/Page 2 of 3/\"&Rates!N16&\" \"&Rates!O16","v":"Schedule B/Page 2 of 3/July 2023"}]
["If less than three years were averaged, complete Section 1 only.  If three, four, or five "]
["years were averaged, complete Section 2 only."]
[]
["Section 1:  This section is for use if less than three years were averaged.  -05(6)"]
["1.","Monthly gross income",null,null,null,null,null,null,null,null,null,null,null,null,null,null,null,null,null,null,null,null,{"$f":"IF('SE Obr4'!$Z$26=\"Y\",IF('SE Loss-Obr'!J22=0,0,IF($U$90<0,IF($U$89<3,'SE Loss-Obr'!$N$22,0),0)),0)","v":0}]
["2.","One-twelfth of average annual self-employment loss",null,null,null,null,null,null,null,null,null,null,null,null,null,null,null,null,null,null,null,null,{"$f":"-ROUND(IF(W111>0,U90/12,0),0)","v":0}]
["3.","Line 1 less Line 2",null,null,null,null,null,null,null,null,null,null,null,null,null,null,null,null,null,null,null,null,{"$f":"W111-W112","v":0}]
[]
["Self-employment loss may be used to reduce other income only if amount on Line 3"]
["equals or exceeds the greatest of:"]
[null,"a.","167 times federal minimum wage",null,null,null,null,null,null,null,null,null,null,null,null,null,null,null,{"$f":"ROUND(IF(W111>0,167*Rates!G11,0),0)","v":0}]
[null,null,"(",{"$f":"Rates!G11","v":7.25},"per hour ……. ",null,null,{"$f":"ROUND(Rates!G11*167,0)","v":1211},null,")"]
[null,"b.",".6 times statewide average earnings for"]
[null,null,"persons with similar work history and"]
[null,null,"occupational qualifications",null,null,null,null,null,null,null,null,null,null,null,null,null,null,null,{"$f":"ROUND(IF(W111>0,'SE Loss-Obr'!N23*0.6,0),0)","v":0}]
[null,"c.",".8 times obligor's greatest average gross monthly"]
[null,null,"earnings, calculated without using self-employment"]
[null,null,"losses, in any 12 consecutive months included in"]
[null,null,"the current calendar year and the two previous"]
[null,null,"calendar years",null,null,null,null,null,null,null,null,null,null,null,null,null,null,null,{"$f":"ROUND(IF(W111>0,'SE Loss-Obr'!N24*0.8,0),0)","v":0},null,null,null,{"$f":"IF(W111=0,0,IF(W113+0.01>S117,IF(W113+0.01>S121,IF(W113+0.01>S126,W113,0),0),0))","v":0}]
[]
["If loss is allowable, enter amount from line 3 onto the worksheet, line 3."]
[]
["Section 2:  This section is for use if three, four, or five years were averaged.  -05(7)"]
["1.","When three or more years were averaged, were losses calculated for more than"]
[null,"40% of those years?"]
[null,null,null,null,null,null,null,{"$f":"IF(W90<0,IF(W89<3,\"\",IF(W89=5,IF(X133<3,\"\",\"X\"),IF(W89=4,IF(X133<2,\"\",\"X\"),IF(W89=3,IF(X133<2,\"\",\"X\"),0)))),\"\")","v":""},"Yes",null,null,{"$f":"IF(W90<0,IF(W89<3,\"\",IF(W89=5,IF(X133<3,\"X\",\"\"),IF(W89=4,IF(X133<2,\"X\",\"\"),IF(W89=3,IF(X133<2,\"X\",\"\"),0)))),\"\")","v":""},"No",null,null,null,null,null,null,null,null,null,null,{"$f":"IF(G78<0,1,0)+IF(K78<0,1,0)+IF(O78<0,1,0)+IF(S78<0,1,0)+IF(W78<0,1,0)","v":0}]
[]
[]
["If the answer to Line 1 is yes, STOP.  The self-employment loss may not be used to "]
["reduce other income.  If the answer to Line 1 is no, continue with analysis."]
[]
["2.","Monthly gross income",null,null,null,null,null,null,null,null,null,null,null,null,null,null,null,null,null,null,null,null,{"$f":"IF('SE Obr4'!$Z$26=\"Y\",IF('SE Loss-Obr'!J22=0,0,IF($W$90<0,IF(L133=\"X\",'SE Loss-Obr'!N22,0),0)),0)","v":0}]
["3.","One-twelfth of average annual self-employment loss",null,null,null,null,null,null,null,null,null,null,null,null,null,null,null,null,null,null,null,null,{"$f":"-ROUND(IF(W139>0,W90/12,0),0)","v":0}]
["4.","Line 2 less Line 3",null,null,null,null,null,null,null,null,null,null,null,null,null,null,null,null,null,null,null,null,{"$f":"W139-W140","v":0}]
[]
["Self-employment loss may be used to reduce other income only if amount on Line 4"]
["equals or exceeds the greatest of:"]
[null,"a.","167 times federal minimum wage",null,null,null,null,null,null,null,null,null,null,null,null,null,null,null,{"$f":"ROUND(IF(W139>0,167*Rates!G11,0),0)","v":0}]
[null,null,"(",{"$f":"Rates!G11","v":7.25},"per hour ……. ",null,null,{"$f":"ROUND(Rates!G11*167,0)","v":1211},null,")"]
[null,"b.",".6 times statewide average earnings for"]
[null,null,"persons with similar work history and"]
[null,null,"occupational qualifications",null,null,null,null,null,null,null,null,null,null,null,null,null,null,null,{"$f":"ROUND(IF(W139>0,'SE Loss-Obr'!N23*0.6,0),0)","v":0}]
[null,"c.",".9 times obligor's greatest average gross monthly"]
[null,null,"earnings, calculated without using self-employment"]
[null,null,"losses, in any 12 consecutive months included in"]
[null,null,"the current calendar year and the two previous"]
[null,null,"calendar years",null,null,null,null,null,null,null,null,null,null,null,null,null,null,null,{"$f":"ROUND(IF(W139>0,'SE Loss-Obr'!N24*0.9,0),0)","v":0},null,null,null,{"$f":"IF(W139=0,0,IF(W141+0.01>S145,IF(W141+0.01>S149,IF(W141+0.01>S154,W90,0),0),0))","v":0}]
[]
["If loss is allowable, enter amount from line 4 onto the worksheet, line 3."]
[null,"Countable Self-Employment profit or loss",null,null,null,null,null,null,null,null,null,null,null,null,null,null,null,null,{"$f":"IF(U90<0,IF(W126=0,IF(W154=0,0,W154),W126),U90)","v":0}]
["This document was created by using Child"]
["Support's web based guidelines calculator.",null,null,null,null,null,null,null,null,null,null,null,null,null,null,null,null,null,null,null,null,null,null,null,null,{"$f":"\"Schedule B/Page 3 of 3/\"&Rates!N16&\" \"&Rates!O16","v":"Schedule B/Page 3 of 3/July 2023"}]

{"sheet":"SchB5 Obgr","index":14,"n_rows":159,"n_cols":26,"rows_kept":159,"cut":false,"hidden":false,"merged":[[156,18,156,20],[140,22,140,24],[144,18,144,20],[145,7,145,8],[148,18,148,20],[153,18,153,20],[153,22,153,24],[120,18,120,20],[125,18,125,20],[125,22,125,24],[138,22,138,24],[139,22,139,24],[110,22,110,24],[111,22,111,24],[112,22,112,24],[116,18,116,20],[117,7,117,8],[83,8,83,10],[83,12,83,14],[87,22,87,24],[88,22,88,24],[89,22,89,24],[77,6,77,8],[77,10,77,12],[77,14,77,16],[77,18,77,20],[77,22,77,24],[72,6,72,8],[72,10,72,12],[72,14,72,16],[72,18,72,20],[72,22,72,24],[70,6,70,8],[70,10,70,12],[70,14,70,16],[70,18,70,20],[70,22,70,24],[69,6,69,8],[69,10,69,12],[69,14,69,16],[69,18,69,20],[69,22,69,24],[66,14,66,16],[66,18,66,20],[66,22,66,24],[67,6,67,8],[67,10,67,12],[67,14,67,16],[67,18,67,20],[67,22,67,24],[66,6,66,8],[66,10,66,12],[59,18,59,20],[59,22,59,24],[64,6,64,8],[64,10,64,12],[64,14,64,16],[64,18,64,20],[64,22,64,24],[59,6,59,8],[59,10,59,12],[59,14,59,16],[52,6,52,8],[52,10,52,12],[52,14,52,16],[52,18,52,20],[52,22,52,24],[44,6,44,8],[44,10,44,12],[44,14,44,16],[44,18,44,20],[44,22,44,24],[42,6,42,8],[42,10,42,12],[42,14,42,16],[42,18,42,20],[42,22,42,24],[36,6,36,8],[36,10,36,12],[36,14,36,16],[36,18,36,20],[36,22,36,24],[33,6,33,8],[33,10,33,12],[33,14,33,16],[33,18,33,20],[33,22,33,24],[28,6,28,8],[28,10,28,12],[28,14,28,16],[28,18,28,20],[28,22,28,24],[0,0,0,22],[1,0,1,25],[2,0,2,25],[16,0,16,24],[17,0,17,24]]}
["                 CHILD SUPPORT GUIDELINES",null,null,null,null,null,null,null,null,null,null,null,null,null,null,null,null,null,null,null,null,null,null,5,{"$f":"Rates!O52","v":0}]
["SCHEDULE B - SELF-EMPLOYMENT INCOME"]
["(N.D. Admin. Code § 75-02-04.1-05)"]
[]
["OBLIGOR:",null,null,{"$f":"IF(H21=0,0,'Wks1 Obgr'!D5)","v":0}]
["OBLIGEE:",null,null,{"$f":"IF(H21=0,0,'Wks1 Obgr'!D6)","v":0}]
[]
["This schedule is for use in determining net income from self-employment.  Self-"]
["employment means employment that results in an obligor earning income from any"]
["business organization or entity which the obligor is able to directly or indirectly control to"]
["a significant extent.  It also includes any activity that generates income from rental"]
["property, royalties, business gains, partnerships, trusts, corporations, and any other "]
["organization or entity regardless of form and regardless of whether such activity would"]
["be considered self-employment activity under the Internal Revenue Code."]
[]
["Name of business/description of self-employment activity to which this schedule relates:"]
[{"$f":"IF(H21=0,0,'SE Obr5'!$B$9)","v":0}]
[{"$f":"IF(H21=0,0,'SE Obr5'!$B$10)","v":0}]
[]
["TOTAL INCOME"]
["Tax year from IRS 1040 form",null,null,null,null,null,null,{"$f":"IF(OR(Rates!K22=\"Yes\",QuesScr!I16<1),0,'SE Obr5'!I$12)","v":0},null,null,null,{"$f":"IF(H21=0,0,'SE Obr5'!M$12)","v":0},null,null,null,{"$f":"IF(L21=0,0,'SE Obr5'!Q$12)","v":0},null,null,null,{"$f":"IF(P21=0,0,'SE Obr5'!U$12)","v":0},null,null,null,{"$f":"IF(T21=0,0,'SE Obr5'!Y$12)","v":0}]
["1.","Total income -05(1) (This"]
[null,"amount is taken from either"]
[null,"a tax return or from a profit"]
[null,"and loss statement.  If it is"]
[null,"taken from a tax return, use"]
[null,"the \"total income\" line on"]
[null,"the IRS form 1040;  i.e.,"]
[null,{"$f":"\"line 22 of \"&Rates!O17 &\" tax return.)\"","v":"line 22 of 2017 tax return.)"},null,null,null,null,{"$f":"IF(H21=0,0,'SE Obr5'!K$13)","v":0},null,null,null,{"$f":"IF(L21=0,0,'SE Obr5'!O$13)","v":0},null,null,null,{"$f":"IF(P21=0,0,'SE Obr5'!S$13)","v":0},null,null,null,{"$f":"IF(T21=0,0,'SE Obr5'!W$13)","v":0},null,null,null,{"$f":"IF(X21=0,0,'SE Obr5'!AA$13)","v":0}]
[null," "]
["DEDUCTIONS"]
["2.","Amount of total income"]
[null,"that is not the obligor's"]
[null,"income -05(1)(a)(1)",null,null,null,null,{"$f":"IF(H21=0,0,'SE Obr5'!K$14)","v":0},null,null,null,{"$f":"IF(L21=0,0,'SE Obr5'!O$14)","v":0},null,null,null,{"$f":"IF(P21=0,0,'SE Obr5'!S$14)","v":0},null,null,null,{"$f":"IF(T21=0,0,'SE Obr5'!W$14)","v":0},null,null,null,{"$f":"IF(X21=0,0,'SE Obr5'!AA$14)","v":0}]
["3","Amount of total income that "]
[null,"does not come from this self-"]
[null,"employment -05(1)(a)(1)",null,null,null,null,{"$f":"IF(H21=0,0,'SE Obr5'!K$15)","v":0},null,null,null,{"$f":"IF(L21=0,0,'SE Obr5'!O$15)","v":0},null,null,null,{"$f":"IF(P21=0,0,'SE Obr5'!S$15)","v":0},null,null,null,{"$f":"IF(T21=0,0,'SE Obr5'!W$15)","v":0},null,null,null,{"$f":"IF(X21=0,0,'SE Obr5'!AA$15)","v":0}]
["4.","Amount of income from "]
[null,"partnership or S corporation "]
[null,"over which obligor "]
[null,"does not have significant "]
[null,"control that has not been "]
[null,"distributed -05(1)(a)(2)",null,null,null,null,{"$f":"IF(H21=0,0,'SE Obr5'!K$16)","v":0},null,null,null,{"$f":"IF(L21=0,0,'SE Obr5'!O$16)","v":0},null,null,null,{"$f":"IF(P21=0,0,'SE Obr5'!S$16)","v":0},null,null,null,{"$f":"IF(T21=0,0,'SE Obr5'!W$16)","v":0},null,null,null,{"$f":"IF(X21=0,0,'SE Obr5'!AA$16)","v":0}]
["5.","Total deductions (total of "]
[null,"Lines 2 through 4)",null,null,null,null,{"$f":"G34+G37+G43","v":0},null,null,null,{"$f":"K34+K37+K43","v":0},null,null,null,{"$f":"O34+O37+O43","v":0},null,null,null,{"$f":"S34+S37+S43","v":0},null,null,null,{"$f":"W34+W37+W43","v":0}]
[]
["ADDITIONS"]
["6.","Business expenses "]
[null,"attributable to the obligor or"]
[null,"a member of the obligor's"]
[null,"household for benefits,"]
[null,"pensions, profit-sharing"]
[null,"plans -05(1)(b)(1)",null,null,null,null,{"$f":"IF(H21=0,0,'SE Obr5'!K$17)","v":0},null,null,null,{"$f":"IF(L21=0,0,'SE Obr5'!O$17)","v":0},null,null,null,{"$f":"IF(P21=0,0,'SE Obr5'!S$17)","v":0},null,null,null,{"$f":"IF(T21=0,0,'SE Obr5'!W$17)","v":0},null,null,null,{"$f":"IF(X21=0,0,'SE Obr5'!AA$17)","v":0}]
[]
["This document was created by using Child"]
["Support's web based guidelines calculator.",null,null,null,null,null,null,null,null,null,null,null,null,null,null,null,null,null,null,null,null,null,null,null,null,{"$f":"\"Schedule B/Page 1 of 3/\"&Rates!N16&\" \"&Rates!O16","v":"Schedule B/Page 1 of 3/July 2023"}]
["7.","Payments to household member "]
[null,"to extent payment exceeds "]
[null,"fair market value of "]
[null,"services -05(1)(b)(2)",null,null,null,null,{"$f":"IF(H21=0,0,'SE Obr5'!K$18)","v":0},null,null,null,{"$f":"IF(L21=0,0,'SE Obr5'!O$18)","v":0},null,null,null,{"$f":"IF(P21=0,0,'SE Obr5'!S$18)","v":0},null,{"$f":"SUM(O60:P60)","v":0},null,{"$f":"IF(T21=0,0,'SE Obr5'!W$18)","v":0},null,null,null,{"$f":"IF(X21=0,0,'SE Obr5'!AA$18)","v":0}]
["8.","Income from C corporation "]
[null,"over which obligor has "]
[null,"significant control -05(1)(b)(3):"]
[null,"8a.","C corporation taxable "]
[null,null,"income",null,null,null,{"$f":"IF(H21=0,0,'SE Obr5'!K$19)","v":0},null,null,null,{"$f":"IF(L21=0,0,'SE Obr5'!O$19)","v":0},null,null,null,{"$f":"IF(P21=0,0,'SE Obr5'!S$19)","v":0},null,null,null,{"$f":"IF(T21=0,0,'SE Obr5'!W$19)","v":0},null,null,null,{"$f":"IF(X21=0,0,'SE Obr5'!AA$19)","v":0}]
[null,"8b.","C corporation federal "]
[null,null,"income tax",null,null,null,{"$f":"IF(H21=0,0,'SE Obr5'!K$20)","v":0},null,null,null,{"$f":"IF(L21=0,0,'SE Obr5'!O$20)","v":0},null,null,null,{"$f":"IF(P21=0,0,'SE Obr5'!S$20)","v":0},null,null,null,{"$f":"IF(T21=0,0,'SE Obr5'!W$20)","v":0},null,null,null,{"$f":"IF(X21=0,0,'SE Obr5'!AA$20)","v":0}]
[null,"8c.","Line 8a less Line 8b",null,null,null,{"$f":"G65-G67","v":0},null,null,null,{"$f":"K65-K67","v":0},null,null,null,{"$f":"O65-O67","v":0},null,null,null,{"$f":"S65-S67","v":0},null,null,null,{"$f":"W65-W67","v":0}]
[null,"8d.","Obligor's ownership "]
[null,null,"interest X .70",null,null,null,{"$f":"IF(H21=0,0,ROUND('SE Obr5'!I$21*0.7/100,2))","v":0},null,null,null,{"$f":"IF(L21=0,0,ROUND('SE Obr5'!M$21*0.7/100,2))","v":0},null,null,null,{"$f":"IF(P21=0,0,ROUND('SE Obr5'!Q$21*0.7/100,2))","v":0},null,null,null,{"$f":"IF(T21=0,0,ROUND('SE Obr5'!U$21*0.7/100,2))","v":0},null,null,null,{"$f":"IF(X21=0,0,ROUND('SE Obr5'!Y$21*0.7/100,2))","v":0}]
[null,"8e.","Line 8c X Line 8d",null,null,null,{"$f":"G70*G68","v":0},null,null,null,{"$f":"K70*K68","v":0},null,null,null,{"$f":"O70*O68","v":0},null,null,null,{"$f":"S70*S68","v":0},null,null,null,{"$f":"W70*W68","v":0}]
["9.","Total additions (total of "]
[null,"Lines 6, 7, and 8e)",null,null,null,null,{"$f":"G53+G60+G71","v":0},null,null,null,{"$f":"K53+K60+K71","v":0},null,null,null,{"$f":"O53+O60+O71","v":0},null,null,null,{"$f":"S53+S60+S71","v":0},null,null,null,{"$f":"W53+W60+W71","v":0}]
[]
["ANNUAL NET INCOME FROM SELF-EMPLOYMENT"]
["10.","Annual net income from "]
[null,"self-employment ((Line 1 "]
[null,"- Line 5) + Line 9)",null,null,null,null,{"$f":"G29-G45+G73","v":0},null,null,null,{"$f":"K29-K45+K73","v":0},null,null,null,{"$f":"O29-O45+O73","v":0},null,null,null,{"$f":"S29-S45+S73","v":0},null,null,null,{"$f":"W29-W45+W73","v":0}]
[]
["Note:  When dealing with self-employment income, the guidelines contemplate a"]
["calculation of up to a 5-year average of self-employment income to account for the"]
["significant changes that may occur in the business."]
[]
["Are multiple years being calculated:",null,null,null,null,null,null,null,{"$f":"IF(L21=0,\"\",\"X\")","v":""},null,null,"Yes",{"$f":"IF(L21=0,\"X\",\"\")","v":"X"},null,null,"No"]
[]
["If yes, complete the following calculation:"]
["1.","Total net income from self-employment for all years being averaged"]
[null,"i.e., total of Line 10 amounts for all years being averaged",null,null,null,null,null,null,null,null,null,null,null,null,null,null,null,null,null,null,{"$f":"G78+K78+O78+S78+W78","v":0},null,{"$f":"IF(M84=\"X\",0,G78+K78+O78+S78+W78)","v":0}]
["2.","Number of years being averaged",null,null,null,null,null,null,null,null,null,null,null,null,null,null,null,null,null,null,{"$f":"IF(H21=0,0,IF('SE Obr5'!I12=0,0,IF('SE Obr5'!M12=0,1,IF('SE Obr5'!Q12=0,2,IF('SE Obr5'!U12=0,3,IF('SE Obr5'!Y12=0,4,5))))))","v":0},null,{"$f":"IF(M84=\"X\",0,IF(H21=0,0,IF('SE Obr5'!I12=0,0,IF('SE Obr5'!M12=0,1,IF('SE Obr5'!Q12=0,2,IF('SE Obr5'!U12=0,3,IF('SE Obr5'!Y12=0,4,5)))))))","v":0}]
["3.","Average annual net income from self-employment (Line 1 ÷ Line 2)",null,null,null,null,null,null,null,null,null,null,null,null,null,null,null,null,null,null,{"$f":"ROUND(IF(U89=0,0,U88/U89),0)","v":0},null,{"$f":"ROUND(IF(W89=0,0,W88/W89),0)","v":0}]
[]
["If line 3 is a positive number, enter the amount onto the worksheet, line 3."]
[]
["Note: If there are multiple self-employment activities, income from each activity must be "]
["calculated and averaged separately.  Thus, a separate Schedule B must be completed"]
["for each activity."]
[]
["Treatment of self-employment losses"]
["If the result of averaging the self-employment income is a loss, if the self-employment"]
["activity is not a hobby, and if there is other income not related to the self-employment"]
["activity that produced the loss, the self-employment loss may be used to reduce the other"]
["income in certain circumstances.  If applicable, complete either Section 1 or Section 2 "]
["to determine if self-employment losses may be used to reduce other income."]
[]
["This document was created by using Child"]
["Support's web based guidelines calculator.",null,null,null,null,null,null,null,null,null,null,null,null,null,null,null,null,null,null,null,null,null,null,null,null,{"$f":"\"Schedule B/Page 2 of 3/\"&Rates!N16&\" \"&Rates!O16","v":"Schedule B/Page 2 of 3/July 2023"}]
["If less than three years were averaged, complete Section 1 only.  If three, four, or five "]
["years were averaged, complete Section 2 only."]
[]
["Section 1:  This section is for use if less than three years were averaged.  -05(6)"]
["1.","Monthly gross income",null,null,null,null,null,null,null,null,null,null,null,null,null,null,null,null,null,null,null,null,{"$f":"IF('SE Obr5'!$Z$26=\"Y\",IF('SE Loss-Obr'!J22=0,0,IF($U$90<0,IF($U$89<3,'SE Loss-Obr'!$N$22,0),0)),0)","v":0}]
["2.","One-twelfth of average annual self-employment loss",null,null,null,null,null,null,null,null,null,null,null,null,null,null,null,null,null,null,null,null,{"$f":"-ROUND(IF(W111>0,U90/12,0),0)","v":0}]
["3.","Line 1 less Line 2",null,null,null,null,null,null,null,null,null,null,null,null,null,null,null,null,null,null,null,null,{"$f":"W111-W112","v":0}]
[]
["Self-employment loss may be used to reduce other income only if amount on Line 3"]
["equals or exceeds the greatest of:"]
[null,"a.","167 times federal minimum wage",null,null,null,null,null,null,null,null,null,null,null,null,null,null,null,{"$f":"ROUND(IF(W111>0,167*Rates!G11,0),0)","v":0}]
[null,null,"(",{"$f":"Rates!G11","v":7.25},"per hour ……. ",null,null,{"$f":"ROUND(Rates!G11*167,0)","v":1211},null,")"]
[null,"b.",".6 times statewide average earnings for"]
[null,null,"persons with similar work history and"]
[null,null,"occupational qualifications",null,null,null,null,null,null,null,null,null,null,null,null,null,null,null,{"$f":"ROUND(IF(W111>0,'SE Loss-Obr'!N23*0.6,0),0)","v":0}]
[null,"c.",".8 times obligor's greatest average gross monthly"]
[null,null,"earnings, calculated without using self-employment"]
[null,null,"losses, in any 12 consecutive months included in"]
[null,null,"the current calendar year and the two previous"]
[null,null,"calendar years",null,null,null,null,null,null,null,null,null,null,null,null,null,null,null,{"$f":"ROUND(IF(W111>0,'SE Loss-Obr'!N24*0.8,0),0)","v":0},null,null,null,{"$f":"IF(W111=0,0,IF(W113+0.01>S117,IF(W113+0.01>S121,IF(W113+0.01>S126,W113,0),0),0))","v":0}]
[]
["If loss is allowable, enter amount from line 3 onto the worksheet, line 3."]
[]
["Section 2:  This section is for use if three, four, or five years were averaged.  -05(7)"]
["1.","When three or more years were averaged, were losses calculated for more than"]
[null,"40% of those years?"]
[null,null,null,null,null,null,null,{"$f":"IF(W90<0,IF(W89<3,\"\",IF(W89=5,IF(X133<3,\"\",\"X\"),IF(W89=4,IF(X133<2,\"\",\"X\"),IF(W89=3,IF(X133<2,\"\",\"X\"),0)))),\"\")","v":""},"Yes",null,null,{"$f":"IF(W90<0,IF(W89<3,\"\",IF(W89=5,IF(X133<3,\"X\",\"\"),IF(W89=4,IF(X133<2,\"X\",\"\"),IF(W89=3,IF(X133<2,\"X\",\"\"),0)))),\"\")","v":""},"No",null,null,null,null,null,null,null,null,null,null,{"$f":"IF(G78<0,1,0)+IF(K78<0,1,0)+IF(O78<0,1,0)+IF(S78<0,1,0)+IF(W78<0,1,0)","v":0}]
[]
[]
["If the answer to Line 1 is yes, STOP.  The self-employment loss may not be used to "]
["reduce other income.  If the answer to Line 1 is no, continue with analysis."]
[]
["2.","Monthly gross income",null,null,null,null,null,null,null,null,null,null,null,null,null,null,null,null,null,null,null,null,{"$f":"IF('SE Obr5'!$Z$26=\"Y\",IF('SE Loss-Obr'!J22=0,0,IF($W$90<0,IF(L133=\"X\",'SE Loss-Obr'!N22,0),0)),0)","v":0}]
["3.","One-twelfth of average annual self-employment loss",null,null,null,null,null,null,null,null,null,null,null,null,null,null,null,null,null,null,null,null,{"$f":"-ROUND(IF(W139>0,W90/12,0),0)","v":0}]
["4.","Line 2 less Line 3",null,null,null,null,null,null,null,null,null,null,null,null,null,null,null,null,null,null,null,null,{"$f":"W139-W140","v":0}]
[]
["Self-employment loss may be used to reduce other income only if amount on Line 4"]
["equals or exceeds the greatest of:"]
[null,"a.","167 times federal minimum wage",null,null,null,null,null,null,null,null,null,null,null,null,null,null,null,{"$f":"ROUND(IF(W139>0,167*Rates!G11,0),0)","v":0}]
[null,null,"(",{"$f":"Rates!G11","v":7.25},"per hour ……. ",null,null,{"$f":"ROUND(Rates!G11*167,0)","v":1211},null,")"]
[null,"b.",".6 times statewide average earnings for"]
[null,null,"persons with similar work history and"]
[null,null,"occupational qualifications",null,null,null,null,null,null,null,null,null,null,null,null,null,null,null,{"$f":"ROUND(IF(W139>0,'SE Loss-Obr'!N23*0.6,0),0)","v":0}]
[null,"c.",".9 times obligor's greatest average gross monthly"]
[null,null,"earnings, calculated without using self-employment"]
[null,null,"losses, in any 12 consecutive months included in"]
[null,null,"the current calendar year and the two previous"]
[null,null,"calendar years",null,null,null,null,null,null,null,null,null,null,null,null,null,null,null,{"$f":"ROUND(IF(W139>0,'SE Loss-Obr'!N24*0.9,0),0)","v":0},null,null,null,{"$f":"IF(W139=0,0,IF(W141+0.01>S145,IF(W141+0.01>S149,IF(W141+0.01>S154,W90,0),0),0))","v":0}]
[]
["If loss is allowable, enter amount from line 4 onto the worksheet, line 3."]
[null,"Countable Self-Employment profit or loss",null,null,null,null,null,null,null,null,null,null,null,null,null,null,null,null,{"$f":"IF(U90<0,IF(W126=0,IF(W154=0,0,W154),W126),U90)","v":0}]
["This document was created by using Child"]
["Support's web based guidelines calculator.",null,null,null,null,null,null,null,null,null,null,null,null,null,null,null,null,null,null,null,null,null,null,null,null,{"$f":"\"Schedule B/Page 3 of 3/\"&Rates!N16&\" \"&Rates!O16","v":"Schedule B/Page 3 of 3/July 2023"}]

{"sheet":"SchB6 Obgr","index":15,"n_rows":159,"n_cols":26,"rows_kept":159,"cut":false,"hidden":false,"merged":[[156,18,156,20],[140,22,140,24],[144,18,144,20],[145,7,145,8],[148,18,148,20],[153,18,153,20],[153,22,153,24],[120,18,120,20],[125,18,125,20],[125,22,125,24],[138,22,138,24],[139,22,139,24],[110,22,110,24],[111,22,111,24],[112,22,112,24],[116,18,116,20],[117,7,117,8],[83,8,83,10],[83,12,83,14],[87,22,87,24],[88,22,88,24],[89,22,89,24],[77,6,77,8],[77,10,77,12],[77,14,77,16],[77,18,77,20],[77,22,77,24],[72,6,72,8],[72,10,72,12],[72,14,72,16],[72,18,72,20],[72,22,72,24],[70,6,70,8],[70,10,70,12],[70,14,70,16],[70,18,70,20],[70,22,70,24],[69,6,69,8],[69,10,69,12],[69,14,69,16],[69,18,69,20],[69,22,69,24],[66,14,66,16],[66,18,66,20],[66,22,66,24],[67,6,67,8],[67,10,67,12],[67,14,67,16],[67,18,67,20],[67,22,67,24],[66,6,66,8],[66,10,66,12],[59,18,59,20],[59,22,59,24],[64,6,64,8],[64,10,64,12],[64,14,64,16],[64,18,64,20],[64,22,64,24],[59,6,59,8],[59,10,59,12],[59,14,59,16],[52,6,52,8],[52,10,52,12],[52,14,52,16],[52,18,52,20],[52,22,52,24],[44,6,44,8],[44,10,44,12],[44,14,44,16],[44,18,44,20],[44,22,44,24],[42,6,42,8],[42,10,42,12],[42,14,42,16],[42,18,42,20],[42,22,42,24],[36,6,36,8],[36,10,36,12],[36,14,36,16],[36,18,36,20],[36,22,36,24],[33,6,33,8],[33,10,33,12],[33,14,33,16],[33,18,33,20],[33,22,33,24],[28,6,28,8],[28,10,28,12],[28,14,28,16],[28,18,28,20],[28,22,28,24],[0,0,0,22],[1,0,1,25],[2,0,2,25],[16,0,16,24],[17,0,17,24]]}
["                 CHILD SUPPORT GUIDELINES",null,null,null,null,null,null,null,null,null,null,null,null,null,null,null,null,null,null,null,null,null,null,6,{"$f":"Rates!O52","v":0}]
["SCHEDULE B - SELF-EMPLOYMENT INCOME"]
["(N.D. Admin. Code § 75-02-04.1-05)"]
[]
["OBLIGOR:",null,null,{"$f":"IF(H21=0,0,'Wks1 Obgr'!D5)","v":0}]
["OBLIGEE:",null,null,{"$f":"IF(H21=0,0,'Wks1 Obgr'!D6)","v":0}]
[]
["This schedule is for use in determining net income from self-employment.  Self-"]
["employment means employment that results in an obligor earning income from any"]
["business organization or entity which the obligor is able to directly or indirectly control to"]
["a significant extent.  It also includes any activity that generates income from rental"]
["property, royalties, business gains, partnerships, trusts, corporations, and any other "]
["organization or entity regardless of form and regardless of whether such activity would"]
["be considered self-employment activity under the Internal Revenue Code."]
[]
["Name of business/description of self-employment activity to which this schedule relates:"]
[{"$f":"IF(H21=0,0,'SE Obr6'!$B$9)","v":0}]
[{"$f":"IF(H21=0,0,'SE Obr6'!$B$10)","v":0}]
[]
["TOTAL INCOME"]
["Tax year from IRS 1040 form",null,null,null,null,null,null,{"$f":"IF(OR(Rates!K22=\"Yes\",QuesScr!I16<1),0,'SE Obr6'!I$12)","v":0},null,null,null,{"$f":"IF(H21=0,0,'SE Obr6'!M$12)","v":0},null,null,null,{"$f":"IF(L21=0,0,'SE Obr6'!Q$12)","v":0},null,null,null,{"$f":"IF(P21=0,0,'SE Obr6'!U$12)","v":0},null,null,null,{"$f":"IF(T21=0,0,'SE Obr6'!Y$12)","v":0}]
["1.","Total income -05(1) (This"]
[null,"amount is taken from either"]
[null,"a tax return or from a profit"]
[null,"and loss statement.  If it is"]
[null,"taken from a tax return, use"]
[null,"the \"total income\" line on"]
[null,"the IRS form 1040;  i.e.,"]
[null,{"$f":"\"line 22 of \"&Rates!O17 &\" tax return.)\"","v":"line 22 of 2017 tax return.)"},null,null,null,null,{"$f":"IF(H21=0,0,'SE Obr6'!K$13)","v":0},null,null,null,{"$f":"IF(L21=0,0,'SE Obr6'!O$13)","v":0},null,null,null,{"$f":"IF(P21=0,0,'SE Obr6'!S$13)","v":0},null,null,null,{"$f":"IF(T21=0,0,'SE Obr6'!W$13)","v":0},null,null,null,{"$f":"IF(X21=0,0,'SE Obr6'!AA$13)","v":0}]
[]
["DEDUCTIONS"]
["2.","Amount of total income"]
[null,"that is not the obligor's"]
[null,"income -05(1)(a)(1)",null,null,null,null,{"$f":"IF(H21=0,0,'SE Obr6'!K$14)","v":0},null,null,null,{"$f":"IF(L21=0,0,'SE Obr6'!O$14)","v":0},null,null,null,{"$f":"IF(P21=0,0,'SE Obr6'!S$14)","v":0},null,null,null,{"$f":"IF(T21=0,0,'SE Obr6'!W$14)","v":0},null,null,null,{"$f":"IF(X21=0,0,'SE Obr6'!AA$14)","v":0}]
["3","Amount of total income that "]
[null,"does not come from this self-"]
[null,"employment -05(1)(a)(1)",null,null,null,null,{"$f":"IF(H21=0,0,'SE Obr6'!K$15)","v":0},null,null,null,{"$f":"IF(L21=0,0,'SE Obr6'!O$15)","v":0},null,null,null,{"$f":"IF(P21=0,0,'SE Obr6'!S$15)","v":0},null,null,null,{"$f":"IF(T21=0,0,'SE Obr6'!W$15)","v":0},null,null,null,{"$f":"IF(X21=0,0,'SE Obr6'!AA$15)","v":0}]
["4.","Amount of income from "]
[null,"partnership or S corporation "]
[null,"over which obligor "]
[null,"does not have significant "]
[null,"control that has not been "]
[null,"distributed -05(1)(a)(2)",null,null,null,null,{"$f":"IF(H21=0,0,'SE Obr6'!K$16)","v":0},null,null,null,{"$f":"IF(L21=0,0,'SE Obr6'!O$16)","v":0},null,null,null,{"$f":"IF(P21=0,0,'SE Obr6'!S$16)","v":0},null,null,null,{"$f":"IF(T21=0,0,'SE Obr6'!W$16)","v":0},null,null,null,{"$f":"IF(X21=0,0,'SE Obr6'!AA$16)","v":0}]
["5.","Total deductions (total of "]
[null,"Lines 2 through 4)",null,null,null,null,{"$f":"G34+G37+G43","v":0},null,null,null,{"$f":"K34+K37+K43","v":0},null,null,null,{"$f":"O34+O37+O43","v":0},null,null,null,{"$f":"S34+S37+S43","v":0},null,null,null,{"$f":"W34+W37+W43","v":0}]
[]
["ADDITIONS"]
["6.","Business expenses "]
[null,"attributable to the obligor or"]
[null,"a member of the obligor's"]
[null,"household for benefits,"]
[null,"pensions, profit-sharing"]
[null,"plans -05(1)(b)(1)",null,null,null,null,{"$f":"IF(H21=0,0,'SE Obr6'!K$17)","v":0},null,null,null,{"$f":"IF(L21=0,0,'SE Obr6'!O$17)","v":0},null,null,null,{"$f":"IF(P21=0,0,'SE Obr6'!S$17)","v":0},null,null,null,{"$f":"IF(T21=0,0,'SE Obr6'!W$17)","v":0},null,null,null,{"$f":"IF(X21=0,0,'SE Obr6'!AA$17)","v":0}]
[]
["This document was created by using Child"]
["Support's web based guidelines calculator.",null,null,null,null,null,null,null,null,null,null,null,null,null,null,null,null,null,null,null,null,null,null,null,null,{"$f":"\"Schedule B/Page 1 of 3/\"&Rates!N16&\" \"&Rates!O16","v":"Schedule B/Page 1 of 3/July 2023"}]
["7.","Payments to household member "]
[null,"to extent payment exceeds "]
[null,"fair market value of "]
[null,"services -05(1)(b)(2)",null,null,null,null,{"$f":"IF(H21=0,0,'SE Obr6'!K$18)","v":0},null,null,null,{"$f":"IF(L21=0,0,'SE Obr6'!O$18)","v":0},null,null,null,{"$f":"IF(P21=0,0,'SE Obr6'!S$18)","v":0},null,{"$f":"SUM(O60:P60)","v":0},null,{"$f":"IF(T21=0,0,'SE Obr6'!W$18)","v":0},null,null,null,{"$f":"IF(X21=0,0,'SE Obr6'!AA$18)","v":0}]
["8.","Income from C corporation "]
[null,"over which obligor has "]
[null,"significant control -05(1)(b)(3):"]
[null,"8a.","C corporation taxable "]
[null,null,"income",null,null,null,{"$f":"IF(H21=0,0,'SE Obr6'!K$19)","v":0},null,null,null,{"$f":"IF(L21=0,0,'SE Obr6'!O$19)","v":0},null,null,null,{"$f":"IF(P21=0,0,'SE Obr6'!S$19)","v":0},null,null,null,{"$f":"IF(T21=0,0,'SE Obr6'!W$19)","v":0},null,null,null,{"$f":"IF(X21=0,0,'SE Obr6'!AA$19)","v":0}]
[null,"8b.","C corporation federal "]
[null,null,"income tax",null,null,null,{"$f":"IF(H21=0,0,'SE Obr6'!K$20)","v":0},null,null,null,{"$f":"IF(L21=0,0,'SE Obr6'!O$20)","v":0},null,null,null,{"$f":"IF(P21=0,0,'SE Obr6'!S$20)","v":0},null,null,null,{"$f":"IF(T21=0,0,'SE Obr6'!W$20)","v":0},null,null,null,{"$f":"IF(X21=0,0,'SE Obr6'!AA$20)","v":0}]
[null,"8c.","Line 8a less Line 8b",null,null,null,{"$f":"G65-G67","v":0},null,null,null,{"$f":"K65-K67","v":0},null,null,null,{"$f":"O65-O67","v":0},null,null,null,{"$f":"S65-S67","v":0},null,null,null,{"$f":"W65-W67","v":0}]
[null,"8d.","Obligor's ownership "]
[null,null,"interest X .70",null,null,null,{"$f":"IF(H21=0,0,ROUND('SE Obr6'!I$21*0.7/100,2))","v":0},null,null,null,{"$f":"IF(L21=0,0,ROUND('SE Obr6'!M$21*0.7/100,2))","v":0},null,null,null,{"$f":"IF(P21=0,0,ROUND('SE Obr6'!Q$21*0.7/100,2))","v":0},null,null,null,{"$f":"IF(T21=0,0,ROUND('SE Obr6'!U$21*0.7/100,2))","v":0},null,null,null,{"$f":"IF(X21=0,0,ROUND('SE Obr6'!Y$21*0.7/100,2))","v":0}]
[null,"8e.","Line 8c X Line 8d",null,null,null,{"$f":"G70*G68","v":0},null,null,null,{"$f":"K70*K68","v":0},null,null,null,{"$f":"O70*O68","v":0},null,null,null,{"$f":"S70*S68","v":0},null,null,null,{"$f":"W70*W68","v":0}]
["9.","Total additions (total of "]
[null,"Lines 6, 7, and 8e)",null,null,null,null,{"$f":"G53+G60+G71","v":0},null,null,null,{"$f":"K53+K60+K71","v":0},null,null,null,{"$f":"O53+O60+O71","v":0},null,null,null,{"$f":"S53+S60+S71","v":0},null,null,null,{"$f":"W53+W60+W71","v":0}]
[]
["ANNUAL NET INCOME FROM SELF-EMPLOYMENT"]
["10.","Annual net income from "]
[null,"self-employment ((Line 1 "]
[null,"- Line 5) + Line 9)",null,null,null,null,{"$f":"G29-G45+G73","v":0},null,null,null,{"$f":"K29-K45+K73","v":0},null,null,null,{"$f":"O29-O45+O73","v":0},null,null,null,{"$f":"S29-S45+S73","v":0},null,null,null,{"$f":"W29-W45+W73","v":0}]
[]
["Note:  When dealing with self-employment income, the guidelines contemplate a"]
["calculation of up to a 5-year average of self-employment income to account for the"]
["significant changes that may occur in the business."]
[]
["Are multiple years being calculated:",null,null,null,null,null,null,null,{"$f":"IF(L21=0,\"\",\"X\")","v":""},null,null,"Yes",{"$f":"IF(L21=0,\"X\",\"\")","v":"X"},null,null,"No"]
[]
["If yes, complete the following calculation:"]
["1.","Total net income from self-employment for all years being averaged"]
[null,"i.e., total of Line 10 amounts for all years being averaged",null,null,null,null,null,null,null,null,null,null,null,null,null,null,null,null,null,null,{"$f":"G78+K78+O78+S78+W78","v":0},null,{"$f":"IF(M84=\"X\",0,G78+K78+O78+S78+W78)","v":0}]
["2.","Number of years being averaged",null,null,null,null,null,null,null,null,null,null,null,null,null,null,null,null,null,null,{"$f":"IF(H21=0,0,IF('SE Obr6'!I12=0,0,IF('SE Obr6'!M12=0,1,IF('SE Obr6'!Q12=0,2,IF('SE Obr6'!U12=0,3,IF('SE Obr6'!Y12=0,4,5))))))","v":0},null,{"$f":"IF(M84=\"X\",0,IF(H21=0,0,IF('SE Obr6'!I12=0,0,IF('SE Obr6'!M12=0,1,IF('SE Obr6'!Q12=0,2,IF('SE Obr6'!U12=0,3,IF('SE Obr6'!Y12=0,4,5)))))))","v":0}]
["3.","Average annual net income from self-employment (Line 1 ÷ Line 2)",null,null,null,null,null,null,null,null,null,null,null,null,null,null,null,null,null,null,{"$f":"ROUND(IF(U89=0,0,U88/U89),0)","v":0},null,{"$f":"ROUND(IF(W89=0,0,W88/W89),0)","v":0}]
[]
["If line 3 is a positive number, enter the amount onto the worksheet, line 3."]
[]
["Note: If there are multiple self-employment activities, income from each activity must be "]
["calculated and averaged separately.  Thus, a separate Schedule B must be completed"]
["for each activity."]
[]
["Treatment of self-employment losses"]
["If the result of averaging the self-employment income is a loss, if the self-employment"]
["activity is not a hobby, and if there is other income not related to the self-employment"]
["activity that produced the loss, the self-employment loss may be used to reduce the other"]
["income in certain circumstances.  If applicable, complete either Section 1 or Section 2 "]
["to determine if self-employment losses may be used to reduce other income."]
[]
["This document was created by using Child"]
["Support's web based guidelines calculator.",null,null,null,null,null,null,null,null,null,null,null,null,null,null,null,null,null,null,null,null,null,null,null,null,{"$f":"\"Schedule B/Page 2 of 3/\"&Rates!N16&\" \"&Rates!O16","v":"Schedule B/Page 2 of 3/July 2023"}]
["If less than three years were averaged, complete Section 1 only.  If three, four, or five "]
["years were averaged, complete Section 2 only."]
[]
["Section 1:  This section is for use if less than three years were averaged.  -05(6)"]
["1.","Monthly gross income",null,null,null,null,null,null,null,null,null,null,null,null,null,null,null,null,null,null,null,null,{"$f":"IF('SE Obr6'!$Z$26=\"Y\",IF('SE Loss-Obr'!J22=0,0,IF($U$90<0,IF($U$89<3,'SE Loss-Obr'!$N$22,0),0)),0)","v":0}]
["2.","One-twelfth of average annual self-employment loss",null,null,null,null,null,null,null,null,null,null,null,null,null,null,null,null,null,null,null,null,{"$f":"-ROUND(IF(W111>0,U90/12,0),0)","v":0}]
["3.","Line 1 less Line 2",null,null,null,null,null,null,null,null,null,null,null,null,null,null,null,null,null,null,null,null,{"$f":"W111-W112","v":0}]
[]
["Self-employment loss may be used to reduce other income only if amount on Line 3"]
["equals or exceeds the greatest of:"]
[null,"a.","167 times federal minimum wage",null,null,null,null,null,null,null,null,null,null,null,null,null,null,null,{"$f":"ROUND(IF(W111>0,167*Rates!G11,0),0)","v":0}]
[null,null,"(",{"$f":"Rates!G11","v":7.25},"per hour ……. ",null,null,{"$f":"ROUND(Rates!G11*167,0)","v":1211},null,")"]
[null,"b.",".6 times statewide average earnings for"]
[null,null,"persons with similar work history and"]
[null,null,"occupational qualifications",null,null,null,null,null,null,null,null,null,null,null,null,null,null,null,{"$f":"ROUND(IF(W111>0,'SE Loss-Obr'!N23*0.6,0),0)","v":0}]
[null,"c.",".8 times obligor's greatest average gross monthly"]
[null,null,"earnings, calculated without using self-employment"]
[null,null,"losses, in any 12 consecutive months included in"]
[null,null,"the current calendar year and the two previous"]
[null,null,"calendar years",null,null,null,null,null,null,null,null,null,null,null,null,null,null,null,{"$f":"ROUND(IF(W111>0,'SE Loss-Obr'!N24*0.8,0),0)","v":0},null,null,null,{"$f":"IF(W111=0,0,IF(W113+0.01>S117,IF(W113+0.01>S121,IF(W113+0.01>S126,W113,0),0),0))","v":0}]
[]
["If loss is allowable, enter amount from line 3 onto the worksheet, line 3."]
[]
["Section 2:  This section is for use if three, four, or five years were averaged.  -05(7)"]
["1.","When three or more years were averaged, were losses calculated for more than"]
[null,"40% of those years?"]
[null,null,null,null,null,null,null,{"$f":"IF(W90<0,IF(W89<3,\"\",IF(W89=5,IF(X133<3,\"\",\"X\"),IF(W89=4,IF(X133<2,\"\",\"X\"),IF(W89=3,IF(X133<2,\"\",\"X\"),0)))),\"\")","v":""},"Yes",null,null,{"$f":"IF(W90<0,IF(W89<3,\"\",IF(W89=5,IF(X133<3,\"X\",\"\"),IF(W89=4,IF(X133<2,\"X\",\"\"),IF(W89=3,IF(X133<2,\"X\",\"\"),0)))),\"\")","v":""},"No",null,null,null,null,null,null,null,null,null,null,{"$f":"IF(G78<0,1,0)+IF(K78<0,1,0)+IF(O78<0,1,0)+IF(S78<0,1,0)+IF(W78<0,1,0)","v":0}]
[]
[]
["If the answer to Line 1 is yes, STOP.  The self-employment loss may not be used to "]
["reduce other income.  If the answer to Line 1 is no, continue with analysis."]
[]
["2.","Monthly gross income",null,null,null,null,null,null,null,null,null,null,null,null,null,null,null,null,null,null,null,null,{"$f":"IF('SE Obr6'!$Z$26=\"Y\",IF('SE Loss-Obr'!J22=0,0,IF($W$90<0,IF(L133=\"X\",'SE Loss-Obr'!N22,0),0)),0)","v":0}]
["3.","One-twelfth of average annual self-employment loss",null,null,null,null,null,null,null,null,null,null,null,null,null,null,null,null,null,null,null,null,{"$f":"-ROUND(IF(W139>0,W90/12,0),0)","v":0}]
["4.","Line 2 less Line 3",null,null,null,null,null,null,null,null,null,null,null,null,null,null,null,null,null,null,null,null,{"$f":"W139-W140","v":0}]
[]
["Self-employment loss may be used to reduce other income only if amount on Line 4"]
["equals or exceeds the greatest of:"]
[null,"a.","167 times federal minimum wage",null,null,null,null,null,null,null,null,null,null,null,null,null,null,null,{"$f":"ROUND(IF(W139>0,167*Rates!G11,0),0)","v":0}]
[null,null,"(",{"$f":"Rates!G11","v":7.25},"per hour ……. ",null,null,{"$f":"ROUND(Rates!G11*167,0)","v":1211},null,")"]
[null,"b.",".6 times statewide average earnings for"]
[null,null,"persons with similar work history and"]
[null,null,"occupational qualifications",null,null,null,null,null,null,null,null,null,null,null,null,null,null,null,{"$f":"ROUND(IF(W139>0,'SE Loss-Obr'!N23*0.6,0),0)","v":0}]
[null,"c.",".9 times obligor's greatest average gross monthly"]
[null,null,"earnings, calculated without using self-employment"]
[null,null,"losses, in any 12 consecutive months included in"]
[null,null,"the current calendar year and the two previous"]
[null,null,"calendar years",null,null,null,null,null,null,null,null,null,null,null,null,null,null,null,{"$f":"ROUND(IF(W139>0,'SE Loss-Obr'!N24*0.9,0),0)","v":0},null,null,null,{"$f":"IF(W139=0,0,IF(W141+0.01>S145,IF(W141+0.01>S149,IF(W141+0.01>S154,W90,0),0),0))","v":0}]
[]
["If loss is allowable, enter amount from line 4 onto the worksheet, line 3."]
[null,"Countable Self-Employment profit or loss",null,null,null,null,null,null,null,null,null,null,null,null,null,null,null,null,{"$f":"IF(U90<0,IF(W126=0,IF(W154=0,0,W154),W126),U90)","v":0}]
["This document was created by using Child"]
["Support's web based guidelines calculator.",null,null,null,null,null,null,null,null,null,null,null,null,null,null,null,null,null,null,null,null,null,null,null,null,{"$f":"\"Schedule B/Page 3 of 3/\"&Rates!N16&\" \"&Rates!O16","v":"Schedule B/Page 3 of 3/July 2023"}]

{"sheet":"SchB7 Obgr","index":16,"n_rows":159,"n_cols":26,"rows_kept":159,"cut":false,"hidden":false,"merged":[[156,18,156,20],[140,22,140,24],[144,18,144,20],[145,7,145,8],[148,18,148,20],[153,18,153,20],[153,22,153,24],[120,18,120,20],[125,18,125,20],[125,22,125,24],[138,22,138,24],[139,22,139,24],[110,22,110,24],[111,22,111,24],[112,22,112,24],[116,18,116,20],[117,7,117,8],[83,8,83,10],[83,12,83,14],[87,22,87,24],[88,22,88,24],[89,22,89,24],[77,6,77,8],[77,10,77,12],[77,14,77,16],[77,18,77,20],[77,22,77,24],[72,6,72,8],[72,10,72,12],[72,14,72,16],[72,18,72,20],[72,22,72,24],[70,6,70,8],[70,10,70,12],[70,14,70,16],[70,18,70,20],[70,22,70,24],[69,6,69,8],[69,10,69,12],[69,14,69,16],[69,18,69,20],[69,22,69,24],[66,14,66,16],[66,18,66,20],[66,22,66,24],[67,6,67,8],[67,10,67,12],[67,14,67,16],[67,18,67,20],[67,22,67,24],[66,6,66,8],[66,10,66,12],[59,18,59,20],[59,22,59,24],[64,6,64,8],[64,10,64,12],[64,14,64,16],[64,18,64,20],[64,22,64,24],[59,6,59,8],[59,10,59,12],[59,14,59,16],[52,6,52,8],[52,10,52,12],[52,14,52,16],[52,18,52,20],[52,22,52,24],[44,6,44,8],[44,10,44,12],[44,14,44,16],[44,18,44,20],[44,22,44,24],[42,6,42,8],[42,10,42,12],[42,14,42,16],[42,18,42,20],[42,22,42,24],[36,6,36,8],[36,10,36,12],[36,14,36,16],[36,18,36,20],[36,22,36,24],[33,6,33,8],[33,10,33,12],[33,14,33,16],[33,18,33,20],[33,22,33,24],[28,6,28,8],[28,10,28,12],[28,14,28,16],[28,18,28,20],[28,22,28,24],[0,0,0,22],[1,0,1,25],[2,0,2,25],[16,0,16,24],[17,0,17,24]]}
["                 CHILD SUPPORT GUIDELINES",null,null,null,null,null,null,null,null,null,null,null,null,null,null,null,null,null,null,null,null,null,null,7,{"$f":"Rates!O52","v":0}]
["SCHEDULE B - SELF-EMPLOYMENT INCOME"]
["(N.D. Admin. Code § 75-02-04.1-05)"]
[]
["OBLIGOR:",null,null,{"$f":"IF(H21=0,0,'Wks1 Obgr'!D5)","v":0}]
["OBLIGEE:",null,null,{"$f":"IF(H21=0,0,'Wks1 Obgr'!D6)","v":0}]
[]
["This schedule is for use in determining net income from self-employment.  Self-"]
["employment means employment that results in an obligor earning income from any"]
["business organization or entity which the obligor is able to directly or indirectly control to"]
["a significant extent.  It also includes any activity that generates income from rental"]
["property, royalties, business gains, partnerships, trusts, corporations, and any other "]
["organization or entity regardless of form and regardless of whether such activity would"]
["be considered self-employment activity under the Internal Revenue Code."]
[]
["Name of business/description of self-employment activity to which this schedule relates:"]
[{"$f":"IF(H21=0,0,'SE Obr7'!$B$9)","v":0}]
[{"$f":"IF(H21=0,0,'SE Obr7'!$B$10)","v":0}]
[]
["TOTAL INCOME"]
["Tax year from IRS 1040 form",null,null,null,null,null,null,{"$f":"IF(OR(Rates!K22=\"Yes\",QuesScr!I16<1),0,'SE Obr7'!I$12)","v":0},null,null,null,{"$f":"IF(H21=0,0,'SE Obr7'!M$12)","v":0},null,null,null,{"$f":"IF(L21=0,0,'SE Obr7'!Q$12)","v":0},null,null,null,{"$f":"IF(P21=0,0,'SE Obr7'!U$12)","v":0},null,null,null,{"$f":"IF(T21=0,0,'SE Obr7'!Y$12)","v":0}]
["1.","Total income -05(1) (This"]
[null,"amount is taken from either"]
[null,"a tax return or from a profit"]
[null,"and loss statement.  If it is"]
[null,"taken from a tax return, use"]
[null,"the \"total income\" line on"]
[null,"the IRS form 1040;  i.e.,"]
[null,{"$f":"\"line 22 of \"&Rates!O17 &\" tax return.)\"","v":"line 22 of 2017 tax return.)"},null,null,null,null,{"$f":"IF(H21=0,0,'SE Obr7'!K$13)","v":0},null,null,null,{"$f":"IF(L21=0,0,'SE Obr7'!O$13)","v":0},null,null,null,{"$f":"IF(P21=0,0,'SE Obr7'!S$13)","v":0},null,null,null,{"$f":"IF(T21=0,0,'SE Obr7'!W$13)","v":0},null,null,null,{"$f":"IF(X21=0,0,'SE Obr7'!AA$13)","v":0}]
[]
["DEDUCTIONS"]
["2.","Amount of total income"]
[null,"that is not the obligor's"]
[null,"income -05(1)(a)(1)",null,null,null,null,{"$f":"IF(H21=0,0,'SE Obr7'!K$14)","v":0},null,null,null,{"$f":"IF(L21=0,0,'SE Obr7'!O$14)","v":0},null,null,null,{"$f":"IF(P21=0,0,'SE Obr7'!S$14)","v":0},null,null,null,{"$f":"IF(T21=0,0,'SE Obr7'!W$14)","v":0},null,null,null,{"$f":"IF(X21=0,0,'SE Obr7'!AA$14)","v":0}]
["3","Amount of total income that "]
[null,"does not come from this self-"]
[null,"employment -05(1)(a)(1)",null,null,null,null,{"$f":"IF(H21=0,0,'SE Obr7'!K$15)","v":0},null,null,null,{"$f":"IF(L21=0,0,'SE Obr7'!O$15)","v":0},null,null,null,{"$f":"IF(P21=0,0,'SE Obr7'!S$15)","v":0},null,null,null,{"$f":"IF(T21=0,0,'SE Obr7'!W$15)","v":0},null,null,null,{"$f":"IF(X21=0,0,'SE Obr7'!AA$15)","v":0}]
["4.","Amount of income from "]
[null,"partnership or S corporation "]
[null,"over which obligor "]
[null,"does not have significant "]
[null,"control that has not been "]
[null,"distributed -05(1)(a)(2)",null,null,null,null,{"$f":"IF(H21=0,0,'SE Obr7'!K$16)","v":0},null,null,null,{"$f":"IF(L21=0,0,'SE Obr7'!O$16)","v":0},null,null,null,{"$f":"IF(P21=0,0,'SE Obr7'!S$16)","v":0},null,null,null,{"$f":"IF(T21=0,0,'SE Obr7'!W$16)","v":0},null,null,null,{"$f":"IF(X21=0,0,'SE Obr7'!AA$16)","v":0}]
["5.","Total deductions (total of "]
[null,"Lines 2 through 4)",null,null,null,null,{"$f":"G34+G37+G43","v":0},null,null,null,{"$f":"K34+K37+K43","v":0},null,null,null,{"$f":"O34+O37+O43","v":0},null,null,null,{"$f":"S34+S37+S43","v":0},null,null,null,{"$f":"W34+W37+W43","v":0}]
[]
["ADDITIONS"]
["6.","Business expenses "]
[null,"attributable to the obligor or"]
[null,"a member of the obligor's"]
[null,"household for benefits,"]
[null,"pensions, profit-sharing"]
[null,"plans -05(1)(b)(1)",null,null,null,null,{"$f":"IF(H21=0,0,'SE Obr7'!K$17)","v":0},null,null,null,{"$f":"IF(L21=0,0,'SE Obr7'!O$17)","v":0},null,null,null,{"$f":"IF(P21=0,0,'SE Obr7'!S$17)","v":0},null,null,null,{"$f":"IF(T21=0,0,'SE Obr7'!W$17)","v":0},null,null,null,{"$f":"IF(X21=0,0,'SE Obr7'!AA$17)","v":0}]
[]
["This document was created by using Child"]
["Support's web based guidelines calculator.",null,null,null,null,null,null,null,null,null,null,null,null,null,null,null,null,null,null,null,null,null,null,null,null,{"$f":"\"Schedule B/Page 1 of 3/\"&Rates!N16&\" \"&Rates!O16","v":"Schedule B/Page 1 of 3/July 2023"}]
["7.","Payments to household member "]
[null,"to extent payment exceeds "]
[null,"fair market value of "]
[null,"services -05(1)(b)(2)",null,null,null,null,{"$f":"IF(H21=0,0,'SE Obr7'!K$18)","v":0},null,null,null,{"$f":"IF(L21=0,0,'SE Obr7'!O$18)","v":0},null,null,null,{"$f":"IF(P21=0,0,'SE Obr7'!S$18)","v":0},null,{"$f":"SUM(O60:P60)","v":0},null,{"$f":"IF(T21=0,0,'SE Obr7'!W$18)","v":0},null,null,null,{"$f":"IF(X21=0,0,'SE Obr7'!AA$18)","v":0}]
["8.","Income from C corporation "]
[null,"over which obligor has "]
[null,"significant control -05(1)(b)(3):"]
[null,"8a.","C corporation taxable "]
[null,null,"income",null,null,null,{"$f":"IF(H21=0,0,'SE Obr7'!K$19)","v":0},null,null,null,{"$f":"IF(L21=0,0,'SE Obr7'!O$19)","v":0},null,null,null,{"$f":"IF(P21=0,0,'SE Obr7'!S$19)","v":0},null,null,null,{"$f":"IF(T21=0,0,'SE Obr7'!W$19)","v":0},null,null,null,{"$f":"IF(X21=0,0,'SE Obr7'!AA$19)","v":0}]
[null,"8b.","C corporation federal "]
[null,null,"income tax",null,null,null,{"$f":"IF(H21=0,0,'SE Obr7'!K$20)","v":0},null,null,null,{"$f":"IF(L21=0,0,'SE Obr7'!O$20)","v":0},null,null,null,{"$f":"IF(P21=0,0,'SE Obr7'!S$20)","v":0},null,null,null,{"$f":"IF(T21=0,0,'SE Obr7'!W$20)","v":0},null,null,null,{"$f":"IF(X21=0,0,'SE Obr7'!AA$20)","v":0}]
[null,"8c.","Line 8a less Line 8b",null,null,null,{"$f":"G65-G67","v":0},null,null,null,{"$f":"K65-K67","v":0},null,null,null,{"$f":"O65-O67","v":0},null,null,null,{"$f":"S65-S67","v":0},null,null,null,{"$f":"W65-W67","v":0}]
[null,"8d.","Obligor's ownership "]
[null,null,"interest X .70",null,null,null,{"$f":"IF(H21=0,0,ROUND('SE Obr7'!I$21*0.7/100,2))","v":0},null,null,null,{"$f":"IF(L21=0,0,ROUND('SE Obr7'!M$21*0.7/100,2))","v":0},null,null,null,{"$f":"IF(P21=0,0,ROUND('SE Obr7'!Q$21*0.7/100,2))","v":0},null,null,null,{"$f":"IF(T21=0,0,ROUND('SE Obr7'!U$21*0.7/100,2))","v":0},null,null,null,{"$f":"IF(X21=0,0,ROUND('SE Obr7'!Y$21*0.7/100,2))","v":0}]
[null,"8e.","Line 8c X Line 8d",null,null,null,{"$f":"G70*G68","v":0},null,null,null,{"$f":"K70*K68","v":0},null,null,null,{"$f":"O70*O68","v":0},null,null,null,{"$f":"S70*S68","v":0},null,null,null,{"$f":"W70*W68","v":0}]
["9.","Total additions (total of "]
[null,"Lines 6, 7, and 8e)",null,null,null,null,{"$f":"G53+G60+G71","v":0},null,null,null,{"$f":"K53+K60+K71","v":0},null,null,null,{"$f":"O53+O60+O71","v":0},null,null,null,{"$f":"S53+S60+S71","v":0},null,null,null,{"$f":"W53+W60+W71","v":0}]
[]
["ANNUAL NET INCOME FROM SELF-EMPLOYMENT"]
["10.","Annual net income from "]
[null,"self-employment ((Line 1 "]
[null,"- Line 5) + Line 9)",null,null,null,null,{"$f":"G29-G45+G73","v":0},null,null,null,{"$f":"K29-K45+K73","v":0},null,null,null,{"$f":"O29-O45+O73","v":0},null,null,null,{"$f":"S29-S45+S73","v":0},null,null,null,{"$f":"W29-W45+W73","v":0}]
[]
["Note:  When dealing with self-employment income, the guidelines contemplate a"]
["calculation of up to a 5-year average of self-employment income to account for the"]
["significant changes that may occur in the business."]
[]
["Are multiple years being calculated:",null,null,null,null,null,null,null,{"$f":"IF(L21=0,\"\",\"X\")","v":""},null,null,"Yes",{"$f":"IF(L21=0,\"X\",\"\")","v":"X"},null,null,"No"]
[]
["If yes, complete the following calculation:"]
["1.","Total net income from self-employment for all years being averaged"]
[null,"i.e., total of Line 10 amounts for all years being averaged",null,null,null,null,null,null,null,null,null,null,null,null,null,null,null,null,null,null,{"$f":"G78+K78+O78+S78+W78","v":0},null,{"$f":"IF(M84=\"X\",0,G78+K78+O78+S78+W78)","v":0}]
["2.","Number of years being averaged",null,null,null,null,null,null,null,null,null,null,null,null,null,null,null,null,null,null,{"$f":"IF(H21=0,0,IF('SE Obr7'!I12=0,0,IF('SE Obr7'!M12=0,1,IF('SE Obr7'!Q12=0,2,IF('SE Obr7'!U12=0,3,IF('SE Obr7'!Y12=0,4,5))))))","v":0},null,{"$f":"IF(M84=\"X\",0,IF(H21=0,0,IF('SE Obr7'!I12=0,0,IF('SE Obr7'!M12=0,1,IF('SE Obr7'!Q12=0,2,IF('SE Obr7'!U12=0,3,IF('SE Obr7'!Y12=0,4,5)))))))","v":0}]
["3.","Average annual net income from self-employment (Line 1 ÷ Line 2)",null,null,null,null,null,null,null,null,null,null,null,null,null,null,null,null,null,null,{"$f":"ROUND(IF(U89=0,0,U88/U89),0)","v":0},null,{"$f":"ROUND(IF(W89=0,0,W88/W89),0)","v":0}]
[]
["If line 3 is a positive number, enter the amount onto the worksheet, line 3."]
[]
["Note: If there are multiple self-employment activities, income from each activity must be "]
["calculated and averaged separately.  Thus, a separate Schedule B must be completed"]
["for each activity."]
[]
["Treatment of self-employment losses"]
["If the result of averaging the self-employment income is a loss, if the self-employment"]
["activity is not a hobby, and if there is other income not related to the self-employment"]
["activity that produced the loss, the self-employment loss may be used to reduce the other"]
["income in certain circumstances.  If applicable, complete either Section 1 or Section 2 "]
["to determine if self-employment losses may be used to reduce other income."]
[]
["This document was created by using Child"]
["Support's web based guidelines calculator.",null,null,null,null,null,null,null,null,null,null,null,null,null,null,null,null,null,null,null,null,null,null,null,null,{"$f":"\"Schedule B/Page 2 of 3/\"&Rates!N16&\" \"&Rates!O16","v":"Schedule B/Page 2 of 3/July 2023"}]
["If less than three years were averaged, complete Section 1 only.  If three, four, or five "]
["years were averaged, complete Section 2 only."]
[]
["Section 1:  This section is for use if less than three years were averaged.  -05(6)"]
["1.","Monthly gross income",null,null,null,null,null,null,null,null,null,null,null,null,null,null,null,null,null,null,null,null,{"$f":"IF('SE Obr7'!$Z$26=\"Y\",IF('SE Loss-Obr'!J22=0,0,IF($U$90<0,IF($U$89<3,'SE Loss-Obr'!$N$22,0),0)),0)","v":0}]
["2.","One-twelfth of average annual self-employment loss",null,null,null,null,null,null,null,null,null,null,null,null,null,null,null,null,null,null,null,null,{"$f":"-ROUND(IF(W111>0,U90/12,0),0)","v":0}]
["3.","Line 1 less Line 2",null,null,null,null,null,null,null,null,null,null,null,null,null,null,null,null,null,null,null,null,{"$f":"W111-W112","v":0}]
[]
["Self-employment loss may be used to reduce other income only if amount on Line 3"]
["equals or exceeds the greatest of:"]
[null,"a.","167 times federal minimum wage",null,null,null,null,null,null,null,null,null,null,null,null,null,null,null,{"$f":"ROUND(IF(W111>0,167*Rates!G11,0),0)","v":0}]
[null,null,"(",{"$f":"Rates!G11","v":7.25},"per hour ……. ",null,null,{"$f":"ROUND(Rates!G11*167,0)","v":1211},null,")"]
[null,"b.",".6 times statewide average earnings for"]
[null,null,"persons with similar work history and"]
[null,null,"occupational qualifications",null,null,null,null,null,null,null,null,null,null,null,null,null,null,null,{"$f":"ROUND(IF(W111>0,'SE Loss-Obr'!N23*0.6,0),0)","v":0}]
[null,"c.",".8 times obligor's greatest average gross monthly"]
[null,null,"earnings, calculated without using self-employment"]
[null,null,"losses, in any 12 consecutive months included in"]
[null,null,"the current calendar year and the two previous"]
[null,null,"calendar years",null,null,null,null,null,null,null,null,null,null,null,null,null,null,null,{"$f":"ROUND(IF(W111>0,'SE Loss-Obr'!N24*0.8,0),0)","v":0},null,null,null,{"$f":"IF(W111=0,0,IF(W113+0.01>S117,IF(W113+0.01>S121,IF(W113+0.01>S126,W113,0),0),0))","v":0}]
[]
["If loss is allowable, enter amount from line 3 onto the worksheet, line 3."]
[]
["Section 2:  This section is for use if three, four, or five years were averaged.  -05(7)"]
["1.","When three or more years were averaged, were losses calculated for more than"]
[null,"40% of those years?"]
[null,null,null,null,null,null,null,{"$f":"IF(W90<0,IF(W89<3,\"\",IF(W89=5,IF(X133<3,\"\",\"X\"),IF(W89=4,IF(X133<2,\"\",\"X\"),IF(W89=3,IF(X133<2,\"\",\"X\"),0)))),\"\")","v":""},"Yes",null,null,{"$f":"IF(W90<0,IF(W89<3,\"\",IF(W89=5,IF(X133<3,\"X\",\"\"),IF(W89=4,IF(X133<2,\"X\",\"\"),IF(W89=3,IF(X133<2,\"X\",\"\"),0)))),\"\")","v":""},"No",null,null,null,null,null,null,null,null,null,null,{"$f":"IF(G78<0,1,0)+IF(K78<0,1,0)+IF(O78<0,1,0)+IF(S78<0,1,0)+IF(W78<0,1,0)","v":0}]
[]
[]
["If the answer to Line 1 is yes, STOP.  The self-employment loss may not be used to "]
["reduce other income.  If the answer to Line 1 is no, continue with analysis."]
[]
["2.","Monthly gross income",null,null,null,null,null,null,null,null,null,null,null,null,null,null,null,null,null,null,null,null,{"$f":"IF('SE Obr7'!$Z$26=\"Y\",IF('SE Loss-Obr'!J22=0,0,IF($W$90<0,IF(L133=\"X\",'SE Loss-Obr'!N22,0),0)),0)","v":0}]
["3.","One-twelfth of average annual self-employment loss",null,null,null,null,null,null,null,null,null,null,null,null,null,null,null,null,null,null,null,null,{"$f":"-ROUND(IF(W139>0,W90/12,0),0)","v":0}]
["4.","Line 2 less Line 3",null,null,null,null,null,null,null,null,null,null,null,null,null,null,null,null,null,null,null,null,{"$f":"W139-W140","v":0}]
[]
["Self-employment loss may be used to reduce other income only if amount on Line 4"]
["equals or exceeds the greatest of:"]
[null,"a.","167 times federal minimum wage",null,null,null,null,null,null,null,null,null,null,null,null,null,null,null,{"$f":"ROUND(IF(W139>0,167*Rates!G11,0),0)","v":0}]
[null,null,"(",{"$f":"Rates!G11","v":7.25},"per hour ……. ",null,null,{"$f":"ROUND(Rates!G11*167,0)","v":1211},null,")"]
[null,"b.",".6 times statewide average earnings for"]
[null,null,"persons with similar work history and"]
[null,null,"occupational qualifications",null,null,null,null,null,null,null,null,null,null,null,null,null,null,null,{"$f":"ROUND(IF(W139>0,'SE Loss-Obr'!N23*0.6,0),0)","v":0}]
[null,"c.",".9 times obligor's greatest average gross monthly"]
[null,null,"earnings, calculated without using self-employment"]
[null,null,"losses, in any 12 consecutive months included in"]
[null,null,"the current calendar year and the two previous"]
[null,null,"calendar years",null,null,null,null,null,null,null,null,null,null,null,null,null,null,null,{"$f":"ROUND(IF(W139>0,'SE Loss-Obr'!N24*0.9,0),0)","v":0},null,null,null,{"$f":"IF(W139=0,0,IF(W141+0.01>S145,IF(W141+0.01>S149,IF(W141+0.01>S154,W90,0),0),0))","v":0}]
[]
["If loss is allowable, enter amount from line 4 onto the worksheet, line 3."]
[null,"Countable Self-Employment profit or loss",null,null,null,null,null,null,null,null,null,null,null,null,null,null,null,null,{"$f":"IF(U90<0,IF(W126=0,IF(W154=0,0,W154),W126),U90)","v":0}]
["This document was created by using Child"]
["Support's web based guidelines calculator.",null,null,null,null,null,null,null,null,null,null,null,null,null,null,null,null,null,null,null,null,null,null,null,null,{"$f":"\"Schedule B/Page 3 of 3/\"&Rates!N16&\" \"&Rates!O16","v":"Schedule B/Page 3 of 3/July 2023"}]

{"sheet":"SchB8 Obgr","index":17,"n_rows":159,"n_cols":26,"rows_kept":159,"cut":false,"hidden":false,"merged":[[156,18,156,20],[140,22,140,24],[144,18,144,20],[145,7,145,8],[148,18,148,20],[153,18,153,20],[153,22,153,24],[120,18,120,20],[125,18,125,20],[125,22,125,24],[138,22,138,24],[139,22,139,24],[110,22,110,24],[111,22,111,24],[112,22,112,24],[116,18,116,20],[117,7,117,8],[83,8,83,10],[83,12,83,14],[87,22,87,24],[88,22,88,24],[89,22,89,24],[77,6,77,8],[77,10,77,12],[77,14,77,16],[77,18,77,20],[77,22,77,24],[72,6,72,8],[72,10,72,12],[72,14,72,16],[72,18,72,20],[72,22,72,24],[70,6,70,8],[70,10,70,12],[70,14,70,16],[70,18,70,20],[70,22,70,24],[69,6,69,8],[69,10,69,12],[69,14,69,16],[69,18,69,20],[69,22,69,24],[66,14,66,16],[66,18,66,20],[66,22,66,24],[67,6,67,8],[67,10,67,12],[67,14,67,16],[67,18,67,20],[67,22,67,24],[66,6,66,8],[66,10,66,12],[59,18,59,20],[59,22,59,24],[64,6,64,8],[64,10,64,12],[64,14,64,16],[64,18,64,20],[64,22,64,24],[59,6,59,8],[59,10,59,12],[59,14,59,16],[52,6,52,8],[52,10,52,12],[52,14,52,16],[52,18,52,20],[52,22,52,24],[44,6,44,8],[44,10,44,12],[44,14,44,16],[44,18,44,20],[44,22,44,24],[42,6,42,8],[42,10,42,12],[42,14,42,16],[42,18,42,20],[42,22,42,24],[36,6,36,8],[36,10,36,12],[36,14,36,16],[36,18,36,20],[36,22,36,24],[33,6,33,8],[33,10,33,12],[33,14,33,16],[33,18,33,20],[33,22,33,24],[28,6,28,8],[28,10,28,12],[28,14,28,16],[28,18,28,20],[28,22,28,24],[0,0,0,22],[1,0,1,25],[2,0,2,25],[16,0,16,24],[17,0,17,24]]}
["                 CHILD SUPPORT GUIDELINES",null,null,null,null,null,null,null,null,null,null,null,null,null,null,null,null,null,null,null,null,null,null,8,{"$f":"Rates!O52","v":0}]
["SCHEDULE B - SELF-EMPLOYMENT INCOME"]
["(N.D. Admin. Code § 75-02-04.1-05)"]
[]
["OBLIGOR:",null,null,{"$f":"IF(H21=0,0,'Wks1 Obgr'!D5)","v":0}]
["OBLIGEE:",null,null,{"$f":"IF(H21=0,0,'Wks1 Obgr'!D6)","v":0}]
[]
["This schedule is for use in determining net income from self-employment.  Self-"]
["employment means employment that results in an obligor earning income from any"]
["business organization or entity which the obligor is able to directly or indirectly control to"]
["a significant extent.  It also includes any activity that generates income from rental"]
["property, royalties, business gains, partnerships, trusts, corporations, and any other "]
["organization or entity regardless of form and regardless of whether such activity would"]
["be considered self-employment activity under the Internal Revenue Code."]
[]
["Name of business/description of self-employment activity to which this schedule relates:"]
[{"$f":"IF(H21=0,0,'SE Obr8'!$B$9)","v":0}]
[{"$f":"IF(H21=0,0,'SE Obr8'!$B$10)","v":0}]
[]
["TOTAL INCOME"]
["Tax year from IRS 1040 form",null,null,null,null,null,null,{"$f":"IF(OR(Rates!K22=\"Yes\",QuesScr!I16<1),0,'SE Obr8'!I$12)","v":0},null,null,null,{"$f":"IF(H21=0,0,'SE Obr8'!M$12)","v":0},null,null,null,{"$f":"IF(L21=0,0,'SE Obr8'!Q$12)","v":0},null,null,null,{"$f":"IF(P21=0,0,'SE Obr8'!U$12)","v":0},null,null,null,{"$f":"IF(T21=0,0,'SE Obr8'!Y$12)","v":0}]
["1.","Total income -05(1) (This"]
[null,"amount is taken from either"]
[null,"a tax return or from a profit"]
[null,"and loss statement.  If it is"]
[null,"taken from a tax return, use"]
[null,"the \"total income\" line on"]
[null,"the IRS form 1040;  i.e.,"]
[null,{"$f":"\"line 22 of \"&Rates!O17 &\" tax return.)\"","v":"line 22 of 2017 tax return.)"},null,null,null,null,{"$f":"IF(H21=0,0,'SE Obr8'!K$13)","v":0},null,null,null,{"$f":"IF(L21=0,0,'SE Obr8'!O$13)","v":0},null,null,null,{"$f":"IF(P21=0,0,'SE Obr8'!S$13)","v":0},null,null,null,{"$f":"IF(T21=0,0,'SE Obr8'!W$13)","v":0},null,null,null,{"$f":"IF(X21=0,0,'SE Obr8'!AA$13)","v":0}]
[]
["DEDUCTIONS"]
["2.","Amount of total income"]
[null,"that is not the obligor's"]
[null,"income -05(1)(a)(1)",null,null,null,null,{"$f":"IF(H21=0,0,'SE Obr8'!K$14)","v":0},null,null,null,{"$f":"IF(L21=0,0,'SE Obr8'!O$14)","v":0},null,null,null,{"$f":"IF(P21=0,0,'SE Obr8'!S$14)","v":0},null,null,null,{"$f":"IF(T21=0,0,'SE Obr8'!W$14)","v":0},null,null,null,{"$f":"IF(X21=0,0,'SE Obr8'!AA$14)","v":0}]
["3","Amount of total income that "]
[null,"does not come from this self-"]
[null,"employment -05(1)(a)(1)",null,null,null,null,{"$f":"IF(H21=0,0,'SE Obr8'!K$15)","v":0},null,null,null,{"$f":"IF(L21=0,0,'SE Obr8'!O$15)","v":0},null,null,null,{"$f":"IF(P21=0,0,'SE Obr8'!S$15)","v":0},null,null,null,{"$f":"IF(T21=0,0,'SE Obr8'!W$15)","v":0},null,null,null,{"$f":"IF(X21=0,0,'SE Obr8'!AA$15)","v":0}]
["4.","Amount of income from "]
[null,"partnership or S corporation "]
[null,"over which obligor "]
[null,"does not have significant "]
[null,"control that has not been "]
[null,"distributed -05(1)(a)(2)",null,null,null,null,{"$f":"IF(H21=0,0,'SE Obr8'!K$16)","v":0},null,null,null,{"$f":"IF(L21=0,0,'SE Obr8'!O$16)","v":0},null,null,null,{"$f":"IF(P21=0,0,'SE Obr8'!S$16)","v":0},null,null,null,{"$f":"IF(T21=0,0,'SE Obr8'!W$16)","v":0},null,null,null,{"$f":"IF(X21=0,0,'SE Obr8'!AA$16)","v":0}]
["5.","Total deductions (total of "]
[null,"Lines 2 through 4)",null,null,null,null,{"$f":"G34+G37+G43","v":0},null,null,null,{"$f":"K34+K37+K43","v":0},null,null,null,{"$f":"O34+O37+O43","v":0},null,null,null,{"$f":"S34+S37+S43","v":0},null,null,null,{"$f":"W34+W37+W43","v":0}]
[]
["ADDITIONS"]
["6.","Business expenses "]
[null,"attributable to the obligor or"]
[null,"a member of the obligor's"]
[null,"household for benefits,"]
[null,"pensions, profit-sharing"]
[null,"plans -05(1)(b)(1)",null,null,null,null,{"$f":"IF(H21=0,0,'SE Obr8'!K$17)","v":0},null,null,null,{"$f":"IF(L21=0,0,'SE Obr8'!O$17)","v":0},null,null,null,{"$f":"IF(P21=0,0,'SE Obr8'!S$17)","v":0},null,null,null,{"$f":"IF(T21=0,0,'SE Obr8'!W$17)","v":0},null,null,null,{"$f":"IF(X21=0,0,'SE Obr8'!AA$17)","v":0}]
[]
["This document was created by using Child"]
["Support's web based guidelines calculator.",null,null,null,null,null,null,null,null,null,null,null,null,null,null,null,null,null,null,null,null,null,null,null,null,{"$f":"\"Schedule B/Page 1 of 3/\"&Rates!N16&\" \"&Rates!O16","v":"Schedule B/Page 1 of 3/July 2023"}]
["7.","Payments to household member "]
[null,"to extent payment exceeds "]
[null,"fair market value of "]
[null,"services -05(1)(b)(2)",null,null,null,null,{"$f":"IF(H21=0,0,'SE Obr8'!K$18)","v":0},null,null,null,{"$f":"IF(L21=0,0,'SE Obr8'!O$18)","v":0},null,null,null,{"$f":"IF(P21=0,0,'SE Obr8'!S$18)","v":0},null,{"$f":"SUM(O60:P60)","v":0},null,{"$f":"IF(T21=0,0,'SE Obr8'!W$18)","v":0},null,null,null,{"$f":"IF(X21=0,0,'SE Obr8'!AA$18)","v":0}]
["8.","Income from C corporation "]
[null,"over which obligor has "]
[null,"significant control -05(1)(b)(3):"]
[null,"8a.","C corporation taxable "]
[null,null,"income",null,null,null,{"$f":"IF(H21=0,0,'SE Obr8'!K$19)","v":0},null,null,null,{"$f":"IF(L21=0,0,'SE Obr8'!O$19)","v":0},null,null,null,{"$f":"IF(P21=0,0,'SE Obr8'!S$19)","v":0},null,null,null,{"$f":"IF(T21=0,0,'SE Obr8'!W$19)","v":0},null,null,null,{"$f":"IF(X21=0,0,'SE Obr8'!AA$19)","v":0}]
[null,"8b.","C corporation federal "]
[null,null,"income tax",null,null,null,{"$f":"IF(H21=0,0,'SE Obr8'!K$20)","v":0},null,null,null,{"$f":"IF(L21=0,0,'SE Obr8'!O$20)","v":0},null,null,null,{"$f":"IF(P21=0,0,'SE Obr8'!S$20)","v":0},null,null,null,{"$f":"IF(T21=0,0,'SE Obr8'!W$20)","v":0},null,null,null,{"$f":"IF(X21=0,0,'SE Obr8'!AA$20)","v":0}]
[null,"8c.","Line 8a less Line 8b",null,null,null,{"$f":"G65-G67","v":0},null,null,null,{"$f":"K65-K67","v":0},null,null,null,{"$f":"O65-O67","v":0},null,null,null,{"$f":"S65-S67","v":0},null,null,null,{"$f":"W65-W67","v":0}]
[null,"8d.","Obligor's ownership "]
[null,null,"interest X .70",null,null,null,{"$f":"IF(H21=0,0,ROUND('SE Obr8'!I$21*0.7/100,2))","v":0},null,null,null,{"$f":"IF(L21=0,0,ROUND('SE Obr8'!M$21*0.7/100,2))","v":0},null,null,null,{"$f":"IF(P21=0,0,ROUND('SE Obr8'!Q$21*0.7/100,2))","v":0},null,null,null,{"$f":"IF(T21=0,0,ROUND('SE Obr8'!U$21*0.7/100,2))","v":0},null,null,null,{"$f":"IF(X21=0,0,ROUND('SE Obr8'!Y$21*0.7/100,2))","v":0}]
[null,"8e.","Line 8c X Line 8d",null,null,null,{"$f":"G70*G68","v":0},null,null,null,{"$f":"K70*K68","v":0},null,null,null,{"$f":"O70*O68","v":0},null,null,null,{"$f":"S70*S68","v":0},null,null,null,{"$f":"W70*W68","v":0}]
["9.","Total additions (total of "]
[null,"Lines 6, 7, and 8e)",null,null,null,null,{"$f":"G53+G60+G71","v":0},null,null,null,{"$f":"K53+K60+K71","v":0},null,null,null,{"$f":"O53+O60+O71","v":0},null,null,null,{"$f":"S53+S60+S71","v":0},null,null,null,{"$f":"W53+W60+W71","v":0}]
[]
["ANNUAL NET INCOME FROM SELF-EMPLOYMENT"]
["10.","Annual net income from "]
[null,"self-employment ((Line 1 "]
[null,"- Line 5) + Line 9)",null,null,null,null,{"$f":"G29-G45+G73","v":0},null,null,null,{"$f":"K29-K45+K73","v":0},null,null,null,{"$f":"O29-O45+O73","v":0},null,null,null,{"$f":"S29-S45+S73","v":0},null,null,null,{"$f":"W29-W45+W73","v":0}]
[]
["Note:  When dealing with self-employment income, the guidelines contemplate a"]
["calculation of up to a 5-year average of self-employment income to account for the"]
["significant changes that may occur in the business."]
[]
["Are multiple years being calculated:",null,null,null,null,null,null,null,{"$f":"IF(L21=0,\"\",\"X\")","v":""},null,null,"Yes",{"$f":"IF(L21=0,\"X\",\"\")","v":"X"},null,null,"No"]
[]
["If yes, complete the following calculation:"]
["1.","Total net income from self-employment for all years being averaged"]
[null,"i.e., total of Line 10 amounts for all years being averaged",null,null,null,null,null,null,null,null,null,null,null,null,null,null,null,null,null,null,{"$f":"G78+K78+O78+S78+W78","v":0},null,{"$f":"IF(M84=\"X\",0,G78+K78+O78+S78+W78)","v":0}]
["2.","Number of years being averaged",null,null,null,null,null,null,null,null,null,null,null,null,null,null,null,null,null,null,{"$f":"IF(H21=0,0,IF('SE Obr8'!I12=0,0,IF('SE Obr8'!M12=0,1,IF('SE Obr8'!Q12=0,2,IF('SE Obr8'!U12=0,3,IF('SE Obr8'!Y12=0,4,5))))))","v":0},null,{"$f":"IF(M84=\"X\",0,IF(H21=0,0,IF('SE Obr8'!I12=0,0,IF('SE Obr8'!M12=0,1,IF('SE Obr8'!Q12=0,2,IF('SE Obr8'!U12=0,3,IF('SE Obr8'!Y12=0,4,5)))))))","v":0}]
["3.","Average annual net income from self-employment (Line 1 ÷ Line 2)",null,null,null,null,null,null,null,null,null,null,null,null,null,null,null,null,null,null,{"$f":"ROUND(IF(U89=0,0,U88/U89),0)","v":0},null,{"$f":"ROUND(IF(W89=0,0,W88/W89),0)","v":0}]
[]
["If line 3 is a positive number, enter the amount onto the worksheet, line 3."]
[]
["Note: If there are multiple self-employment activities, income from each activity must be "]
["calculated and averaged separately.  Thus, a separate Schedule B must be completed"]
["for each activity."]
[]
["Treatment of self-employment losses"]
["If the result of averaging the self-employment income is a loss, if the self-employment"]
["activity is not a hobby, and if there is other income not related to the self-employment"]
["activity that produced the loss, the self-employment loss may be used to reduce the other"]
["income in certain circumstances.  If applicable, complete either Section 1 or Section 2 "]
["to determine if self-employment losses may be used to reduce other income."]
[]
["This document was created by using Child"]
["Support's web based guidelines calculator.",null,null,null,null,null,null,null,null,null,null,null,null,null,null,null,null,null,null,null,null,null,null,null,null,{"$f":"\"Schedule B/Page 2 of 3/\"&Rates!N16&\" \"&Rates!O16","v":"Schedule B/Page 2 of 3/July 2023"}]
["If less than three years were averaged, complete Section 1 only.  If three, four, or five "]
["years were averaged, complete Section 2 only."]
[]
["Section 1:  This section is for use if less than three years were averaged.  -05(6)"]
["1.","Monthly gross income",null,null,null,null,null,null,null,null,null,null,null,null,null,null,null,null,null,null,null,null,{"$f":"IF('SE Obr8'!$Z$26=\"Y\",IF('SE Loss-Obr'!J22=0,0,IF($U$90<0,IF($U$89<3,'SE Loss-Obr'!$N$22,0),0)),0)","v":0}]
["2.","One-twelfth of average annual self-employment loss",null,null,null,null,null,null,null,null,null,null,null,null,null,null,null,null,null,null,null,null,{"$f":"-ROUND(IF(W111>0,U90/12,0),0)","v":0}]
["3.","Line 1 less Line 2",null,null,null,null,null,null,null,null,null,null,null,null,null,null,null,null,null,null,null,null,{"$f":"W111-W112","v":0}]
[]
["Self-employment loss may be used to reduce other income only if amount on Line 3"]
["equals or exceeds the greatest of:"]
[null,"a.","167 times federal minimum wage",null,null,null,null,null,null,null,null,null,null,null,null,null,null,null,{"$f":"ROUND(IF(W111>0,167*Rates!G11,0),0)","v":0}]
[null,null,"(",{"$f":"Rates!G11","v":7.25},"per hour ……. ",null,null,{"$f":"ROUND(Rates!G11*167,0)","v":1211},null,")"]
[null,"b.",".6 times statewide average earnings for"]
[null,null,"persons with similar work history and"]
[null,null,"occupational qualifications",null,null,null,null,null,null,null,null,null,null,null,null,null,null,null,{"$f":"ROUND(IF(W111>0,'SE Loss-Obr'!N23*0.6,0),0)","v":0}]
[null,"c.",".8 times obligor's greatest average gross monthly"]
[null,null,"earnings, calculated without using self-employment"]
[null,null,"losses, in any 12 consecutive months included in"]
[null,null,"the current calendar year and the two previous"]
[null,null,"calendar years",null,null,null,null,null,null,null,null,null,null,null,null,null,null,null,{"$f":"ROUND(IF(W111>0,'SE Loss-Obr'!N24*0.8,0),0)","v":0},null,null,null,{"$f":"IF(W111=0,0,IF(W113+0.01>S117,IF(W113+0.01>S121,IF(W113+0.01>S126,W113,0),0),0))","v":0}]
[]
["If loss is allowable, enter amount from line 3 onto the worksheet, line 3."]
[]
["Section 2:  This section is for use if three, four, or five years were averaged.  -05(7)"]
["1.","When three or more years were averaged, were losses calculated for more than"]
[null,"40% of those years?"]
[null,null,null,null,null,null,null,{"$f":"IF(W90<0,IF(W89<3,\"\",IF(W89=5,IF(X133<3,\"\",\"X\"),IF(W89=4,IF(X133<2,\"\",\"X\"),IF(W89=3,IF(X133<2,\"\",\"X\"),0)))),\"\")","v":""},"Yes",null,null,{"$f":"IF(W90<0,IF(W89<3,\"\",IF(W89=5,IF(X133<3,\"X\",\"\"),IF(W89=4,IF(X133<2,\"X\",\"\"),IF(W89=3,IF(X133<2,\"X\",\"\"),0)))),\"\")","v":""},"No",null,null,null,null,null,null,null,null,null,null,{"$f":"IF(G78<0,1,0)+IF(K78<0,1,0)+IF(O78<0,1,0)+IF(S78<0,1,0)+IF(W78<0,1,0)","v":0}]
[]
[]
["If the answer to Line 1 is yes, STOP.  The self-employment loss may not be used to "]
["reduce other income.  If the answer to Line 1 is no, continue with analysis."]
[]
["2.","Monthly gross income",null,null,null,null,null,null,null,null,null,null,null,null,null,null,null,null,null,null,null,null,{"$f":"IF('SE Obr8'!$Z$26=\"Y\",IF('SE Loss-Obr'!J22=0,0,IF($W$90<0,IF(L133=\"X\",'SE Loss-Obr'!N22,0),0)),0)","v":0}]
["3.","One-twelfth of average annual self-employment loss",null,null,null,null,null,null,null,null,null,null,null,null,null,null,null,null,null,null,null,null,{"$f":"-ROUND(IF(W139>0,W90/12,0),0)","v":0}]
["4.","Line 2 less Line 3",null,null,null,null,null,null,null,null,null,null,null,null,null,null,null,null,null,null,null,null,{"$f":"W139-W140","v":0}]
[]
["Self-employment loss may be used to reduce other income only if amount on Line 4"]
["equals or exceeds the greatest of:"]
[null,"a.","167 times federal minimum wage",null,null,null,null,null,null,null,null,null,null,null,null,null,null,null,{"$f":"ROUND(IF(W139>0,167*Rates!G11,0),0)","v":0}]
[null,null,"(",{"$f":"Rates!G11","v":7.25},"per hour ……. ",null,null,{"$f":"ROUND(Rates!G11*167,0)","v":1211},null,")"]
[null,"b.",".6 times statewide average earnings for"]
[null,null,"persons with similar work history and"]
[null,null,"occupational qualifications",null,null,null,null,null,null,null,null,null,null,null,null,null,null,null,{"$f":"ROUND(IF(W139>0,'SE Loss-Obr'!N23*0.6,0),0)","v":0}]
[null,"c.",".9 times obligor's greatest average gross monthly"]
[null,null,"earnings, calculated without using self-employment"]
[null,null,"losses, in any 12 consecutive months included in"]
[null,null,"the current calendar year and the two previous"]
[null,null,"calendar years",null,null,null,null,null,null,null,null,null,null,null,null,null,null,null,{"$f":"ROUND(IF(W139>0,'SE Loss-Obr'!N24*0.9,0),0)","v":0},null,null,null,{"$f":"IF(W139=0,0,IF(W141+0.01>S145,IF(W141+0.01>S149,IF(W141+0.01>S154,W90,0),0),0))","v":0}]
[]
["If loss is allowable, enter amount from line 4 onto the worksheet, line 3."]
[null,"Countable Self-Employment profit or loss",null,null,null,null,null,null,null,null,null,null,null,null,null,null,null,null,{"$f":"IF(U90<0,IF(W126=0,IF(W154=0,0,W154),W126),U90)","v":0}]
["This document was created by using Child"]
["Support's web based guidelines calculator.",null,null,null,null,null,null,null,null,null,null,null,null,null,null,null,null,null,null,null,null,null,null,null,null,{"$f":"\"Schedule B/Page 3 of 3/\"&Rates!N16&\" \"&Rates!O16","v":"Schedule B/Page 3 of 3/July 2023"}]

{"sheet":"SchB9 Obgr","index":18,"n_rows":159,"n_cols":26,"rows_kept":159,"cut":false,"hidden":false,"merged":[[156,18,156,20],[140,22,140,24],[144,18,144,20],[145,7,145,8],[148,18,148,20],[153,18,153,20],[153,22,153,24],[120,18,120,20],[125,18,125,20],[125,22,125,24],[138,22,138,24],[139,22,139,24],[110,22,110,24],[111,22,111,24],[112,22,112,24],[116,18,116,20],[117,7,117,8],[83,8,83,10],[83,12,83,14],[87,22,87,24],[88,22,88,24],[89,22,89,24],[77,6,77,8],[77,10,77,12],[77,14,77,16],[77,18,77,20],[77,22,77,24],[72,6,72,8],[72,10,72,12],[72,14,72,16],[72,18,72,20],[72,22,72,24],[70,6,70,8],[70,10,70,12],[70,14,70,16],[70,18,70,20],[70,22,70,24],[69,6,69,8],[69,10,69,12],[69,14,69,16],[69,18,69,20],[69,22,69,24],[66,14,66,16],[66,18,66,20],[66,22,66,24],[67,6,67,8],[67,10,67,12],[67,14,67,16],[67,18,67,20],[67,22,67,24],[66,6,66,8],[66,10,66,12],[59,18,59,20],[59,22,59,24],[64,6,64,8],[64,10,64,12],[64,14,64,16],[64,18,64,20],[64,22,64,24],[59,6,59,8],[59,10,59,12],[59,14,59,16],[52,6,52,8],[52,10,52,12],[52,14,52,16],[52,18,52,20],[52,22,52,24],[44,6,44,8],[44,10,44,12],[44,14,44,16],[44,18,44,20],[44,22,44,24],[42,6,42,8],[42,10,42,12],[42,14,42,16],[42,18,42,20],[42,22,42,24],[36,6,36,8],[36,10,36,12],[36,14,36,16],[36,18,36,20],[36,22,36,24],[33,6,33,8],[33,10,33,12],[33,14,33,16],[33,18,33,20],[33,22,33,24],[28,6,28,8],[28,10,28,12],[28,14,28,16],[28,18,28,20],[28,22,28,24],[0,0,0,22],[1,0,1,25],[2,0,2,25],[16,0,16,24],[17,0,17,24]]}
["                 CHILD SUPPORT GUIDELINES",null,null,null,null,null,null,null,null,null,null,null,null,null,null,null,null,null,null,null,null,null,null,9,{"$f":"Rates!O52","v":0}]
["SCHEDULE B - SELF-EMPLOYMENT INCOME"]
["(N.D. Admin. Code § 75-02-04.1-05)"]
[]
["OBLIGOR:",null,null,{"$f":"IF(H21=0,0,'Wks1 Obgr'!D5)","v":0}]
["OBLIGEE:",null,null,{"$f":"IF(H21=0,0,'Wks1 Obgr'!D6)","v":0}]
[]
["This schedule is for use in determining net income from self-employment.  Self-"]
["employment means employment that results in an obligor earning income from any"]
["business organization or entity which the obligor is able to directly or indirectly control to"]
["a significant extent.  It also includes any activity that generates income from rental"]
["property, royalties, business gains, partnerships, trusts, corporations, and any other "]
["organization or entity regardless of form and regardless of whether such activity would"]
["be considered self-employment activity under the Internal Revenue Code."]
[]
["Name of business/description of self-employment activity to which this schedule relates:"]
[{"$f":"IF(H21=0,0,'SE Obr9'!$B$9)","v":0}]
[{"$f":"IF(H21=0,0,'SE Obr9'!$B$10)","v":0}]
[]
["TOTAL INCOME"]
["Tax year from IRS 1040 form",null,null,null,null,null,null,{"$f":"IF(OR(Rates!K22=\"Yes\",QuesScr!I16<1),0,'SE Obr9'!I$12)","v":0},null,null,null,{"$f":"IF(H21=0,0,'SE Obr9'!M$12)","v":0},null,null,null,{"$f":"IF(L21=0,0,'SE Obr9'!Q$12)","v":0},null,null,null,{"$f":"IF(P21=0,0,'SE Obr9'!U$12)","v":0},null,null,null,{"$f":"IF(T21=0,0,'SE Obr9'!Y$12)","v":0}]
["1.","Total income -05(1) (This"]
[null,"amount is taken from either"]
[null,"a tax return or from a profit"]
[null,"and loss statement.  If it is"]
[null,"taken from a tax return, use"]
[null,"the \"total income\" line on"]
[null,"the IRS form 1040;  i.e.,"]
[null,{"$f":"\"line 22 of \"&Rates!O17 &\" tax return.)\"","v":"line 22 of 2017 tax return.)"},null,null,null,null,{"$f":"IF(H21=0,0,'SE Obr9'!K$13)","v":0},null,null,null,{"$f":"IF(L21=0,0,'SE Obr9'!O$13)","v":0},null,null,null,{"$f":"IF(P21=0,0,'SE Obr9'!S$13)","v":0},null,null,null,{"$f":"IF(T21=0,0,'SE Obr9'!W$13)","v":0},null,null,null,{"$f":"IF(X21=0,0,'SE Obr9'!AA$13)","v":0}]
[]
["DEDUCTIONS"]
["2.","Amount of total income"]
[null,"that is not the obligor's"]
[null,"income -05(1)(a)(1)",null,null,null,null,{"$f":"IF(H21=0,0,'SE Obr9'!K$14)","v":0},null,null,null,{"$f":"IF(L21=0,0,'SE Obr9'!O$14)","v":0},null,null,null,{"$f":"IF(P21=0,0,'SE Obr9'!S$14)","v":0},null,null,null,{"$f":"IF(T21=0,0,'SE Obr9'!W$14)","v":0},null,null,null,{"$f":"IF(X21=0,0,'SE Obr9'!AA$14)","v":0}]
["3","Amount of total income that "]
[null,"does not come from this self-"]
[null,"employment -05(1)(a)(1)",null,null,null,null,{"$f":"IF(H21=0,0,'SE Obr9'!K$15)","v":0},null,null,null,{"$f":"IF(L21=0,0,'SE Obr9'!O$15)","v":0},null,null,null,{"$f":"IF(P21=0,0,'SE Obr9'!S$15)","v":0},null,null,null,{"$f":"IF(T21=0,0,'SE Obr9'!W$15)","v":0},null,null,null,{"$f":"IF(X21=0,0,'SE Obr9'!AA$15)","v":0}]
["4.","Amount of income from "]
[null,"partnership or S corporation "]
[null,"over which obligor "]
[null,"does not have significant "]
[null,"control that has not been "]
[null,"distributed -05(1)(a)(2)",null,null,null,null,{"$f":"IF(H21=0,0,'SE Obr9'!K$16)","v":0},null,null,null,{"$f":"IF(L21=0,0,'SE Obr9'!O$16)","v":0},null,null,null,{"$f":"IF(P21=0,0,'SE Obr9'!S$16)","v":0},null,null,null,{"$f":"IF(T21=0,0,'SE Obr9'!W$16)","v":0},null,null,null,{"$f":"IF(X21=0,0,'SE Obr9'!AA$16)","v":0}]
["5.","Total deductions (total of "]
[null,"Lines 2 through 4)",null,null,null,null,{"$f":"G34+G37+G43","v":0},null,null,null,{"$f":"K34+K37+K43","v":0},null,null,null,{"$f":"O34+O37+O43","v":0},null,null,null,{"$f":"S34+S37+S43","v":0},null,null,null,{"$f":"W34+W37+W43","v":0}]
[]
["ADDITIONS"]
["6.","Business expenses "]
[null,"attributable to the obligor or"]
[null,"a member of the obligor's"]
[null,"household for benefits,"]
[null,"pensions, profit-sharing"]
[null,"plans -05(1)(b)(1)",null,null,null,null,{"$f":"IF(H21=0,0,'SE Obr9'!K$17)","v":0},null,null,null,{"$f":"IF(L21=0,0,'SE Obr9'!O$17)","v":0},null,null,null,{"$f":"IF(P21=0,0,'SE Obr9'!S$17)","v":0},null,null,null,{"$f":"IF(T21=0,0,'SE Obr9'!W$17)","v":0},null,null,null,{"$f":"IF(X21=0,0,'SE Obr9'!AA$17)","v":0}]
[]
["This document was created by using Child"]
["Support's web based guidelines calculator.",null,null,null,null,null,null,null,null,null,null,null,null,null,null,null,null,null,null,null,null,null,null,null,null,{"$f":"\"Schedule B/Page 1 of 3/\"&Rates!N16&\" \"&Rates!O16","v":"Schedule B/Page 1 of 3/July 2023"}]
["7.","Payments to household member "]
[null,"to extent payment exceeds "]
[null,"fair market value of "]
[null,"services -05(1)(b)(2)",null,null,null,null,{"$f":"IF(H21=0,0,'SE Obr9'!K$18)","v":0},null,null,null,{"$f":"IF(L21=0,0,'SE Obr9'!O$18)","v":0},null,null,null,{"$f":"IF(P21=0,0,'SE Obr9'!S$18)","v":0},null,{"$f":"SUM(O60:P60)","v":0},null,{"$f":"IF(T21=0,0,'SE Obr9'!W$18)","v":0},null,null,null,{"$f":"IF(X21=0,0,'SE Obr9'!AA$18)","v":0}]
["8.","Income from C corporation "]
[null,"over which obligor has "]
[null,"significant control -05(1)(b)(3):"]
[null,"8a.","C corporation taxable "]
[null,null,"income",null,null,null,{"$f":"IF(H21=0,0,'SE Obr9'!K$19)","v":0},null,null,null,{"$f":"IF(L21=0,0,'SE Obr9'!O$19)","v":0},null,null,null,{"$f":"IF(P21=0,0,'SE Obr9'!S$19)","v":0},null,null,null,{"$f":"IF(T21=0,0,'SE Obr9'!W$19)","v":0},null,null,null,{"$f":"IF(X21=0,0,'SE Obr9'!AA$19)","v":0}]
[null,"8b.","C corporation federal "]
[null,null,"income tax",null,null,null,{"$f":"IF(H21=0,0,'SE Obr9'!K$20)","v":0},null,null,null,{"$f":"IF(L21=0,0,'SE Obr9'!O$20)","v":0},null,null,null,{"$f":"IF(P21=0,0,'SE Obr9'!S$20)","v":0},null,null,null,{"$f":"IF(T21=0,0,'SE Obr9'!W$20)","v":0},null,null,null,{"$f":"IF(X21=0,0,'SE Obr9'!AA$20)","v":0}]
[null,"8c.","Line 8a less Line 8b",null,null,null,{"$f":"G65-G67","v":0},null,null,null,{"$f":"K65-K67","v":0},null,null,null,{"$f":"O65-O67","v":0},null,null,null,{"$f":"S65-S67","v":0},null,null,null,{"$f":"W65-W67","v":0}]
[null,"8d.","Obligor's ownership "]
[null,null,"interest X .70",null,null,null,{"$f":"IF(H21=0,0,ROUND('SE Obr9'!I$21*0.7/100,2))","v":0},null,null,null,{"$f":"IF(L21=0,0,ROUND('SE Obr9'!M$21*0.7/100,2))","v":0},null,null,null,{"$f":"IF(P21=0,0,ROUND('SE Obr9'!Q$21*0.7/100,2))","v":0},null,null,null,{"$f":"IF(T21=0,0,ROUND('SE Obr9'!U$21*0.7/100,2))","v":0},null,null,null,{"$f":"IF(X21=0,0,ROUND('SE Obr9'!Y$21*0.7/100,2))","v":0}]
[null,"8e.","Line 8c X Line 8d",null,null,null,{"$f":"G70*G68","v":0},null,null,null,{"$f":"K70*K68","v":0},null,null,null,{"$f":"O70*O68","v":0},null,null,null,{"$f":"S70*S68","v":0},null,null,null,{"$f":"W70*W68","v":0}]
["9.","Total additions (total of "]
[null,"Lines 6, 7, and 8e)",null,null,null,null,{"$f":"G53+G60+G71","v":0},null,null,null,{"$f":"K53+K60+K71","v":0},null,null,null,{"$f":"O53+O60+O71","v":0},null,null,null,{"$f":"S53+S60+S71","v":0},null,null,null,{"$f":"W53+W60+W71","v":0}]
[]
["ANNUAL NET INCOME FROM SELF-EMPLOYMENT"]
["10.","Annual net income from "]
[null,"self-employment ((Line 1 "]
[null,"- Line 5) + Line 9)",null,null,null,null,{"$f":"G29-G45+G73","v":0},null,null,null,{"$f":"K29-K45+K73","v":0},null,null,null,{"$f":"O29-O45+O73","v":0},null,null,null,{"$f":"S29-S45+S73","v":0},null,null,null,{"$f":"W29-W45+W73","v":0}]
[]
["Note:  When dealing with self-employment income, the guidelines contemplate a"]
["calculation of up to a 5-year average of self-employment income to account for the"]
["significant changes that may occur in the business."]
[]
["Are multiple years being calculated:",null,null,null,null,null,null,null,{"$f":"IF(L21=0,\"\",\"X\")","v":""},null,null,"Yes",{"$f":"IF(L21=0,\"X\",\"\")","v":"X"},null,null,"No"]
[]
["If yes, complete the following calculation:"]
["1.","Total net income from self-employment for all years being averaged"]
[null,"i.e., total of Line 10 amounts for all years being averaged",null,null,null,null,null,null,null,null,null,null,null,null,null,null,null,null,null,null,{"$f":"G78+K78+O78+S78+W78","v":0},null,{"$f":"IF(M84=\"X\",0,G78+K78+O78+S78+W78)","v":0}]
["2.","Number of years being averaged",null,null,null,null,null,null,null,null,null,null,null,null,null,null,null,null,null,null,{"$f":"IF(H21=0,0,IF('SE Obr9'!I12=0,0,IF('SE Obr9'!M12=0,1,IF('SE Obr9'!Q12=0,2,IF('SE Obr9'!U12=0,3,IF('SE Obr9'!Y12=0,4,5))))))","v":0},null,{"$f":"IF(M84=\"X\",0,IF(H21=0,0,IF('SE Obr9'!I12=0,0,IF('SE Obr9'!M12=0,1,IF('SE Obr9'!Q12=0,2,IF('SE Obr9'!U12=0,3,IF('SE Obr9'!Y12=0,4,5)))))))","v":0}]
["3.","Average annual net income from self-employment (Line 1 ÷ Line 2)",null,null,null,null,null,null,null,null,null,null,null,null,null,null,null,null,null,null,{"$f":"ROUND(IF(U89=0,0,U88/U89),0)","v":0},null,{"$f":"ROUND(IF(W89=0,0,W88/W89),0)","v":0}]
[]
["If line 3 is a positive number, enter the amount onto the worksheet, line 3."]
[]
["Note: If there are multiple self-employment activities, income from each activity must be "]
["calculated and averaged separately.  Thus, a separate Schedule B must be completed"]
["for each activity."]
[]
["Treatment of self-employment losses"]
["If the result of averaging the self-employment income is a loss, if the self-employment"]
["activity is not a hobby, and if there is other income not related to the self-employment"]
["activity that produced the loss, the self-employment loss may be used to reduce the other"]
["income in certain circumstances.  If applicable, complete either Section 1 or Section 2 "]
["to determine if self-employment losses may be used to reduce other income."]
[]
["This document was created by using Child"]
["Support's web based guidelines calculator.",null,null,null,null,null,null,null,null,null,null,null,null,null,null,null,null,null,null,null,null,null,null,null,null,{"$f":"\"Schedule B/Page 2 of 3/\"&Rates!N16&\" \"&Rates!O16","v":"Schedule B/Page 2 of 3/July 2023"}]
["If less than three years were averaged, complete Section 1 only.  If three, four, or five "]
["years were averaged, complete Section 2 only."]
[]
["Section 1:  This section is for use if less than three years were averaged.  -05(6)"]
["1.","Monthly gross income",null,null,null,null,null,null,null,null,null,null,null,null,null,null,null,null,null,null,null,null,{"$f":"IF('SE Obr9'!$Z$26=\"Y\",IF('SE Loss-Obr'!J22=0,0,IF($U$90<0,IF($U$89<3,'SE Loss-Obr'!$N$22,0),0)),0)","v":0}]
["2.","One-twelfth of average annual self-employment loss",null,null,null,null,null,null,null,null,null,null,null,null,null,null,null,null,null,null,null,null,{"$f":"-ROUND(IF(W111>0,U90/12,0),0)","v":0}]
["3.","Line 1 less Line 2",null,null,null,null,null,null,null,null,null,null,null,null,null,null,null,null,null,null,null,null,{"$f":"W111-W112","v":0}]
[]
["Self-employment loss may be used to reduce other income only if amount on Line 3"]
["equals or exceeds the greatest of:"]
[null,"a.","167 times federal minimum wage",null,null,null,null,null,null,null,null,null,null,null,null,null,null,null,{"$f":"ROUND(IF(W111>0,167*Rates!G11,0),0)","v":0}]
[null,null,"(",{"$f":"Rates!G11","v":7.25},"per hour ……. ",null,null,{"$f":"ROUND(Rates!G11*167,0)","v":1211},null,")"]
[null,"b.",".6 times statewide average earnings for"]
[null,null,"persons with similar work history and"]
[null,null,"occupational qualifications",null,null,null,null,null,null,null,null,null,null,null,null,null,null,null,{"$f":"ROUND(IF(W111>0,'SE Loss-Obr'!N23*0.6,0),0)","v":0}]
[null,"c.",".8 times obligor's greatest average gross monthly"]
[null,null,"earnings, calculated without using self-employment"]
[null,null,"losses, in any 12 consecutive months included in"]
[null,null,"the current calendar year and the two previous"]
[null,null,"calendar years",null,null,null,null,null,null,null,null,null,null,null,null,null,null,null,{"$f":"ROUND(IF(W111>0,'SE Loss-Obr'!N24*0.8,0),0)","v":0},null,null,null,{"$f":"IF(W111=0,0,IF(W113+0.01>S117,IF(W113+0.01>S121,IF(W113+0.01>S126,W113,0),0),0))","v":0}]
[]
["If loss is allowable, enter amount from line 3 onto the worksheet, line 3."]
[]
["Section 2:  This section is for use if three, four, or five years were averaged.  -05(7)"]
["1.","When three or more years were averaged, were losses calculated for more than"]
[null,"40% of those years?"]
[null,null,null,null,null,null,null,{"$f":"IF(W90<0,IF(W89<3,\"\",IF(W89=5,IF(X133<3,\"\",\"X\"),IF(W89=4,IF(X133<2,\"\",\"X\"),IF(W89=3,IF(X133<2,\"\",\"X\"),0)))),\"\")","v":""},"Yes",null,null,{"$f":"IF(W90<0,IF(W89<3,\"\",IF(W89=5,IF(X133<3,\"X\",\"\"),IF(W89=4,IF(X133<2,\"X\",\"\"),IF(W89=3,IF(X133<2,\"X\",\"\"),0)))),\"\")","v":""},"No",null,null,null,null,null,null,null,null,null,null,{"$f":"IF(G78<0,1,0)+IF(K78<0,1,0)+IF(O78<0,1,0)+IF(S78<0,1,0)+IF(W78<0,1,0)","v":0}]
[]
[]
["If the answer to Line 1 is yes, STOP.  The self-employment loss may not be used to "]
["reduce other income.  If the answer to Line 1 is no, continue with analysis."]
[]
["2.","Monthly gross income",null,null,null,null,null,null,null,null,null,null,null,null,null,null,null,null,null,null,null,null,{"$f":"IF('SE Obr9'!$Z$26=\"Y\",IF('SE Loss-Obr'!J22=0,0,IF($W$90<0,IF(L133=\"X\",'SE Loss-Obr'!N22,0),0)),0)","v":0}]
["3.","One-twelfth of average annual self-employment loss",null,null,null,null,null,null,null,null,null,null,null,null,null,null,null,null,null,null,null,null,{"$f":"-ROUND(IF(W139>0,W90/12,0),0)","v":0}]
["4.","Line 2 less Line 3",null,null,null,null,null,null,null,null,null,null,null,null,null,null,null,null,null,null,null,null,{"$f":"W139-W140","v":0}]
[]
["Self-employment loss may be used to reduce other income only if amount on Line 4"]
["equals or exceeds the greatest of:"]
[null,"a.","167 times federal minimum wage",null,null,null,null,null,null,null,null,null,null,null,null,null,null,null,{"$f":"ROUND(IF(W139>0,167*Rates!G11,0),0)","v":0}]
[null,null,"(",{"$f":"Rates!G11","v":7.25},"per hour ……. ",null,null,{"$f":"ROUND(Rates!G11*167,0)","v":1211},null,")"]
[null,"b.",".6 times statewide average earnings for"]
[null,null,"persons with similar work history and"]
[null,null,"occupational qualifications",null,null,null,null,null,null,null,null,null,null,null,null,null,null,null,{"$f":"ROUND(IF(W139>0,'SE Loss-Obr'!N23*0.6,0),0)","v":0}]
[null,"c.",".9 times obligor's greatest average gross monthly"]
[null,null,"earnings, calculated without using self-employment"]
[null,null,"losses, in any 12 consecutive months included in"]
[null,null,"the current calendar year and the two previous"]
[null,null,"calendar years",null,null,null,null,null,null,null,null,null,null,null,null,null,null,null,{"$f":"ROUND(IF(W139>0,'SE Loss-Obr'!N24*0.9,0),0)","v":0},null,null,null,{"$f":"IF(W139=0,0,IF(W141+0.01>S145,IF(W141+0.01>S149,IF(W141+0.01>S154,W90,0),0),0))","v":0}]
[]
["If loss is allowable, enter amount from line 4 onto the worksheet, line 3."]
[null,"Countable Self-Employment profit or loss",null,null,null,null,null,null,null,null,null,null,null,null,null,null,null,null,{"$f":"IF(U90<0,IF(W126=0,IF(W154=0,0,W154),W126),U90)","v":0}]
["This document was created by using Child"]
["Support's web based guidelines calculator.",null,null,null,null,null,null,null,null,null,null,null,null,null,null,null,null,null,null,null,null,null,null,null,null,{"$f":"\"Schedule B/Page 3 of 3/\"&Rates!N16&\" \"&Rates!O16","v":"Schedule B/Page 3 of 3/July 2023"}]

{"sheet":"SchB1 Obge","index":19,"n_rows":160,"n_cols":26,"rows_kept":160,"cut":false,"hidden":false,"merged":[[0,0,0,22],[1,0,1,25],[2,0,2,25],[17,0,17,24],[18,0,18,24],[29,18,29,20],[29,22,29,24],[34,6,34,8],[34,10,34,12],[34,14,34,16],[34,18,34,20],[34,22,34,24],[29,6,29,8],[29,10,29,12],[29,14,29,16],[37,6,37,8],[37,10,37,12],[37,14,37,16],[37,18,37,20],[37,22,37,24],[43,6,43,8],[43,10,43,12],[43,14,43,16],[43,18,43,20],[43,22,43,24],[45,6,45,8],[45,10,45,12],[45,14,45,16],[45,18,45,20],[45,22,45,24],[53,18,53,20],[53,22,53,24],[60,6,60,8],[60,10,60,12],[60,14,60,16],[60,18,60,20],[60,22,60,24],[53,6,53,8],[53,10,53,12],[53,14,53,16],[65,10,65,12],[65,14,65,16],[65,18,65,20],[65,22,65,24],[67,6,67,8],[67,10,67,12],[67,14,67,16],[67,18,67,20],[67,22,67,24],[65,6,65,8],[68,6,68,8],[68,10,68,12],[68,14,68,16],[68,18,68,20],[68,22,68,24],[70,6,70,8],[70,10,70,12],[70,14,70,16],[70,18,70,20],[70,22,70,24],[71,6,71,8],[71,10,71,12],[71,14,71,16],[71,18,71,20],[71,22,71,24],[73,6,73,8],[73,10,73,12],[73,14,73,16],[73,18,73,20],[73,22,73,24],[78,6,78,8],[78,10,78,12],[78,14,78,16],[78,18,78,20],[78,22,78,24],[84,8,84,10],[84,12,84,14],[88,22,88,24],[89,22,89,24],[90,22,90,24],[111,22,111,24],[112,22,112,24],[113,22,113,24],[117,18,117,20],[118,7,118,8],[121,18,121,20],[126,18,126,20],[126,22,126,24],[139,22,139,24],[140,22,140,24],[157,18,157,20],[141,22,141,24],[145,18,145,20],[146,7,146,8],[149,18,149,20],[154,18,154,20],[154,22,154,24]]}
["                 CHILD SUPPORT GUIDELINES",null,null,null,null,null,null,null,null,null,null,null,null,null,null,null,null,null,null,null,null,null,null,1,{"$f":"Rates!P52","v":0}]
["SCHEDULE B - SELF-EMPLOYMENT INCOME"]
["(N.D. Admin. Code § 75-02-04.1-05)"]
[]
["OBLIGOR:",null,null,{"$f":"IF(H22=0,0,'Wks1 Obge'!D5)","v":0}]
["OBLIGEE:",null,null,{"$f":"IF(H22=0,0,'Wks1 Obge'!D6)","v":0}]
[]
["This schedule is for use in determining net income from self-employment.  Self-"]
["employment means employment one or more related activities that results in an "]
["obligor earning income from any business organization or entity which the obligor is "]
["able to directly or indirectly control to a significant extent.  It also includes any activity "]
["that generates income from rental property, royalties, business gains, partnerships, "]
["trusts, corporations, and any other organization or entity regardless of form and "]
["regardless of whether such activity would be considered self-employment activity under "]
["the Internal Revenue Code."]
[]
["Name of business/description of self-employment activity to which this schedule relates:"]
[{"$f":"IF(H22=0,0,'SE Obe1'!$B$9)","v":0}]
[{"$f":"IF(H22=0,0,'SE Obe1'!$B$10)","v":0}]
[]
["TOTAL INCOME"]
["Tax year from IRS 1040 form",null,null,null,null,null,null,{"$f":"IF(OR(Rates!O22=\"Yes\",QuesScr!L16<1),0,'SE Obe1'!I$12)","v":0},null,null,null,{"$f":"IF(H22=0,0,'SE Obe1'!M$12)","v":0},null,null,null,{"$f":"IF(L22=0,0,'SE Obe1'!Q$12)","v":0},null,null,null,{"$f":"IF(P22=0,0,'SE Obe1'!U$12)","v":0},null,null,null,{"$f":"IF(T22=0,0,'SE Obe1'!Y$12)","v":0}]
["1.","Total income -05(1) (This"]
[null,"amount is taken from either"]
[null,"a tax return or from a profit"]
[null,"and loss statement.  If it is"]
[null,"taken from a tax return, use"]
[null,"the \"total income\" line on"]
[null,"the IRS form 1040;  i.e.,"]
[null,{"$f":"\"line 22 of \"&Rates!O17 &\" tax return.)\"","v":"line 22 of 2017 tax return.)"},null,null,null,null,{"$f":"IF(H22=0,0,'SE Obe1'!K$13)","v":0},null,null,null,{"$f":"IF(L22=0,0,'SE Obe1'!O$13)","v":0},null,null,null,{"$f":"IF(P22=0,0,'SE Obe1'!S$13)","v":0},null,null,null,{"$f":"IF(T22=0,0,'SE Obe1'!W$13)","v":0},null,null,null,{"$f":"IF(X22=0,0,'SE Obe1'!AA$13)","v":0}]
[]
["DEDUCTIONS"]
["2.","Amount of total income"]
[null,"that is not the obligor's"]
[null,"income -05(1)(a)(1)",null,null,null,null,{"$f":"IF(H22=0,0,'SE Obe1'!K$14)","v":0},null,null,null,{"$f":"IF(L22=0,0,'SE Obe1'!O$14)","v":0},null,null,null,{"$f":"IF(P22=0,0,'SE Obe1'!S$14)","v":0},null,null,null,{"$f":"IF(T22=0,0,'SE Obe1'!W$14)","v":0},null,null,null,{"$f":"IF(X22=0,0,'SE Obe1'!AA$14)","v":0}]
["3","Amount of total income that "]
[null,"does not come from this self-"]
[null,"employment -05(1)(a)(1)",null,null,null,null,{"$f":"IF(H22=0,0,'SE Obe1'!K$15)","v":0},null,null,null,{"$f":"IF(L22=0,0,'SE Obe1'!O$15)","v":0},null,null,null,{"$f":"IF(P22=0,0,'SE Obe1'!S$15)","v":0},null,null,null,{"$f":"IF(T22=0,0,'SE Obe1'!W$15)","v":0},null,null,null,{"$f":"IF(X22=0,0,'SE Obe1'!AA$15)","v":0}]
["4.","Amount of income from "]
[null,"partnership or S corporation "]
[null,"over which obligor "]
[null,"does not have significant "]
[null,"control that has not been "]
[null,"distributed -05(1)(a)(2)",null,null,null,null,{"$f":"IF(H22=0,0,'SE Obe1'!K$16)","v":0},null,null,null,{"$f":"IF(L22=0,0,'SE Obe1'!O$16)","v":0},null,null,null,{"$f":"IF(P22=0,0,'SE Obe1'!S$16)","v":0},null,null,null,{"$f":"IF(T22=0,0,'SE Obe1'!W$16)","v":0},null,null,null,{"$f":"IF(X22=0,0,'SE Obe1'!AA$16)","v":0}]
["5.","Total deductions (total of "]
[null,"Lines 2 through 4)",null,null,null,null,{"$f":"G35+G38+G44","v":0},null,null,null,{"$f":"K35+K38+K44","v":0},null,null,null,{"$f":"O35+O38+O44","v":0},null,null,null,{"$f":"S35+S38+S44","v":0},null,null,null,{"$f":"W35+W38+W44","v":0}]
[]
["ADDITIONS"]
["6.","Business expenses "]
[null,"attributable to the obligor or"]
[null,"a member of the obligor's"]
[null,"household for benefits,"]
[null,"pensions, profit-sharing"]
[null,"plans -05(1)(b)(1)",null,null,null,null,{"$f":"IF(H22=0,0,'SE Obe1'!K$17)","v":0},null,null,null,{"$f":"IF(L22=0,0,'SE Obe1'!O$17)","v":0},null,null,null,{"$f":"IF(P22=0,0,'SE Obe1'!S$17)","v":0},null,null,null,{"$f":"IF(T22=0,0,'SE Obe1'!W$17)","v":0},null,null,null,{"$f":"IF(X22=0,0,'SE Obe1'!AA$17)","v":0}]
[]
["This document was created by using Child"]
["Support's web based guidelines calculator.",null,null,null,null,null,null,null,null,null,null,null,null,null,null,null,null,null,null,null,null,null,null,null,null,{"$f":"\"Schedule B/Page 1 of 3/\"&Rates!N16&\" \"&Rates!O16","v":"Schedule B/Page 1 of 3/July 2023"}]
["7.","Payments to household member "]
[null,"to extent payment exceeds "]
[null,"fair market value of "]
[null,"services -05(1)(b)(2)",null,null,null,null,{"$f":"IF(H22=0,0,'SE Obe1'!K$18)","v":0},null,null,null,{"$f":"IF(L22=0,0,'SE Obe1'!O$18)","v":0},null,null,null,{"$f":"IF(P22=0,0,'SE Obe1'!S$18)","v":0},null,{"$f":"SUM(O61:P61)","v":0},null,{"$f":"IF(T22=0,0,'SE Obe1'!W$18)","v":0},null,null,null,{"$f":"IF(X22=0,0,'SE Obe1'!AA$18)","v":0}]
["8.","Income from C corporation "]
[null,"over which obligor has "]
[null,"significant control -05(1)(b)(3):"]
[null,"8a.","C corporation taxable "]
[null,null,"income",null,null,null,{"$f":"IF(H22=0,0,'SE Obe1'!K$19)","v":0},null,null,null,{"$f":"IF(L22=0,0,'SE Obe1'!O$19)","v":0},null,null,null,{"$f":"IF(P22=0,0,'SE Obe1'!S$19)","v":0},null,null,null,{"$f":"IF(T22=0,0,'SE Obe1'!W$19)","v":0},null,null,null,{"$f":"IF(X22=0,0,'SE Obe1'!AA$19)","v":0}]
[null,"8b.","C corporation federal "]
[null,null,"income tax",null,null,null,{"$f":"IF(H22=0,0,'SE Obe1'!K$20)","v":0},null,null,null,{"$f":"IF(L22=0,0,'SE Obe1'!O$20)","v":0},null,null,null,{"$f":"IF(P22=0,0,'SE Obe1'!S$20)","v":0},null,null,null,{"$f":"IF(T22=0,0,'SE Obe1'!W$20)","v":0},null,null,null,{"$f":"IF(X22=0,0,'SE Obe1'!AA$20)","v":0}]
[null,"8c.","Line 8a less Line 8b",null,null,null,{"$f":"G66-G68","v":0},null,null,null,{"$f":"K66-K68","v":0},null,null,null,{"$f":"O66-O68","v":0},null,null,null,{"$f":"S66-S68","v":0},null,null,null,{"$f":"W66-W68","v":0}]
[null,"8d.","Obligor's ownership "]
[null,null,"interest X .70",null,null,null,{"$f":"IF(H22=0,0,ROUND('SE Obe1'!I$21*0.7/100,2))","v":0},null,null,null,{"$f":"IF(L22=0,0,ROUND('SE Obe1'!M$21*0.7/100,2))","v":0},null,null,null,{"$f":"IF(P22=0,0,ROUND('SE Obe1'!Q$21*0.7/100,2))","v":0},null,null,null,{"$f":"IF(T22=0,0,ROUND('SE Obe1'!U$21*0.7/100,2))","v":0},null,null,null,{"$f":"IF(X22=0,0,ROUND('SE Obe1'!Y$21*0.7/100,2))","v":0}]
[null,"8e.","Line 8c X Line 8d",null,null,null,{"$f":"G71*G69","v":0},null,null,null,{"$f":"K71*K69","v":0},null,null,null,{"$f":"O71*O69","v":0},null,null,null,{"$f":"S71*S69","v":0},null,null,null,{"$f":"W71*W69","v":0}]
["9.","Total additions (total of "]
[null,"Lines 6, 7, and 8e)",null,null,null,null,{"$f":"G54+G61+G72","v":0},null,null,null,{"$f":"K54+K61+K72","v":0},null,null,null,{"$f":"O54+O61+O72","v":0},null,null,null,{"$f":"S54+S61+S72","v":0},null,null,null,{"$f":"W54+W61+W72","v":0}]
[]
["ANNUAL NET INCOME FROM SELF-EMPLOYMENT"]
["10.","Annual net income from "]
[null,"self-employment ((Line 1 "]
[null,"- Line 5) + Line 9)",null,null,null,null,{"$f":"G30-G46+G74","v":0},null,null,null,{"$f":"K30-K46+K74","v":0},null,null,null,{"$f":"O30-O46+O74","v":0},null,null,null,{"$f":"S30-S46+S74","v":0},null,null,null,{"$f":"W30-W46+W74","v":0}]
[]
["Note:  When dealing with self-employment income, the guidelines contemplate a"]
["calculation of up to a 5-year average of self-employment income to account for the"]
["significant changes that may occur in the business."]
[]
["Are multiple years being calculated:",null,null,null,null,null,null,null,{"$f":"IF(L22=0,\"\",\"X\")","v":""},null,null,"Yes",{"$f":"IF(L22=0,\"X\",\"\")","v":"X"},null,null,"No"]
[]
["If yes, complete the following calculation:"]
["1.","Total net income from self-employment for all years being averaged"]
[null,"i.e., total of Line 10 amounts for all years being averaged",null,null,null,null,null,null,null,null,null,null,null,null,null,null,null,null,null,null,{"$f":"G79+K79+O79+S79+W79","v":0},null,{"$f":"IF(M85=\"X\",0,G79+K79+O79+S79+W79)","v":0}]
["2.","Number of years being averaged",null,null,null,null,null,null,null,null,null,null,null,null,null,null,null,null,null,null,{"$f":"IF(H22=0,0,IF('SE Obe1'!I12=0,0,IF('SE Obe1'!M12=0,1,IF('SE Obe1'!Q12=0,2,IF('SE Obe1'!U12=0,3,IF('SE Obe1'!Y12=0,4,5))))))","v":0},null,{"$f":"IF(M85=\"X\",0,IF(H22=0,0,IF('SE Obe1'!I12=0,0,IF('SE Obe1'!M12=0,1,IF('SE Obe1'!Q12=0,2,IF('SE Obe1'!U12=0,3,IF('SE Obe1'!Y12=0,4,5)))))))","v":0}]
["3.","Average annual net income from self-employment (Line 1 ÷ Line 2)",null,null,null,null,null,null,null,null,null,null,null,null,null,null,null,null,null,null,{"$f":"ROUND(IF(U90=0,0,U89/U90),0)","v":0},null,{"$f":"ROUND(IF(W90=0,0,W89/W90),0)","v":0}]
[]
["If line 3 is a positive number, enter the amount onto the worksheet, line 3."]
[]
["Note: If there are multiple self-employment activities, income from each activity must be "]
["calculated and averaged separately.  Thus, a separate Schedule B must be completed"]
["for each activity."]
[]
["Treatment of self-employment losses"]
["If the result of averaging the self-employment income is a loss, if the self-employment"]
["activity is not a hobby, and if there is other income not related to the self-employment"]
["activity that produced the loss, the self-employment loss may be used to reduce the other"]
["income in certain circumstances.  If applicable, complete either Section 1 or Section 2 "]
["to determine if self-employment losses may be used to reduce other income."]
[]
["This document was created by using Child"]
["Support's web based guidelines calculator.",null,null,null,null,null,null,null,null,null,null,null,null,null,null,null,null,null,null,null,null,null,null,null,null,{"$f":"\"Schedule B/Page 2 of 3/\"&Rates!N16&\" \"&Rates!O16","v":"Schedule B/Page 2 of 3/July 2023"}]
["If less than three years were averaged, complete Section 1 only.  If three, four, or five "]
["years were averaged, complete Section 2 only."]
[]
["Section 1:  This section is for use if less than three years were averaged.  -05(6)"]
["1.","Monthly gross income",null,null,null,null,null,null,null,null,null,null,null,null,null,null,null,null,null,null,null,null,{"$f":"IF('SE Obe1'!$Z$26=\"Y\",IF('SE Loss-Obe'!J22=0,0,IF($U$91<0,IF($U$90<3,'SE Loss-Obe'!$N$22,0),0)),0)","v":0}]
["2.","One-twelfth of average annual self-employment loss",null,null,null,null,null,null,null,null,null,null,null,null,null,null,null,null,null,null,null,null,{"$f":"-ROUND(IF(W112>0,U91/12,0),0)","v":0}]
["3.","Line 1 less Line 2",null,null,null,null,null,null,null,null,null,null,null,null,null,null,null,null,null,null,null,null,{"$f":"W112-W113","v":0}]
[]
["Self-employment loss may be used to reduce other income only if amount on Line 3"]
["equals or exceeds the greatest of:"]
[null,"a.","167 times federal minimum wage",null,null,null,null,null,null,null,null,null,null,null,null,null,null,null,{"$f":"ROUND(IF(W112>0,167*Rates!G11,0),0)","v":0}]
[null,null,"(",{"$f":"Rates!G11","v":7.25},"per hour ……. ",null,null,{"$f":"ROUND(Rates!G11*167,0)","v":1211},null,")"]
[null,"b.",".6 times statewide average earnings for"]
[null,null,"persons with similar work history and"]
[null,null,"occupational qualifications",null,null,null,null,null,null,null,null,null,null,null,null,null,null,null,{"$f":"ROUND(IF(W112>0,'SE Loss-Obe'!N23*0.6,0),0)","v":0}]
[null,"c.",".8 times obligor's greatest average gross monthly"]
[null,null,"earnings, calculated without using self-employment"]
[null,null,"losses, in any 12 consecutive months included in"]
[null,null,"the current calendar year and the two previous"]
[null,null,"calendar years",null,null,null,null,null,null,null,null,null,null,null,null,null,null,null,{"$f":"ROUND(IF(W112>0,'SE Loss-Obe'!N24*0.8,0),0)","v":0},null,null,null,{"$f":"IF(W112=0,0,IF(W114+0.01>S118,IF(W114+0.01>S122,IF(W114+0.01>S127,W114,0),0),0))","v":0}]
[]
["If loss is allowable, enter amount from line 3 onto the worksheet, line 3."]
[]
["Section 2:  This section is for use if three, four, or five years were averaged.  -05(7)"]
["1.","When three or more years were averaged, were losses calculated for more than"]
[null,"40% of those years?"]
[null,null,null,null,null,null,null,{"$f":"IF(W91<0,IF(W90<3,\"\",IF(W90=5,IF(X134<3,\"\",\"X\"),IF(W90=4,IF(X134<2,\"\",\"X\"),IF(W90=3,IF(X134<2,\"\",\"X\"),0)))),\"\")","v":""},"Yes",null,null,{"$f":"IF(W91<0,IF(W90<3,\"\",IF(W90=5,IF(X134<3,\"X\",\"\"),IF(W90=4,IF(X134<2,\"X\",\"\"),IF(W90=3,IF(X134<2,\"X\",\"\"),0)))),\"\")","v":""},"No",null,null,null,null,null,null,null,null,null,null,{"$f":"IF(G79<0,1,0)+IF(K79<0,1,0)+IF(O79<0,1,0)+IF(S79<0,1,0)+IF(W79<0,1,0)","v":0}]
[]
[]
["If the answer to Line 1 is yes, STOP.  The self-employment loss may not be used to "]
["reduce other income.  If the answer to Line 1 is no, continue with analysis."]
[]
["2.","Monthly gross income",null,null,null,null,null,null,null,null,null,null,null,null,null,null,null,null,null,null,null,null,{"$f":"IF('SE Obe1'!$Z$26=\"Y\",IF('SE Loss-Obe'!J22=0,0,IF($W$91<0,IF(L134=\"X\",'SE Loss-Obe'!N22,0),0)),0)","v":0}]
["3.","One-twelfth of average annual self-employment loss",null,null,null,null,null,null,null,null,null,null,null,null,null,null,null,null,null,null,null,null,{"$f":"-ROUND(IF(W140>0,W91/12,0),0)","v":0}]
["4.","Line 2 less Line 3",null,null,null,null,null,null,null,null,null,null,null,null,null,null,null,null,null,null,null,null,{"$f":"W140-W141","v":0}]
[]
["Self-employment loss may be used to reduce other income only if amount on Line 4"]
["equals or exceeds the greatest of:"]
[null,"a.","167 times federal minimum wage",null,null,null,null,null,null,null,null,null,null,null,null,null,null,null,{"$f":"ROUND(IF(W140>0,167*Rates!G11,0),0)","v":0}]
[null,null,"(",{"$f":"Rates!G11","v":7.25},"per hour ……. ",null,null,{"$f":"ROUND(Rates!G11*167,0)","v":1211},null,")"]
[null,"b.",".6 times statewide average earnings for"]
[null,null,"persons with similar work history and"]
[null,null,"occupational qualifications",null,null,null,null,null,null,null,null,null,null,null,null,null,null,null,{"$f":"ROUND(IF(W140>0,'SE Loss-Obe'!N23*0.6,0),0)","v":0}]
[null,"c.",".9 times obligor's greatest average gross monthly"]
[null,null,"earnings, calculated without using self-employment"]
[null,null,"losses, in any 12 consecutive months included in"]
[null,null,"the current calendar year and the two previous"]
[null,null,"calendar years",null,null,null,null,null,null,null,null,null,null,null,null,null,null,null,{"$f":"ROUND(IF(W140>0,'SE Loss-Obe'!N24*0.9,0),0)","v":0},null,null,null,{"$f":"IF(W140=0,0,IF(W142+0.01>S146,IF(W142+0.01>S150,IF(W142+0.01>S155,W91,0),0),0))","v":0}]
[]
["If loss is allowable, enter amount from line 4 onto the worksheet, line 3."]
[null,"Countable Self-Employment profit or loss",null,null,null,null,null,null,null,null,null,null,null,null,null,null,null,null,{"$f":"IF(U91<0,IF(W127=0,IF(W155=0,0,W155),W127),U91)","v":0}]
["This document was created by using Child"]
["Support's web based guidelines calculator.",null,null,null,null,null,null,null,null,null,null,null,null,null,null,null,null,null,null,null,null,null,null,null,null,{"$f":"\"Schedule B/Page 3 of 3/\"&Rates!N16&\" \"&Rates!O16","v":"Schedule B/Page 3 of 3/July 2023"}]

{"sheet":"SchB2 Obge","index":20,"n_rows":159,"n_cols":26,"rows_kept":159,"cut":false,"hidden":false,"merged":[[0,0,0,22],[1,0,1,25],[2,0,2,25],[16,0,16,24],[17,0,17,24],[28,18,28,20],[28,22,28,24],[33,6,33,8],[33,10,33,12],[33,14,33,16],[33,18,33,20],[33,22,33,24],[28,6,28,8],[28,10,28,12],[28,14,28,16],[36,6,36,8],[36,10,36,12],[36,14,36,16],[36,18,36,20],[36,22,36,24],[42,6,42,8],[42,10,42,12],[42,14,42,16],[42,18,42,20],[42,22,42,24],[44,6,44,8],[44,10,44,12],[44,14,44,16],[44,18,44,20],[44,22,44,24],[52,18,52,20],[52,22,52,24],[59,6,59,8],[59,10,59,12],[59,14,59,16],[59,18,59,20],[59,22,59,24],[52,6,52,8],[52,10,52,12],[52,14,52,16],[64,10,64,12],[64,14,64,16],[64,18,64,20],[64,22,64,24],[66,6,66,8],[66,10,66,12],[66,14,66,16],[66,18,66,20],[66,22,66,24],[64,6,64,8],[67,6,67,8],[67,10,67,12],[67,14,67,16],[67,18,67,20],[67,22,67,24],[69,6,69,8],[69,10,69,12],[69,14,69,16],[69,18,69,20],[69,22,69,24],[70,6,70,8],[70,10,70,12],[70,14,70,16],[70,18,70,20],[70,22,70,24],[72,6,72,8],[72,10,72,12],[72,14,72,16],[72,18,72,20],[72,22,72,24],[77,6,77,8],[77,10,77,12],[77,14,77,16],[77,18,77,20],[77,22,77,24],[83,8,83,10],[83,12,83,14],[87,22,87,24],[88,22,88,24],[89,22,89,24],[110,22,110,24],[111,22,111,24],[112,22,112,24],[116,18,116,20],[117,7,117,8],[120,18,120,20],[125,18,125,20],[125,22,125,24],[138,22,138,24],[139,22,139,24],[156,18,156,20],[140,22,140,24],[144,18,144,20],[145,7,145,8],[148,18,148,20],[153,18,153,20],[153,22,153,24]]}
["                 CHILD SUPPORT GUIDELINES",null,null,null,null,null,null,null,null,null,null,null,null,null,null,null,null,null,null,null,null,null,null,2,{"$f":"Rates!P52","v":0}]
["SCHEDULE B - SELF-EMPLOYMENT INCOME"]
["(N.D. Admin. Code § 75-02-04.1-05)"]
[]
["OBLIGOR:",null,null,{"$f":"IF(H21=0,0,'Wks1 Obge'!D5)","v":0}]
["OBLIGEE:",null,null,{"$f":"IF(H21=0,0,'Wks1 Obge'!D6)","v":0}]
[]
["This schedule is for use in determining net income from self-employment.  Self-"]
["employment means employment that results in an obligor earning income from any"]
["business organization or entity which the obligor is able to directly or indirectly control to"]
["a significant extent.  It also includes any activity that generates income from rental"]
["property, royalties, business gains, partnerships, trusts, corporations, and any other "]
["organization or entity regardless of form and regardless of whether such activity would"]
["be considered self-employment activity under the Internal Revenue Code."]
[]
["Name of business/description of self-employment activity to which this schedule relates:"]
[{"$f":"IF(H21=0,0,'SE Obe2'!$B$9)","v":0}]
[{"$f":"IF(H21=0,0,'SE Obe2'!$B$10)","v":0}]
[]
["TOTAL INCOME"]
["Tax year from IRS 1040 form",null,null,null,null,null,null,{"$f":"IF(OR(Rates!O22=\"Yes\",QuesScr!L16<1),0,'SE Obe2'!I$12)","v":0},null,null,null,{"$f":"IF(H21=0,0,'SE Obe2'!M$12)","v":0},null,null,null,{"$f":"IF(L21=0,0,'SE Obe2'!Q$12)","v":0},null,null,null,{"$f":"IF(P21=0,0,'SE Obe2'!U$12)","v":0},null,null,null,{"$f":"IF(T21=0,0,'SE Obe2'!Y$12)","v":0}]
["1.","Total income -05(1) (This"]
[null,"amount is taken from either"]
[null,"a tax return or from a profit"]
[null,"and loss statement.  If it is"]
[null,"taken from a tax return, use"]
[null,"the \"total income\" line on"]
[null,"the IRS form 1040;  i.e.,"]
[null,{"$f":"\"line 22 of \"&Rates!O17 &\" tax return.)\"","v":"line 22 of 2017 tax return.)"},null,null,null,null,{"$f":"IF(H21=0,0,'SE Obe2'!K$13)","v":0},null,null,null,{"$f":"IF(L21=0,0,'SE Obe2'!O$13)","v":0},null,null,null,{"$f":"IF(P21=0,0,'SE Obe2'!S$13)","v":0},null,null,null,{"$f":"IF(T21=0,0,'SE Obe2'!W$13)","v":0},null,null,null,{"$f":"IF(X21=0,0,'SE Obe2'!AA$13)","v":0}]
[]
["DEDUCTIONS"]
["2.","Amount of total income"]
[null,"that is not the obligor's"]
[null,"income -05(1)(a)(1)",null,null,null,null,{"$f":"IF(H21=0,0,'SE Obe2'!K$14)","v":0},null,null,null,{"$f":"IF(L21=0,0,'SE Obe2'!O$14)","v":0},null,null,null,{"$f":"IF(P21=0,0,'SE Obe2'!S$14)","v":0},null,null,null,{"$f":"IF(T21=0,0,'SE Obe2'!W$14)","v":0},null,null,null,{"$f":"IF(X21=0,0,'SE Obe2'!AA$14)","v":0}]
["3","Amount of total income that "]
[null,"does not come from this self-"]
[null,"employment -05(1)(a)(1)",null,null,null,null,{"$f":"IF(H21=0,0,'SE Obe2'!K$15)","v":0},null,null,null,{"$f":"IF(L21=0,0,'SE Obe2'!O$15)","v":0},null,null,null,{"$f":"IF(P21=0,0,'SE Obe2'!S$15)","v":0},null,null,null,{"$f":"IF(T21=0,0,'SE Obe2'!W$15)","v":0},null,null,null,{"$f":"IF(X21=0,0,'SE Obe2'!AA$15)","v":0}]
["4.","Amount of income from "]
[null,"partnership or S corporation "]
[null,"over which obligor "]
[null,"does not have significant "]
[null,"control that has not been "]
[null,"distributed -05(1)(a)(2)",null,null,null,null,{"$f":"IF(H21=0,0,'SE Obe2'!K$16)","v":0},null,null,null,{"$f":"IF(L21=0,0,'SE Obe2'!O$16)","v":0},null,null,null,{"$f":"IF(P21=0,0,'SE Obe2'!S$16)","v":0},null,null,null,{"$f":"IF(T21=0,0,'SE Obe2'!W$16)","v":0},null,null,null,{"$f":"IF(X21=0,0,'SE Obe2'!AA$16)","v":0}]
["5.","Total deductions (total of "]
[null,"Lines 2 through 4)",null,null,null,null,{"$f":"G34+G37+G43","v":0},null,null,null,{"$f":"K34+K37+K43","v":0},null,null,null,{"$f":"O34+O37+O43","v":0},null,null,null,{"$f":"S34+S37+S43","v":0},null,null,null,{"$f":"W34+W37+W43","v":0}]
[]
["ADDITIONS"]
["6.","Business expenses "]
[null,"attributable to the obligor or"]
[null,"a member of the obligor's"]
[null,"household for benefits,"]
[null,"pensions, profit-sharing"]
[null,"plans -05(1)(b)(1)",null,null,null,null,{"$f":"IF(H21=0,0,'SE Obe2'!K$17)","v":0},null,null,null,{"$f":"IF(L21=0,0,'SE Obe2'!O$17)","v":0},null,null,null,{"$f":"IF(P21=0,0,'SE Obe2'!S$17)","v":0},null,null,null,{"$f":"IF(T21=0,0,'SE Obe2'!W$17)","v":0},null,null,null,{"$f":"IF(X21=0,0,'SE Obe2'!AA$17)","v":0}]
[]
["This document was created by using Child"]
["Support's web based guidelines calculator.",null,null,null,null,null,null,null,null,null,null,null,null,null,null,null,null,null,null,null,null,null,null,null,null,{"$f":"\"Schedule B/Page 1 of 3/\"&Rates!N16&\" \"&Rates!O16","v":"Schedule B/Page 1 of 3/July 2023"}]
["7.","Payments to household member "]
[null,"to extent payment exceeds "]
[null,"fair market value of "]
[null,"services -05(1)(b)(2)",null,null,null,null,{"$f":"IF(H21=0,0,'SE Obe2'!K$18)","v":0},null,null,null,{"$f":"IF(L21=0,0,'SE Obe2'!O$18)","v":0},null,null,null,{"$f":"IF(P21=0,0,'SE Obe2'!S$18)","v":0},null,{"$f":"SUM(O60:P60)","v":0},null,{"$f":"IF(T21=0,0,'SE Obe2'!W$18)","v":0},null,null,null,{"$f":"IF(X21=0,0,'SE Obe2'!AA$18)","v":0}]
["8.","Income from C corporation "]
[null,"over which obligor has "]
[null,"significant control -05(1)(b)(3):"]
[null,"8a.","C corporation taxable "]
[null,null,"income",null,null,null,{"$f":"IF(H21=0,0,'SE Obe2'!K$19)","v":0},null,null,null,{"$f":"IF(L21=0,0,'SE Obe2'!O$19)","v":0},null,null,null,{"$f":"IF(P21=0,0,'SE Obe2'!S$19)","v":0},null,null,null,{"$f":"IF(T21=0,0,'SE Obe2'!W$19)","v":0},null,null,null,{"$f":"IF(X21=0,0,'SE Obe2'!AA$19)","v":0}]
[null,"8b.","C corporation federal "]
[null,null,"income tax",null,null,null,{"$f":"IF(H21=0,0,'SE Obe2'!K$20)","v":0},null,null,null,{"$f":"IF(L21=0,0,'SE Obe2'!O$20)","v":0},null,null,null,{"$f":"IF(P21=0,0,'SE Obe2'!S$20)","v":0},null,null,null,{"$f":"IF(T21=0,0,'SE Obe2'!W$20)","v":0},null,null,null,{"$f":"IF(X21=0,0,'SE Obe2'!AA$20)","v":0}]
[null,"8c.","Line 8a less Line 8b",null,null,null,{"$f":"G65-G67","v":0},null,null,null,{"$f":"K65-K67","v":0},null,null,null,{"$f":"O65-O67","v":0},null,null,null,{"$f":"S65-S67","v":0},null,null,null,{"$f":"W65-W67","v":0}]
[null,"8d.","Obligor's ownership "]
[null,null,"interest X .70",null,null,null,{"$f":"IF(H21=0,0,ROUND('SE Obe2'!I$21*0.7/100,2))","v":0},null,null,null,{"$f":"IF(L21=0,0,ROUND('SE Obe2'!M$21*0.7/100,2))","v":0},null,null,null,{"$f":"IF(P21=0,0,ROUND('SE Obe2'!Q$21*0.7/100,2))","v":0},null,null,null,{"$f":"IF(T21=0,0,ROUND('SE Obe2'!U$21*0.7/100,2))","v":0},null,null,null,{"$f":"IF(X21=0,0,ROUND('SE Obe2'!Y$21*0.7/100,2))","v":0}]
[null,"8e.","Line 8c X Line 8d",null,null,null,{"$f":"G70*G68","v":0},null,null,null,{"$f":"K70*K68","v":0},null,null,null,{"$f":"O70*O68","v":0},null,null,null,{"$f":"S70*S68","v":0},null,null,null,{"$f":"W70*W68","v":0}]
["9.","Total additions (total of "]
[null,"Lines 6, 7, and 8e)",null,null,null,null,{"$f":"G53+G60+G71","v":0},null,null,null,{"$f":"K53+K60+K71","v":0},null,null,null,{"$f":"O53+O60+O71","v":0},null,null,null,{"$f":"S53+S60+S71","v":0},null,null,null,{"$f":"W53+W60+W71","v":0}]
[]
["ANNUAL NET INCOME FROM SELF-EMPLOYMENT"]
["10.","Annual net income from "]
[null,"self-employment ((Line 1 "]
[null,"- Line 5) + Line 9)",null,null,null,null,{"$f":"G29-G45+G73","v":0},null,null,null,{"$f":"K29-K45+K73","v":0},null,null,null,{"$f":"O29-O45+O73","v":0},null,null,null,{"$f":"S29-S45+S73","v":0},null,null,null,{"$f":"W29-W45+W73","v":0}]
[]
["Note:  When dealing with self-employment income, the guidelines contemplate a"]
["calculation of up to a 5-year average of self-employment income to account for the"]
["significant changes that may occur in the business."]
[]
["Are multiple years being calculated:",null,null,null,null,null,null,null,{"$f":"IF(L21=0,\"\",\"X\")","v":""},null,null,"Yes",{"$f":"IF(L21=0,\"X\",\"\")","v":"X"},null,null,"No"]
[]
["If yes, complete the following calculation:"]
["1.","Total net income from self-employment for all years being averaged"]
[null,"i.e., total of Line 10 amounts for all years being averaged",null,null,null,null,null,null,null,null,null,null,null,null,null,null,null,null,null,null,{"$f":"G78+K78+O78+S78+W78","v":0},null,{"$f":"IF(M84=\"X\",0,G78+K78+O78+S78+W78)","v":0}]
["2.","Number of years being averaged",null,null,null,null,null,null,null,null,null,null,null,null,null,null,null,null,null,null,{"$f":"IF(H21=0,0,IF('SE Obe2'!I12=0,0,IF('SE Obe2'!M12=0,1,IF('SE Obe2'!Q12=0,2,IF('SE Obe2'!U12=0,3,IF('SE Obe2'!Y12=0,4,5))))))","v":0},null,{"$f":"IF(M84=\"X\",0,IF(H21=0,0,IF('SE Obe2'!I12=0,0,IF('SE Obe2'!M12=0,1,IF('SE Obe2'!Q12=0,2,IF('SE Obe2'!U12=0,3,IF('SE Obe2'!Y12=0,4,5)))))))","v":0}]
["3.","Average annual net income from self-employment (Line 1 ÷ Line 2)",null,null,null,null,null,null,null,null,null,null,null,null,null,null,null,null,null,null,{"$f":"ROUND(IF(U89=0,0,U88/U89),0)","v":0},null,{"$f":"ROUND(IF(W89=0,0,W88/W89),0)","v":0}]
[]
["If line 3 is a positive number, enter the amount onto the worksheet, line 3."]
[]
["Note: If there are multiple self-employment activities, income from each activity must be "]
["calculated and averaged separately.  Thus, a separate Schedule B must be completed"]
["for each activity."]
[]
["Treatment of self-employment losses"]
["If the result of averaging the self-employment income is a loss, if the self-employment"]
["activity is not a hobby, and if there is other income not related to the self-employment"]
["activity that produced the loss, the self-employment loss may be used to reduce the other"]
["income in certain circumstances.  If applicable, complete either Section 1 or Section 2 "]
["to determine if self-employment losses may be used to reduce other income."]
[]
["This document was created by using Child"]
["Support's web based guidelines calculator.",null,null,null,null,null,null,null,null,null,null,null,null,null,null,null,null,null,null,null,null,null,null,null,null,{"$f":"\"Schedule B/Page 2 of 3/\"&Rates!N16&\" \"&Rates!O16","v":"Schedule B/Page 2 of 3/July 2023"}]
["If less than three years were averaged, complete Section 1 only.  If three, four, or five "]
["years were averaged, complete Section 2 only."]
[]
["Section 1:  This section is for use if less than three years were averaged.  -05(6)"]
["1.","Monthly gross income",null,null,null,null,null,null,null,null,null,null,null,null,null,null,null,null,null,null,null,null,{"$f":"IF('SE Obe2'!$Z$26=\"Y\",IF('SE Loss-Obe'!J22=0,0,IF($U$90<0,IF($U$89<3,'SE Loss-Obe'!$N$22,0),0)),0)","v":0}]
["2.","One-twelfth of average annual self-employment loss",null,null,null,null,null,null,null,null,null,null,null,null,null,null,null,null,null,null,null,null,{"$f":"-ROUND(IF(W111>0,U90/12,0),0)","v":0}]
["3.","Line 1 less Line 2",null,null,null,null,null,null,null,null,null,null,null,null,null,null,null,null,null,null,null,null,{"$f":"W111-W112","v":0}]
[]
["Self-employment loss may be used to reduce other income only if amount on Line 3"]
["equals or exceeds the greatest of:"]
[null,"a.","167 times federal minimum wage",null,null,null,null,null,null,null,null,null,null,null,null,null,null,null,{"$f":"ROUND(IF(W111>0,167*Rates!G11,0),0)","v":0}]
[null,null,"(",{"$f":"Rates!G11","v":7.25},"per hour ……. ",null,null,{"$f":"ROUND(Rates!G11*167,0)","v":1211},null,")"]
[null,"b.",".6 times statewide average earnings for"]
[null,null,"persons with similar work history and"]
[null,null,"occupational qualifications",null,null,null,null,null,null,null,null,null,null,null,null,null,null,null,{"$f":"ROUND(IF(W111>0,'SE Loss-Obe'!N23*0.6,0),0)","v":0}]
[null,"c.",".8 times obligor's greatest average gross monthly"]
[null,null,"earnings, calculated without using self-employment"]
[null,null,"losses, in any 12 consecutive months included in"]
[null,null,"the current calendar year and the two previous"]
[null,null,"calendar years",null,null,null,null,null,null,null,null,null,null,null,null,null,null,null,{"$f":"ROUND(IF(W111>0,'SE Loss-Obe'!N24*0.8,0),0)","v":0},null,null,null,{"$f":"IF(W111=0,0,IF(W113+0.01>S117,IF(W113+0.01>S121,IF(W113+0.01>S126,W113,0),0),0))","v":0}]
[]
["If loss is allowable, enter amount from line 3 onto the worksheet, line 3."]
[]
["Section 2:  This section is for use if three, four, or five years were averaged.  -05(7)"]
["1.","When three or more years were averaged, were losses calculated for more than"]
[null,"40% of those years?"]
[null,null,null,null,null,null,null,{"$f":"IF(W90<0,IF(W89<3,\"\",IF(W89=5,IF(X133<3,\"\",\"X\"),IF(W89=4,IF(X133<2,\"\",\"X\"),IF(W89=3,IF(X133<2,\"\",\"X\"),0)))),\"\")","v":""},"Yes",null,null,{"$f":"IF(W90<0,IF(W89<3,\"\",IF(W89=5,IF(X133<3,\"X\",\"\"),IF(W89=4,IF(X133<2,\"X\",\"\"),IF(W89=3,IF(X133<2,\"X\",\"\"),0)))),\"\")","v":""},"No",null,null,null,null,null,null,null,null,null,null,{"$f":"IF(G78<0,1,0)+IF(K78<0,1,0)+IF(O78<0,1,0)+IF(S78<0,1,0)+IF(W78<0,1,0)","v":0}]
[]
[]
["If the answer to Line 1 is yes, STOP.  The self-employment loss may not be used to "]
["reduce other income.  If the answer to Line 1 is no, continue with analysis."]
[]
["2.","Monthly gross income",null,null,null,null,null,null,null,null,null,null,null,null,null,null,null,null,null,null,null,null,{"$f":"IF('SE Obe2'!$Z$26=\"Y\",IF('SE Loss-Obe'!J22=0,0,IF($W$90<0,IF(L133=\"X\",'SE Loss-Obe'!N22,0),0)),0)","v":0}]
["3.","One-twelfth of average annual self-employment loss",null,null,null,null,null,null,null,null,null,null,null,null,null,null,null,null,null,null,null,null,{"$f":"-ROUND(IF(W139>0,W90/12,0),0)","v":0}]
["4.","Line 2 less Line 3",null,null,null,null,null,null,null,null,null,null,null,null,null,null,null,null,null,null,null,null,{"$f":"W139-W140","v":0}]
[]
["Self-employment loss may be used to reduce other income only if amount on Line 4"]
["equals or exceeds the greatest of:"]
[null,"a.","167 times federal minimum wage",null,null,null,null,null,null,null,null,null,null,null,null,null,null,null,{"$f":"ROUND(IF(W139>0,167*Rates!G11,0),0)","v":0}]
[null,null,"(",{"$f":"Rates!G11","v":7.25},"per hour ……. ",null,null,{"$f":"ROUND(Rates!G11*167,0)","v":1211},null,")"]
[null,"b.",".6 times statewide average earnings for"]
[null,null,"persons with similar work history and"]
[null,null,"occupational qualifications",null,null,null,null,null,null,null,null,null,null,null,null,null,null,null,{"$f":"ROUND(IF(W139>0,'SE Loss-Obe'!N23*0.6,0),0)","v":0}]
[null,"c.",".9 times obligor's greatest average gross monthly"]
[null,null,"earnings, calculated without using self-employment"]
[null,null,"losses, in any 12 consecutive months included in"]
[null,null,"the current calendar year and the two previous"]
[null,null,"calendar years",null,null,null,null,null,null,null,null,null,null,null,null,null,null,null,{"$f":"ROUND(IF(W139>0,'SE Loss-Obe'!N24*0.9,0),0)","v":0},null,null,null,{"$f":"IF(W139=0,0,IF(W141+0.01>S145,IF(W141+0.01>S149,IF(W141+0.01>S154,W90,0),0),0))","v":0}]
[]
["If loss is allowable, enter amount from line 4 onto the worksheet, line 3."]
[null,"Countable Self-Employment profit or loss",null,null,null,null,null,null,null,null,null,null,null,null,null,null,null,null,{"$f":"IF(U90<0,IF(W126=0,IF(W154=0,0,W154),W126),U90)","v":0}]
["This document was created by using Child"]
["Support's web based guidelines calculator.",null,null,null,null,null,null,null,null,null,null,null,null,null,null,null,null,null,null,null,null,null,null,null,null,{"$f":"\"Schedule B/Page 3 of 3/\"&Rates!N16&\" \"&Rates!O16","v":"Schedule B/Page 3 of 3/July 2023"}]

{"sheet":"SchB3 Obge","index":21,"n_rows":159,"n_cols":26,"rows_kept":159,"cut":false,"hidden":false,"merged":[[0,0,0,22],[1,0,1,25],[2,0,2,25],[16,0,16,24],[17,0,17,24],[28,18,28,20],[28,22,28,24],[33,6,33,8],[33,10,33,12],[33,14,33,16],[33,18,33,20],[33,22,33,24],[28,6,28,8],[28,10,28,12],[28,14,28,16],[36,6,36,8],[36,10,36,12],[36,14,36,16],[36,18,36,20],[36,22,36,24],[42,6,42,8],[42,10,42,12],[42,14,42,16],[42,18,42,20],[42,22,42,24],[44,6,44,8],[44,10,44,12],[44,14,44,16],[44,18,44,20],[44,22,44,24],[52,18,52,20],[52,22,52,24],[59,6,59,8],[59,10,59,12],[59,14,59,16],[59,18,59,20],[59,22,59,24],[52,6,52,8],[52,10,52,12],[52,14,52,16],[64,10,64,12],[64,14,64,16],[64,18,64,20],[64,22,64,24],[66,6,66,8],[66,10,66,12],[66,14,66,16],[66,18,66,20],[66,22,66,24],[64,6,64,8],[67,6,67,8],[67,10,67,12],[67,14,67,16],[67,18,67,20],[67,22,67,24],[69,6,69,8],[69,10,69,12],[69,14,69,16],[69,18,69,20],[69,22,69,24],[70,6,70,8],[70,10,70,12],[70,14,70,16],[70,18,70,20],[70,22,70,24],[72,6,72,8],[72,10,72,12],[72,14,72,16],[72,18,72,20],[72,22,72,24],[77,6,77,8],[77,10,77,12],[77,14,77,16],[77,18,77,20],[77,22,77,24],[83,8,83,10],[83,12,83,14],[87,22,87,24],[88,22,88,24],[89,22,89,24],[110,22,110,24],[111,22,111,24],[112,22,112,24],[116,18,116,20],[117,7,117,8],[120,18,120,20],[125,18,125,20],[125,22,125,24],[138,22,138,24],[139,22,139,24],[156,18,156,20],[140,22,140,24],[144,18,144,20],[145,7,145,8],[148,18,148,20],[153,18,153,20],[153,22,153,24]]}
["                 CHILD SUPPORT GUIDELINES",null,null,null,null,null,null,null,null,null,null,null,null,null,null,null,null,null,null,null,null,null,null,3,{"$f":"Rates!P52","v":0}]
["SCHEDULE B - SELF-EMPLOYMENT INCOME"]
["(N.D. Admin. Code § 75-02-04.1-05)"]
[]
["OBLIGOR:",null,null,{"$f":"IF(H21=0,0,'Wks1 Obge'!D5)","v":0}]
["OBLIGEE:",null,null,{"$f":"IF(H21=0,0,'Wks1 Obge'!D6)","v":0}]
[]
["This schedule is for use in determining net income from self-employment.  Self-"]
["employment means employment that results in an obligor earning income from any"]
["business organization or entity which the obligor is able to directly or indirectly control to"]
["a significant extent.  It also includes any activity that generates income from rental"]
["property, royalties, business gains, partnerships, trusts, corporations, and any other "]
["organization or entity regardless of form and regardless of whether such activity would"]
["be considered self-employment activity under the Internal Revenue Code."]
[]
["Name of business/description of self-employment activity to which this schedule relates:"]
[{"$f":"IF(H21=0,0,'SE Obe3'!$B$9)","v":0}]
[{"$f":"IF(H21=0,0,'SE Obe3'!$B$10)","v":0}]
[]
["TOTAL INCOME"]
["Tax year from IRS 1040 form",null,null,null,null,null,null,{"$f":"IF(OR(Rates!O22=\"Yes\",QuesScr!L16<1),0,'SE Obe3'!I$12)","v":0},null,null,null,{"$f":"IF(H21=0,0,'SE Obe3'!M$12)","v":0},null,null,null,{"$f":"IF(L21=0,0,'SE Obe3'!Q$12)","v":0},null,null,null,{"$f":"IF(P21=0,0,'SE Obe3'!U$12)","v":0},null,null,null,{"$f":"IF(T21=0,0,'SE Obe3'!Y$12)","v":0}]
["1.","Total income -05(1) (This"]
[null,"amount is taken from either"]
[null,"a tax return or from a profit"]
[null,"and loss statement.  If it is"]
[null,"taken from a tax return, use"]
[null,"the \"total income\" line on"]
[null,"the IRS form 1040;  i.e.,"]
[null,{"$f":"\"line 22 of \"&Rates!O17 &\" tax return.)\"","v":"line 22 of 2017 tax return.)"},null,null,null,null,{"$f":"IF(H21=0,0,'SE Obe3'!K$13)","v":0},null,null,null,{"$f":"IF(L21=0,0,'SE Obe3'!O$13)","v":0},null,null,null,{"$f":"IF(P21=0,0,'SE Obe3'!S$13)","v":0},null,null,null,{"$f":"IF(T21=0,0,'SE Obe3'!W$13)","v":0},null,null,null,{"$f":"IF(X21=0,0,'SE Obe3'!AA$13)","v":0}]
[]
["DEDUCTIONS"]
["2.","Amount of total income"]
[null,"that is not the obligor's"]
[null,"income -05(1)(a)(1)",null,null,null,null,{"$f":"IF(H21=0,0,'SE Obe3'!K$14)","v":0},null,null,null,{"$f":"IF(L21=0,0,'SE Obe3'!O$14)","v":0},null,null,null,{"$f":"IF(P21=0,0,'SE Obe3'!S$14)","v":0},null,null,null,{"$f":"IF(T21=0,0,'SE Obe3'!W$14)","v":0},null,null,null,{"$f":"IF(X21=0,0,'SE Obe3'!AA$14)","v":0}]
["3","Amount of total income that "]
[null,"does not come from this self-"]
[null,"employment -05(1)(a)(1)",null,null,null,null,{"$f":"IF(H21=0,0,'SE Obe3'!K$15)","v":0},null,null,null,{"$f":"IF(L21=0,0,'SE Obe3'!O$15)","v":0},null,null,null,{"$f":"IF(P21=0,0,'SE Obe3'!S$15)","v":0},null,null,null,{"$f":"IF(T21=0,0,'SE Obe3'!W$15)","v":0},null,null,null,{"$f":"IF(X21=0,0,'SE Obe3'!AA$15)","v":0}]
["4.","Amount of income from "]
[null,"partnership or S corporation "]
[null,"over which obligor "]
[null,"does not have significant "]
[null,"control that has not been "]
[null,"distributed -05(1)(a)(2)",null,null,null,null,{"$f":"IF(H21=0,0,'SE Obe3'!K$16)","v":0},null,null,null,{"$f":"IF(L21=0,0,'SE Obe3'!O$16)","v":0},null,null,null,{"$f":"IF(P21=0,0,'SE Obe3'!S$16)","v":0},null,null,null,{"$f":"IF(T21=0,0,'SE Obe3'!W$16)","v":0},null,null,null,{"$f":"IF(X21=0,0,'SE Obe3'!AA$16)","v":0}]
["5.","Total deductions (total of "]
[null,"Lines 2 through 4)",null,null,null,null,{"$f":"G34+G37+G43","v":0},null,null,null,{"$f":"K34+K37+K43","v":0},null,null,null,{"$f":"O34+O37+O43","v":0},null,null,null,{"$f":"S34+S37+S43","v":0},null,null,null,{"$f":"W34+W37+W43","v":0}]
[]
["ADDITIONS"]
["6.","Business expenses "]
[null,"attributable to the obligor or"]
[null,"a member of the obligor's"]
[null,"household for benefits,"]
[null,"pensions, profit-sharing"]
[null,"plans -05(1)(b)(1)",null,null,null,null,{"$f":"IF(H21=0,0,'SE Obe3'!K$17)","v":0},null,null,null,{"$f":"IF(L21=0,0,'SE Obe3'!O$17)","v":0},null,null,null,{"$f":"IF(P21=0,0,'SE Obe3'!S$17)","v":0},null,null,null,{"$f":"IF(T21=0,0,'SE Obe3'!W$17)","v":0},null,null,null,{"$f":"IF(X21=0,0,'SE Obe3'!AA$17)","v":0}]
[]
["This document was created by using Child"]
["Support's web based guidelines calculator.",null,null,null,null,null,null,null,null,null,null,null,null,null,null,null,null,null,null,null,null,null,null,null,null,{"$f":"\"Schedule B/Page 1 of 3/\"&Rates!N16&\" \"&Rates!O16","v":"Schedule B/Page 1 of 3/July 2023"}]
["7.","Payments to household member "]
[null,"to extent payment exceeds "]
[null,"fair market value of "]
[null,"services -05(1)(b)(2)",null,null,null,null,{"$f":"IF(H21=0,0,'SE Obe3'!K$18)","v":0},null,null,null,{"$f":"IF(L21=0,0,'SE Obe3'!O$18)","v":0},null,null,null,{"$f":"IF(P21=0,0,'SE Obe3'!S$18)","v":0},null,{"$f":"SUM(O60:P60)","v":0},null,{"$f":"IF(T21=0,0,'SE Obe3'!W$18)","v":0},null,null,null,{"$f":"IF(X21=0,0,'SE Obe3'!AA$18)","v":0}]
["8.","Income from C corporation "]
[null,"over which obligor has "]
[null,"significant control -05(1)(b)(3):"]
[null,"8a.","C corporation taxable "]
[null,null,"income",null,null,null,{"$f":"IF(H21=0,0,'SE Obe3'!K$19)","v":0},null,null,null,{"$f":"IF(L21=0,0,'SE Obe3'!O$19)","v":0},null,null,null,{"$f":"IF(P21=0,0,'SE Obe3'!S$19)","v":0},null,null,null,{"$f":"IF(T21=0,0,'SE Obe3'!W$19)","v":0},null,null,null,{"$f":"IF(X21=0,0,'SE Obe3'!AA$19)","v":0}]
[null,"8b.","C corporation federal "]
[null,null,"income tax",null,null,null,{"$f":"IF(H21=0,0,'SE Obe3'!K$20)","v":0},null,null,null,{"$f":"IF(L21=0,0,'SE Obe3'!O$20)","v":0},null,null,null,{"$f":"IF(P21=0,0,'SE Obe3'!S$20)","v":0},null,null,null,{"$f":"IF(T21=0,0,'SE Obe3'!W$20)","v":0},null,null,null,{"$f":"IF(X21=0,0,'SE Obe3'!AA$20)","v":0}]
[null,"8c.","Line 8a less Line 8b",null,null,null,{"$f":"G65-G67","v":0},null,null,null,{"$f":"K65-K67","v":0},null,null,null,{"$f":"O65-O67","v":0},null,null,null,{"$f":"S65-S67","v":0},null,null,null,{"$f":"W65-W67","v":0}]
[null,"8d.","Obligor's ownership "]
[null,null,"interest X .70",null,null,null,{"$f":"IF(H21=0,0,ROUND('SE Obe3'!I$21*0.7/100,2))","v":0},null,null,null,{"$f":"IF(L21=0,0,ROUND('SE Obe3'!M$21*0.7/100,2))","v":0},null,null,null,{"$f":"IF(P21=0,0,ROUND('SE Obe3'!Q$21*0.7/100,2))","v":0},null,null,null,{"$f":"IF(T21=0,0,ROUND('SE Obe3'!U$21*0.7/100,2))","v":0},null,null,null,{"$f":"IF(X21=0,0,ROUND('SE Obe3'!Y$21*0.7/100,2))","v":0}]
[null,"8e.","Line 8c X Line 8d",null,null,null,{"$f":"G70*G68","v":0},null,null,null,{"$f":"K70*K68","v":0},null,null,null,{"$f":"O70*O68","v":0},null,null,null,{"$f":"S70*S68","v":0},null,null,null,{"$f":"W70*W68","v":0}]
["9.","Total additions (total of "]
[null,"Lines 6, 7, and 8e)",null,null,null,null,{"$f":"G53+G60+G71","v":0},null,null,null,{"$f":"K53+K60+K71","v":0},null,null,null,{"$f":"O53+O60+O71","v":0},null,null,null,{"$f":"S53+S60+S71","v":0},null,null,null,{"$f":"W53+W60+W71","v":0}]
[]
["ANNUAL NET INCOME FROM SELF-EMPLOYMENT"]
["10.","Annual net income from "]
[null,"self-employment ((Line 1 "]
[null,"- Line 5) + Line 9)",null,null,null,null,{"$f":"G29-G45+G73","v":0},null,null,null,{"$f":"K29-K45+K73","v":0},null,null,null,{"$f":"O29-O45+O73","v":0},null,null,null,{"$f":"S29-S45+S73","v":0},null,null,null,{"$f":"W29-W45+W73","v":0}]
[]
["Note:  When dealing with self-employment income, the guidelines contemplate a"]
["calculation of up to a 5-year average of self-employment income to account for the"]
["significant changes that may occur in the business."]
[]
["Are multiple years being calculated:",null,null,null,null,null,null,null,{"$f":"IF(L21=0,\"\",\"X\")","v":""},null,null,"Yes",{"$f":"IF(L21=0,\"X\",\"\")","v":"X"},null,null,"No"]
[]
["If yes, complete the following calculation:"]
["1.","Total net income from self-employment for all years being averaged"]
[null,"i.e., total of Line 10 amounts for all years being averaged",null,null,null,null,null,null,null,null,null,null,null,null,null,null,null,null,null,null,{"$f":"G78+K78+O78+S78+W78","v":0},null,{"$f":"IF(M84=\"X\",0,G78+K78+O78+S78+W78)","v":0}]
["2.","Number of years being averaged",null,null,null,null,null,null,null,null,null,null,null,null,null,null,null,null,null,null,{"$f":"IF(H21=0,0,IF('SE Obe3'!I12=0,0,IF('SE Obe3'!M12=0,1,IF('SE Obe3'!Q12=0,2,IF('SE Obe3'!U12=0,3,IF('SE Obe3'!Y12=0,4,5))))))","v":0},null,{"$f":"IF(M84=\"X\",0,IF(H21=0,0,IF('SE Obe3'!I12=0,0,IF('SE Obe3'!M12=0,1,IF('SE Obe3'!Q12=0,2,IF('SE Obe3'!U12=0,3,IF('SE Obe3'!Y12=0,4,5)))))))","v":0}]
["3.","Average annual net income from self-employment (Line 1 ÷ Line 2)",null,null,null,null,null,null,null,null,null,null,null,null,null,null,null,null,null,null,{"$f":"ROUND(IF(U89=0,0,U88/U89),0)","v":0},null,{"$f":"ROUND(IF(W89=0,0,W88/W89),0)","v":0}]
[]
["If line 3 is a positive number, enter the amount onto the worksheet, line 3."]
[]
["Note: If there are multiple self-employment activities, income from each activity must be "]
["calculated and averaged separately.  Thus, a separate Schedule B must be completed"]
["for each activity."]
[]
["Treatment of self-employment losses"]
["If the result of averaging the self-employment income is a loss, if the self-employment"]
["activity is not a hobby, and if there is other income not related to the self-employment"]
["activity that produced the loss, the self-employment loss may be used to reduce the other"]
["income in certain circumstances.  If applicable, complete either Section 1 or Section 2 "]
["to determine if self-employment losses may be used to reduce other income."]
[]
["This document was created by using Child"]
["Support's web based guidelines calculator.",null,null,null,null,null,null,null,null,null,null,null,null,null,null,null,null,null,null,null,null,null,null,null,null,{"$f":"\"Schedule B/Page 2 of 3/\"&Rates!N16&\" \"&Rates!O16","v":"Schedule B/Page 2 of 3/July 2023"}]
["If less than three years were averaged, complete Section 1 only.  If three, four, or five "]
["years were averaged, complete Section 2 only."]
[]
["Section 1:  This section is for use if less than three years were averaged.  -05(6)"]
["1.","Monthly gross income",null,null,null,null,null,null,null,null,null,null,null,null,null,null,null,null,null,null,null,null,{"$f":"IF('SE Obe3'!$Z$26=\"Y\",IF('SE Loss-Obe'!J22=0,0,IF($U$90<0,IF($U$89<3,'SE Loss-Obe'!$N$22,0),0)),0)","v":0}]
["2.","One-twelfth of average annual self-employment loss",null,null,null,null,null,null,null,null,null,null,null,null,null,null,null,null,null,null,null,null,{"$f":"-ROUND(IF(W111>0,U90/12,0),0)","v":0}]
["3.","Line 1 less Line 2",null,null,null,null,null,null,null,null,null,null,null,null,null,null,null,null,null,null,null,null,{"$f":"W111-W112","v":0}]
[]
["Self-employment loss may be used to reduce other income only if amount on Line 3"]
["equals or exceeds the greatest of:"]
[null,"a.","167 times federal minimum wage",null,null,null,null,null,null,null,null,null,null,null,null,null,null,null,{"$f":"ROUND(IF(W111>0,167*Rates!G11,0),0)","v":0}]
[null,null,"(",{"$f":"Rates!G11","v":7.25},"per hour ……. ",null,null,{"$f":"ROUND(Rates!G11*167,0)","v":1211},null,")"]
[null,"b.",".6 times statewide average earnings for"]
[null,null,"persons with similar work history and"]
[null,null,"occupational qualifications",null,null,null,null,null,null,null,null,null,null,null,null,null,null,null,{"$f":"ROUND(IF(W111>0,'SE Loss-Obe'!N23*0.6,0),0)","v":0}]
[null,"c.",".8 times obligor's greatest average gross monthly"]
[null,null,"earnings, calculated without using self-employment"]
[null,null,"losses, in any 12 consecutive months included in"]
[null,null,"the current calendar year and the two previous"]
[null,null,"calendar years",null,null,null,null,null,null,null,null,null,null,null,null,null,null,null,{"$f":"ROUND(IF(W111>0,'SE Loss-Obe'!N24*0.8,0),0)","v":0},null,null,null,{"$f":"IF(W111=0,0,IF(W113+0.01>S117,IF(W113+0.01>S121,IF(W113+0.01>S126,W113,0),0),0))","v":0}]
[]
["If loss is allowable, enter amount from line 3 onto the worksheet, line 3."]
[]
["Section 2:  This section is for use if three, four, or five years were averaged.  -05(7)"]
["1.","When three or more years were averaged, were losses calculated for more than"]
[null,"40% of those years?"]
[null,null,null,null,null,null,null,{"$f":"IF(W90<0,IF(W89<3,\"\",IF(W89=5,IF(X133<3,\"\",\"X\"),IF(W89=4,IF(X133<2,\"\",\"X\"),IF(W89=3,IF(X133<2,\"\",\"X\"),0)))),\"\")","v":""},"Yes",null,null,{"$f":"IF(W90<0,IF(W89<3,\"\",IF(W89=5,IF(X133<3,\"X\",\"\"),IF(W89=4,IF(X133<2,\"X\",\"\"),IF(W89=3,IF(X133<2,\"X\",\"\"),0)))),\"\")","v":""},"No",null,null,null,null,null,null,null,null,null,null,{"$f":"IF(G78<0,1,0)+IF(K78<0,1,0)+IF(O78<0,1,0)+IF(S78<0,1,0)+IF(W78<0,1,0)","v":0}]
[]
[]
["If the answer to Line 1 is yes, STOP.  The self-employment loss may not be used to "]
["reduce other income.  If the answer to Line 1 is no, continue with analysis."]
[]
["2.","Monthly gross income",null,null,null,null,null,null,null,null,null,null,null,null,null,null,null,null,null,null,null,null,{"$f":"IF('SE Obe3'!$Z$26=\"Y\",IF('SE Loss-Obe'!J22=0,0,IF($W$90<0,IF(L133=\"X\",'SE Loss-Obe'!N22,0),0)),0)","v":0}]
["3.","One-twelfth of average annual self-employment loss",null,null,null,null,null,null,null,null,null,null,null,null,null,null,null,null,null,null,null,null,{"$f":"-ROUND(IF(W139>0,W90/12,0),0)","v":0}]
["4.","Line 2 less Line 3",null,null,null,null,null,null,null,null,null,null,null,null,null,null,null,null,null,null,null,null,{"$f":"W139-W140","v":0}]
[]
["Self-employment loss may be used to reduce other income only if amount on Line 4"]
["equals or exceeds the greatest of:"]
[null,"a.","167 times federal minimum wage",null,null,null,null,null,null,null,null,null,null,null,null,null,null,null,{"$f":"ROUND(IF(W139>0,167*Rates!G11,0),0)","v":0}]
[null,null,"(",{"$f":"Rates!G11","v":7.25},"per hour ……. ",null,null,{"$f":"ROUND(Rates!G11*167,0)","v":1211},null,")"]
[null,"b.",".6 times statewide average earnings for"]
[null,null,"persons with similar work history and"]
[null,null,"occupational qualifications",null,null,null,null,null,null,null,null,null,null,null,null,null,null,null,{"$f":"ROUND(IF(W139>0,'SE Loss-Obe'!N23*0.6,0),0)","v":0}]
[null,"c.",".9 times obligor's greatest average gross monthly"]
[null,null,"earnings, calculated without using self-employment"]
[null,null,"losses, in any 12 consecutive months included in"]
[null,null,"the current calendar year and the two previous"]
[null,null,"calendar years",null,null,null,null,null,null,null,null,null,null,null,null,null,null,null,{"$f":"ROUND(IF(W139>0,'SE Loss-Obe'!N24*0.9,0),0)","v":0},null,null,null,{"$f":"IF(W139=0,0,IF(W141+0.01>S145,IF(W141+0.01>S149,IF(W141+0.01>S154,W90,0),0),0))","v":0}]
[]
["If loss is allowable, enter amount from line 4 onto the worksheet, line 3."]
[null,"Countable Self-Employment profit or loss",null,null,null,null,null,null,null,null,null,null,null,null,null,null,null,null,{"$f":"IF(U90<0,IF(W126=0,IF(W154=0,0,W154),W126),U90)","v":0}]
["This document was created by using Child"]
["Support's web based guidelines calculator.",null,null,null,null,null,null,null,null,null,null,null,null,null,null,null,null,null,null,null,null,null,null,null,null,{"$f":"\"Schedule B/Page 3 of 3/\"&Rates!N16&\" \"&Rates!O16","v":"Schedule B/Page 3 of 3/July 2023"}]

{"sheet":"SchB4 Obge","index":22,"n_rows":159,"n_cols":26,"rows_kept":159,"cut":false,"hidden":false,"merged":[[0,0,0,22],[1,0,1,25],[2,0,2,25],[16,0,16,24],[17,0,17,24],[28,18,28,20],[28,22,28,24],[33,6,33,8],[33,10,33,12],[33,14,33,16],[33,18,33,20],[33,22,33,24],[28,6,28,8],[28,10,28,12],[28,14,28,16],[36,6,36,8],[36,10,36,12],[36,14,36,16],[36,18,36,20],[36,22,36,24],[42,6,42,8],[42,10,42,12],[42,14,42,16],[42,18,42,20],[42,22,42,24],[44,6,44,8],[44,10,44,12],[44,14,44,16],[44,18,44,20],[44,22,44,24],[52,18,52,20],[52,22,52,24],[59,6,59,8],[59,10,59,12],[59,14,59,16],[59,18,59,20],[59,22,59,24],[52,6,52,8],[52,10,52,12],[52,14,52,16],[64,10,64,12],[64,14,64,16],[64,18,64,20],[64,22,64,24],[66,6,66,8],[66,10,66,12],[66,14,66,16],[66,18,66,20],[66,22,66,24],[64,6,64,8],[67,6,67,8],[67,10,67,12],[67,14,67,16],[67,18,67,20],[67,22,67,24],[69,6,69,8],[69,10,69,12],[69,14,69,16],[69,18,69,20],[69,22,69,24],[70,6,70,8],[70,10,70,12],[70,14,70,16],[70,18,70,20],[70,22,70,24],[72,6,72,8],[72,10,72,12],[72,14,72,16],[72,18,72,20],[72,22,72,24],[77,6,77,8],[77,10,77,12],[77,14,77,16],[77,18,77,20],[77,22,77,24],[83,8,83,10],[83,12,83,14],[87,22,87,24],[88,22,88,24],[89,22,89,24],[110,22,110,24],[111,22,111,24],[112,22,112,24],[116,18,116,20],[117,7,117,8],[120,18,120,20],[125,18,125,20],[125,22,125,24],[138,22,138,24],[139,22,139,24],[156,18,156,20],[140,22,140,24],[144,18,144,20],[145,7,145,8],[148,18,148,20],[153,18,153,20],[153,22,153,24]]}
["                 CHILD SUPPORT GUIDELINES",null,null,null,null,null,null,null,null,null,null,null,null,null,null,null,null,null,null,null,null,null,null,4,{"$f":"Rates!P52","v":0}]
["SCHEDULE B - SELF-EMPLOYMENT INCOME"]
["(N.D. Admin. Code § 75-02-04.1-05)"]
[]
["OBLIGOR:",null,null,{"$f":"IF(H21=0,0,'Wks1 Obge'!D5)","v":0}]
["OBLIGEE:",null,null,{"$f":"IF(H21=0,0,'Wks1 Obge'!D6)","v":0}]
[]
["This schedule is for use in determining net income from self-employment.  Self-"]
["employment means employment that results in an obligor earning income from any"]
["business organization or entity which the obligor is able to directly or indirectly control to"]
["a significant extent.  It also includes any activity that generates income from rental"]
["property, royalties, business gains, partnerships, trusts, corporations, and any other "]
["organization or entity regardless of form and regardless of whether such activity would"]
["be considered self-employment activity under the Internal Revenue Code."]
[]
["Name of business/description of self-employment activity to which this schedule relates:"]
[{"$f":"IF(H21=0,0,'SE Obe4'!$B$9)","v":0}]
[{"$f":"IF(H21=0,0,'SE Obe4'!$B$10)","v":0}]
[]
["TOTAL INCOME"]
["Tax year from IRS 1040 form",null,null,null,null,null,null,{"$f":"IF(OR(Rates!O22=\"Yes\",QuesScr!L16<1),0,'SE Obe4'!I$12)","v":0},null,null,null,{"$f":"IF(H21=0,0,'SE Obe4'!M$12)","v":0},null,null,null,{"$f":"IF(L21=0,0,'SE Obe4'!Q$12)","v":0},null,null,null,{"$f":"IF(P21=0,0,'SE Obe4'!U$12)","v":0},null,null,null,{"$f":"IF(T21=0,0,'SE Obe4'!Y$12)","v":0}]
["1.","Total income -05(1) (This"]
[null,"amount is taken from either"]
[null,"a tax return or from a profit"]
[null,"and loss statement.  If it is"]
[null,"taken from a tax return, use"]
[null,"the \"total income\" line on"]
[null,"the IRS form 1040;  i.e.,"]
[null,{"$f":"\"line 22 of \"&Rates!O17 &\" tax return.)\"","v":"line 22 of 2017 tax return.)"},null,null,null,null,{"$f":"IF(H21=0,0,'SE Obe4'!K$13)","v":0},null,null,null,{"$f":"IF(L21=0,0,'SE Obe4'!O$13)","v":0},null,null,null,{"$f":"IF(P21=0,0,'SE Obe4'!S$13)","v":0},null,null,null,{"$f":"IF(T21=0,0,'SE Obe4'!W$13)","v":0},null,null,null,{"$f":"IF(X21=0,0,'SE Obe4'!AA$13)","v":0}]
[]
["DEDUCTIONS"]
["2.","Amount of total income"]
[null,"that is not the obligor's"]
[null,"income -05(1)(a)(1)",null,null,null,null,{"$f":"IF(H21=0,0,'SE Obe4'!K$14)","v":0},null,null,null,{"$f":"IF(L21=0,0,'SE Obe4'!O$14)","v":0},null,null,null,{"$f":"IF(P21=0,0,'SE Obe4'!S$14)","v":0},null,null,null,{"$f":"IF(T21=0,0,'SE Obe4'!W$14)","v":0},null,null,null,{"$f":"IF(X21=0,0,'SE Obe4'!AA$14)","v":0}]
["3","Amount of total income that "]
[null,"does not come from this self-"]
[null,"employment -05(1)(a)(1)",null,null,null,null,{"$f":"IF(H21=0,0,'SE Obe4'!K$15)","v":0},null,null,null,{"$f":"IF(L21=0,0,'SE Obe4'!O$15)","v":0},null,null,null,{"$f":"IF(P21=0,0,'SE Obe4'!S$15)","v":0},null,null,null,{"$f":"IF(T21=0,0,'SE Obe4'!W$15)","v":0},null,null,null,{"$f":"IF(X21=0,0,'SE Obe4'!AA$15)","v":0}]
["4.","Amount of income from "]
[null,"partnership or S corporation "]
[null,"over which obligor "]
[null,"does not have significant "]
[null,"control that has not been "]
[null,"distributed -05(1)(a)(2)",null,null,null,null,{"$f":"IF(H21=0,0,'SE Obe4'!K$16)","v":0},null,null,null,{"$f":"IF(L21=0,0,'SE Obe4'!O$16)","v":0},null,null,null,{"$f":"IF(P21=0,0,'SE Obe4'!S$16)","v":0},null,null,null,{"$f":"IF(T21=0,0,'SE Obe4'!W$16)","v":0},null,null,null,{"$f":"IF(X21=0,0,'SE Obe4'!AA$16)","v":0}]
["5.","Total deductions (total of "]
[null,"Lines 2 through 4)",null,null,null,null,{"$f":"G34+G37+G43","v":0},null,null,null,{"$f":"K34+K37+K43","v":0},null,null,null,{"$f":"O34+O37+O43","v":0},null,null,null,{"$f":"S34+S37+S43","v":0},null,null,null,{"$f":"W34+W37+W43","v":0}]
[]
["ADDITIONS"]
["6.","Business expenses "]
[null,"attributable to the obligor or"]
[null,"a member of the obligor's"]
[null,"household for benefits,"]
[null,"pensions, profit-sharing"]
[null,"plans -05(1)(b)(1)",null,null,null,null,{"$f":"IF(H21=0,0,'SE Obe4'!K$17)","v":0},null,null,null,{"$f":"IF(L21=0,0,'SE Obe4'!O$17)","v":0},null,null,null,{"$f":"IF(P21=0,0,'SE Obe4'!S$17)","v":0},null,null,null,{"$f":"IF(T21=0,0,'SE Obe4'!W$17)","v":0},null,null,null,{"$f":"IF(X21=0,0,'SE Obe4'!AA$17)","v":0}]
[]
["This document was created by using Child"]
["Support's web based guidelines calculator.",null,null,null,null,null,null,null,null,null,null,null,null,null,null,null,null,null,null,null,null,null,null,null,null,{"$f":"\"Schedule B/Page 1 of 3/\"&Rates!N16&\" \"&Rates!O16","v":"Schedule B/Page 1 of 3/July 2023"}]
["7.","Payments to household member "]
[null,"to extent payment exceeds "]
[null,"fair market value of "]
[null,"services -05(1)(b)(2)",null,null,null,null,{"$f":"IF(H21=0,0,'SE Obe4'!K$18)","v":0},null,null,null,{"$f":"IF(L21=0,0,'SE Obe4'!O$18)","v":0},null,null,null,{"$f":"IF(P21=0,0,'SE Obe4'!S$18)","v":0},null,{"$f":"SUM(O60:P60)","v":0},null,{"$f":"IF(T21=0,0,'SE Obe4'!W$18)","v":0},null,null,null,{"$f":"IF(X21=0,0,'SE Obe4'!AA$18)","v":0}]
["8.","Income from C corporation "]
[null,"over which obligor has "]
[null,"significant control -05(1)(b)(3):"]
[null,"8a.","C corporation taxable "]
[null,null,"income",null,null,null,{"$f":"IF(H21=0,0,'SE Obe4'!K$19)","v":0},null,null,null,{"$f":"IF(L21=0,0,'SE Obe4'!O$19)","v":0},null,null,null,{"$f":"IF(P21=0,0,'SE Obe4'!S$19)","v":0},null,null,null,{"$f":"IF(T21=0,0,'SE Obe4'!W$19)","v":0},null,null,null,{"$f":"IF(X21=0,0,'SE Obe4'!AA$19)","v":0}]
[null,"8b.","C corporation federal "]
[null,null,"income tax",null,null,null,{"$f":"IF(H21=0,0,'SE Obe4'!K$20)","v":0},null,null,null,{"$f":"IF(L21=0,0,'SE Obe4'!O$20)","v":0},null,null,null,{"$f":"IF(P21=0,0,'SE Obe4'!S$20)","v":0},null,null,null,{"$f":"IF(T21=0,0,'SE Obe4'!W$20)","v":0},null,null,null,{"$f":"IF(X21=0,0,'SE Obe4'!AA$20)","v":0}]
[null,"8c.","Line 8a less Line 8b",null,null,null,{"$f":"G65-G67","v":0},null,null,null,{"$f":"K65-K67","v":0},null,null,null,{"$f":"O65-O67","v":0},null,null,null,{"$f":"S65-S67","v":0},null,null,null,{"$f":"W65-W67","v":0}]
[null,"8d.","Obligor's ownership "]
[null,null,"interest X .70",null,null,null,{"$f":"IF(H21=0,0,ROUND('SE Obe4'!I$21*0.7/100,2))","v":0},null,null,null,{"$f":"IF(L21=0,0,ROUND('SE Obe4'!M$21*0.7/100,2))","v":0},null,null,null,{"$f":"IF(P21=0,0,ROUND('SE Obe4'!Q$21*0.7/100,2))","v":0},null,null,null,{"$f":"IF(T21=0,0,ROUND('SE Obe4'!U$21*0.7/100,2))","v":0},null,null,null,{"$f":"IF(X21=0,0,ROUND('SE Obe4'!Y$21*0.7/100,2))","v":0}]
[null,"8e.","Line 8c X Line 8d",null,null,null,{"$f":"G70*G68","v":0},null,null,null,{"$f":"K70*K68","v":0},null,null,null,{"$f":"O70*O68","v":0},null,null,null,{"$f":"S70*S68","v":0},null,null,null,{"$f":"W70*W68","v":0}]
["9.","Total additions (total of "]
[null,"Lines 6, 7, and 8e)",null,null,null,null,{"$f":"G53+G60+G71","v":0},null,null,null,{"$f":"K53+K60+K71","v":0},null,null,null,{"$f":"O53+O60+O71","v":0},null,null,null,{"$f":"S53+S60+S71","v":0},null,null,null,{"$f":"W53+W60+W71","v":0}]
[]
["ANNUAL NET INCOME FROM SELF-EMPLOYMENT"]
["10.","Annual net income from "]
[null,"self-employment ((Line 1 "]
[null,"- Line 5) + Line 9)",null,null,null,null,{"$f":"G29-G45+G73","v":0},null,null,null,{"$f":"K29-K45+K73","v":0},null,null,null,{"$f":"O29-O45+O73","v":0},null,null,null,{"$f":"S29-S45+S73","v":0},null,null,null,{"$f":"W29-W45+W73","v":0}]
[]
["Note:  When dealing with self-employment income, the guidelines contemplate a"]
["calculation of up to a 5-year average of self-employment income to account for the"]
["significant changes that may occur in the business."]
[]
["Are multiple years being calculated:",null,null,null,null,null,null,null,{"$f":"IF(L21=0,\"\",\"X\")","v":""},null,null,"Yes",{"$f":"IF(L21=0,\"X\",\"\")","v":"X"},null,null,"No"]
[]
["If yes, complete the following calculation:"]
["1.","Total net income from self-employment for all years being averaged"]
[null,"i.e., total of Line 10 amounts for all years being averaged",null,null,null,null,null,null,null,null,null,null,null,null,null,null,null,null,null,null,{"$f":"G78+K78+O78+S78+W78","v":0},null,{"$f":"IF(M84=\"X\",0,G78+K78+O78+S78+W78)","v":0}]
["2.","Number of years being averaged",null,null,null,null,null,null,null,null,null,null,null,null,null,null,null,null,null,null,{"$f":"IF(H21=0,0,IF('SE Obe4'!I12=0,0,IF('SE Obe4'!M12=0,1,IF('SE Obe4'!Q12=0,2,IF('SE Obe4'!U12=0,3,IF('SE Obe4'!Y12=0,4,5))))))","v":0},null,{"$f":"IF(M84=\"X\",0,IF(H21=0,0,IF('SE Obe4'!I12=0,0,IF('SE Obe4'!M12=0,1,IF('SE Obe4'!Q12=0,2,IF('SE Obe4'!U12=0,3,IF('SE Obe4'!Y12=0,4,5)))))))","v":0}]
["3.","Average annual net income from self-employment (Line 1 ÷ Line 2)",null,null,null,null,null,null,null,null,null,null,null,null,null,null,null,null,null,null,{"$f":"ROUND(IF(U89=0,0,U88/U89),0)","v":0},null,{"$f":"ROUND(IF(W89=0,0,W88/W89),0)","v":0}]
[]
["If line 3 is a positive number, enter the amount onto the worksheet, line 3."]
[]
["Note: If there are multiple self-employment activities, income from each activity must be "]
["calculated and averaged separately.  Thus, a separate Schedule B must be completed"]
["for each activity."]
[]
["Treatment of self-employment losses"]
["If the result of averaging the self-employment income is a loss, if the self-employment"]
["activity is not a hobby, and if there is other income not related to the self-employment"]
["activity that produced the loss, the self-employment loss may be used to reduce the other"]
["income in certain circumstances.  If applicable, complete either Section 1 or Section 2 "]
["to determine if self-employment losses may be used to reduce other income."]
[]
["This document was created by using Child"]
["Support's web based guidelines calculator.",null,null,null,null,null,null,null,null,null,null,null,null,null,null,null,null,null,null,null,null,null,null,null,null,{"$f":"\"Schedule B/Page 2 of 3/\"&Rates!N16&\" \"&Rates!O16","v":"Schedule B/Page 2 of 3/July 2023"}]
["If less than three years were averaged, complete Section 1 only.  If three, four, or five "]
["years were averaged, complete Section 2 only."]
[]
["Section 1:  This section is for use if less than three years were averaged.  -05(6)"]
["1.","Monthly gross income",null,null,null,null,null,null,null,null,null,null,null,null,null,null,null,null,null,null,null,null,{"$f":"IF('SE Obe4'!$Z$26=\"Y\",IF('SE Loss-Obe'!J22=0,0,IF($U$90<0,IF($U$89<3,'SE Loss-Obe'!$N$22,0),0)),0)","v":0}]
["2.","One-twelfth of average annual self-employment loss",null,null,null,null,null,null,null,null,null,null,null,null,null,null,null,null,null,null,null,null,{"$f":"-ROUND(IF(W111>0,U90/12,0),0)","v":0}]
["3.","Line 1 less Line 2",null,null,null,null,null,null,null,null,null,null,null,null,null,null,null,null,null,null,null,null,{"$f":"W111-W112","v":0}]
[]
["Self-employment loss may be used to reduce other income only if amount on Line 3"]
["equals or exceeds the greatest of:"]
[null,"a.","167 times federal minimum wage",null,null,null,null,null,null,null,null,null,null,null,null,null,null,null,{"$f":"ROUND(IF(W111>0,167*Rates!G11,0),0)","v":0}]
[null,null,"(",{"$f":"Rates!G11","v":7.25},"per hour ……. ",null,null,{"$f":"ROUND(Rates!G11*167,0)","v":1211},null,")"]
[null,"b.",".6 times statewide average earnings for"]
[null,null,"persons with similar work history and"]
[null,null,"occupational qualifications",null,null,null,null,null,null,null,null,null,null,null,null,null,null,null,{"$f":"ROUND(IF(W111>0,'SE Loss-Obe'!N23*0.6,0),0)","v":0}]
[null,"c.",".8 times obligor's greatest average gross monthly"]
[null,null,"earnings, calculated without using self-employment"]
[null,null,"losses, in any 12 consecutive months included in"]
[null,null,"the current calendar year and the two previous"]
[null,null,"calendar years",null,null,null,null,null,null,null,null,null,null,null,null,null,null,null,{"$f":"ROUND(IF(W111>0,'SE Loss-Obe'!N24*0.8,0),0)","v":0},null,null,null,{"$f":"IF(W111=0,0,IF(W113+0.01>S117,IF(W113+0.01>S121,IF(W113+0.01>S126,W113,0),0),0))","v":0}]
[]
["If loss is allowable, enter amount from line 3 onto the worksheet, line 3."]
[]
["Section 2:  This section is for use if three, four, or five years were averaged.  -05(7)"]
["1.","When three or more years were averaged, were losses calculated for more than"]
[null,"40% of those years?"]
[null,null,null,null,null,null,null,{"$f":"IF(W90<0,IF(W89<3,\"\",IF(W89=5,IF(X133<3,\"\",\"X\"),IF(W89=4,IF(X133<2,\"\",\"X\"),IF(W89=3,IF(X133<2,\"\",\"X\"),0)))),\"\")","v":""},"Yes",null,null,{"$f":"IF(W90<0,IF(W89<3,\"\",IF(W89=5,IF(X133<3,\"X\",\"\"),IF(W89=4,IF(X133<2,\"X\",\"\"),IF(W89=3,IF(X133<2,\"X\",\"\"),0)))),\"\")","v":""},"No",null,null,null,null,null,null,null,null,null,null,{"$f":"IF(G78<0,1,0)+IF(K78<0,1,0)+IF(O78<0,1,0)+IF(S78<0,1,0)+IF(W78<0,1,0)","v":0}]
[]
[]
["If the answer to Line 1 is yes, STOP.  The self-employment loss may not be used to "]
["reduce other income.  If the answer to Line 1 is no, continue with analysis."]
[]
["2.","Monthly gross income",null,null,null,null,null,null,null,null,null,null,null,null,null,null,null,null,null,null,null,null,{"$f":"IF('SE Obe4'!$Z$26=\"Y\",IF('SE Loss-Obe'!J22=0,0,IF($W$90<0,IF(L133=\"X\",'SE Loss-Obe'!N22,0),0)),0)","v":0}]
["3.","One-twelfth of average annual self-employment loss",null,null,null,null,null,null,null,null,null,null,null,null,null,null,null,null,null,null,null,null,{"$f":"-ROUND(IF(W139>0,W90/12,0),0)","v":0}]
["4.","Line 2 less Line 3",null,null,null,null,null,null,null,null,null,null,null,null,null,null,null,null,null,null,null,null,{"$f":"W139-W140","v":0}]
[]
["Self-employment loss may be used to reduce other income only if amount on Line 4"]
["equals or exceeds the greatest of:"]
[null,"a.","167 times federal minimum wage",null,null,null,null,null,null,null,null,null,null,null,null,null,null,null,{"$f":"ROUND(IF(W139>0,167*Rates!G11,0),0)","v":0}]
[null,null,"(",{"$f":"Rates!G11","v":7.25},"per hour ……. ",null,null,{"$f":"ROUND(Rates!G11*167,0)","v":1211},null,")"]
[null,"b.",".6 times statewide average earnings for"]
[null,null,"persons with similar work history and"]
[null,null,"occupational qualifications",null,null,null,null,null,null,null,null,null,null,null,null,null,null,null,{"$f":"ROUND(IF(W139>0,'SE Loss-Obe'!N23*0.6,0),0)","v":0}]
[null,"c.",".9 times obligor's greatest average gross monthly"]
[null,null,"earnings, calculated without using self-employment"]
[null,null,"losses, in any 12 consecutive months included in"]
[null,null,"the current calendar year and the two previous"]
[null,null,"calendar years",null,null,null,null,null,null,null,null,null,null,null,null,null,null,null,{"$f":"ROUND(IF(W139>0,'SE Loss-Obe'!N24*0.9,0),0)","v":0},null,null,null,{"$f":"IF(W139=0,0,IF(W141+0.01>S145,IF(W141+0.01>S149,IF(W141+0.01>S154,W90,0),0),0))","v":0}]
[]
["If loss is allowable, enter amount from line 4 onto the worksheet, line 3."]
[null,"Countable Self-Employment profit or loss",null,null,null,null,null,null,null,null,null,null,null,null,null,null,null,null,{"$f":"IF(U90<0,IF(W126=0,IF(W154=0,0,W154),W126),U90)","v":0}]
["This document was created by using Child"]
["Support's web based guidelines calculator.",null,null,null,null,null,null,null,null,null,null,null,null,null,null,null,null,null,null,null,null,null,null,null,null,{"$f":"\"Schedule B/Page 3 of 3/\"&Rates!N16&\" \"&Rates!O16","v":"Schedule B/Page 3 of 3/July 2023"}]

{"sheet":"SchB5 Obge","index":23,"n_rows":159,"n_cols":26,"rows_kept":159,"cut":false,"hidden":false,"merged":[[0,0,0,22],[1,0,1,25],[2,0,2,25],[16,0,16,24],[17,0,17,24],[28,18,28,20],[28,22,28,24],[33,6,33,8],[33,10,33,12],[33,14,33,16],[33,18,33,20],[33,22,33,24],[28,6,28,8],[28,10,28,12],[28,14,28,16],[36,6,36,8],[36,10,36,12],[36,14,36,16],[36,18,36,20],[36,22,36,24],[42,6,42,8],[42,10,42,12],[42,14,42,16],[42,18,42,20],[42,22,42,24],[44,6,44,8],[44,10,44,12],[44,14,44,16],[44,18,44,20],[44,22,44,24],[52,18,52,20],[52,22,52,24],[59,6,59,8],[59,10,59,12],[59,14,59,16],[59,18,59,20],[59,22,59,24],[52,6,52,8],[52,10,52,12],[52,14,52,16],[64,10,64,12],[64,14,64,16],[64,18,64,20],[64,22,64,24],[66,6,66,8],[66,10,66,12],[66,14,66,16],[66,18,66,20],[66,22,66,24],[64,6,64,8],[67,6,67,8],[67,10,67,12],[67,14,67,16],[67,18,67,20],[67,22,67,24],[69,6,69,8],[69,10,69,12],[69,14,69,16],[69,18,69,20],[69,22,69,24],[70,6,70,8],[70,10,70,12],[70,14,70,16],[70,18,70,20],[70,22,70,24],[72,6,72,8],[72,10,72,12],[72,14,72,16],[72,18,72,20],[72,22,72,24],[77,6,77,8],[77,10,77,12],[77,14,77,16],[77,18,77,20],[77,22,77,24],[83,8,83,10],[83,12,83,14],[87,22,87,24],[88,22,88,24],[89,22,89,24],[110,22,110,24],[111,22,111,24],[112,22,112,24],[116,18,116,20],[117,7,117,8],[120,18,120,20],[125,18,125,20],[125,22,125,24],[138,22,138,24],[139,22,139,24],[156,18,156,20],[140,22,140,24],[144,18,144,20],[145,7,145,8],[148,18,148,20],[153,18,153,20],[153,22,153,24]]}
["                 CHILD SUPPORT GUIDELINES",null,null,null,null,null,null,null,null,null,null,null,null,null,null,null,null,null,null,null,null,null,null,5,{"$f":"Rates!P52","v":0}]
["SCHEDULE B - SELF-EMPLOYMENT INCOME"]
["(N.D. Admin. Code § 75-02-04.1-05)"]
[]
["OBLIGOR:",null,null,{"$f":"IF(H21=0,0,'Wks1 Obge'!D5)","v":0}]
["OBLIGEE:",null,null,{"$f":"IF(H21=0,0,'Wks1 Obge'!D6)","v":0}]
[]
["This schedule is for use in determining net income from self-employment.  Self-"]
["employment means employment that results in an obligor earning income from any"]
["business organization or entity which the obligor is able to directly or indirectly control to"]
["a significant extent.  It also includes any activity that generates income from rental"]
["property, royalties, business gains, partnerships, trusts, corporations, and any other "]
["organization or entity regardless of form and regardless of whether such activity would"]
["be considered self-employment activity under the Internal Revenue Code."]
[]
["Name of business/description of self-employment activity to which this schedule relates:"]
[{"$f":"IF(H21=0,0,'SE Obe5'!$B$9)","v":0}]
[{"$f":"IF(H21=0,0,'SE Obe5'!$B$10)","v":0}]
[]
["TOTAL INCOME"]
["Tax year from IRS 1040 form",null,null,null,null,null,null,{"$f":"IF(OR(Rates!O22=\"Yes\",QuesScr!L16<1),0,'SE Obe5'!I$12)","v":0},null,null,null,{"$f":"IF(H21=0,0,'SE Obe5'!M$12)","v":0},null,null,null,{"$f":"IF(L21=0,0,'SE Obe5'!Q$12)","v":0},null,null,null,{"$f":"IF(P21=0,0,'SE Obe5'!U$12)","v":0},null,null,null,{"$f":"IF(T21=0,0,'SE Obe5'!Y$12)","v":0}]
["1.","Total income -05(1) (This"]
[null,"amount is taken from either"]
[null,"a tax return or from a profit"]
[null,"and loss statement.  If it is"]
[null,"taken from a tax return, use"]
[null,"the \"total income\" line on"]
[null,"the IRS form 1040;  i.e.,"]
[null,{"$f":"\"line 22 of \"&Rates!O17 &\" tax return.)\"","v":"line 22 of 2017 tax return.)"},null,null,null,null,{"$f":"IF(H21=0,0,'SE Obe5'!K$13)","v":0},null,null,null,{"$f":"IF(L21=0,0,'SE Obe5'!O$13)","v":0},null,null,null,{"$f":"IF(P21=0,0,'SE Obe5'!S$13)","v":0},null,null,null,{"$f":"IF(T21=0,0,'SE Obe5'!W$13)","v":0},null,null,null,{"$f":"IF(X21=0,0,'SE Obe5'!AA$13)","v":0}]
[]
["DEDUCTIONS"]
["2.","Amount of total income"]
[null,"that is not the obligor's"]
[null,"income -05(1)(a)(1)",null,null,null,null,{"$f":"IF(H21=0,0,'SE Obe5'!K$14)","v":0},null,null,null,{"$f":"IF(L21=0,0,'SE Obe5'!O$14)","v":0},null,null,null,{"$f":"IF(P21=0,0,'SE Obe5'!S$14)","v":0},null,null,null,{"$f":"IF(T21=0,0,'SE Obe5'!W$14)","v":0},null,null,null,{"$f":"IF(X21=0,0,'SE Obe5'!AA$14)","v":0}]
["3","Amount of total income that "]
[null,"does not come from this self-"]
[null,"employment -05(1)(a)(1)",null,null,null,null,{"$f":"IF(H21=0,0,'SE Obe5'!K$15)","v":0},null,null,null,{"$f":"IF(L21=0,0,'SE Obe5'!O$15)","v":0},null,null,null,{"$f":"IF(P21=0,0,'SE Obe5'!S$15)","v":0},null,null,null,{"$f":"IF(T21=0,0,'SE Obe5'!W$15)","v":0},null,null,null,{"$f":"IF(X21=0,0,'SE Obe5'!AA$15)","v":0}]
["4.","Amount of income from "]
[null,"partnership or S corporation "]
[null,"over which obligor "]
[null,"does not have significant "]
[null,"control that has not been "]
[null,"distributed -05(1)(a)(2)",null,null,null,null,{"$f":"IF(H21=0,0,'SE Obe5'!K$16)","v":0},null,null,null,{"$f":"IF(L21=0,0,'SE Obe5'!O$16)","v":0},null,null,null,{"$f":"IF(P21=0,0,'SE Obe5'!S$16)","v":0},null,null,null,{"$f":"IF(T21=0,0,'SE Obe5'!W$16)","v":0},null,null,null,{"$f":"IF(X21=0,0,'SE Obe5'!AA$16)","v":0}]
["5.","Total deductions (total of "]
[null,"Lines 2 through 4)",null,null,null,null,{"$f":"G34+G37+G43","v":0},null,null,null,{"$f":"K34+K37+K43","v":0},null,null,null,{"$f":"O34+O37+O43","v":0},null,null,null,{"$f":"S34+S37+S43","v":0},null,null,null,{"$f":"W34+W37+W43","v":0}]
[]
["ADDITIONS"]
["6.","Business expenses "]
[null,"attributable to the obligor or"]
[null,"a member of the obligor's"]
[null,"household for benefits,"]
[null,"pensions, profit-sharing"]
[null,"plans -05(1)(b)(1)",null,null,null,null,{"$f":"IF(H21=0,0,'SE Obe5'!K$17)","v":0},null,null,null,{"$f":"IF(L21=0,0,'SE Obe5'!O$17)","v":0},null,null,null,{"$f":"IF(P21=0,0,'SE Obe5'!S$17)","v":0},null,null,null,{"$f":"IF(T21=0,0,'SE Obe5'!W$17)","v":0},null,null,null,{"$f":"IF(X21=0,0,'SE Obe5'!AA$17)","v":0}]
[]
["This document was created by using Child"]
["Support's web based guidelines calculator.",null,null,null,null,null,null,null,null,null,null,null,null,null,null,null,null,null,null,null,null,null,null,null,null,{"$f":"\"Schedule B/Page 1 of 3/\"&Rates!N16&\" \"&Rates!O16","v":"Schedule B/Page 1 of 3/July 2023"}]
["7.","Payments to household member "]
[null,"to extent payment exceeds "]
[null,"fair market value of "]
[null,"services -05(1)(b)(2)",null,null,null,null,{"$f":"IF(H21=0,0,'SE Obe5'!K$18)","v":0},null,null,null,{"$f":"IF(L21=0,0,'SE Obe5'!O$18)","v":0},null,null,null,{"$f":"IF(P21=0,0,'SE Obe5'!S$18)","v":0},null,{"$f":"SUM(O60:P60)","v":0},null,{"$f":"IF(T21=0,0,'SE Obe5'!W$18)","v":0},null,null,null,{"$f":"IF(X21=0,0,'SE Obe5'!AA$18)","v":0}]
["8.","Income from C corporation "]
[null,"over which obligor has "]
[null,"significant control -05(1)(b)(3):"]
[null,"8a.","C corporation taxable "]
[null,null,"income",null,null,null,{"$f":"IF(H21=0,0,'SE Obe5'!K$19)","v":0},null,null,null,{"$f":"IF(L21=0,0,'SE Obe5'!O$19)","v":0},null,null,null,{"$f":"IF(P21=0,0,'SE Obe5'!S$19)","v":0},null,null,null,{"$f":"IF(T21=0,0,'SE Obe5'!W$19)","v":0},null,null,null,{"$f":"IF(X21=0,0,'SE Obe5'!AA$19)","v":0}]
[null,"8b.","C corporation federal "]
[null,null,"income tax",null,null,null,{"$f":"IF(H21=0,0,'SE Obe5'!K$20)","v":0},null,null,null,{"$f":"IF(L21=0,0,'SE Obe5'!O$20)","v":0},null,null,null,{"$f":"IF(P21=0,0,'SE Obe5'!S$20)","v":0},null,null,null,{"$f":"IF(T21=0,0,'SE Obe5'!W$20)","v":0},null,null,null,{"$f":"IF(X21=0,0,'SE Obe5'!AA$20)","v":0}]
[null,"8c.","Line 8a less Line 8b",null,null,null,{"$f":"G65-G67","v":0},null,null,null,{"$f":"K65-K67","v":0},null,null,null,{"$f":"O65-O67","v":0},null,null,null,{"$f":"S65-S67","v":0},null,null,null,{"$f":"W65-W67","v":0}]
[null,"8d.","Obligor's ownership "]
[null,null,"interest X .70",null,null,null,{"$f":"IF(H21=0,0,ROUND('SE Obe5'!I$21*0.7/100,2))","v":0},null,null,null,{"$f":"IF(L21=0,0,ROUND('SE Obe5'!M$21*0.7/100,2))","v":0},null,null,null,{"$f":"IF(P21=0,0,ROUND('SE Obe5'!Q$21*0.7/100,2))","v":0},null,null,null,{"$f":"IF(T21=0,0,ROUND('SE Obe5'!U$21*0.7/100,2))","v":0},null,null,null,{"$f":"IF(X21=0,0,ROUND('SE Obe5'!Y$21*0.7/100,2))","v":0}]
[null,"8e.","Line 8c X Line 8d",null,null,null,{"$f":"G70*G68","v":0},null,null,null,{"$f":"K70*K68","v":0},null,null,null,{"$f":"O70*O68","v":0},null,null,null,{"$f":"S70*S68","v":0},null,null,null,{"$f":"W70*W68","v":0}]
["9.","Total sdditions (total of "]
[null,"Lines 6, 7, and 8e)",null,null,null,null,{"$f":"G53+G60+G71","v":0},null,null,null,{"$f":"K53+K60+K71","v":0},null,null,null,{"$f":"O53+O60+O71","v":0},null,null,null,{"$f":"S53+S60+S71","v":0},null,null,null,{"$f":"W53+W60+W71","v":0}]
[]
["ANNUAL NET INCOME FROM SELF-EMPLOYMENT"]
["10.","Annual net income from "]
[null,"self-employment ((Line 1 "]
[null,"- Line 5) + Line 9)",null,null,null,null,{"$f":"G29-G45+G73","v":0},null,null,null,{"$f":"K29-K45+K73","v":0},null,null,null,{"$f":"O29-O45+O73","v":0},null,null,null,{"$f":"S29-S45+S73","v":0},null,null,null,{"$f":"W29-W45+W73","v":0}]
[]
["Note:  When dealing with self-employment income, the guidelines contemplate a"]
["calculation of up to a 5-year average of self-employment income to account for the"]
["significant changes that may occur in the business."]
[]
["Are multiple years being calculated:",null,null,null,null,null,null,null,{"$f":"IF(L21=0,\"\",\"X\")","v":""},null,null,"Yes",{"$f":"IF(L21=0,\"X\",\"\")","v":"X"},null,null,"No"]
[]
["If yes, complete the following calculation:"]
["1.","Total net income from self-employment for all years being averaged"]
[null,"i.e., total of Line 10 amounts for all years being averaged",null,null,null,null,null,null,null,null,null,null,null,null,null,null,null,null,null,null,{"$f":"G78+K78+O78+S78+W78","v":0},null,{"$f":"IF(M84=\"X\",0,G78+K78+O78+S78+W78)","v":0}]
["2.","Number of years being averaged",null,null,null,null,null,null,null,null,null,null,null,null,null,null,null,null,null,null,{"$f":"IF(H21=0,0,IF('SE Obe5'!I12=0,0,IF('SE Obe5'!M12=0,1,IF('SE Obe5'!Q12=0,2,IF('SE Obe5'!U12=0,3,IF('SE Obe5'!Y12=0,4,5))))))","v":0},null,{"$f":"IF(M84=\"X\",0,IF(H21=0,0,IF('SE Obe5'!I12=0,0,IF('SE Obe5'!M12=0,1,IF('SE Obe5'!Q12=0,2,IF('SE Obe5'!U12=0,3,IF('SE Obe5'!Y12=0,4,5)))))))","v":0}]
["3.","Average annual net income from self-employment (Line 1 ÷ Line 2)",null,null,null,null,null,null,null,null,null,null,null,null,null,null,null,null,null,null,{"$f":"ROUND(IF(U89=0,0,U88/U89),0)","v":0},null,{"$f":"ROUND(IF(W89=0,0,W88/W89),0)","v":0}]
[]
["If line 3 is a positive number, enter the amount onto the worksheet, line 3."]
[]
["Note: If there are multiple self-employment activities, income from each activity must be "]
["calculated and averaged separately.  Thus, a separate Schedule B must be completed"]
["for each activity."]
[]
["Treatment of self-employment losses"]
["If the result of averaging the self-employment income is a loss, if the self-employment"]
["activity is not a hobby, and if there is other income not related to the self-employment"]
["activity that produced the loss, the self-employment loss may be used to reduce the other"]
["income in certain circumstances.  If applicable, complete either Section 1 or Section 2 "]
["to determine if self-employment losses may be used to reduce other income."]
[]
["This document was created by using Child"]
["Support's web based guidelines calculator.",null,null,null,null,null,null,null,null,null,null,null,null,null,null,null,null,null,null,null,null,null,null,null,null,{"$f":"\"Schedule B/Page 2 of 3/\"&Rates!N16&\" \"&Rates!O16","v":"Schedule B/Page 2 of 3/July 2023"}]
["If less than three years were averaged, complete Section 1 only.  If three, four, or five "]
["years were averaged, complete Section 2 only."]
[]
["Section 1:  This section is for use if less than three years were averaged.  -05(6)"]
["1.","Monthly gross income",null,null,null,null,null,null,null,null,null,null,null,null,null,null,null,null,null,null,null,null,{"$f":"IF('SE Obe5'!$Z$26=\"Y\",IF('SE Loss-Obe'!J22=0,0,IF($U$90<0,IF($U$89<3,'SE Loss-Obe'!$N$22,0),0)),0)","v":0}]
["2.","One-twelfth of average annual self-employment loss",null,null,null,null,null,null,null,null,null,null,null,null,null,null,null,null,null,null,null,null,{"$f":"-ROUND(IF(W111>0,U90/12,0),0)","v":0}]
["3.","Line 1 less Line 2",null,null,null,null,null,null,null,null,null,null,null,null,null,null,null,null,null,null,null,null,{"$f":"W111-W112","v":0}]
[]
["Self-employment loss may be used to reduce other income only if amount on Line 3"]
["equals or exceeds the greatest of:"]
[null,"a.","167 times federal minimum wage",null,null,null,null,null,null,null,null,null,null,null,null,null,null,null,{"$f":"ROUND(IF(W111>0,167*Rates!G11,0),0)","v":0}]
[null,null,"(",{"$f":"Rates!G11","v":7.25},"per hour ……. ",null,null,{"$f":"ROUND(Rates!G11*167,0)","v":1211},null,")"]
[null,"b.",".6 times statewide average earnings for"]
[null,null,"persons with similar work history and"]
[null,null,"occupational qualifications",null,null,null,null,null,null,null,null,null,null,null,null,null,null,null,{"$f":"ROUND(IF(W111>0,'SE Loss-Obe'!N23*0.6,0),0)","v":0}]
[null,"c.",".8 times obligor's greatest average gross monthly"]
[null,null,"earnings, calculated without using self-employment"]
[null,null,"losses, in any 12 consecutive months included in"]
[null,null,"the current calendar year and the two previous"]
[null,null,"calendar years",null,null,null,null,null,null,null,null,null,null,null,null,null,null,null,{"$f":"ROUND(IF(W111>0,'SE Loss-Obe'!N24*0.8,0),0)","v":0},null,null,null,{"$f":"IF(W111=0,0,IF(W113+0.01>S117,IF(W113+0.01>S121,IF(W113+0.01>S126,W113,0),0),0))","v":0}]
[]
["If loss is allowable, enter amount from line 3 onto the worksheet, line 3."]
[]
["Section 2:  This section is for use if three, four, or five years were averaged.  -05(7)"]
["1.","When three or more years were averaged, were losses calculated for more than"]
[null,"40% of those years?"]
[null,null,null,null,null,null,null,{"$f":"IF(W90<0,IF(W89<3,\"\",IF(W89=5,IF(X133<3,\"\",\"X\"),IF(W89=4,IF(X133<2,\"\",\"X\"),IF(W89=3,IF(X133<2,\"\",\"X\"),0)))),\"\")","v":""},"Yes",null,null,{"$f":"IF(W90<0,IF(W89<3,\"\",IF(W89=5,IF(X133<3,\"X\",\"\"),IF(W89=4,IF(X133<2,\"X\",\"\"),IF(W89=3,IF(X133<2,\"X\",\"\"),0)))),\"\")","v":""},"No",null,null,null,null,null,null,null,null,null,null,{"$f":"IF(G78<0,1,0)+IF(K78<0,1,0)+IF(O78<0,1,0)+IF(S78<0,1,0)+IF(W78<0,1,0)","v":0}]
[]
[]
["If the answer to Line 1 is yes, STOP.  The self-employment loss may not be used to "]
["reduce other income.  If the answer to Line 1 is no, continue with analysis."]
[]
["2.","Monthly gross income",null,null,null,null,null,null,null,null,null,null,null,null,null,null,null,null,null,null,null,null,{"$f":"IF('SE Obe5'!$Z$26=\"Y\",IF('SE Loss-Obe'!J22=0,0,IF($W$90<0,IF(L133=\"X\",'SE Loss-Obe'!N22,0),0)),0)","v":0}]
["3.","One-twelfth of average annual self-employment loss",null,null,null,null,null,null,null,null,null,null,null,null,null,null,null,null,null,null,null,null,{"$f":"-ROUND(IF(W139>0,W90/12,0),0)","v":0}]
["4.","Line 2 less Line 3",null,null,null,null,null,null,null,null,null,null,null,null,null,null,null,null,null,null,null,null,{"$f":"W139-W140","v":0}]
[]
["Self-employment loss may be used to reduce other income only if amount on Line 4"]
["equals or exceeds the greatest of:"]
[null,"a.","167 times federal minimum wage",null,null,null,null,null,null,null,null,null,null,null,null,null,null,null,{"$f":"ROUND(IF(W139>0,167*Rates!G11,0),0)","v":0}]
[null,null,"(",{"$f":"Rates!G11","v":7.25},"per hour ……. ",null,null,{"$f":"ROUND(Rates!G11*167,0)","v":1211},null,")"]
[null,"b.",".6 times statewide average earnings for"]
[null,null,"persons with similar work history and"]
[null,null,"occupational qualifications",null,null,null,null,null,null,null,null,null,null,null,null,null,null,null,{"$f":"ROUND(IF(W139>0,'SE Loss-Obe'!N23*0.6,0),0)","v":0}]
[null,"c.",".9 times obligor's greatest average gross monthly"]
[null,null,"earnings, calculated without using self-employment"]
[null,null,"losses, in any 12 consecutive months included in"]
[null,null,"the current calendar year and the two previous"]
[null,null,"calendar years",null,null,null,null,null,null,null,null,null,null,null,null,null,null,null,{"$f":"ROUND(IF(W139>0,'SE Loss-Obe'!N24*0.9,0),0)","v":0},null,null,null,{"$f":"IF(W139=0,0,IF(W141+0.01>S145,IF(W141+0.01>S149,IF(W141+0.01>S154,W90,0),0),0))","v":0}]
[]
["If loss is allowable, enter amount from line 4 onto the worksheet, line 3."]
[null,"Countable Self-Employment profit or loss",null,null,null,null,null,null,null,null,null,null,null,null,null,null,null,null,{"$f":"IF(U90<0,IF(W126=0,IF(W154=0,0,W154),W126),U90)","v":0}]
["This document was created by using Child"]
["Support's web based guidelines calculator.",null,null,null,null,null,null,null,null,null,null,null,null,null,null,null,null,null,null,null,null,null,null,null,null,{"$f":"\"Schedule B/Page 3 of 3/\"&Rates!N16&\" \"&Rates!O16","v":"Schedule B/Page 3 of 3/July 2023"}]

{"sheet":"SchB6 Obge","index":24,"n_rows":159,"n_cols":26,"rows_kept":159,"cut":false,"hidden":false,"merged":[[0,0,0,22],[1,0,1,25],[2,0,2,25],[16,0,16,24],[17,0,17,24],[28,18,28,20],[28,22,28,24],[33,6,33,8],[33,10,33,12],[33,14,33,16],[33,18,33,20],[33,22,33,24],[28,6,28,8],[28,10,28,12],[28,14,28,16],[36,6,36,8],[36,10,36,12],[36,14,36,16],[36,18,36,20],[36,22,36,24],[42,6,42,8],[42,10,42,12],[42,14,42,16],[42,18,42,20],[42,22,42,24],[44,6,44,8],[44,10,44,12],[44,14,44,16],[44,18,44,20],[44,22,44,24],[52,18,52,20],[52,22,52,24],[59,6,59,8],[59,10,59,12],[59,14,59,16],[59,18,59,20],[59,22,59,24],[52,6,52,8],[52,10,52,12],[52,14,52,16],[64,10,64,12],[64,14,64,16],[64,18,64,20],[64,22,64,24],[66,6,66,8],[66,10,66,12],[66,14,66,16],[66,18,66,20],[66,22,66,24],[64,6,64,8],[67,6,67,8],[67,10,67,12],[67,14,67,16],[67,18,67,20],[67,22,67,24],[69,6,69,8],[69,10,69,12],[69,14,69,16],[69,18,69,20],[69,22,69,24],[70,6,70,8],[70,10,70,12],[70,14,70,16],[70,18,70,20],[70,22,70,24],[72,6,72,8],[72,10,72,12],[72,14,72,16],[72,18,72,20],[72,22,72,24],[77,6,77,8],[77,10,77,12],[77,14,77,16],[77,18,77,20],[77,22,77,24],[83,8,83,10],[83,12,83,14],[87,22,87,24],[88,22,88,24],[89,22,89,24],[110,22,110,24],[111,22,111,24],[112,22,112,24],[116,18,116,20],[117,7,117,8],[120,18,120,20],[125,18,125,20],[125,22,125,24],[138,22,138,24],[139,22,139,24],[156,18,156,20],[140,22,140,24],[144,18,144,20],[145,7,145,8],[148,18,148,20],[153,18,153,20],[153,22,153,24]]}
["                 CHILD SUPPORT GUIDELINES",null,null,null,null,null,null,null,null,null,null,null,null,null,null,null,null,null,null,null,null,null,null,6,{"$f":"Rates!P52","v":0}]
["SCHEDULE B - SELF-EMPLOYMENT INCOME"]
["(N.D. Admin. Code § 75-02-04.1-05)"]
[]
["OBLIGOR:",null,null,{"$f":"IF(H21=0,0,'Wks1 Obge'!D5)","v":0}]
["OBLIGEE:",null,null,{"$f":"IF(H21=0,0,'Wks1 Obge'!D6)","v":0}]
[]
["This schedule is for use in determining net income from self-employment.  Self-"]
["employment means employment that results in an obligor earning income from any"]
["business organization or entity which the obligor is able to directly or indirectly control to"]
["a significant extent.  It also includes any activity that generates income from rental"]
["property, royalties, business gains, partnerships, trusts, corporations, and any other "]
["organization or entity regardless of form and regardless of whether such activity would"]
["be considered self-employment activity under the Internal Revenue Code."]
[]
["Name of business/description of self-employment activity to which this schedule relates:"]
[{"$f":"IF(H21=0,0,'SE Obe6'!$B$9)","v":0}]
[{"$f":"IF(H21=0,0,'SE Obe6'!$B$10)","v":0}]
[]
["TOTAL INCOME"]
["Tax year from IRS 1040 form",null,null,null,null,null,null,{"$f":"IF(OR(Rates!O22=\"Yes\",QuesScr!L16<1),0,'SE Obe6'!I$12)","v":0},null,null,null,{"$f":"IF(H21=0,0,'SE Obe6'!M$12)","v":0},null,null,null,{"$f":"IF(L21=0,0,'SE Obe6'!Q$12)","v":0},null,null,null,{"$f":"IF(P21=0,0,'SE Obe6'!U$12)","v":0},null,null,null,{"$f":"IF(T21=0,0,'SE Obe6'!Y$12)","v":0}]
["1.","Total income -05(1) (This"]
[null,"amount is taken from either"]
[null,"a tax return or from a profit"]
[null,"and loss statement.  If it is"]
[null,"taken from a tax return, use"]
[null,"the \"total income\" line on"]
[null,"the IRS form 1040;  i.e.,"]
[null,{"$f":"\"line 22 of \"&Rates!O17 &\" tax return.)\"","v":"line 22 of 2017 tax return.)"},null,null,null,null,{"$f":"IF(H21=0,0,'SE Obe6'!K$13)","v":0},null,null,null,{"$f":"IF(L21=0,0,'SE Obe6'!O$13)","v":0},null,null,null,{"$f":"IF(P21=0,0,'SE Obe6'!S$13)","v":0},null,null,null,{"$f":"IF(T21=0,0,'SE Obe6'!W$13)","v":0},null,null,null,{"$f":"IF(X21=0,0,'SE Obe6'!AA$13)","v":0}]
[]
["DEDUCTIONS"]
["2.","Amount of total income"]
[null,"that is not the obligor's"]
[null,"income -05(1)(a)(1)",null,null,null,null,{"$f":"IF(H21=0,0,'SE Obe6'!K$14)","v":0},null,null,null,{"$f":"IF(L21=0,0,'SE Obe6'!O$14)","v":0},null,null,null,{"$f":"IF(P21=0,0,'SE Obe6'!S$14)","v":0},null,null,null,{"$f":"IF(T21=0,0,'SE Obe6'!W$14)","v":0},null,null,null,{"$f":"IF(X21=0,0,'SE Obe6'!AA$14)","v":0}]
["3","Amount of total income that "]
[null,"does not come from this self-"]
[null,"employment -05(1)(a)(1)",null,null,null,null,{"$f":"IF(H21=0,0,'SE Obe6'!K$15)","v":0},null,null,null,{"$f":"IF(L21=0,0,'SE Obe6'!O$15)","v":0},null,null,null,{"$f":"IF(P21=0,0,'SE Obe6'!S$15)","v":0},null,null,null,{"$f":"IF(T21=0,0,'SE Obe6'!W$15)","v":0},null,null,null,{"$f":"IF(X21=0,0,'SE Obe6'!AA$15)","v":0}]
["4.","Amount of income from "]
[null,"partnership or S corporation "]
[null,"over which obligor "]
[null,"does not have significant "]
[null,"control that has not been "]
[null,"distributed -05(1)(a)(2)",null,null,null,null,{"$f":"IF(H21=0,0,'SE Obe6'!K$16)","v":0},null,null,null,{"$f":"IF(L21=0,0,'SE Obe6'!O$16)","v":0},null,null,null,{"$f":"IF(P21=0,0,'SE Obe6'!S$16)","v":0},null,null,null,{"$f":"IF(T21=0,0,'SE Obe6'!W$16)","v":0},null,null,null,{"$f":"IF(X21=0,0,'SE Obe6'!AA$16)","v":0}]
["5.","Total deductions (total of "]
[null,"Lines 2 through 4)",null,null,null,null,{"$f":"G34+G37+G43","v":0},null,null,null,{"$f":"K34+K37+K43","v":0},null,null,null,{"$f":"O34+O37+O43","v":0},null,null,null,{"$f":"S34+S37+S43","v":0},null,null,null,{"$f":"W34+W37+W43","v":0}]
[]
["ADDITIONS"]
["6.","Business expenses "]
[null,"attributable to the obligor or"]
[null,"a member of the obligor's"]
[null,"household for benefits,"]
[null,"pensions, profit-sharing"]
[null,"plans -05(1)(b)(1)",null,null,null,null,{"$f":"IF(H21=0,0,'SE Obe6'!K$17)","v":0},null,null,null,{"$f":"IF(L21=0,0,'SE Obe6'!O$17)","v":0},null,null,null,{"$f":"IF(P21=0,0,'SE Obe6'!S$17)","v":0},null,null,null,{"$f":"IF(T21=0,0,'SE Obe6'!W$17)","v":0},null,null,null,{"$f":"IF(X21=0,0,'SE Obe6'!AA$17)","v":0}]
[]
["This document was created by using Child"]
["Support's web based guidelines calculator.",null,null,null,null,null,null,null,null,null,null,null,null,null,null,null,null,null,null,null,null,null,null,null,null,{"$f":"\"Schedule B/Page 1 of 3/\"&Rates!N16&\" \"&Rates!O16","v":"Schedule B/Page 1 of 3/July 2023"}]
["7.","Payments to household member "]
[null,"to extent payment exceeds "]
[null,"fair market value of "]
[null,"services -05(1)(b)(2)",null,null,null,null,{"$f":"IF(H21=0,0,'SE Obe6'!K$18)","v":0},null,null,null,{"$f":"IF(L21=0,0,'SE Obe6'!O$18)","v":0},null,null,null,{"$f":"IF(P21=0,0,'SE Obe6'!S$18)","v":0},null,{"$f":"SUM(O60:P60)","v":0},null,{"$f":"IF(T21=0,0,'SE Obe6'!W$18)","v":0},null,null,null,{"$f":"IF(X21=0,0,'SE Obe6'!AA$18)","v":0}]
["8.","Income from C corporation "]
[null,"over which obligor has "]
[null,"significant control -05(1)(b)(3):"]
[null,"8a.","C corporation taxable "]
[null,null,"income",null,null,null,{"$f":"IF(H21=0,0,'SE Obe6'!K$19)","v":0},null,null,null,{"$f":"IF(L21=0,0,'SE Obe6'!O$19)","v":0},null,null,null,{"$f":"IF(P21=0,0,'SE Obe6'!S$19)","v":0},null,null,null,{"$f":"IF(T21=0,0,'SE Obe6'!W$19)","v":0},null,null,null,{"$f":"IF(X21=0,0,'SE Obe6'!AA$19)","v":0}]
[null,"8b.","C corporation federal "]
[null,null,"income tax",null,null,null,{"$f":"IF(H21=0,0,'SE Obe6'!K$20)","v":0},null,null,null,{"$f":"IF(L21=0,0,'SE Obe6'!O$20)","v":0},null,null,null,{"$f":"IF(P21=0,0,'SE Obe6'!S$20)","v":0},null,null,null,{"$f":"IF(T21=0,0,'SE Obe6'!W$20)","v":0},null,null,null,{"$f":"IF(X21=0,0,'SE Obe6'!AA$20)","v":0}]
[null,"8c.","Line 8a less Line 8b",null,null,null,{"$f":"G65-G67","v":0},null,null,null,{"$f":"K65-K67","v":0},null,null,null,{"$f":"O65-O67","v":0},null,null,null,{"$f":"S65-S67","v":0},null,null,null,{"$f":"W65-W67","v":0}]
[null,"8d.","Obligor's ownership "]
[null,null,"interest X .70",null,null,null,{"$f":"IF(H21=0,0,ROUND('SE Obe6'!I$21*0.7/100,2))","v":0},null,null,null,{"$f":"IF(L21=0,0,ROUND('SE Obe6'!M$21*0.7/100,2))","v":0},null,null,null,{"$f":"IF(P21=0,0,ROUND('SE Obe6'!Q$21*0.7/100,2))","v":0},null,null,null,{"$f":"IF(T21=0,0,ROUND('SE Obe6'!U$21*0.7/100,2))","v":0},null,null,null,{"$f":"IF(X21=0,0,ROUND('SE Obe6'!Y$21*0.7/100,2))","v":0}]
[null,"8e.","Line 8c X Line 8d",null,null,null,{"$f":"G70*G68","v":0},null,null,null,{"$f":"K70*K68","v":0},null,null,null,{"$f":"O70*O68","v":0},null,null,null,{"$f":"S70*S68","v":0},null,null,null,{"$f":"W70*W68","v":0}]
["9.","Total additions (total of "]
[null,"Lines 6, 7, and 8e)",null,null,null,null,{"$f":"G53+G60+G71","v":0},null,null,null,{"$f":"K53+K60+K71","v":0},null,null,null,{"$f":"O53+O60+O71","v":0},null,null,null,{"$f":"S53+S60+S71","v":0},null,null,null,{"$f":"W53+W60+W71","v":0}]
[]
["ANNUAL NET INCOME FROM SELF-EMPLOYMENT"]
["10.","Annual net income from "]
[null,"self-employment ((Line 1 "]
[null,"- Line 5) + Line 9)",null,null,null,null,{"$f":"G29-G45+G73","v":0},null,null,null,{"$f":"K29-K45+K73","v":0},null,null,null,{"$f":"O29-O45+O73","v":0},null,null,null,{"$f":"S29-S45+S73","v":0},null,null,null,{"$f":"W29-W45+W73","v":0}]
[]
["Note:  When dealing with self-employment income, the guidelines contemplate a"]
["calculation of up to a 5-year average of self-employment income to account for the"]
["significant changes that may occur in the business."]
[]
["Are multiple years being calculated:",null,null,null,null,null,null,null,{"$f":"IF(L21=0,\"\",\"X\")","v":""},null,null,"Yes",{"$f":"IF(L21=0,\"X\",\"\")","v":"X"},null,null,"No"]
[]
["If yes, complete the following calculation:"]
["1.","Total net income from self-employment for all years being averaged"]
[null,"i.e., total of Line 10 amounts for all years being averaged",null,null,null,null,null,null,null,null,null,null,null,null,null,null,null,null,null,null,{"$f":"G78+K78+O78+S78+W78","v":0},null,{"$f":"IF(M84=\"X\",0,G78+K78+O78+S78+W78)","v":0}]
["2.","Number of years being averaged",null,null,null,null,null,null,null,null,null,null,null,null,null,null,null,null,null,null,{"$f":"IF(H21=0,0,IF('SE Obe6'!I12=0,0,IF('SE Obe6'!M12=0,1,IF('SE Obe6'!Q12=0,2,IF('SE Obe6'!U12=0,3,IF('SE Obe6'!Y12=0,4,5))))))","v":0},null,{"$f":"IF(M84=\"X\",0,IF(H21=0,0,IF('SE Obe6'!I12=0,0,IF('SE Obe6'!M12=0,1,IF('SE Obe6'!Q12=0,2,IF('SE Obe6'!U12=0,3,IF('SE Obe6'!Y12=0,4,5)))))))","v":0}]
["3.","Average annual net income from self-employment (Line 1 ÷ Line 2)",null,null,null,null,null,null,null,null,null,null,null,null,null,null,null,null,null,null,{"$f":"ROUND(IF(U89=0,0,U88/U89),0)","v":0},null,{"$f":"ROUND(IF(W89=0,0,W88/W89),0)","v":0}]
[]
["If line 3 is a positive number, enter the amount onto the worksheet, line 3."]
[]
["Note: If there are multiple self-employment activities, income from each activity must be "]
["calculated and averaged separately.  Thus, a separate Schedule B must be completed"]
["for each activity."]
[]
["Treatment of self-employment losses"]
["If the result of averaging the self-employment income is a loss, if the self-employment"]
["activity is not a hobby, and if there is other income not related to the self-employment"]
["activity that produced the loss, the self-employment loss may be used to reduce the other"]
["income in certain circumstances.  If applicable, complete either Section 1 or Section 2 "]
["to determine if self-employment losses may be used to reduce other income."]
[]
["This document was created by using Child"]
["Support's web based guidelines calculator.",null,null,null,null,null,null,null,null,null,null,null,null,null,null,null,null,null,null,null,null,null,null,null,null,{"$f":"\"Schedule B/Page 2 of 3/\"&Rates!N16&\" \"&Rates!O16","v":"Schedule B/Page 2 of 3/July 2023"}]
["If less than three years were averaged, complete Section 1 only.  If three, four, or five "]
["years were averaged, complete Section 2 only."]
[]
["Section 1:  This section is for use if less than three years were averaged.  -05(6)"]
["1.","Monthly gross income",null,null,null,null,null,null,null,null,null,null,null,null,null,null,null,null,null,null,null,null,{"$f":"IF('SE Obe6'!$Z$26=\"Y\",IF('SE Loss-Obe'!J22=0,0,IF($U$90<0,IF($U$89<3,'SE Loss-Obe'!$N$22,0),0)),0)","v":0}]
["2.","One-twelfth of average annual self-employment loss",null,null,null,null,null,null,null,null,null,null,null,null,null,null,null,null,null,null,null,null,{"$f":"-ROUND(IF(W111>0,U90/12,0),0)","v":0}]
["3.","Line 1 less Line 2",null,null,null,null,null,null,null,null,null,null,null,null,null,null,null,null,null,null,null,null,{"$f":"W111-W112","v":0}]
[]
["Self-employment loss may be used to reduce other income only if amount on Line 3"]
["equals or exceeds the greatest of:"]
[null,"a.","167 times federal minimum wage",null,null,null,null,null,null,null,null,null,null,null,null,null,null,null,{"$f":"ROUND(IF(W111>0,167*Rates!G11,0),0)","v":0}]
[null,null,"(",{"$f":"Rates!G11","v":7.25},"per hour ……. ",null,null,{"$f":"ROUND(Rates!G11*167,0)","v":1211},null,")"]
[null,"b.",".6 times statewide average earnings for"]
[null,null,"persons with similar work history and"]
[null,null,"occupational qualifications",null,null,null,null,null,null,null,null,null,null,null,null,null,null,null,{"$f":"ROUND(IF(W111>0,'SE Loss-Obe'!N23*0.6,0),0)","v":0}]
[null,"c.",".8 times obligor's greatest average gross monthly"]
[null,null,"earnings, calculated without using self-employment"]
[null,null,"losses, in any 12 consecutive months included in"]
[null,null,"the current calendar year and the two previous"]
[null,null,"calendar years",null,null,null,null,null,null,null,null,null,null,null,null,null,null,null,{"$f":"ROUND(IF(W111>0,'SE Loss-Obe'!N24*0.8,0),0)","v":0},null,null,null,{"$f":"IF(W111=0,0,IF(W113+0.01>S117,IF(W113+0.01>S121,IF(W113+0.01>S126,W113,0),0),0))","v":0}]
[]
["If loss is allowable, enter amount from line 3 onto the worksheet, line 3."]
[]
["Section 2:  This section is for use if three, four, or five years were averaged.  -05(7)"]
["1.","When three or more years were averaged, were losses calculated for more than"]
[null,"40% of those years?"]
[null,null,null,null,null,null,null,{"$f":"IF(W90<0,IF(W89<3,\"\",IF(W89=5,IF(X133<3,\"\",\"X\"),IF(W89=4,IF(X133<2,\"\",\"X\"),IF(W89=3,IF(X133<2,\"\",\"X\"),0)))),\"\")","v":""},"Yes",null,null,{"$f":"IF(W90<0,IF(W89<3,\"\",IF(W89=5,IF(X133<3,\"X\",\"\"),IF(W89=4,IF(X133<2,\"X\",\"\"),IF(W89=3,IF(X133<2,\"X\",\"\"),0)))),\"\")","v":""},"No",null,null,null,null,null,null,null,null,null,null,{"$f":"IF(G78<0,1,0)+IF(K78<0,1,0)+IF(O78<0,1,0)+IF(S78<0,1,0)+IF(W78<0,1,0)","v":0}]
[]
[]
["If the answer to Line 1 is yes, STOP.  The self-employment loss may not be used to "]
["reduce other income.  If the answer to Line 1 is no, continue with analysis."]
[]
["2.","Monthly gross income",null,null,null,null,null,null,null,null,null,null,null,null,null,null,null,null,null,null,null,null,{"$f":"IF('SE Obe6'!$Z$26=\"Y\",IF('SE Loss-Obe'!J22=0,0,IF($W$90<0,IF(L133=\"X\",'SE Loss-Obe'!N22,0),0)),0)","v":0}]
["3.","One-twelfth of average annual self-employment loss",null,null,null,null,null,null,null,null,null,null,null,null,null,null,null,null,null,null,null,null,{"$f":"-ROUND(IF(W139>0,W90/12,0),0)","v":0}]
["4.","Line 2 less Line 3",null,null,null,null,null,null,null,null,null,null,null,null,null,null,null,null,null,null,null,null,{"$f":"W139-W140","v":0}]
[]
["Self-employment loss may be used to reduce other income only if amount on Line 4"]
["equals or exceeds the greatest of:"]
[null,"a.","167 times federal minimum wage",null,null,null,null,null,null,null,null,null,null,null,null,null,null,null,{"$f":"ROUND(IF(W139>0,167*Rates!G11,0),0)","v":0}]
[null,null,"(",{"$f":"Rates!G11","v":7.25},"per hour ……. ",null,null,{"$f":"ROUND(Rates!G11*167,0)","v":1211},null,")"]
[null,"b.",".6 times statewide average earnings for"]
[null,null,"persons with similar work history and"]
[null,null,"occupational qualifications",null,null,null,null,null,null,null,null,null,null,null,null,null,null,null,{"$f":"ROUND(IF(W139>0,'SE Loss-Obe'!N23*0.6,0),0)","v":0}]
[null,"c.",".9 times obligor's greatest average gross monthly"]
[null,null,"earnings, calculated without using self-employment"]
[null,null,"losses, in any 12 consecutive months included in"]
[null,null,"the current calendar year and the two previous"]
[null,null,"calendar years",null,null,null,null,null,null,null,null,null,null,null,null,null,null,null,{"$f":"ROUND(IF(W139>0,'SE Loss-Obe'!N24*0.9,0),0)","v":0},null,null,null,{"$f":"IF(W139=0,0,IF(W141+0.01>S145,IF(W141+0.01>S149,IF(W141+0.01>S154,W90,0),0),0))","v":0}]
[]
["If loss is allowable, enter amount from line 4 onto the worksheet, line 3."]
[null,"Countable Self-Employment profit or loss",null,null,null,null,null,null,null,null,null,null,null,null,null,null,null,null,{"$f":"IF(U90<0,IF(W126=0,IF(W154=0,0,W154),W126),U90)","v":0}]
["This document was created by using Child"]
["Support's web based guidelines calculator.",null,null,null,null,null,null,null,null,null,null,null,null,null,null,null,null,null,null,null,null,null,null,null,null,{"$f":"\"Schedule B/Page 3 of 3/\"&Rates!N16&\" \"&Rates!O16","v":"Schedule B/Page 3 of 3/July 2023"}]

{"sheet":"SchB7 Obge","index":25,"n_rows":159,"n_cols":26,"rows_kept":159,"cut":false,"hidden":false,"merged":[[156,18,156,20],[140,22,140,24],[144,18,144,20],[145,7,145,8],[148,18,148,20],[153,18,153,20],[153,22,153,24],[120,18,120,20],[125,18,125,20],[125,22,125,24],[138,22,138,24],[139,22,139,24],[110,22,110,24],[111,22,111,24],[112,22,112,24],[116,18,116,20],[117,7,117,8],[83,8,83,10],[83,12,83,14],[87,22,87,24],[88,22,88,24],[89,22,89,24],[77,6,77,8],[77,10,77,12],[77,14,77,16],[77,18,77,20],[77,22,77,24],[72,6,72,8],[72,10,72,12],[72,14,72,16],[72,18,72,20],[72,22,72,24],[70,6,70,8],[70,10,70,12],[70,14,70,16],[70,18,70,20],[70,22,70,24],[69,6,69,8],[69,10,69,12],[69,14,69,16],[69,18,69,20],[69,22,69,24],[67,6,67,8],[67,10,67,12],[67,14,67,16],[67,18,67,20],[67,22,67,24],[64,10,64,12],[64,14,64,16],[64,18,64,20],[64,22,64,24],[66,6,66,8],[66,10,66,12],[66,14,66,16],[66,18,66,20],[66,22,66,24],[64,6,64,8],[52,18,52,20],[52,22,52,24],[59,6,59,8],[59,10,59,12],[59,14,59,16],[59,18,59,20],[59,22,59,24],[52,6,52,8],[52,10,52,12],[52,14,52,16],[44,6,44,8],[44,10,44,12],[44,14,44,16],[44,18,44,20],[44,22,44,24],[42,6,42,8],[42,10,42,12],[42,14,42,16],[42,18,42,20],[42,22,42,24],[36,6,36,8],[36,10,36,12],[36,14,36,16],[36,18,36,20],[36,22,36,24],[28,18,28,20],[28,22,28,24],[33,6,33,8],[33,10,33,12],[33,14,33,16],[33,18,33,20],[33,22,33,24],[28,6,28,8],[28,10,28,12],[28,14,28,16],[0,0,0,22],[1,0,1,25],[2,0,2,25],[16,0,16,24],[17,0,17,24]]}
["                 CHILD SUPPORT GUIDELINES",null,null,null,null,null,null,null,null,null,null,null,null,null,null,null,null,null,null,null,null,null,null,7,{"$f":"Rates!P52","v":0}]
["SCHEDULE B - SELF-EMPLOYMENT INCOME"]
["(N.D. Admin. Code § 75-02-04.1-05)"]
[]
["OBLIGOR:",null,null,{"$f":"IF(H21=0,0,'Wks1 Obge'!D5)","v":0}]
["OBLIGEE:",null,null,{"$f":"IF(H21=0,0,'Wks1 Obge'!D6)","v":0}]
[]
["This schedule is for use in determining net income from self-employment.  Self-"]
["employment means employment that results in an obligor earning income from any"]
["business organization or entity which the obligor is able to directly or indirectly control to"]
["a significant extent.  It also includes any activity that generates income from rental"]
["property, royalties, business gains, partnerships, trusts, corporations, and any other "]
["organization or entity regardless of form and regardless of whether such activity would"]
["be considered self-employment activity under the Internal Revenue Code."]
[]
["Name of business/description of self-employment activity to which this schedule relates:"]
[{"$f":"IF(H21=0,0,'SE Obe7'!$B$9)","v":0}]
[{"$f":"IF(H21=0,0,'SE Obe7'!$B$10)","v":0}]
[]
["TOTAL INCOME"]
["Tax year from IRS 1040 form",null,null,null,null,null,null,{"$f":"IF(OR(Rates!O22=\"Yes\",QuesScr!L16<1),0,'SE Obe7'!I$12)","v":0},null,null,null,{"$f":"IF(H21=0,0,'SE Obe7'!M$12)","v":0},null,null,null,{"$f":"IF(L21=0,0,'SE Obe7'!Q$12)","v":0},null,null,null,{"$f":"IF(P21=0,0,'SE Obe7'!U$12)","v":0},null,null,null,{"$f":"IF(T21=0,0,'SE Obe7'!Y$12)","v":0}]
["1.","Total income -05(1) (This"]
[null,"amount is taken from either"]
[null,"a tax return or from a profit"]
[null,"and loss statement.  If it is"]
[null,"taken from a tax return, use"]
[null,"the \"total income\" line on"]
[null,"the IRS form 1040;  i.e.,"]
[null,{"$f":"\"line 22 of \"&Rates!O17 &\" tax return.)\"","v":"line 22 of 2017 tax return.)"},null,null,null,null,{"$f":"IF(H21=0,0,'SE Obe7'!K$13)","v":0},null,null,null,{"$f":"IF(L21=0,0,'SE Obe7'!O$13)","v":0},null,null,null,{"$f":"IF(P21=0,0,'SE Obe7'!S$13)","v":0},null,null,null,{"$f":"IF(T21=0,0,'SE Obe7'!W$13)","v":0},null,null,null,{"$f":"IF(X21=0,0,'SE Obe7'!AA$13)","v":0}]
[]
["DEDUCTIONS"]
["2.","Amount of total income"]
[null,"that is not the obligor's"]
[null,"income -05(1)(a)(1)",null,null,null,null,{"$f":"IF(H21=0,0,'SE Obe7'!K$14)","v":0},null,null,null,{"$f":"IF(L21=0,0,'SE Obe7'!O$14)","v":0},null,null,null,{"$f":"IF(P21=0,0,'SE Obe7'!S$14)","v":0},null,null,null,{"$f":"IF(T21=0,0,'SE Obe7'!W$14)","v":0},null,null,null,{"$f":"IF(X21=0,0,'SE Obe7'!AA$14)","v":0}]
["3","Amount of total income that "]
[null,"does not come from this self-"]
[null,"employment -05(1)(a)(1)",null,null,null,null,{"$f":"IF(H21=0,0,'SE Obe7'!K$15)","v":0},null,null,null,{"$f":"IF(L21=0,0,'SE Obe7'!O$15)","v":0},null,null,null,{"$f":"IF(P21=0,0,'SE Obe7'!S$15)","v":0},null,null,null,{"$f":"IF(T21=0,0,'SE Obe7'!W$15)","v":0},null,null,null,{"$f":"IF(X21=0,0,'SE Obe7'!AA$15)","v":0}]
["4.","Amount of income from "]
[null,"partnership or S corporation "]
[null,"over which obligor "]
[null,"does not have significant "]
[null,"control that has not been "]
[null,"distributed -05(1)(a)(2)",null,null,null,null,{"$f":"IF(H21=0,0,'SE Obe7'!K$16)","v":0},null,null,null,{"$f":"IF(L21=0,0,'SE Obe7'!O$16)","v":0},null,null,null,{"$f":"IF(P21=0,0,'SE Obe7'!S$16)","v":0},null,null,null,{"$f":"IF(T21=0,0,'SE Obe7'!W$16)","v":0},null,null,null,{"$f":"IF(X21=0,0,'SE Obe7'!AA$16)","v":0}]
["5.","Total deductions (total of "]
[null,"Lines 2 through 4)",null,null,null,null,{"$f":"G34+G37+G43","v":0},null,null,null,{"$f":"K34+K37+K43","v":0},null,null,null,{"$f":"O34+O37+O43","v":0},null,null,null,{"$f":"S34+S37+S43","v":0},null,null,null,{"$f":"W34+W37+W43","v":0}]
[]
["ADDITIONS"]
["6.","Business expenses "]
[null,"attributable to the obligor or"]
[null,"a member of the obligor's"]
[null,"household for benefits,"]
[null,"pensions, profit-sharing"]
[null,"plans -05(1)(b)(1)",null,null,null,null,{"$f":"IF(H21=0,0,'SE Obe7'!K$17)","v":0},null,null,null,{"$f":"IF(L21=0,0,'SE Obe7'!O$17)","v":0},null,null,null,{"$f":"IF(P21=0,0,'SE Obe7'!S$17)","v":0},null,null,null,{"$f":"IF(T21=0,0,'SE Obe7'!W$17)","v":0},null,null,null,{"$f":"IF(X21=0,0,'SE Obe7'!AA$17)","v":0}]
[]
["This document was created by using Child"]
["Support's web based guidelines calculator.",null,null,null,null,null,null,null,null,null,null,null,null,null,null,null,null,null,null,null,null,null,null,null,null,{"$f":"\"Schedule B/Page 1 of 3/\"&Rates!N16&\" \"&Rates!O16","v":"Schedule B/Page 1 of 3/July 2023"}]
["7.","Payments to household member "]
[null,"to extent payment exceeds "]
[null,"fair market value of "]
[null,"services -05(1)(b)(2)",null,null,null,null,{"$f":"IF(H21=0,0,'SE Obe7'!K$18)","v":0},null,null,null,{"$f":"IF(L21=0,0,'SE Obe7'!O$18)","v":0},null,null,null,{"$f":"IF(P21=0,0,'SE Obe7'!S$18)","v":0},null,{"$f":"SUM(O60:P60)","v":0},null,{"$f":"IF(T21=0,0,'SE Obe7'!W$18)","v":0},null,null,null,{"$f":"IF(X21=0,0,'SE Obe7'!AA$18)","v":0}]
["8.","Income from C corporation "]
[null,"over which obligor has "]
[null,"significant control -05(1)(b)(3):"]
[null,"8a.","C corporation taxable "]
[null,null,"income",null,null,null,{"$f":"IF(H21=0,0,'SE Obe7'!K$19)","v":0},null,null,null,{"$f":"IF(L21=0,0,'SE Obe7'!O$19)","v":0},null,null,null,{"$f":"IF(P21=0,0,'SE Obe7'!S$19)","v":0},null,null,null,{"$f":"IF(T21=0,0,'SE Obe7'!W$19)","v":0},null,null,null,{"$f":"IF(X21=0,0,'SE Obe7'!AA$19)","v":0}]
[null,"8b.","C corporation federal "]
[null,null,"income tax",null,null,null,{"$f":"IF(H21=0,0,'SE Obe7'!K$20)","v":0},null,null,null,{"$f":"IF(L21=0,0,'SE Obe7'!O$20)","v":0},null,null,null,{"$f":"IF(P21=0,0,'SE Obe7'!S$20)","v":0},null,null,null,{"$f":"IF(T21=0,0,'SE Obe7'!W$20)","v":0},null,null,null,{"$f":"IF(X21=0,0,'SE Obe7'!AA$20)","v":0}]
[null,"8c.","Line 8a less Line 8b",null,null,null,{"$f":"G65-G67","v":0},null,null,null,{"$f":"K65-K67","v":0},null,null,null,{"$f":"O65-O67","v":0},null,null,null,{"$f":"S65-S67","v":0},null,null,null,{"$f":"W65-W67","v":0}]
[null,"8d.","Obligor's ownership "]
[null,null,"interest X .70",null,null,null,{"$f":"IF(H21=0,0,ROUND('SE Obe7'!I$21*0.7/100,2))","v":0},null,null,null,{"$f":"IF(L21=0,0,ROUND('SE Obe7'!M$21*0.7/100,2))","v":0},null,null,null,{"$f":"IF(P21=0,0,ROUND('SE Obe7'!Q$21*0.7/100,2))","v":0},null,null,null,{"$f":"IF(T21=0,0,ROUND('SE Obe7'!U$21*0.7/100,2))","v":0},null,null,null,{"$f":"IF(X21=0,0,ROUND('SE Obe7'!Y$21*0.7/100,2))","v":0}]
[null,"8e.","Line 8c X Line 8d",null,null,null,{"$f":"G70*G68","v":0},null,null,null,{"$f":"K70*K68","v":0},null,null,null,{"$f":"O70*O68","v":0},null,null,null,{"$f":"S70*S68","v":0},null,null,null,{"$f":"W70*W68","v":0}]
["9.","Total additions (total of "]
[null,"Lines 6, 7, and 8e)",null,null,null,null,{"$f":"G53+G60+G71","v":0},null,null,null,{"$f":"K53+K60+K71","v":0},null,null,null,{"$f":"O53+O60+O71","v":0},null,null,null,{"$f":"S53+S60+S71","v":0},null,null,null,{"$f":"W53+W60+W71","v":0}]
[]
["ANNUAL NET INCOME FROM SELF-EMPLOYMENT"]
["10.","Annual net income from "]
[null,"self-employment ((Line 1 "]
[null,"- Line 5) + Line 9)",null,null,null,null,{"$f":"G29-G45+G73","v":0},null,null,null,{"$f":"K29-K45+K73","v":0},null,null,null,{"$f":"O29-O45+O73","v":0},null,null,null,{"$f":"S29-S45+S73","v":0},null,null,null,{"$f":"W29-W45+W73","v":0}]
[]
["Note:  When dealing with self-employment income, the guidelines contemplate a"]
["calculation of up to a 5-year average of self-employment income to account for the"]
["significant changes that may occur in the business."]
[]
["Are multiple years being calculated:",null,null,null,null,null,null,null,{"$f":"IF(L21=0,\"\",\"X\")","v":""},null,null,"Yes",{"$f":"IF(L21=0,\"X\",\"\")","v":"X"},null,null,"No"]
[]
["If yes, complete the following calculation:"]
["1.","Total net income from self-employment for all years being averaged"]
[null,"i.e., total of Line 10 amounts for all years being averaged",null,null,null,null,null,null,null,null,null,null,null,null,null,null,null,null,null,null,{"$f":"G78+K78+O78+S78+W78","v":0},null,{"$f":"IF(M84=\"X\",0,G78+K78+O78+S78+W78)","v":0}]
["2.","Number of years being averaged",null,null,null,null,null,null,null,null,null,null,null,null,null,null,null,null,null,null,{"$f":"IF(H21=0,0,IF('SE Obe7'!I12=0,0,IF('SE Obe7'!M12=0,1,IF('SE Obe7'!Q12=0,2,IF('SE Obe7'!U12=0,3,IF('SE Obe7'!Y12=0,4,5))))))","v":0},null,{"$f":"IF(M84=\"X\",0,IF(H21=0,0,IF('SE Obe7'!I12=0,0,IF('SE Obe7'!M12=0,1,IF('SE Obe7'!Q12=0,2,IF('SE Obe7'!U12=0,3,IF('SE Obe7'!Y12=0,4,5)))))))","v":0}]
["3.","Average annual net income from self-employment (Line 1 ÷ Line 2)",null,null,null,null,null,null,null,null,null,null,null,null,null,null,null,null,null,null,{"$f":"ROUND(IF(U89=0,0,U88/U89),0)","v":0},null,{"$f":"ROUND(IF(W89=0,0,W88/W89),0)","v":0}]
[]
["If line 3 is a positive number, enter the amount onto the worksheet, line 3."]
[]
["Note: If there are multiple self-employment activities, income from each activity must be "]
["calculated and averaged separately.  Thus, a separate Schedule B must be completed"]
["for each activity."]
[]
["Treatment of self-employment losses"]
["If the result of averaging the self-employment income is a loss, if the self-employment"]
["activity is not a hobby, and if there is other income not related to the self-employment"]
["activity that produced the loss, the self-employment loss may be used to reduce the other"]
["income in certain circumstances.  If applicable, complete either Section 1 or Section 2 "]
["to determine if self-employment losses may be used to reduce other income."]
[]
["This document was created by using Child"]
["Support's web based guidelines calculator.",null,null,null,null,null,null,null,null,null,null,null,null,null,null,null,null,null,null,null,null,null,null,null,null,{"$f":"\"Schedule B/Page 2 of 3/\"&Rates!N16&\" \"&Rates!O16","v":"Schedule B/Page 2 of 3/July 2023"}]
["If less than three years were averaged, complete Section 1 only.  If three, four, or five "]
["years were averaged, complete Section 2 only."]
[]
["Section 1:  This section is for use if less than three years were averaged.  -05(6)"]
["1.","Monthly gross income",null,null,null,null,null,null,null,null,null,null,null,null,null,null,null,null,null,null,null,null,{"$f":"IF('SE Obe7'!$Z$26=\"Y\",IF('SE Loss-Obe'!J22=0,0,IF($U$90<0,IF($U$89<3,'SE Loss-Obe'!$N$22,0),0)),0)","v":0}]
["2.","One-twelfth of average annual self-employment loss",null,null,null,null,null,null,null,null,null,null,null,null,null,null,null,null,null,null,null,null,{"$f":"-ROUND(IF(W111>0,U90/12,0),0)","v":0}]
["3.","Line 1 less Line 2",null,null,null,null,null,null,null,null,null,null,null,null,null,null,null,null,null,null,null,null,{"$f":"W111-W112","v":0}]
[]
["Self-employment loss may be used to reduce other income only if amount on Line 3"]
["equals or exceeds the greatest of:"]
[null,"a.","167 times federal minimum wage",null,null,null,null,null,null,null,null,null,null,null,null,null,null,null,{"$f":"ROUND(IF(W111>0,167*Rates!G11,0),0)","v":0}]
[null,null,"(",{"$f":"Rates!G11","v":7.25},"per hour ……. ",null,null,{"$f":"ROUND(Rates!G11*167,0)","v":1211},null,")"]
[null,"b.",".6 times statewide average earnings for"]
[null,null,"persons with similar work history and"]
[null,null,"occupational qualifications",null,null,null,null,null,null,null,null,null,null,null,null,null,null,null,{"$f":"ROUND(IF(W111>0,'SE Loss-Obe'!N23*0.6,0),0)","v":0}]
[null,"c.",".8 times obligor's greatest average gross monthly"]
[null,null,"earnings, calculated without using self-employment"]
[null,null,"losses, in any 12 consecutive months included in"]
[null,null,"the current calendar year and the two previous"]
[null,null,"calendar years",null,null,null,null,null,null,null,null,null,null,null,null,null,null,null,{"$f":"ROUND(IF(W111>0,'SE Loss-Obe'!N24*0.8,0),0)","v":0},null,null,null,{"$f":"IF(W111=0,0,IF(W113+0.01>S117,IF(W113+0.01>S121,IF(W113+0.01>S126,W113,0),0),0))","v":0}]
[]
["If loss is allowable, enter amount from line 3 onto the worksheet, line 3."]
[]
["Section 2:  This section is for use if three, four, or five years were averaged.  -05(7)"]
["1.","When three or more years were averaged, were losses calculated for more than"]
[null,"40% of those years?"]
[null,null,null,null,null,null,null,{"$f":"IF(W90<0,IF(W89<3,\"\",IF(W89=5,IF(X133<3,\"\",\"X\"),IF(W89=4,IF(X133<2,\"\",\"X\"),IF(W89=3,IF(X133<2,\"\",\"X\"),0)))),\"\")","v":""},"Yes",null,null,{"$f":"IF(W90<0,IF(W89<3,\"\",IF(W89=5,IF(X133<3,\"X\",\"\"),IF(W89=4,IF(X133<2,\"X\",\"\"),IF(W89=3,IF(X133<2,\"X\",\"\"),0)))),\"\")","v":""},"No",null,null,null,null,null,null,null,null,null,null,{"$f":"IF(G78<0,1,0)+IF(K78<0,1,0)+IF(O78<0,1,0)+IF(S78<0,1,0)+IF(W78<0,1,0)","v":0}]
[]
[]
["If the answer to Line 1 is yes, STOP.  The self-employment loss may not be used to "]
["reduce other income.  If the answer to Line 1 is no, continue with analysis."]
[]
["2.","Monthly gross income",null,null,null,null,null,null,null,null,null,null,null,null,null,null,null,null,null,null,null,null,{"$f":"IF('SE Obe7'!$Z$26=\"Y\",IF('SE Loss-Obe'!J22=0,0,IF($W$90<0,IF(L133=\"X\",'SE Loss-Obe'!N22,0),0)),0)","v":0}]
["3.","One-twelfth of average annual self-employment loss",null,null,null,null,null,null,null,null,null,null,null,null,null,null,null,null,null,null,null,null,{"$f":"-ROUND(IF(W139>0,W90/12,0),0)","v":0}]
["4.","Line 2 less Line 3",null,null,null,null,null,null,null,null,null,null,null,null,null,null,null,null,null,null,null,null,{"$f":"W139-W140","v":0}]
[]
["Self-employment loss may be used to reduce other income only if amount on Line 4"]
["equals or exceeds the greatest of:"]
[null,"a.","167 times federal minimum wage",null,null,null,null,null,null,null,null,null,null,null,null,null,null,null,{"$f":"ROUND(IF(W139>0,167*Rates!G11,0),0)","v":0}]
[null,null,"(",{"$f":"Rates!G11","v":7.25},"per hour ……. ",null,null,{"$f":"ROUND(Rates!G11*167,0)","v":1211},null,")"]
[null,"b.",".6 times statewide average earnings for"]
[null,null,"persons with similar work history and"]
[null,null,"occupational qualifications",null,null,null,null,null,null,null,null,null,null,null,null,null,null,null,{"$f":"ROUND(IF(W139>0,'SE Loss-Obe'!N23*0.6,0),0)","v":0}]
[null,"c.",".9 times obligor's greatest average gross monthly"]
[null,null,"earnings, calculated without using self-employment"]
[null,null,"losses, in any 12 consecutive months included in"]
[null,null,"the current calendar year and the two previous"]
[null,null,"calendar years",null,null,null,null,null,null,null,null,null,null,null,null,null,null,null,{"$f":"ROUND(IF(W139>0,'SE Loss-Obe'!N24*0.9,0),0)","v":0},null,null,null,{"$f":"IF(W139=0,0,IF(W141+0.01>S145,IF(W141+0.01>S149,IF(W141+0.01>S154,W90,0),0),0))","v":0}]
[]
["If loss is allowable, enter amount from line 4 onto the worksheet, line 3."]
[null,"Countable Self-Employment profit or loss",null,null,null,null,null,null,null,null,null,null,null,null,null,null,null,null,{"$f":"IF(U90<0,IF(W126=0,IF(W154=0,0,W154),W126),U90)","v":0}]
["This document was created by using Child"]
["Support's web based guidelines calculator.",null,null,null,null,null,null,null,null,null,null,null,null,null,null,null,null,null,null,null,null,null,null,null,null,{"$f":"\"Schedule B/Page 3 of 3/\"&Rates!N16&\" \"&Rates!O16","v":"Schedule B/Page 3 of 3/July 2023"}]

{"sheet":"SchB8 Obge","index":26,"n_rows":159,"n_cols":26,"rows_kept":159,"cut":false,"hidden":false,"merged":[[156,18,156,20],[140,22,140,24],[144,18,144,20],[145,7,145,8],[148,18,148,20],[153,18,153,20],[153,22,153,24],[120,18,120,20],[125,18,125,20],[125,22,125,24],[138,22,138,24],[139,22,139,24],[110,22,110,24],[111,22,111,24],[112,22,112,24],[116,18,116,20],[117,7,117,8],[83,8,83,10],[83,12,83,14],[87,22,87,24],[88,22,88,24],[89,22,89,24],[77,6,77,8],[77,10,77,12],[77,14,77,16],[77,18,77,20],[77,22,77,24],[72,6,72,8],[72,10,72,12],[72,14,72,16],[72,18,72,20],[72,22,72,24],[70,6,70,8],[70,10,70,12],[70,14,70,16],[70,18,70,20],[70,22,70,24],[69,6,69,8],[69,10,69,12],[69,14,69,16],[69,18,69,20],[69,22,69,24],[67,6,67,8],[67,10,67,12],[67,14,67,16],[67,18,67,20],[67,22,67,24],[64,10,64,12],[64,14,64,16],[64,18,64,20],[64,22,64,24],[66,6,66,8],[66,10,66,12],[66,14,66,16],[66,18,66,20],[66,22,66,24],[64,6,64,8],[52,18,52,20],[52,22,52,24],[59,6,59,8],[59,10,59,12],[59,14,59,16],[59,18,59,20],[59,22,59,24],[52,6,52,8],[52,10,52,12],[52,14,52,16],[44,6,44,8],[44,10,44,12],[44,14,44,16],[44,18,44,20],[44,22,44,24],[42,6,42,8],[42,10,42,12],[42,14,42,16],[42,18,42,20],[42,22,42,24],[36,6,36,8],[36,10,36,12],[36,14,36,16],[36,18,36,20],[36,22,36,24],[28,18,28,20],[28,22,28,24],[33,6,33,8],[33,10,33,12],[33,14,33,16],[33,18,33,20],[33,22,33,24],[28,6,28,8],[28,10,28,12],[28,14,28,16],[0,0,0,22],[1,0,1,25],[2,0,2,25],[16,0,16,24],[17,0,17,24]]}
["                 CHILD SUPPORT GUIDELINES",null,null,null,null,null,null,null,null,null,null,null,null,null,null,null,null,null,null,null,null,null,null,8,{"$f":"Rates!P52","v":0}]
["SCHEDULE B - SELF-EMPLOYMENT INCOME"]
["(N.D. Admin. Code § 75-02-04.1-05)"]
[]
["OBLIGOR:",null,null,{"$f":"IF(H21=0,0,'Wks1 Obge'!D5)","v":0}]
["OBLIGEE:",null,null,{"$f":"IF(H21=0,0,'Wks1 Obge'!D6)","v":0}]
[]
["This schedule is for use in determining net income from self-employment.  Self-"]
["employment means employment that results in an obligor earning income from any"]
["business organization or entity which the obligor is able to directly or indirectly control to"]
["a significant extent.  It also includes any activity that generates income from rental"]
["property, royalties, business gains, partnerships, trusts, corporations, and any other "]
["organization or entity regardless of form and regardless of whether such activity would"]
["be considered self-employment activity under the Internal Revenue Code."]
[]
["Name of business/description of self-employment activity to which this schedule relates:"]
[{"$f":"IF(H21=0,0,'SE Obe8'!$B$9)","v":0}]
[{"$f":"IF(H21=0,0,'SE Obe8'!$B$10)","v":0}]
[]
["TOTAL INCOME"]
["Tax year from IRS 1040 form",null,null,null,null,null,null,{"$f":"IF(OR(Rates!O22=\"Yes\",QuesScr!L16<1),0,'SE Obe8'!I$12)","v":0},null,null,null,{"$f":"IF(H21=0,0,'SE Obe8'!M$12)","v":0},null,null,null,{"$f":"IF(L21=0,0,'SE Obe8'!Q$12)","v":0},null,null,null,{"$f":"IF(P21=0,0,'SE Obe8'!U$12)","v":0},null,null,null,{"$f":"IF(T21=0,0,'SE Obe8'!Y$12)","v":0}]
["1.","Total income -05(1) (This"]
[null,"amount is taken from either"]
[null,"a tax return or from a profit"]
[null,"and loss statement.  If it is"]
[null,"taken from a tax return, use"]
[null,"the \"total income\" line on"]
[null,"the IRS form 1040;  i.e.,"]
[null,{"$f":"\"line 22 of \"&Rates!O17 &\" tax return.)\"","v":"line 22 of 2017 tax return.)"},null,null,null,null,{"$f":"IF(H21=0,0,'SE Obe8'!K$13)","v":0},null,null,null,{"$f":"IF(L21=0,0,'SE Obe8'!O$13)","v":0},null,null,null,{"$f":"IF(P21=0,0,'SE Obe8'!S$13)","v":0},null,null,null,{"$f":"IF(T21=0,0,'SE Obe8'!W$13)","v":0},null,null,null,{"$f":"IF(X21=0,0,'SE Obe8'!AA$13)","v":0}]
[]
["DEDUCTIONS"]
["2.","Amount of total income"]
[null,"that is not the obligor's"]
[null,"income -05(1)(a)(1)",null,null,null,null,{"$f":"IF(H21=0,0,'SE Obe8'!K$14)","v":0},null,null,null,{"$f":"IF(L21=0,0,'SE Obe8'!O$14)","v":0},null,null,null,{"$f":"IF(P21=0,0,'SE Obe8'!S$14)","v":0},null,null,null,{"$f":"IF(T21=0,0,'SE Obe8'!W$14)","v":0},null,null,null,{"$f":"IF(X21=0,0,'SE Obe8'!AA$14)","v":0}]
["3","Amount of total income that "]
[null,"does not come from this self-"]
[null,"employment -05(1)(a)(1)",null,null,null,null,{"$f":"IF(H21=0,0,'SE Obe8'!K$15)","v":0},null,null,null,{"$f":"IF(L21=0,0,'SE Obe8'!O$15)","v":0},null,null,null,{"$f":"IF(P21=0,0,'SE Obe8'!S$15)","v":0},null,null,null,{"$f":"IF(T21=0,0,'SE Obe8'!W$15)","v":0},null,null,null,{"$f":"IF(X21=0,0,'SE Obe8'!AA$15)","v":0}]
["4.","Amount of income from "]
[null,"partnership or S corporation "]
[null,"over which obligor "]
[null,"does not have significant "]
[null,"control that has not been "]
[null,"distributed -05(1)(a)(2)",null,null,null,null,{"$f":"IF(H21=0,0,'SE Obe8'!K$16)","v":0},null,null,null,{"$f":"IF(L21=0,0,'SE Obe8'!O$16)","v":0},null,null,null,{"$f":"IF(P21=0,0,'SE Obe8'!S$16)","v":0},null,null,null,{"$f":"IF(T21=0,0,'SE Obe8'!W$16)","v":0},null,null,null,{"$f":"IF(X21=0,0,'SE Obe8'!AA$16)","v":0}]
["5.","Total deductions (total of "]
[null,"Lines 2 through 4)",null,null,null,null,{"$f":"G34+G37+G43","v":0},null,null,null,{"$f":"K34+K37+K43","v":0},null,null,null,{"$f":"O34+O37+O43","v":0},null,null,null,{"$f":"S34+S37+S43","v":0},null,null,null,{"$f":"W34+W37+W43","v":0}]
[]
["ADDITIONS"]
["6.","Business expenses "]
[null,"attributable to the obligor or"]
[null,"a member of the obligor's"]
[null,"household for benefits,"]
[null,"pensions, profit-sharing"]
[null,"plans -05(1)(b)(1)",null,null,null,null,{"$f":"IF(H21=0,0,'SE Obe8'!K$17)","v":0},null,null,null,{"$f":"IF(L21=0,0,'SE Obe8'!O$17)","v":0},null,null,null,{"$f":"IF(P21=0,0,'SE Obe8'!S$17)","v":0},null,null,null,{"$f":"IF(T21=0,0,'SE Obe8'!W$17)","v":0},null,null,null,{"$f":"IF(X21=0,0,'SE Obe8'!AA$17)","v":0}]
[]
["This document was created by using Child"]
["Support's web based guidelines calculator.",null,null,null,null,null,null,null,null,null,null,null,null,null,null,null,null,null,null,null,null,null,null,null,null,{"$f":"\"Schedule B/Page 1 of 3/\"&Rates!N16&\" \"&Rates!O16","v":"Schedule B/Page 1 of 3/July 2023"}]
["7.","Payments to household member "]
[null,"to extent payment exceeds "]
[null,"fair market value of "]
[null,"services -05(1)(b)(2)",null,null,null,null,{"$f":"IF(H21=0,0,'SE Obe8'!K$18)","v":0},null,null,null,{"$f":"IF(L21=0,0,'SE Obe8'!O$18)","v":0},null,null,null,{"$f":"IF(P21=0,0,'SE Obe8'!S$18)","v":0},null,{"$f":"SUM(O60:P60)","v":0},null,{"$f":"IF(T21=0,0,'SE Obe8'!W$18)","v":0},null,null,null,{"$f":"IF(X21=0,0,'SE Obe8'!AA$18)","v":0}]
["8.","Income from C corporation "]
[null,"over which obligor has "]
[null,"significant control -05(1)(b)(3):"]
[null,"8a.","C corporation taxable "]
[null,null,"income",null,null,null,{"$f":"IF(H21=0,0,'SE Obe8'!K$19)","v":0},null,null,null,{"$f":"IF(L21=0,0,'SE Obe8'!O$19)","v":0},null,null,null,{"$f":"IF(P21=0,0,'SE Obe8'!S$19)","v":0},null,null,null,{"$f":"IF(T21=0,0,'SE Obe8'!W$19)","v":0},null,null,null,{"$f":"IF(X21=0,0,'SE Obe8'!AA$19)","v":0}]
[null,"8b.","C corporation federal "]
[null,null,"income tax",null,null,null,{"$f":"IF(H21=0,0,'SE Obe8'!K$20)","v":0},null,null,null,{"$f":"IF(L21=0,0,'SE Obe8'!O$20)","v":0},null,null,null,{"$f":"IF(P21=0,0,'SE Obe8'!S$20)","v":0},null,null,null,{"$f":"IF(T21=0,0,'SE Obe8'!W$20)","v":0},null,null,null,{"$f":"IF(X21=0,0,'SE Obe8'!AA$20)","v":0}]
[null,"8c.","Line 8a less Line 8b",null,null,null,{"$f":"G65-G67","v":0},null,null,null,{"$f":"K65-K67","v":0},null,null,null,{"$f":"O65-O67","v":0},null,null,null,{"$f":"S65-S67","v":0},null,null,null,{"$f":"W65-W67","v":0}]
[null,"8d.","Obligor's ownership "]
[null,null,"interest X .70",null,null,null,{"$f":"IF(H21=0,0,ROUND('SE Obe8'!I$21*0.7/100,2))","v":0},null,null,null,{"$f":"IF(L21=0,0,ROUND('SE Obe8'!M$21*0.7/100,2))","v":0},null,null,null,{"$f":"IF(P21=0,0,ROUND('SE Obe8'!Q$21*0.7/100,2))","v":0},null,null,null,{"$f":"IF(T21=0,0,ROUND('SE Obe8'!U$21*0.7/100,2))","v":0},null,null,null,{"$f":"IF(X21=0,0,ROUND('SE Obe8'!Y$21*0.7/100,2))","v":0}]
[null,"8e.","Line 8c X Line 8d",null,null,null,{"$f":"G70*G68","v":0},null,null,null,{"$f":"K70*K68","v":0},null,null,null,{"$f":"O70*O68","v":0},null,null,null,{"$f":"S70*S68","v":0},null,null,null,{"$f":"W70*W68","v":0}]
["9.","Total additions (total of "]
[null,"Lines 6, 7, and 8e)",null,null,null,null,{"$f":"G53+G60+G71","v":0},null,null,null,{"$f":"K53+K60+K71","v":0},null,null,null,{"$f":"O53+O60+O71","v":0},null,null,null,{"$f":"S53+S60+S71","v":0},null,null,null,{"$f":"W53+W60+W71","v":0}]
[]
["ANNUAL NET INCOME FROM SELF-EMPLOYMENT"]
["10.","Annual net income from "]
[null,"self-employment ((Line 1 "]
[null,"- Line 5) + Line 9)",null,null,null,null,{"$f":"G29-G45+G73","v":0},null,null,null,{"$f":"K29-K45+K73","v":0},null,null,null,{"$f":"O29-O45+O73","v":0},null,null,null,{"$f":"S29-S45+S73","v":0},null,null,null,{"$f":"W29-W45+W73","v":0}]
[]
["Note:  When dealing with self-employment income, the guidelines contemplate a"]
["calculation of up to a 5-year average of self-employment income to account for the"]
["significant changes that may occur in the business."]
[]
["Are multiple years being calculated:",null,null,null,null,null,null,null,{"$f":"IF(L21=0,\"\",\"X\")","v":""},null,null,"Yes",{"$f":"IF(L21=0,\"X\",\"\")","v":"X"},null,null,"No"]
[]
["If yes, complete the following calculation:"]
["1.","Total net income from self-employment for all years being averaged"]
[null,"i.e., total of Line 10 amounts for all years being averaged",null,null,null,null,null,null,null,null,null,null,null,null,null,null,null,null,null,null,{"$f":"G78+K78+O78+S78+W78","v":0},null,{"$f":"IF(M84=\"X\",0,G78+K78+O78+S78+W78)","v":0}]
["2.","Number of years being averaged",null,null,null,null,null,null,null,null,null,null,null,null,null,null,null,null,null,null,{"$f":"IF(H21=0,0,IF('SE Obe8'!I12=0,0,IF('SE Obe8'!M12=0,1,IF('SE Obe8'!Q12=0,2,IF('SE Obe8'!U12=0,3,IF('SE Obe8'!Y12=0,4,5))))))","v":0},null,{"$f":"IF(M84=\"X\",0,IF(H21=0,0,IF('SE Obe8'!I12=0,0,IF('SE Obe8'!M12=0,1,IF('SE Obe8'!Q12=0,2,IF('SE Obe8'!U12=0,3,IF('SE Obe8'!Y12=0,4,5)))))))","v":0}]
["3.","Average annual net income from self-employment (Line 1 ÷ Line 2)",null,null,null,null,null,null,null,null,null,null,null,null,null,null,null,null,null,null,{"$f":"ROUND(IF(U89=0,0,U88/U89),0)","v":0},null,{"$f":"ROUND(IF(W89=0,0,W88/W89),0)","v":0}]
[]
["If line 3 is a positive number, enter the amount onto the worksheet, line 3."]
[]
["Note: If there are multiple self-employment activities, income from each activity must be "]
["calculated and averaged separately.  Thus, a separate Schedule B must be completed"]
["for each activity."]
[]
["Treatment of self-employment losses"]
["If the result of averaging the self-employment income is a loss, if the self-employment"]
["activity is not a hobby, and if there is other income not related to the self-employment"]
["activity that produced the loss, the self-employment loss may be used to reduce the other"]
["income in certain circumstances.  If applicable, complete either Section 1 or Section 2 "]
["to determine if self-employment losses may be used to reduce other income."]
[]
["This document was created by using Child"]
["Support's web based guidelines calculator.",null,null,null,null,null,null,null,null,null,null,null,null,null,null,null,null,null,null,null,null,null,null,null,null,{"$f":"\"Schedule B/Page 2 of 3/\"&Rates!N16&\" \"&Rates!O16","v":"Schedule B/Page 2 of 3/July 2023"}]
["If less than three years were averaged, complete Section 1 only.  If three, four, or five "]
["years were averaged, complete Section 2 only."]
[]
["Section 1:  This section is for use if less than three years were averaged.  -05(6)"]
["1.","Monthly gross income",null,null,null,null,null,null,null,null,null,null,null,null,null,null,null,null,null,null,null,null,{"$f":"IF('SE Obe8'!$Z$26=\"Y\",IF('SE Loss-Obe'!J22=0,0,IF($U$90<0,IF($U$89<3,'SE Loss-Obe'!$N$22,0),0)),0)","v":0}]
["2.","One-twelfth of average annual self-employment loss",null,null,null,null,null,null,null,null,null,null,null,null,null,null,null,null,null,null,null,null,{"$f":"-ROUND(IF(W111>0,U90/12,0),0)","v":0}]
["3.","Line 1 less Line 2",null,null,null,null,null,null,null,null,null,null,null,null,null,null,null,null,null,null,null,null,{"$f":"W111-W112","v":0}]
[]
["Self-employment loss may be used to reduce other income only if amount on Line 3"]
["equals or exceeds the greatest of:"]
[null,"a.","167 times federal minimum wage",null,null,null,null,null,null,null,null,null,null,null,null,null,null,null,{"$f":"ROUND(IF(W111>0,167*Rates!G11,0),0)","v":0}]
[null,null,"(",{"$f":"Rates!G11","v":7.25},"per hour ……. ",null,null,{"$f":"ROUND(Rates!G11*167,0)","v":1211},null,")"]
[null,"b.",".6 times statewide average earnings for"]
[null,null,"persons with similar work history and"]
[null,null,"occupational qualifications",null,null,null,null,null,null,null,null,null,null,null,null,null,null,null,{"$f":"ROUND(IF(W111>0,'SE Loss-Obe'!N23*0.6,0),0)","v":0}]
[null,"c.",".8 times obligor's greatest average gross monthly"]
[null,null,"earnings, calculated without using self-employment"]
[null,null,"losses, in any 12 consecutive months included in"]
[null,null,"the current calendar year and the two previous"]
[null,null,"calendar years",null,null,null,null,null,null,null,null,null,null,null,null,null,null,null,{"$f":"ROUND(IF(W111>0,'SE Loss-Obe'!N24*0.8,0),0)","v":0},null,null,null,{"$f":"IF(W111=0,0,IF(W113+0.01>S117,IF(W113+0.01>S121,IF(W113+0.01>S126,W113,0),0),0))","v":0}]
[]
["If loss is allowable, enter amount from line 3 onto the worksheet, line 3."]
[]
["Section 2:  This section is for use if three, four, or five years were averaged.  -05(7)"]
["1.","When three or more years were averaged, were losses calculated for more than"]
[null,"40% of those years?"]
[null,null,null,null,null,null,null,{"$f":"IF(W90<0,IF(W89<3,\"\",IF(W89=5,IF(X133<3,\"\",\"X\"),IF(W89=4,IF(X133<2,\"\",\"X\"),IF(W89=3,IF(X133<2,\"\",\"X\"),0)))),\"\")","v":""},"Yes",null,null,{"$f":"IF(W90<0,IF(W89<3,\"\",IF(W89=5,IF(X133<3,\"X\",\"\"),IF(W89=4,IF(X133<2,\"X\",\"\"),IF(W89=3,IF(X133<2,\"X\",\"\"),0)))),\"\")","v":""},"No",null,null,null,null,null,null,null,null,null,null,{"$f":"IF(G78<0,1,0)+IF(K78<0,1,0)+IF(O78<0,1,0)+IF(S78<0,1,0)+IF(W78<0,1,0)","v":0}]
[]
[]
["If the answer to Line 1 is yes, STOP.  The self-employment loss may not be used to "]
["reduce other income.  If the answer to Line 1 is no, continue with analysis."]
[]
["2.","Monthly gross income",null,null,null,null,null,null,null,null,null,null,null,null,null,null,null,null,null,null,null,null,{"$f":"IF('SE Obe8'!$Z$26=\"Y\",IF('SE Loss-Obe'!J22=0,0,IF($W$90<0,IF(L133=\"X\",'SE Loss-Obe'!N22,0),0)),0)","v":0}]
["3.","One-twelfth of average annual self-employment loss",null,null,null,null,null,null,null,null,null,null,null,null,null,null,null,null,null,null,null,null,{"$f":"-ROUND(IF(W139>0,W90/12,0),0)","v":0}]
["4.","Line 2 less Line 3",null,null,null,null,null,null,null,null,null,null,null,null,null,null,null,null,null,null,null,null,{"$f":"W139-W140","v":0}]
[]
["Self-employment loss may be used to reduce other income only if amount on Line 4"]
["equals or exceeds the greatest of:"]
[null,"a.","167 times federal minimum wage",null,null,null,null,null,null,null,null,null,null,null,null,null,null,null,{"$f":"ROUND(IF(W139>0,167*Rates!G11,0),0)","v":0}]
[null,null,"(",{"$f":"Rates!G11","v":7.25},"per hour ……. ",null,null,{"$f":"ROUND(Rates!G11*167,0)","v":1211},null,")"]
[null,"b.",".6 times statewide average earnings for"]
[null,null,"persons with similar work history and"]
[null,null,"occupational qualifications",null,null,null,null,null,null,null,null,null,null,null,null,null,null,null,{"$f":"ROUND(IF(W139>0,'SE Loss-Obe'!N23*0.6,0),0)","v":0}]
[null,"c.",".9 times obligor's greatest average gross monthly"]
[null,null,"earnings, calculated without using self-employment"]
[null,null,"losses, in any 12 consecutive months included in"]
[null,null,"the current calendar year and the two previous"]
[null,null,"calendar years",null,null,null,null,null,null,null,null,null,null,null,null,null,null,null,{"$f":"ROUND(IF(W139>0,'SE Loss-Obe'!N24*0.9,0),0)","v":0},null,null,null,{"$f":"IF(W139=0,0,IF(W141+0.01>S145,IF(W141+0.01>S149,IF(W141+0.01>S154,W90,0),0),0))","v":0}]
[]
["If loss is allowable, enter amount from line 4 onto the worksheet, line 3."]
[null,"Countable Self-Employment profit or loss",null,null,null,null,null,null,null,null,null,null,null,null,null,null,null,null,{"$f":"IF(U90<0,IF(W126=0,IF(W154=0,0,W154),W126),U90)","v":0}]
["This document was created by using Child"]
["Support's web based guidelines calculator.",null,null,null,null,null,null,null,null,null,null,null,null,null,null,null,null,null,null,null,null,null,null,null,null,{"$f":"\"Schedule B/Page 3 of 3/\"&Rates!N16&\" \"&Rates!O16","v":"Schedule B/Page 3 of 3/July 2023"}]

{"sheet":"SchB9 Obge","index":27,"n_rows":159,"n_cols":26,"rows_kept":159,"cut":false,"hidden":false,"merged":[[156,18,156,20],[140,22,140,24],[144,18,144,20],[145,7,145,8],[148,18,148,20],[153,18,153,20],[153,22,153,24],[120,18,120,20],[125,18,125,20],[125,22,125,24],[138,22,138,24],[139,22,139,24],[110,22,110,24],[111,22,111,24],[112,22,112,24],[116,18,116,20],[117,7,117,8],[83,8,83,10],[83,12,83,14],[87,22,87,24],[88,22,88,24],[89,22,89,24],[77,6,77,8],[77,10,77,12],[77,14,77,16],[77,18,77,20],[77,22,77,24],[72,6,72,8],[72,10,72,12],[72,14,72,16],[72,18,72,20],[72,22,72,24],[70,6,70,8],[70,10,70,12],[70,14,70,16],[70,18,70,20],[70,22,70,24],[69,6,69,8],[69,10,69,12],[69,14,69,16],[69,18,69,20],[69,22,69,24],[67,6,67,8],[67,10,67,12],[67,14,67,16],[67,18,67,20],[67,22,67,24],[64,10,64,12],[64,14,64,16],[64,18,64,20],[64,22,64,24],[66,6,66,8],[66,10,66,12],[66,14,66,16],[66,18,66,20],[66,22,66,24],[64,6,64,8],[52,18,52,20],[52,22,52,24],[59,6,59,8],[59,10,59,12],[59,14,59,16],[59,18,59,20],[59,22,59,24],[52,6,52,8],[52,10,52,12],[52,14,52,16],[44,6,44,8],[44,10,44,12],[44,14,44,16],[44,18,44,20],[44,22,44,24],[42,6,42,8],[42,10,42,12],[42,14,42,16],[42,18,42,20],[42,22,42,24],[36,6,36,8],[36,10,36,12],[36,14,36,16],[36,18,36,20],[36,22,36,24],[28,18,28,20],[28,22,28,24],[33,6,33,8],[33,10,33,12],[33,14,33,16],[33,18,33,20],[33,22,33,24],[28,6,28,8],[28,10,28,12],[28,14,28,16],[0,0,0,22],[1,0,1,25],[2,0,2,25],[16,0,16,24],[17,0,17,24]]}
["                 CHILD SUPPORT GUIDELINES",null,null,null,null,null,null,null,null,null,null,null,null,null,null,null,null,null,null,null,null,null,null,9,{"$f":"Rates!P52","v":0}]
["SCHEDULE B - SELF-EMPLOYMENT INCOME"]
["(N.D. Admin. Code § 75-02-04.1-05)"]
[]
["OBLIGOR:",null,null,{"$f":"IF(H21=0,0,'Wks1 Obge'!D5)","v":0}]
["OBLIGEE:",null,null,{"$f":"IF(H21=0,0,'Wks1 Obge'!D6)","v":0}]
[]
["This schedule is for use in determining net income from self-employment.  Self-"]
["employment means employment that results in an obligor earning income from any"]
["business organization or entity which the obligor is able to directly or indirectly control to"]
["a significant extent.  It also includes any activity that generates income from rental"]
["property, royalties, business gains, partnerships, trusts, corporations, and any other "]
["organization or entity regardless of form and regardless of whether such activity would"]
["be considered self-employment activity under the Internal Revenue Code."]
[]
["Name of business/description of self-employment activity to which this schedule relates:"]
[{"$f":"IF(H21=0,0,'SE Obe9'!$B$9)","v":0}]
[{"$f":"IF(H21=0,0,'SE Obe9'!$B$10)","v":0}]
[]
["TOTAL INCOME"]
["Tax year from IRS 1040 form",null,null,null,null,null,null,{"$f":"IF(OR(Rates!O22=\"Yes\",QuesScr!L16<1),0,'SE Obe9'!I$12)","v":0},null,null,null,{"$f":"IF(H21=0,0,'SE Obe9'!M$12)","v":0},null,null,null,{"$f":"IF(L21=0,0,'SE Obe9'!Q$12)","v":0},null,null,null,{"$f":"IF(P21=0,0,'SE Obe9'!U$12)","v":0},null,null,null,{"$f":"IF(T21=0,0,'SE Obe9'!Y$12)","v":0}]
["1.","Total income -05(1) (This"]
[null,"amount is taken from either"]
[null,"a tax return or from a profit"]
[null,"and loss statement.  If it is"]
[null,"taken from a tax return, use"]
[null,"the \"total income\" line on"]
[null,"the IRS form 1040;  i.e.,"]
[null,{"$f":"\"line 22 of \"&Rates!O17 &\" tax return.)\"","v":"line 22 of 2017 tax return.)"},null,null,null,null,{"$f":"IF(H21=0,0,'SE Obe9'!K$13)","v":0},null,null,null,{"$f":"IF(L21=0,0,'SE Obe9'!O$13)","v":0},null,null,null,{"$f":"IF(P21=0,0,'SE Obe9'!S$13)","v":0},null,null,null,{"$f":"IF(T21=0,0,'SE Obe9'!W$13)","v":0},null,null,null,{"$f":"IF(X21=0,0,'SE Obe9'!AA$13)","v":0}]
[]
["DEDUCTIONS"]
["2.","Amount of total income"]
[null,"that is not the obligor's"]
[null,"income -05(1)(a)(1)",null,null,null,null,{"$f":"IF(H21=0,0,'SE Obe9'!K$14)","v":0},null,null,null,{"$f":"IF(L21=0,0,'SE Obe9'!O$14)","v":0},null,null,null,{"$f":"IF(P21=0,0,'SE Obe9'!S$14)","v":0},null,null,null,{"$f":"IF(T21=0,0,'SE Obe9'!W$14)","v":0},null,null,null,{"$f":"IF(X21=0,0,'SE Obe9'!AA$14)","v":0}]
["3","Amount of total income that "]
[null,"does not come from this self-"]
[null,"employment -05(1)(a)(1)",null,null,null,null,{"$f":"IF(H21=0,0,'SE Obe9'!K$15)","v":0},null,null,null,{"$f":"IF(L21=0,0,'SE Obe9'!O$15)","v":0},null,null,null,{"$f":"IF(P21=0,0,'SE Obe9'!S$15)","v":0},null,null,null,{"$f":"IF(T21=0,0,'SE Obe9'!W$15)","v":0},null,null,null,{"$f":"IF(X21=0,0,'SE Obe9'!AA$15)","v":0}]
["4.","Amount of income from "]
[null,"partnership or S corporation "]
[null,"over which obligor "]
[null,"does not have significant "]
[null,"control that has not been "]
[null,"distributed -05(1)(a)(2)",null,null,null,null,{"$f":"IF(H21=0,0,'SE Obe9'!K$16)","v":0},null,null,null,{"$f":"IF(L21=0,0,'SE Obe9'!O$16)","v":0},null,null,null,{"$f":"IF(P21=0,0,'SE Obe9'!S$16)","v":0},null,null,null,{"$f":"IF(T21=0,0,'SE Obe9'!W$16)","v":0},null,null,null,{"$f":"IF(X21=0,0,'SE Obe9'!AA$16)","v":0}]
["5.","Total deductions (total of "]
[null,"Lines 2 through 4)",null,null,null,null,{"$f":"G34+G37+G43","v":0},null,null,null,{"$f":"K34+K37+K43","v":0},null,null,null,{"$f":"O34+O37+O43","v":0},null,null,null,{"$f":"S34+S37+S43","v":0},null,null,null,{"$f":"W34+W37+W43","v":0}]
[]
["ADDITIONS"]
["6.","Business expenses "]
[null,"attributable to the obligor or"]
[null,"a member of the obligor's"]
[null,"household for benefits,"]
[null,"pensions, profit-sharing"]
[null,"plans -05(1)(b)(1)",null,null,null,null,{"$f":"IF(H21=0,0,'SE Obe9'!K$17)","v":0},null,null,null,{"$f":"IF(L21=0,0,'SE Obe9'!O$17)","v":0},null,null,null,{"$f":"IF(P21=0,0,'SE Obe9'!S$17)","v":0},null,null,null,{"$f":"IF(T21=0,0,'SE Obe9'!W$17)","v":0},null,null,null,{"$f":"IF(X21=0,0,'SE Obe9'!AA$17)","v":0}]
[]
["This document was created by using Child"]
["Support's web based guidelines calculator.",null,null,null,null,null,null,null,null,null,null,null,null,null,null,null,null,null,null,null,null,null,null,null,null,{"$f":"\"Schedule B/Page 1 of 3/\"&Rates!N16&\" \"&Rates!O16","v":"Schedule B/Page 1 of 3/July 2023"}]
["7.","Payments to household member "]
[null,"to extent payment exceeds "]
[null,"fair market value of "]
[null,"services -05(1)(b)(2)",null,null,null,null,{"$f":"IF(H21=0,0,'SE Obe9'!K$18)","v":0},null,null,null,{"$f":"IF(L21=0,0,'SE Obe9'!O$18)","v":0},null,null,null,{"$f":"IF(P21=0,0,'SE Obe9'!S$18)","v":0},null,{"$f":"SUM(O60:P60)","v":0},null,{"$f":"IF(T21=0,0,'SE Obe9'!W$18)","v":0},null,null,null,{"$f":"IF(X21=0,0,'SE Obe9'!AA$18)","v":0}]
["8.","Income from C corporation "]
[null,"over which obligor has "]
[null,"significant control -05(1)(b)(3):"]
[null,"8a.","C corporation taxable "]
[null,null,"income",null,null,null,{"$f":"IF(H21=0,0,'SE Obe9'!K$19)","v":0},null,null,null,{"$f":"IF(L21=0,0,'SE Obe9'!O$19)","v":0},null,null,null,{"$f":"IF(P21=0,0,'SE Obe9'!S$19)","v":0},null,null,null,{"$f":"IF(T21=0,0,'SE Obe9'!W$19)","v":0},null,null,null,{"$f":"IF(X21=0,0,'SE Obe9'!AA$19)","v":0}]
[null,"8b.","C corporation federal "]
[null,null,"income tax",null,null,null,{"$f":"IF(H21=0,0,'SE Obe9'!K$20)","v":0},null,null,null,{"$f":"IF(L21=0,0,'SE Obe9'!O$20)","v":0},null,null,null,{"$f":"IF(P21=0,0,'SE Obe9'!S$20)","v":0},null,null,null,{"$f":"IF(T21=0,0,'SE Obe9'!W$20)","v":0},null,null,null,{"$f":"IF(X21=0,0,'SE Obe9'!AA$20)","v":0}]
[null,"8c.","Line 8a less Line 8b",null,null,null,{"$f":"G65-G67","v":0},null,null,null,{"$f":"K65-K67","v":0},null,null,null,{"$f":"O65-O67","v":0},null,null,null,{"$f":"S65-S67","v":0},null,null,null,{"$f":"W65-W67","v":0}]
[null,"8d.","Obligor's ownership "]
[null,null,"interest X .70",null,null,null,{"$f":"IF(H21=0,0,ROUND('SE Obe9'!I$21*0.7/100,2))","v":0},null,null,null,{"$f":"IF(L21=0,0,ROUND('SE Obe9'!M$21*0.7/100,2))","v":0},null,null,null,{"$f":"IF(P21=0,0,ROUND('SE Obe9'!Q$21*0.7/100,2))","v":0},null,null,null,{"$f":"IF(T21=0,0,ROUND('SE Obe9'!U$21*0.7/100,2))","v":0},null,null,null,{"$f":"IF(X21=0,0,ROUND('SE Obe9'!Y$21*0.7/100,2))","v":0}]
[null,"8e.","Line 8c X Line 8d",null,null,null,{"$f":"G70*G68","v":0},null,null,null,{"$f":"K70*K68","v":0},null,null,null,{"$f":"O70*O68","v":0},null,null,null,{"$f":"S70*S68","v":0},null,null,null,{"$f":"W70*W68","v":0}]
["9.","Total additions (total of "]
[null,"Lines 6, 7, and 8e)",null,null,null,null,{"$f":"G53+G60+G71","v":0},null,null,null,{"$f":"K53+K60+K71","v":0},null,null,null,{"$f":"O53+O60+O71","v":0},null,null,null,{"$f":"S53+S60+S71","v":0},null,null,null,{"$f":"W53+W60+W71","v":0}]
[]
["ANNUAL NET INCOME FROM SELF-EMPLOYMENT"]
["10.","Annual net income from "]
[null,"self-employment ((Line 1 "]
[null,"- Line 5) + Line 9)",null,null,null,null,{"$f":"G29-G45+G73","v":0},null,null,null,{"$f":"K29-K45+K73","v":0},null,null,null,{"$f":"O29-O45+O73","v":0},null,null,null,{"$f":"S29-S45+S73","v":0},null,null,null,{"$f":"W29-W45+W73","v":0}]
[]
["Note:  When dealing with self-employment income, the guidelines contemplate a"]
["calculation of up to a 5-year average of self-employment income to account for the"]
["significant changes that may occur in the business."]
[]
["Are multiple years being calculated:",null,null,null,null,null,null,null,{"$f":"IF(L21=0,\"\",\"X\")","v":""},null,null,"Yes",{"$f":"IF(L21=0,\"X\",\"\")","v":"X"},null,null,"No"]
[]
["If yes, complete the following calculation:"]
["1.","Total net income from self-employment for all years being averaged"]
[null,"i.e., total of Line 10 amounts for all years being averaged",null,null,null,null,null,null,null,null,null,null,null,null,null,null,null,null,null,null,{"$f":"G78+K78+O78+S78+W78","v":0},null,{"$f":"IF(M84=\"X\",0,G78+K78+O78+S78+W78)","v":0}]
["2.","Number of years being averaged",null,null,null,null,null,null,null,null,null,null,null,null,null,null,null,null,null,null,{"$f":"IF(H21=0,0,IF('SE Obe9'!I12=0,0,IF('SE Obe9'!M12=0,1,IF('SE Obe9'!Q12=0,2,IF('SE Obe9'!U12=0,3,IF('SE Obe9'!Y12=0,4,5))))))","v":0},null,{"$f":"IF(M84=\"X\",0,IF(H21=0,0,IF('SE Obe9'!I12=0,0,IF('SE Obe9'!M12=0,1,IF('SE Obe9'!Q12=0,2,IF('SE Obe9'!U12=0,3,IF('SE Obe9'!Y12=0,4,5)))))))","v":0}]
["3.","Average annual net income from self-employment (Line 1 ÷ Line 2)",null,null,null,null,null,null,null,null,null,null,null,null,null,null,null,null,null,null,{"$f":"ROUND(IF(U89=0,0,U88/U89),0)","v":0},null,{"$f":"ROUND(IF(W89=0,0,W88/W89),0)","v":0}]
[]
["If line 3 is a positive number, enter the amount onto the worksheet, line 3."]
[]
["Note: If there are multiple self-employment activities, income from each activity must be "]
["calculated and averaged separately.  Thus, a separate Schedule B must be completed"]
["for each activity."]
[]
["Treatment of self-employment losses"]
["If the result of averaging the self-employment income is a loss, if the self-employment"]
["activity is not a hobby, and if there is other income not related to the self-employment"]
["activity that produced the loss, the self-employment loss may be used to reduce the other"]
["income in certain circumstances.  If applicable, complete either Section 1 or Section 2 "]
["to determine if self-employment losses may be used to reduce other income."]
[]
["This document was created by using Child"]
["Support's web based guidelines calculator.",null,null,null,null,null,null,null,null,null,null,null,null,null,null,null,null,null,null,null,null,null,null,null,null,{"$f":"\"Schedule B/Page 2 of 3/\"&Rates!N16&\" \"&Rates!O16","v":"Schedule B/Page 2 of 3/July 2023"}]
["If less than three years were averaged, complete Section 1 only.  If three, four, or five "]
["years were averaged, complete Section 2 only."]
[]
["Section 1:  This section is for use if less than three years were averaged.  -05(6)"]
["1.","Monthly gross income",null,null,null,null,null,null,null,null,null,null,null,null,null,null,null,null,null,null,null,null,{"$f":"IF('SE Obe9'!$Z$26=\"Y\",IF('SE Loss-Obe'!J22=0,0,IF($U$90<0,IF($U$89<3,'SE Loss-Obe'!$N$22,0),0)),0)","v":0}]
["2.","One-twelfth of average annual self-employment loss",null,null,null,null,null,null,null,null,null,null,null,null,null,null,null,null,null,null,null,null,{"$f":"-ROUND(IF(W111>0,U90/12,0),0)","v":0}]
["3.","Line 1 less Line 2",null,null,null,null,null,null,null,null,null,null,null,null,null,null,null,null,null,null,null,null,{"$f":"W111-W112","v":0}]
[]
["Self-employment loss may be used to reduce other income only if amount on Line 3"]
["equals or exceeds the greatest of:"]
[null,"a.","167 times federal minimum wage",null,null,null,null,null,null,null,null,null,null,null,null,null,null,null,{"$f":"ROUND(IF(W111>0,167*Rates!G11,0),0)","v":0}]
[null,null,"(",{"$f":"Rates!G11","v":7.25},"per hour ……. ",null,null,{"$f":"ROUND(Rates!G11*167,0)","v":1211},null,")"]
[null,"b.",".6 times statewide average earnings for"]
[null,null,"persons with similar work history and"]
[null,null,"occupational qualifications",null,null,null,null,null,null,null,null,null,null,null,null,null,null,null,{"$f":"ROUND(IF(W111>0,'SE Loss-Obe'!N23*0.6,0),0)","v":0}]
[null,"c.",".8 times obligor's greatest average gross monthly"]
[null,null,"earnings, calculated without using self-employment"]
[null,null,"losses, in any 12 consecutive months included in"]
[null,null,"the current calendar year and the two previous"]
[null,null,"calendar years",null,null,null,null,null,null,null,null,null,null,null,null,null,null,null,{"$f":"ROUND(IF(W111>0,'SE Loss-Obe'!N24*0.8,0),0)","v":0},null,null,null,{"$f":"IF(W111=0,0,IF(W113+0.01>S117,IF(W113+0.01>S121,IF(W113+0.01>S126,W113,0),0),0))","v":0}]
[]
["If loss is allowable, enter amount from line 3 onto the worksheet, line 3."]
[]
["Section 2:  This section is for use if three, four, or five years were averaged.  -05(7)"]
["1.","When three or more years were averaged, were losses calculated for more than"]
[null,"40% of those years?"]
[null,null,null,null,null,null,null,{"$f":"IF(W90<0,IF(W89<3,\"\",IF(W89=5,IF(X133<3,\"\",\"X\"),IF(W89=4,IF(X133<2,\"\",\"X\"),IF(W89=3,IF(X133<2,\"\",\"X\"),0)))),\"\")","v":""},"Yes",null,null,{"$f":"IF(W90<0,IF(W89<3,\"\",IF(W89=5,IF(X133<3,\"X\",\"\"),IF(W89=4,IF(X133<2,\"X\",\"\"),IF(W89=3,IF(X133<2,\"X\",\"\"),0)))),\"\")","v":""},"No",null,null,null,null,null,null,null,null,null,null,{"$f":"IF(G78<0,1,0)+IF(K78<0,1,0)+IF(O78<0,1,0)+IF(S78<0,1,0)+IF(W78<0,1,0)","v":0}]
[]
[]
["If the answer to Line 1 is yes, STOP.  The self-employment loss may not be used to "]
["reduce other income.  If the answer to Line 1 is no, continue with analysis."]
[]
["2.","Monthly gross income",null,null,null,null,null,null,null,null,null,null,null,null,null,null,null,null,null,null,null,null,{"$f":"IF('SE Obe9'!$Z$26=\"Y\",IF('SE Loss-Obe'!J22=0,0,IF($W$90<0,IF(L133=\"X\",'SE Loss-Obe'!N22,0),0)),0)","v":0}]
["3.","One-twelfth of average annual self-employment loss",null,null,null,null,null,null,null,null,null,null,null,null,null,null,null,null,null,null,null,null,{"$f":"-ROUND(IF(W139>0,W90/12,0),0)","v":0}]
["4.","Line 2 less Line 3",null,null,null,null,null,null,null,null,null,null,null,null,null,null,null,null,null,null,null,null,{"$f":"W139-W140","v":0}]
[]
["Self-employment loss may be used to reduce other income only if amount on Line 4"]
["equals or exceeds the greatest of:"]
[null,"a.","167 times federal minimum wage",null,null,null,null,null,null,null,null,null,null,null,null,null,null,null,{"$f":"ROUND(IF(W139>0,167*Rates!G11,0),0)","v":0}]
[null,null,"(",{"$f":"Rates!G11","v":7.25},"per hour ……. ",null,null,{"$f":"ROUND(Rates!G11*167,0)","v":1211},null,")"]
[null,"b.",".6 times statewide average earnings for"]
[null,null,"persons with similar work history and"]
[null,null,"occupational qualifications",null,null,null,null,null,null,null,null,null,null,null,null,null,null,null,{"$f":"ROUND(IF(W139>0,'SE Loss-Obe'!N23*0.6,0),0)","v":0}]
[null,"c.",".9 times obligor's greatest average gross monthly"]
[null,null,"earnings, calculated without using self-employment"]
[null,null,"losses, in any 12 consecutive months included in"]
[null,null,"the current calendar year and the two previous"]
[null,null,"calendar years",null,null,null,null,null,null,null,null,null,null,null,null,null,null,null,{"$f":"ROUND(IF(W139>0,'SE Loss-Obe'!N24*0.9,0),0)","v":0},null,null,null,{"$f":"IF(W139=0,0,IF(W141+0.01>S145,IF(W141+0.01>S149,IF(W141+0.01>S154,W90,0),0),0))","v":0}]
[]
["If loss is allowable, enter amount from line 4 onto the worksheet, line 3."]
[null,"Countable Self-Employment profit or loss",null,null,null,null,null,null,null,null,null,null,null,null,null,null,null,null,{"$f":"IF(U90<0,IF(W126=0,IF(W154=0,0,W154),W126),U90)","v":0}]
["This document was created by using Child"]
["Support's web based guidelines calculator.",null,null,null,null,null,null,null,null,null,null,null,null,null,null,null,null,null,null,null,null,null,null,null,null,{"$f":"\"Schedule B/Page 3 of 3/\"&Rates!N16&\" \"&Rates!O16","v":"Schedule B/Page 3 of 3/July 2023"}]

{"sheet":"SchC Obgr","index":28,"n_rows":102,"n_cols":16,"rows_kept":102,"cut":false,"hidden":false,"merged":[[0,0,0,16],[1,0,1,16],[2,0,2,16],[34,3,34,4],[16,14,16,15],[17,14,17,15],[18,14,18,15],[19,14,19,15],[20,14,20,15],[21,14,21,15],[26,14,26,15]]}
["CHILD SUPPORT GUIDELINES"]
["SCHEDULE C - MULTIPLE FAMILIES"]
["(N.D. Admin. Code §§ 75-02-04.1-06 and 75-02-04.1-06.1)"]
[{"$f":"IF(AND(QuesScr!I18=\"Y\",MultFam!J12<5),\"Y\",\"\")","v":""}]
["OBLIGOR:",null,{"$f":"IF(OR(QuesScr!I18<>\"Y\",Rates!O49=\"F\"),0,'Wks1 Obgr'!D5)","v":0}]
["OBLIGEE:",null,{"$f":"IF(OR(QuesScr!I18<>\"Y\",Rates!O49=\"F\"),0,'Wks1 Obgr'!D6)","v":0}]
[]
["This schedule is for use in determining the support amount where the obligor"]
["owes duties of support payable to two or more obligees (complete Part 2 only), or"]
["owes a duty of support to a child living with the obligor who is not also the child"]
["of the obligee and also owes a duty of support payable to at least one obligee"]
["(complete Parts 1 and 2)."]
[]
["Part 1: This part is for use in determining the deduction from net income for the cost of"]
["supporting a child living with the obligor. -06"]
[]
["1.","Obligor's net monthly income (from Worksheet Line 7)",null,null,null,null,null,null,null,null,null,null,null,null,{"$f":"IF(A4<>\"Y\",0,'Wks2 Obgr'!I1)","v":0}]
[]
["2.","Total number of children living with the obligor"]
[null,"(not including stepchildren)",null,null,null,null,null,null,null,null,null,null,null,null,{"$f":"IF(OR(QuesScr!I18<>\"Y\",Rates!O49=\"F\",MultFam!J9=0,MultFam!J12>4),0,MultFam!J9)","v":0}]
[]
["3.","Apply Lines 1 and 2 to guidelines -10",null,null,null,null,null,null,null,null,null,null,null,null,{"$f":"IF(O20=0,0,(VLOOKUP(IF(O17>25000,25000,IF(O17<100,100,(ROUND((O17/100),0))*100)),award03,IF(O20>6,7,O20+1),TRUE)))","v":0}]
[]
["Enter the amount from Line 3 onto Line 1 under \"Children Living With the Obligor\" Part 2."]
[]
["Part 2: -06.1"]
["Obligor's net monthly income (from Worksheet Line 7)",null,null,null,null,null,null,null,null,null,null,null,null,null,{"$f":"IF(OR(QuesScr!I18<>\"Y\",Rates!O49=\"F\",MultFam!J12>4,A4<>\"Y\"),0,'Wks2 Obgr'!I1)","v":0}]
[]
[null,null,null,"Children "]
[null,null,null,"Living"]
[null,null,null,"With the",null,null,null,null,"Other",null,"Other",null,"Other",null,"Other"]
[null,null,null,"Obligor",null,null,"Obligee",null,"Obligee",null,"Obligee",null,"Obligee",null,"Obligee"]
["1.","Support"]
[null,"amount *"]
[null,"-06.1(3)",null,{"$f":"IF(OR(QuesScr!I18<>\"Y\",Rates!O49=\"F\"),0,O22)","v":0},null,null,{"$f":"IF(OR(QuesScr!I18<>\"Y\",Rates!O49=\"F\",A4<>\"Y\",MultFam!J12>4),0,'Wks2 Obgr'!I6)","v":0},null,{"$f":"IF(OR(QuesScr!I18<>\"Y\",Rates!O49=\"F\",MultFam!J12=0,MultFam!J12>4),0,(VLOOKUP(IF(O27>25000,25000,IF(O27<100,100,(ROUND((O27/100),0))*100)),award03,IF(MultFam!J14>6,7,MultFam!J14+1),TRUE)))","v":0},null,{"$f":"IF(OR(QuesScr!I18<>\"Y\",Rates!O49=\"F\",MultFam!J12<2,MultFam!J12>4),0,(VLOOKUP(IF(O27>25000,25000,IF(O27<100,100,(ROUND((O27/100),0))*100)),award03,IF(MultFam!J16>6,7,MultFam!J16+1),TRUE)))","v":0},null,{"$f":"IF(OR(QuesScr!I18<>\"Y\",Rates!O49=\"F\",MultFam!J12<3,MultFam!J12>4),0,(VLOOKUP(IF(O27>25000,25000,IF(O27<100,100,(ROUND((O27/100),0))*100)),award03,IF(MultFam!J18>6,7,MultFam!J18+1),TRUE)))","v":0},null,{"$f":"IF(OR(QuesScr!I18<>\"Y\",Rates!O49=\"F\",MultFam!J12<>4),0,(VLOOKUP(IF(O27>25000,25000,IF(O27<100,100,(ROUND((O27/100),0))*100)),award03,IF(MultFam!J20>6,7,MultFam!J20+1),TRUE)))","v":0}]
[]
["2.","Obligor's net"]
[null,"income reduced by"]
[null,"other obligations"]
[null,"from Line 1"]
[null,"-06.1(4)",null,null,null,null,{"$f":"IF(O27-D35-I35-K35-M35-O35<0,0,O27-D35-I35-K35-M35-O35)","v":0}]
[]
["3.","Support amount**"]
[null,"-06.1(4)",null,null,null,null,{"$f":"IF(OR(QuesScr!I18<>\"Y\",Rates!O49=\"F\",A4<>\"Y\",MultFam!J12>4),0,(VLOOKUP(IF(G41>25000,25000,IF(G41<100,100,(ROUND((G41/100),0))*100)),award03,IF('Wks2 Obgr'!I4>6,7,'Wks2 Obgr'!I4+1),TRUE)))","v":0}]
[]
["4.","Line 1 + Line 3",null,null,null,null,{"$f":"G35+G44","v":0}]
[]
["5.","Support Amount"]
[null,"(Line 4 ÷ 2)",null,null,null,null,{"$f":"ROUND(G46/2,0)","v":0}]
["This document was created by using Child"]
["Support's web based guidelines calculator.",null,null,null,null,null,null,null,null,null,null,null,null,null,null,{"$f":"\"Schedule C/Page 1 of 2/\"&Rates!N16&\" \"&Rates!O16","v":"Schedule C/Page 1 of 2/July 2023"}]
[]
["*","A hypothetical child support amount based on section 75-02-04.1-06 for children"]
["living with the obligor, who are not also children of the obligee, and based on application of"]
["the guidelines to the obligor's net income to determine each obligation assuming no other"]
["obligation."]
[]
["**","A hypothetical child support amount based on application of the guidelines to"]
["obligor's net income reduced by those hypothetical support obligations, determined on"]
["Line 1, for all other obligees and children living with the obligor."]
[]
["Note: The allowance for children living with the obligor is not used if the children in the"]
["obligor's home are also the children of the obligee, such as in situations involving split"]
["parental rights and responsibilities or equal residential reponsibility."]
[]
["Note:  In applying the multiple-family adjustment, the only other children of the obligor that"]
["may be considered are children to whom the obligor owes a current monthly support"]
["obligation pursuant to a support order and other children under the age of eighteen to"]
["whom the obligor owes a duty of support."]
[]
["Note: After completing Schedule C, if an adjustment for extended parenting time is "]
["required, go to Schedule D to complete the calculation."]
[]
[]
[]
[]
[]
[]
[]
[]
[]
[]
[]
[]
[]
[]
[]
[]
[]
[]
[]
[]
[]
[]
[]
[]
[]
[]
[]
[]
["This document was created by using Child"]
["Support's web based guidelines calculator.",null,null,null,null,null,null,null,null,null,null,null,null,null,null,{"$f":"\"Schedule C/Page 2 of 2/\"&Rates!N16&\" \"&Rates!O16","v":"Schedule C/Page 2 of 2/July 2023"}]

{"sheet":"SchC Obge","index":29,"n_rows":102,"n_cols":16,"rows_kept":102,"cut":false,"hidden":false,"merged":[[18,14,18,15],[0,0,0,16],[1,0,1,16],[2,0,2,16],[16,14,16,15],[17,14,17,15],[19,14,19,15],[20,14,20,15],[21,14,21,15],[26,14,26,15],[34,3,34,4]]}
["CHILD SUPPORT GUIDELINES"]
["SCHEDULE C - MULTIPLE FAMILIES"]
["(N.D. Admin. Code §§ 75-02-04.1-06 and 75-02-04.1-06.1)"]
[{"$f":"IF(AND(QuesScr!L18=\"Y\",MultFam!N12<5),\"Y\",\"\")","v":""}]
["OBLIGOR:",null,{"$f":"IF(OR(Rates!O49=\"N\",Rates!O49=\"F\",QuesScr!L18<>\"Y\"),0,'Wks1 Obgr'!D6)","v":0}]
["OBLIGEE:",null,{"$f":"IF(OR(Rates!O49=\"N\",Rates!O49=\"F\",QuesScr!L18<>\"Y\"),0,'Wks1 Obgr'!D5)","v":0}]
[]
["This schedule is for use in determining the support amount where the obligor"]
["owes duties of support payable to two or more obligees (complete Part 2 only), or"]
["owes a duty of support to a child living with the obligor who is not also the child"]
["of the obligee and also owes a duty of support payable to at least one obligee"]
["(complete Parts 1 and 2)."]
[]
["Part 1: This part is for use in determining the deduction from net income for the cost of"]
["supporting a child living with the obligor. -06"]
[]
["1.","Obligor's net monthly income (from Worksheet Line 7)",null,null,null,null,null,null,null,null,null,null,null,null,{"$f":"IF(A4<>\"Y\",0,'Wks2 Obge'!I1)","v":0}]
[]
["2.","Total number of children living with the obligor"]
[null,"(not including stepchildren)",null,null,null,null,null,null,null,null,null,null,null,null,{"$f":"IF(OR(Rates!O49=\"N\",Rates!O49=\"F\",QuesScr!L18<>\"Y\",MultFam!N9=0,MultFam!N12>4),0,MultFam!N9)","v":0}]
[]
["3.","Apply Lines 1 and 2 to guidelines -10",null,null,null,null,null,null,null,null,null,null,null,null,{"$f":"IF(O20=0,0,(VLOOKUP(IF(O17>25000,25000,IF(O17<100,100,(ROUND((O17/100),0))*100)),award03,IF(O20>6,7,O20+1),TRUE)))","v":0}]
[]
["Enter the amount from Line 3 onto Line 1 under \"Children Living With the Obligor\" Part 2."]
[]
["Part 2: -06.1"]
["Obligor's net monthly income (from Worksheet Line 7)",null,null,null,null,null,null,null,null,null,null,null,null,null,{"$f":"IF(OR(Rates!O49=\"N\",Rates!O49=\"F\",QuesScr!L18<>\"Y\",MultFam!N12>4,A4<>\"Y\"),0,'Wks2 Obge'!I1)","v":0}]
[]
[null,null,null,"Children "]
[null,null,null,"Living"]
[null,null,null,"With the",null,null,null,null,"Other",null,"Other",null,"Other",null,"Other"]
[null,null,null,"Obligor",null,null,"Obligee",null,"Obligee",null,"Obligee",null,"Obligee",null,"Obligee"]
["1.","Support"]
[null,"amount *"]
[null,"-06.1(3)",null,{"$f":"IF(OR(Rates!O49=\"N\",Rates!O49=\"F\",QuesScr!L18<>\"Y\"),0,O22)","v":0},null,null,{"$f":"IF(OR(Rates!O49=\"N\",Rates!O49=\"F\",QuesScr!L18<>\"Y\",A4<>\"Y\",MultFam!N12>4),0,'Wks2 Obge'!I6)","v":0},null,{"$f":"IF(OR(Rates!O49=\"N\",Rates!O49=\"F\",QuesScr!L18<>\"Y\",MultFam!N12=0,MultFam!N12>4),0,(VLOOKUP(IF(O27>25000,25000,IF(O27<100,100,(ROUND((O27/100),0))*100)),award03,IF(MultFam!N14>6,7,MultFam!N14+1),TRUE)))","v":0},null,{"$f":"IF(OR(Rates!O49=\"N\",Rates!O49=\"F\",QuesScr!L18<>\"Y\",MultFam!N12<2,MultFam!N12>4),0,(VLOOKUP(IF(O27>25000,25000,IF(O27<100,100,(ROUND((O27/100),0))*100)),award03,IF(MultFam!N16>6,7,MultFam!N16+1),TRUE)))","v":0},null,{"$f":"IF(OR(Rates!O49=\"N\",Rates!O49=\"F\",QuesScr!L18<>\"Y\",MultFam!N12<3,MultFam!N12>4),0,(VLOOKUP(IF(O27>25000,25000,IF(O27<100,100,(ROUND((O27/100),0))*100)),award03,IF(MultFam!N18>6,7,MultFam!N18+1),TRUE)))","v":0},null,{"$f":"IF(OR(Rates!O49=\"N\",Rates!O49=\"F\",QuesScr!L18<>\"Y\",MultFam!N12<>4),0,(VLOOKUP(IF(O27>25000,25000,IF(O27<100,100,(ROUND((O27/100),0))*100)),award03,IF(MultFam!N20>6,7,MultFam!N20+1),TRUE)))","v":0}]
[]
["2.","Obligor's net"]
[null,"income reduced by"]
[null,"other obligations"]
[null,"from Line 1"]
[null,"-06.1(4)",null,null,null,null,{"$f":"IF(O27-D35-I35-K35-M35-O35<0,0,O27-D35-I35-K35-M35-O35)","v":0}]
[]
["3.","Support amount**"]
[null,"-06.1(4)",null,null,null,null,{"$f":"IF(OR(Rates!O49=\"N\",Rates!O49=\"F\",QuesScr!L18<>\"Y\",A4<>\"Y\",MultFam!N12>4),0,(VLOOKUP(IF(G41>25000,25000,IF(G41<100,100,(ROUND((G41/100),0))*100)),award03,IF('Wks2 Obge'!I4>6,7,'Wks2 Obge'!I4+1),TRUE)))","v":0}]
[]
["4.","Line 1 + Line 3",null,null,null,null,{"$f":"G35+G44","v":0}]
[]
["5.","Support Amount"]
[null,"(Line 4 ÷ 2)",null,null,null,null,{"$f":"ROUND(G46/2,0)","v":0}]
["This document was created by using Child"]
["Support's web based guidelines calculator.",null,null,null,null,null,null,null,null,null,null,null,null,null,null,{"$f":"\"Schedule C/Page 1 of 2/\"&Rates!N16&\" \"&Rates!O16","v":"Schedule C/Page 1 of 2/July 2023"}]
[]
["*","A hypothetical child support amount based on section 75-02-04.1-06 for children"]
["living with the obligor, who are not also children of the obligee, and based on application of"]
["the guidelines to the obligor's net income to determine each obligation assuming no other"]
["obligation."]
[]
["**","A hypothetical child support amount based on application of the guidelines to"]
["obligor's net income reduced by those hypothetical support obligations, determined on"]
["Line 1, for all other obligees and children living with the obligor."]
[]
["Note: The allowance for children living with the obligor is not used if the children in the"]
["obligor's home are also the children of the obligee, such as in situations involving split"]
["parental rights and responsibilities or equal residential reponsibility."]
[]
["Note:  In applying the multiple-family adjustment, the only other children of the obligor that"]
["may be considered are children to whom the obligor owes a current monthly support"]
["obligation pursuant to a support order and other children under the age of eighteen to"]
["whom the obligor owes a duty of support."]
[]
["Note: After completing Schedule C, if an adjustment for extended parenting time is "]
["required, go to Schedule D to complete the calculation."]
[]
[]
[]
[]
[]
[]
[]
[]
[]
[]
[]
[]
[]
[]
[]
[]
[]
[]
[]
[]
[]
[]
[]
[]
[]
[]
[]
[]
["This document was created by using Child"]
["Support's web based guidelines calculator.",null,null,null,null,null,null,null,null,null,null,null,null,null,null,{"$f":"\"Schedule C/Page 2 of 2/\"&Rates!N16&\" \"&Rates!O16","v":"Schedule C/Page 2 of 2/July 2023"}]

{"sheet":"SchD Obgr","index":30,"n_rows":51,"n_cols":13,"rows_kept":51,"cut":false,"hidden":false,"merged":[[0,0,0,12],[1,0,1,12],[2,0,2,12]]}
["CHILD SUPPORT GUIDELINES"]
["SCHEDULE D - ADJUSTMENT FOR PARENTING TIME"]
["(N.D. Admin. Code § 75-02-04.1-08.1)"]
[]
["OBLIGOR:",null,{"$f":"IF(OR(QuesScr!I21<>\"Y\",ExtParTm!J9>5,Rates!O49=\"F\"),0,'Wks1 Obgr'!D5)","v":0}]
["OBLIGEE:",null,{"$f":"IF(OR(QuesScr!I21<>\"Y\",ExtParTm!J9>5,Rates!O49=\"F\"),0,'Wks1 Obgr'!D6)","v":0}]
[]
["This schedule is for use when a court order provides for extended parenting time"]
["between an obligor and a child living with an obligee and that parenting time "]
["exceeds an annual total of 100 overnights."]
[]
["1.","Support Amount (from Worksheet Or Schedule C) -08.1(2)(a)",null,null,null,null,null,null,null,null,null,{"$f":"IF(OR(QuesScr!I21<>\"Y\",ExtParTm!J9>5,Rates!O49=\"F\"),0,ROUND(IF(QuesScr!I18<>\"Y\",'Wks2 Obgr'!I6,'Wks2 Obgr'!I33),0))","v":0}]
[]
["2.","Total number of children for whom support has been determined",null,null,null,null,null,null,null,null,null,{"$f":"IF(OR(QuesScr!I21<>\"Y\",ExtParTm!J9>5,Rates!O49=\"F\"),0,'Wks2 Obgr'!I4)","v":0}]
[]
["3.","Line 1 ÷  Line 2  -08.1(2)(b)",null,null,null,null,null,null,null,null,null,{"$f":"ROUND(IF(L14=0,0,L12/L14),2)","v":0}]
[]
[{"$f":"L14-D19-F19-H19-J19-L19","v":0},null,null,"Child 1",null,"Child 2",null,"Child 3",null,"Child 4",null,"Child 5"]
[null,null,null,{"$f":"IF(OR(QuesScr!I21<>\"Y\",ExtParTm!J9>5,Rates!O49=\"F\"),0,ExtParTm!J13)","v":0},null,{"$f":"IF(OR(QuesScr!I21<>\"Y\",ExtParTm!J9>5,Rates!O49=\"F\"),0,ExtParTm!J16)","v":0},null,{"$f":"IF(OR(QuesScr!I21<>\"Y\",ExtParTm!J9>5,Rates!O49=\"F\"),0,ExtParTm!J19)","v":0},null,{"$f":"IF(OR(QuesScr!I21<>\"Y\",ExtParTm!J9>5,Rates!O49=\"F\"),0,ExtParTm!J22)","v":0},null,{"$f":"IF(OR(QuesScr!I21<>\"Y\",ExtParTm!J9>5,Rates!O49=\"F\"),0,ExtParTm!J25)","v":0}]
["4.","Total number of parenting",null,{"$f":"IF(OR(QuesScr!I21<>\"Y\",ExtParTm!J9>5,Rates!O49=\"F\"),0,ExtParTm!J12)","v":0},null,{"$f":"IF(OR(QuesScr!I21<>\"Y\",ExtParTm!J9>5,Rates!O49=\"F\"),0,ExtParTm!J15)","v":0},null,{"$f":"IF(OR(QuesScr!I21<>\"Y\",ExtParTm!J9>5,Rates!O49=\"F\"),0,ExtParTm!J18)","v":0},null,{"$f":"IF(OR(QuesScr!I21<>\"Y\",ExtParTm!J9>5,Rates!O49=\"F\"),0,ExtParTm!J21)","v":0},null,{"$f":"IF(OR(QuesScr!I21<>\"Y\",ExtParTm!J9>5,Rates!O49=\"F\"),0,ExtParTm!J24)","v":0}]
[null,"time overnights, per year"]
[]
["5.","Line 4 X .32",null,{"$f":"ROUND(IF(ExtParTm!J13=0,0,ROUND(D20*0.32,0)),0)","v":0},null,{"$f":"ROUND(IF(ExtParTm!$J16=0,0,ROUND(F20*0.32,0)),0)","v":0},null,{"$f":"ROUND(IF(ExtParTm!$J19=0,0,ROUND(H20*0.32,0)),0)","v":0},null,{"$f":"ROUND(IF(ExtParTm!$J22=0,0,ROUND(J20*0.32,0)),0)","v":0},null,{"$f":"ROUND(IF(ExtParTm!$J25=0,0,ROUND(L20*0.32,0)),0)","v":0}]
[null,"-08.1(2)(c)"]
[]
["6.","365 less amount from Line 5",null,{"$f":"IF(OR(QuesScr!I21<>\"Y\",ExtParTm!J9>5,ExtParTm!J13=0,Rates!O49=\"F\"),0,(365-D23))","v":0},null,{"$f":"IF(OR(QuesScr!I21<>\"Y\",ExtParTm!J9>5,ExtParTm!J16=0,Rates!O49=\"F\"),0,(365-F23))","v":0},null,{"$f":"IF(OR(QuesScr!I21<>\"Y\",ExtParTm!J9>5,ExtParTm!J19=0,Rates!O49=\"F\"),0,(365-H23))","v":0},null,{"$f":"IF(OR(QuesScr!I21<>\"Y\",ExtParTm!J9>5,ExtParTm!J22=0,Rates!O49=\"F\"),0,(365-J23))","v":0},null,{"$f":"IF(OR(QuesScr!I21<>\"Y\",ExtParTm!J9>5,ExtParTm!J25=0,Rates!O49=\"F\"),0,(365-L23))","v":0}]
[null,"-08.1(2)(d)"]
[]
["7.","Line 6 ÷ 365",null,{"$f":"ROUND(D26/365,2)","v":0},null,{"$f":"ROUND(F26/365,2)","v":0},null,{"$f":"ROUND(H26/365,2)","v":0},null,{"$f":"ROUND(J26/365,2)","v":0},null,{"$f":"ROUND(L26/365,2)","v":0}]
[null,"-08.1(2)(d)"]
[]
["8.","Line 3 X Line 7",null,{"$f":"TRUNC($L$16*D29,2)","v":0},null,{"$f":"TRUNC($L$16*F29,2)","v":0},null,{"$f":"TRUNC($L$16*H29,2)","v":0},null,{"$f":"TRUNC($L$16*J29,2)","v":0},null,{"$f":"TRUNC($L$16*L29,2)","v":0},{"$f":"TRUNC($L$16*M29,2)","v":0}]
[null,"-08.1(2)(e)"]
[]
["Support Amount (total of all Line 8)",null,null,null,null,null,null,{"$f":"ROUND(IF(A18>L14-1,0,IF(A18<0,0,(D32*D19)+(F32*F19)+(H32*H19)+(J32*J19)+(L32*L19)+(A18*L16))),0)","v":0}]
[null,"-08.1(2)(f)"]
[]
[]
["Note:  If all children have the same parenting time schedule, it is only necessary to fill in"]
["the columns for one child and then multiply the amount in Line 8 by the total number of "]
["children to get the total child support amount."]
[]
["Note:  An adjustment for extended parenting time is not allowed if the parents of a child"]
["for whom support is being determined have equal residential responsibility for the child.  "]
[" -08.1(3)"]
[]
[]
[]
[]
["This document was created by using Child"]
["Support's web based guidelines calculator.",null,null,null,null,null,null,null,null,null,null,{"$f":"\"Schedule D/\"&Rates!N16&\" \"&Rates!O16","v":"Schedule D/July 2023"}]

{"sheet":"SchD Obge","index":31,"n_rows":51,"n_cols":12,"rows_kept":51,"cut":false,"hidden":false,"merged":[[0,0,0,12],[1,0,1,12],[2,0,2,12]]}
["CHILD SUPPORT GUIDELINES"]
["SCHEDULE D - ADJUSTMENT FOR PARENTING TIME"]
["(N.D. Admin. Code § 75-02-04.1-08.1)"]
[]
["OBLIGOR:",null,{"$f":"IF(OR(Rates!O49=\"N\",Rates!O49=\"F\",QuesScr!L21<>\"Y\",ExtParTm!N9>5),0,'Wks1 Obgr'!D6)","v":0}]
["OBLIGEE:",null,{"$f":"IF(OR(Rates!O49=\"N\",Rates!O49=\"F\",QuesScr!L21<>\"Y\",ExtParTm!N9>5),0,'Wks1 Obgr'!D5)","v":0}]
[]
["This schedule is for use when a court order provides for extended parenting time"]
["between an obligor and a child living with an obligee and that parenting time "]
["exceeds an annual total of 100 overnights."]
[]
["1.","Support Amount (from Worksheet Or Schedule C) -08.1(2)(a)",null,null,null,null,null,null,null,null,null,{"$f":"IF(OR(Rates!O49=\"F\",Rates!O49=\"N\",QuesScr!L21<>\"Y\",ExtParTm!N9>5),0,ROUND(IF(QuesScr!L18<>\"Y\",'Wks2 Obge'!I6,'Wks2 Obge'!I33),0))","v":0}]
[]
["2.","Total number of children for whom support has been determined",null,null,null,null,null,null,null,null,null,{"$f":"IF(OR(Rates!O49=\"F\",Rates!O49=\"N\",QuesScr!L21<>\"Y\",ExtParTm!N9>5),0,'Wks2 Obge'!I4)","v":0}]
[]
["3.","Line 1 ÷  Line 2  -08.1(2)(b)",null,null,null,null,null,null,null,null,null,{"$f":"ROUND(IF(L14=0,0,L12/L14),2)","v":0}]
[]
[{"$f":"L14-D19-F19-H19-J19-L19","v":0},null,null,"Child 1",null,"Child 2",null,"Child 3",null,"Child 4",null,"Child 5"]
[null,null,null,{"$f":"IF(OR(Rates!O49=\"F\",Rates!O49=\"N\",QuesScr!L21<>\"Y\",ExtParTm!N9>5),0,ExtParTm!N13)","v":0},null,{"$f":"IF(OR(Rates!O49=\"F\",Rates!O49=\"N\",QuesScr!L21<>\"Y\",ExtParTm!N9>5),0,ExtParTm!N16)","v":0},null,{"$f":"IF(OR(Rates!O49=\"F\",Rates!O49=\"N\",QuesScr!L21<>\"Y\",ExtParTm!N9>5),0,ExtParTm!N19)","v":0},null,{"$f":"IF(OR(Rates!O49=\"F\",Rates!O49=\"N\",QuesScr!L21<>\"Y\",ExtParTm!N9>5),0,ExtParTm!N22)","v":0},null,{"$f":"IF(OR(Rates!O49=\"F\",Rates!O49=\"N\",QuesScr!L21<>\"Y\",ExtParTm!N9>5),0,ExtParTm!N25)","v":0}]
["4.","Total number of parenting",null,{"$f":"IF(OR(Rates!O49=\"F\",Rates!O49=\"N\",QuesScr!L21<>\"Y\",ExtParTm!N9>5),0,ExtParTm!N12)","v":0},null,{"$f":"IF(OR(Rates!O49=\"F\",Rates!O49=\"N\",QuesScr!L21<>\"Y\",ExtParTm!N9>5),0,ExtParTm!N15)","v":0},null,{"$f":"IF(OR(Rates!O49=\"F\",Rates!O49=\"N\",QuesScr!L21<>\"Y\",ExtParTm!N9>5),0,ExtParTm!N18)","v":0},null,{"$f":"IF(OR(Rates!O49=\"F\",Rates!O49=\"N\",QuesScr!L21<>\"Y\",ExtParTm!N9>5),0,ExtParTm!N21)","v":0},null,{"$f":"IF(OR(Rates!O49=\"F\",Rates!O49=\"N\",QuesScr!L21<>\"Y\",ExtParTm!N9>5),0,ExtParTm!N24)","v":0}]
[null,"time overnights, per year"]
[]
["5.","Line 4 X .32",null,{"$f":"ROUND(IF(ExtParTm!N13=0,0,ROUND(D20*0.32,0)),0)","v":0},null,{"$f":"ROUND(IF(ExtParTm!$N16=0,0,ROUND(F20*0.32,0)),0)","v":0},null,{"$f":"ROUND(IF(ExtParTm!$N19=0,0,ROUND(H20*0.32,0)),0)","v":0},null,{"$f":"ROUND(IF(ExtParTm!$N22=0,0,ROUND(J20*0.32,0)),0)","v":0},null,{"$f":"ROUND(IF(ExtParTm!$N25=0,0,ROUND(L20*0.32,0)),0)","v":0}]
[null,"-08.1(2)(c)"]
[]
["6.","365 less amount from Line 5",null,{"$f":"IF(OR(Rates!O49=\"F\",Rates!O49=\"N\",QuesScr!L21<>\"Y\",ExtParTm!N9>5,ExtParTm!N13=0),0,(365-D23))","v":0},null,{"$f":"IF(OR(Rates!O49=\"F\",Rates!O49=\"N\",QuesScr!L21<>\"Y\",ExtParTm!N9>5,ExtParTm!N16=0),0,(365-F23))","v":0},null,{"$f":"IF(OR(Rates!O49=\"F\",Rates!O49=\"N\",QuesScr!L21<>\"Y\",ExtParTm!N9>5,ExtParTm!N19=0),0,(365-H23))","v":0},null,{"$f":"IF(OR(Rates!O49=\"F\",Rates!O49=\"N\",QuesScr!L21<>\"Y\",ExtParTm!N9>5,ExtParTm!N22=0),0,(365-J23))","v":0},null,{"$f":"IF(OR(Rates!O49=\"F\",Rates!O49=\"N\",QuesScr!L21<>\"Y\",ExtParTm!N9>5,ExtParTm!N25=0),0,(365-L23))","v":0}]
[null,"-08.1(2)(d)"]
[]
["7.","Line 6 ÷ 365",null,{"$f":"ROUND(D26/365,2)","v":0},null,{"$f":"ROUND(F26/365,2)","v":0},null,{"$f":"ROUND(H26/365,2)","v":0},null,{"$f":"ROUND(J26/365,2)","v":0},null,{"$f":"ROUND(L26/365,2)","v":0}]
[null,"-08.1(2)(d)"]
[]
["8.","Line 3 X Line 7",null,{"$f":"TRUNC($L$16*D29,2)","v":0},null,{"$f":"TRUNC($L$16*F29,2)","v":0},null,{"$f":"TRUNC($L$16*H29,2)","v":0},null,{"$f":"TRUNC($L$16*J29,2)","v":0},null,{"$f":"TRUNC($L$16*L29,2)","v":0}]
[null,"-08.1(2)(e)"]
[]
["Support Amount (total of all Line 8)",null,null,null,null,null,null,{"$f":"ROUND(IF(A18>L14-1,0,IF(A18<0,0,(D32*D19)+(F32*F19)+(H32*H19)+(J32*J19)+(L32*L19)+(A18*L16))),0)","v":0}]
[null,"-08.1(2)(f)"]
[]
[]
["Note:  If all children have the same parenting time schedule, it is only necessary to fill in"]
["the columns for one child and then multiply the amount in Line 8 by the total number of "]
["children to get the total child support amount."]
[]
["Note:  An adjustment for extended parenting time is not allowed if the parents of a child"]
["for whom suppor is being determinded have equal residential responsibility for the child. "]
[" -08.1(3)"]
[]
[]
[]
[]
["This document was created by using Child"]
["Support's web based guidelines calculator.",null,null,null,null,null,null,null,null,null,null,{"$f":"\"Schedule D/\"&Rates!N16&\" \"&Rates!O16","v":"Schedule D/July 2023"}]

{"sheet":"SchE Obgr","index":32,"n_rows":102,"n_cols":13,"rows_kept":102,"cut":false,"hidden":false,"merged":[[38,3,38,4],[43,3,43,4],[0,0,0,13],[1,0,1,13],[2,0,2,13],[44,3,44,4],[45,3,45,4],[46,3,46,4],[47,3,47,4],[75,3,75,4]]}
["CHILD SUPPORT GUIDELINES"]
["SCHEDULE E - FOSTER CARE"]
["(N.D. Admin. Code § 75-02-04.1-11)"]
[]
["OBLIGOR:",null,{"$f":"IF(Rates!O49<>\"F\",0,'Wks1 Obgr'!D5)","v":0}]
["FOSTER CHILD/OBLIGEE:",null,null,null,{"$f":"IF(Rates!O49<>\"F\",0,'Wks1 Obgr'!D6)","v":0}]
[]
["This schedule is for use in determining the support amount for a child entering foster care or"]
["guardianship care from a non-intact household or from an intact household where either"]
["parent has a duty to support any other child who is not also a child of the other parent (i.e.,"]
["an intact household where the income of the parents cannot be combined)."]
[]
["If a child entering foster care or guardianship care resides in the obligor's home, complete"]
["Section 1.  If no child entering foster care or guardianship care resides in the obligor's home,"]
["complete Section 2."]
[]
["Section 1: This section is for use in determining the support amount when a child entering"]
["foster care or guardianship care resides in the obligor's home."]
["1.","Obligor's net monthly income (from Worksheet Line 7)",null,null,null,null,null,null,null,null,null,null,{"$f":"IF(Rates!O49<>\"F\",0,IF(FCEnt!L8=\"Y\",'Wks2 Obgr'!$I$1,0))","v":0}]
["2.","Total number of children residing in obligor's home to whom obligor"]
[null,"owes a duty of support, including child/ren entering foster care or"]
[null,"guardianship care",null,null,null,null,null,null,null,null,null,null,{"$f":"IF(Rates!O49<>\"F\",0,IF(FCEnt!L8=\"Y\",'Wks2 Obgr'!$I$4+FCEnt!M10+FCEnt!M15,0))","v":0}]
["3.","Any other full siblings of child/ren entering foster care or guardianship"]
[null,"care to whom obligor owes a duty of support who are not residing in "]
[null,"the obligor's home",null,null,null,null,null,null,null,null,null,null,{"$f":"IF(Rates!O49<>\"F\",0,IF(FCEnt!L8=\"Y\",FCEnt!M12,0))","v":0}]
["4.","Line 2 + Line 3",null,null,null,null,null,null,null,null,null,null,{"$f":"M22+M25","v":0}]
["5.","Apply Lines 1 and 4 to guidelines - 10",null,null,null,null,null,null,null,null,null,null,{"$f":"IF(M26=0,0,(VLOOKUP(IF(M19>25000,25000,IF(M19<100,100,(ROUND((M19/100),0))*100)),award03,IF(M26>6,7,M26+1),TRUE)))","v":0}]
["6.","Line 5 ÷ Line 4",null,null,null,null,null,null,null,null,null,null,{"$f":"ROUND(IF(M26=0,0,M27/M26),0)","v":0}]
[]
["If the obligor does not owe a duty of support to any child/ren other than the child/ren on Line"]
["4, STOP HERE.  Line 6 is the support amount for each child in foster care or guardianship"]
["care."]
[]
["If the obligor owes a duty of support to any child/ren other than the child/ren on Line 4,"]
["complete Line 7 through Line 12."]
[]
[null,null,null,"Line 4",null,null,null,null,"Other",null,"Other",null,"Other"]
[null,null,null,"Children",null,null,null,null,"Obligee",null,"Obligee",null,"Obligee"]
["7.","Support amount",null,{"$f":"IF(FCEnt!E22+FCEnt!G22+FCEnt!I22=0,0,M27)","v":0},null,null,null,null,{"$f":"IF(Rates!O49<>\"F\",0,IF(FCEnt!L8=\"y\",IF(FCEnt!E22=0,0,(VLOOKUP(IF(M19>25000,25000,IF(M19<100,100,(ROUND((M19/100),0))*100)),award03,IF(FCEnt!E22>6,7,FCEnt!E22+1),TRUE))),0))","v":0},null,{"$f":"IF(Rates!O49<>\"F\",0,IF(FCEnt!L8=\"y\",IF(FCEnt!G22=0,0,(VLOOKUP(IF(M19>25000,25000,IF(M19<100,100,(ROUND((M19/100),0))*100)),award03,IF(FCEnt!G22>6,7,FCEnt!G22+1),TRUE))),0))","v":0},null,{"$f":"IF(Rates!O49<>\"F\",0,IF(FCEnt!L8=\"y\",IF(FCEnt!I22=0,0,(VLOOKUP(IF(M19>25000,25000,IF(M19<100,100,(ROUND((M19/100),0))*100)),award03,IF(FCEnt!I22>6,7,FCEnt!I22+1),TRUE))),0))","v":0}]
[null,null,null,null,"(amount on Line 5)"]
["8.","Obligor's net"]
[null,"income reduced by"]
[null,"other obligations"]
[null,"from Line 7",null,{"$f":"IF(D39=0,0,IF(M19-I39-K39-M39<0,0,M19-I39-K39-M39))","v":0}]
["9.","Support amount",null,{"$f":"IF(D39=0,0,(VLOOKUP(IF(D44>25000,25000,IF(D44<100,100,(ROUND((D44/100),0))*100)),award03,IF(M26>6,7,M26+1),TRUE)))","v":0}]
["10.","Line 7 + Line 9",null,{"$f":"D39+D45","v":0}]
["11.","Line 10 ÷ 2",null,{"$f":"ROUND(D46/2,0)","v":0}]
["12.","Line 11 ÷ Line 4",null,{"$f":"ROUND(IF(M26=0,0,D47/M26),0)","v":0}]
[]
["Line 12 is the support amount for each child in foster care or guardianship care.  "]
["This document was created by using Child"]
["Support's web based guidelines calculator.",null,null,null,null,null,null,null,null,null,null,null,{"$f":"\"Schedule E/Page 1 of 2/\"&Rates!N16&\" \"&Rates!O16","v":"Schedule E/Page 1 of 2/July 2023"}]
["Section 2: This section is for use when no child entering foster care or guardianship care"]
["resides in the obligor's home."]
[]
["1.","Obligor's net monthly income (from Worksheet Line 7)",null,null,null,null,null,null,null,null,null,null,{"$f":"IF(Rates!O49<>\"F\",0,IF(FCEnt!L8=\"N\",'Wks2 Obgr'!$I$1,0))","v":0}]
["2.","Number of children entering foster care or guardianship care",null,null,null,null,null,null,null,null,null,null,{"$f":"IF(Rates!O49<>\"F\",0,IF(FCEnt!L8=\"n\",'Wks2 Obgr'!$I$4,0))","v":0}]
["3.","Number of full siblings of child/ren entering foster care or"]
[null,"guardianship care to whom obligor owes a duty of support ",null,null,null,null,null,null,null,null,null,null,{"$f":"IF(Rates!O49<>\"F\",0,IF(FCEnt!L8=\"N\",FCEnt!M10+FCEnt!M12,0))","v":0}]
["4.","Line 2 + Line 3",null,null,null,null,null,null,null,null,null,null,{"$f":"M57+M59","v":0}]
["5.","Apply Lines 1 and 4 to guidelines - 10",null,null,null,null,null,null,null,null,null,null,{"$f":"IF(M60=0,0,(VLOOKUP(IF(M56>25000,25000,IF(M56<100,100,(ROUND((M56/100),0))*100)),award03,IF(M60>6,7,M60+1),TRUE)))","v":0}]
["6.","Line 5 ÷ Line 4.",null,null,null,null,null,null,null,null,null,null,{"$f":"ROUND(IF(M60=0,0,M61/M60),0)","v":0}]
[]
["If the obligor does not owe a duty of support to any child/ren other than the child/ren on Line"]
["4, STOP HERE.  Line 6 is the support amount for each child in foster care or guardianship"]
["care."]
[]
["If the obligor owes a duty of support to any child/ren other than the child/ren on Line 4,"]
["complete Line 7 through Line 12."]
[]
[null,null,null,"Children"]
[null,null,null,"Living "]
[null,null,null,"With the",null,null,"Line 4",null,"Other",null,"Other",null,"Other"]
[null,null,null,"Obligor",null,null,"Children",null,"Obligee",null,"Obligee",null,"Obligee"]
[]
["7.","Support amount",null,{"$f":"IF(Rates!O49<>\"F\",0,IF(FCEnt!L8=\"n\",IF(FCEnt!M15=0,0,(VLOOKUP(IF(M56>25000,25000,IF(M56<100,100,(ROUND((M56/100),0))*100)),award03,IF(FCEnt!M15>6,7,FCEnt!M15+1),TRUE))),0))","v":0},null,null,{"$f":"IF(FCEnt!M15+FCEnt!E22+FCEnt!G22+FCEnt!I22=0,0,M61)","v":0},null,{"$f":"IF(Rates!O49<>\"F\",0,IF(FCEnt!L8=\"n\",IF(FCEnt!E22=0,0,(VLOOKUP(IF(M56>25000,25000,IF(M56<100,100,(ROUND((M56/100),0))*100)),award03,IF(FCEnt!E22>6,7,FCEnt!E22+1),TRUE))),0))","v":0},null,{"$f":"IF(Rates!O49<>\"F\",0,IF(FCEnt!L8=\"n\",IF(FCEnt!G22=0,0,(VLOOKUP(IF(M56>25000,25000,IF(M56<100,100,(ROUND((M56/100),0))*100)),award03,IF(FCEnt!G22>6,7,FCEnt!G22+1),TRUE))),0))","v":0},null,{"$f":"IF(Rates!O49<>\"F\",0,IF(FCEnt!L8=\"n\",IF(FCEnt!I22=0,0,(VLOOKUP(IF(M56>25000,25000,IF(M56<100,100,(ROUND((M56/100),0))*100)),award03,IF(FCEnt!I22>6,7,FCEnt!I22+1),TRUE))),0))","v":0}]
[null,null,null,null,null,null,"(amount on Line 5)"]
["8.","Obligor's net"]
[null,"income reduced by"]
[null,"other obligations"]
[null,"from Line 7",null,null,null,null,{"$f":"IF(G76=0,0,M56-I76-K76-M76-D76)","v":0}]
["9.","Support amount",null,null,null,null,{"$f":"IF(Rates!O49<>\"F\",0,IF(FCEnt!L8=\"n\",IF(G76=0,0,(VLOOKUP(IF(G81>25000,25000,IF(G81<100,100,(ROUND((G81/100),0))*100)),award03,IF(M60>6,7,M60+1),TRUE))),0))","v":0}]
["10.","Line 7 + Line 9",null,null,null,null,{"$f":"G76+G82","v":0}]
["11.","Line 10 ÷ 2",null,null,null,null,{"$f":"ROUND(G83/2,0)","v":0}]
["12.","Line 11 ÷ Line 4",null,null,null,null,{"$f":"ROUND(IF(M60=0,0,G84/M60),0)","v":0}]
[]
["Line 12 is the support amount for each child in foster care or guardianship care.  "]
[]
[]
[]
[]
[]
[]
[]
[]
[]
[]
[]
[]
[]
["This document was created by using Child"]
["Support's web based guidelines calculator.",null,null,null,null,null,null,null,null,null,null,null,{"$f":"\"Schedule E/Page 2 of 2/\"&Rates!N16&\" \"&Rates!O16","v":"Schedule E/Page 2 of 2/July 2023"}]

{"sheet":"Intro","index":33,"n_rows":30,"n_cols":4,"rows_kept":30,"cut":false,"hidden":false,"merged":[[5,2,5,5],[2,2,2,12]]}
[]
[null,"Child Support Guidelines Calculator"]
[null," ","Set this site as a trusted website to use the guidelines calculator.  You will only have to do this one time."]
[null,null,"This calculator will help you present detailed information for use in determining the correct"]
[null,null,"amount of child support to be ordered based on the North Dakota Child Support Guildelines"]
[null,null,"(N.D. Admin. Code ch.75-02-04.1)."]
[]
[null,null,"Checklist of documents needed to complete the calculator"]
[]
[null,null,null,"Business and personal federal income tax returns for the last five years (if self-employed)."]
[null,null,null,"Business profit and loss statements for the last five years (if self-employed)."]
[null,null,null,"Most recent federal income tax return, including W-2s,1099s, and schedules."]
[null,null,null,"Year-end or final paystub from each employer who gave you a W-2 form."]
[null,null,null,"Year-to-date paystub from each employer for the current year."]
[null,null,null,"Leave and earnings statement for the current year (if in the military)."]
[null,null,null,"Unemployment compensation benefits award letter."]
[null,null,null,"Worker’s compensation benefits award letter."]
[null,null,null,"Social security benefits award letter (for disability, retirement, or survivor’s payments)."]
[null,null,null,"SSI benefits award letter."]
[null,null,null,"Veterans’ pension or disability benefits award letter."]
[null,null,null,"Military retirement award letter."]
[null,null,null,"Railroad retirement board benefits award letter."]
[null,null,null,"Proof of expenses for employment-related special equipment, clothing, or lodging."]
[null,null,null,"Proof of out-of-pocket medical expenses paid for the children for whom support is being "]
[null,null,null,"determined in this child support matter."]
[null,null,null,"Most recent support order for these children."]
[]
[null,"?","When this image is displayed, \"hover\" over the question mark with your mouse for additional information."]
[]
[null,null,"This box represents a designated data entry field on the screens that follow."]

{"sheet":"HomeScr","index":34,"n_rows":28,"n_cols":9,"rows_kept":28,"cut":false,"hidden":false,"merged":[[8,2,8,4],[7,2,7,3]]}
[null,"                                                                                "]
[null,"Child Support Guidelines Calculator - Home"]
[]
[null,"                                                                                "]
[null,null,{"$f":"IF(NameScr!$E$7<>\"\",CONCATENATE(NameScr!$C$7,\" \",NameScr!$E$7,\". \",NameScr!$G$7),CONCATENATE(NameScr!$C$7,\" \",NameScr!$G$7))","v":" "}]
[null,null,{"$f":"IF(NameScr!$E$13<>\"\",CONCATENATE(NameScr!$C$13,\" \",NameScr!$E$13,\". \",NameScr!$G$13),CONCATENATE(NameScr!$C$13,\" \",NameScr!$G$13))","v":" "}]
[]
[null,null,"Worksheet Date",null,null,null,"Support Amount",null,"Version"]
[null,null,"2022-10-11T10:20:21",null,null,null,{"$f":"TotScr!J18","v":"0"},null,2011]
[]
[null,"                                                                                "]
[null,null,null,null,null,"Start or edit data entry screens"]
[]
[null,null,null,null,null,"List data entry screens"]
[]
[null,null,null,null,null,"Delete all data from entry screens"]
[null,"                                                                                "]
[null,"                                                                                ",null,null,null,"View worksheets and schedules"]
[null,"                                                                                "]
[null,"                                                                                ",null,null,null,"Print worksheets and schedules"]
[null,"                                                                                "]
[null,"                                                                                ",null,null,null,"Go to the introductory checklist screen"]
[null,"                                                                                "]
[null,null,null,null,null,"Save this file with the existing file name"]
[null,"                                                                                "]
[null,"                                                                                ",null,null,null,"Save this file with a different file name"]
[]
[null,null,null,null,null,"Close the guidelines worksheet without saving"]

{"sheet":"FCQues","index":35,"n_rows":14,"n_cols":9,"rows_kept":14,"cut":false,"hidden":false,"merged":[]}
[]
[null,"Child Support Guidelines Calculator - Worksheet Entry"]
[]
[]
[]
[]
[]
[]
[]
[]
[]
[]
[null,"Is the child for whom support is being determined in Foster Care? (Y/N) . . . . . "]
[null,null,null,null,null,null,null,null,{"$f":"UPPER(I13)","v":""}]

{"sheet":"EqualQues","index":36,"n_rows":14,"n_cols":9,"rows_kept":14,"cut":false,"hidden":false,"merged":[]}
[]
[null,"Child Support Guidelines Calculator - Worksheet Entry"]
[]
[]
[]
[]
[]
[]
[]
[]
[]
[]
[null,"Is there or will there be a court order for all children to live with each parent for an equal amount of time? (Y/N) . . ."]
[null,null,null,null,null,null,null,null,{"$f":"UPPER(I13)","v":""}]

{"sheet":"PartialQues","index":37,"n_rows":14,"n_cols":9,"rows_kept":14,"cut":false,"hidden":false,"merged":[]}
[]
[null,"Child Support Guidelines Calculator - Worksheet Entry"]
[]
[]
[]
[]
[]
[]
[]
[]
[]
[]
[null,"Is there or will there be a court order for any of the children to live with each parent for an equal amount of time? (Y/N) . . ."]
[null,null,null,null,null,null,null,null,{"$f":"UPPER(I13)","v":""}]

{"sheet":"SplitQues","index":38,"n_rows":26,"n_cols":10,"rows_kept":26,"cut":false,"hidden":false,"merged":[]}
[]
[null,"Child Support Guidelines Calculator - Worksheet Entry"]
[]
[]
[]
[]
[]
[]
[]
[]
[null,"Is there or will there be a court order for all children to live with each parent for an equal amount of time? (Y/N) . . . . . . . . . ."]
[null,null,"(Equal residential responsibility for all children)",null,null,null,null,null,null,{"$f":"UPPER(I11)","v":""}]
[]
[null,null,null,null,null,null,null,"OR"]
[]
[null,"Is there or will there be a court order for any of the children to live with each parent for an equal amount of time? (Y/N) . . ."]
[null,null,"(Equal residential responsibility for some, but not all children)",null,null,null,null,null,null,{"$f":"UPPER(I16)","v":""}]
[]
[null,null,null,null,null,null,null,"OR"]
[]
[null,"Is there more than one child and does each parent have at least one of those children in his or her home? (Y/N) . . . . . . . . ."]
[null,null,"(Split parental rights and responsibilities)",null,null,null,null,null,null,{"$f":"UPPER(I21)","v":""}]
[]
[]
[null,null,null,null,null,null,null,null,{"$f":"IF(OR(I11=\"Y\",I16=\"Y\",I21=\"Y\"),\"Y\",\"N\")","v":"N"}]
[null,null,null,null,null,null,null,null,{"$f":"COUNTIF(I11:I21,\"Y\")","v":0}]

{"sheet":"NameScr","index":39,"n_rows":14,"n_cols":7,"rows_kept":14,"cut":false,"hidden":false,"merged":[]}
[]
[null,"Child Support Guidelines Calculator - Worksheet Entry"]
[]
[]
[]
[]
[null,{"$f":"IF(OR(Rates!$O$49=\"S\",Rates!$O$49=\"E\"),\"Obligor A:\",\"Obligor:\")","v":"Obligor:"}]
[null,null,"First Name",null,null,null,"Last Name"]
[]
[]
[]
[]
[null,{"$f":"IF(OR(Rates!$O$49=\"S\",Rates!$O$49=\"E\"),\"Obligor B:\",IF(Rates!$O$49=\"F\",\"Foster Child:\",\"Obligee:\"))","v":"Obligee:"}]
[null,null,"First Name",null,null,null,"Last Name"]

{"sheet":"QuesScr","index":40,"n_rows":23,"n_cols":13,"rows_kept":23,"cut":false,"hidden":false,"merged":[[2,1,2,12],[4,2,4,5],[5,2,5,5],[21,1,21,4],[14,1,14,4],[16,1,16,4]]}
[]
[null,"Child Support Guidelines Calculator - Worksheet Entry"]
[]
[]
[null,{"$f":"NameScr!B7","v":"Obligor:"},{"$f":"HomeScr!C5","v":" "}]
[null,{"$f":"NameScr!B13","v":"Obligee:"},{"$f":"HomeScr!C6","v":" "}]
[]
[]
[]
[]
[null,null,null,null,null,null,null,{"$f":"NameScr!$C$7","v":0},null,null,null,{"$f":"NameScr!C13","v":0}]
[null,"Number of children for whom support is being determined? . . . . . . . . . . . . . . . . . . . .",null,null,null,null,null,null,null,null,null,null,{"$f":"Rates!O49","v":0}]
[null,null,"                                                        "]
[null,"Will it be necessary to impute income? (Y/N) . . . . . . . . . . . . . . . . . . . . . . . . . . . . . . . . . . . ",null,null,null,null,null,null,{"$f":"UPPER(H14)","v":""},null,null,null,{"$f":"UPPER(L14)","v":""}]
[null,"     Imputing income means the obligor will be treated as having income that is not actual income and is      \n     based on the amount the obligor has the ability to earn, even if the obligor is not actually earning the \n     amount. Generally, income is imputed to an obligor who is unemployed or underemployed, unless that \n     obligor is receiving disabilitiy payments."]
[null,"Number of self employment activities? (0 - 9) . . . . . . . . . . . . . . . . . . . . . . . . . . . . . . . . . . ",null,null,null,null,null,null,{"$f":"H16","v":0},null,null,null,{"$f":"L16","v":0}]
[null,"Does the obligor have any child living with another person, or\nliving with the obligor who is not the child of the other person named"]
[null,"in this guideline calculation? Do not include step children (Y/N) . . . . . . . . . . . . . . . . . . . . . . . . ",null,null,null,null,null,null,{"$f":"UPPER(H18)","v":""},null,null,null,{"$f":"UPPER(L18)","v":""}]
[]
[]
[null,"Does the order provide for extended parenting time (visitation)? (Y/N)  . . . . . . . . . . ",null,null,null,null,null,null,{"$f":"UPPER(H21)","v":""},null,null,null,{"$f":"UPPER(L21)","v":""}]
[null,"     Extended parenting time means visitation between the obligor and the child, as scheduled \n     in a court order, that totals at least 100 overnights in a year (the 100 overnights do not have to be in a row)."]
[null,"Are there Railroad Retirement Tax Act deductions? (Y/N)  . . . . . . . . . . . . . . . . . . . . . . ",null,null,null,null,null,null,{"$f":"UPPER(H23)","v":""},null,null,null,{"$f":"UPPER(L23)","v":""}]

{"sheet":"SE obr Rdc","index":41,"n_rows":24,"n_cols":19,"rows_kept":24,"cut":false,"hidden":false,"merged":[[2,3,2,17],[14,4,14,7],[4,7,4,9],[5,7,5,9]]}
[]
[null,"Child Support Guidelines Calculator - Worksheet Entry"]
[]
[null,null,null,null,"                                                                                "]
[null,null,null,{"$f":"NameScr!$B$7","v":"Obligor:"},null,null,null,{"$f":"HomeScr!$C$5","v":" "}]
[null,null,null,{"$f":"NameScr!$B$13","v":"Obligee:"},null,null,null,{"$f":"HomeScr!$C$6","v":" "}]
[null,null,null,"                                                                                "]
[]
[]
[]
[null,null,null,null,null,null,null,null,null,null,null,null,{"$f":"NameScr!C7","v":0},null,null,null,{"$f":"NameScr!C13","v":0}]
[null,null,"You have requested a reduction in self employment activities",null,null,null,null,null,null,null,null,null,{"$f":"QuesScr!H12","v":0},null,null,null,{"$f":"QuesScr!L12","v":0},null,{"$f":"Rates!O49","v":0}]
[null,null,"Select the ",null,null,null,{"$f":"L16-N16","v":0},"     activites to delete with an X for:",{"$f":"NameScr!C7","v":0}]
[null,null,null,null,null,null,null,null,null,null,null,{"$f":"QuesScr!G14","v":0},{"$f":"QuesScr!H14","v":0},{"$f":"UPPER(M14)","v":"0"},null,{"$f":"QuesScr!K14","v":0},{"$f":"QuesScr!L14","v":0},{"$f":"UPPER(Q14)","v":"0"}]
[null,null,null,null,"Description",null,null,null,"Average Income"]
[null,1,null,null,{"$f":"IF(L16<1,\"\",'SE Loss-Obr'!C11)","v":""},null,null,null,{"$f":"IF(L$16<1,\"\",'SE Loss-Obr'!H11)","v":""},{"$f":"UPPER(C16)","v":""},null,{"$f":"QuesScr!G16","v":0},{"$f":"QuesScr!H16","v":0},{"$f":"M16","v":0},null,{"$f":"QuesScr!K16","v":0},{"$f":"QuesScr!L16","v":0},{"$f":"Q16","v":0}]
[null,2,null,null,{"$f":"IF(L16<2,\"\",'SE Loss-Obr'!C12)","v":""},null,null,null,{"$f":"IF(L$16<2,\"\",'SE Loss-Obr'!H12)","v":""},{"$f":"UPPER(C17)","v":""}]
[null,3,null,null,{"$f":"IF(L16<3,\"\",'SE Loss-Obr'!C13)","v":""},null,null,null,{"$f":"IF(L$16<3,\"\",'SE Loss-Obr'!H13)","v":""},"",null,{"$f":"QuesScr!G18","v":0},{"$f":"QuesScr!H18","v":0},{"$f":"UPPER(M18)","v":"0"},null,{"$f":"QuesScr!K18","v":0},{"$f":"QuesScr!L18","v":0},{"$f":"UPPER(Q18)","v":"0"}]
[null,4,null,null,{"$f":"IF(L16<4,\"\",'SE Loss-Obr'!C14)","v":""},null,null,null,{"$f":"IF(L$16<4,\"\",'SE Loss-Obr'!H14)","v":""},""]
[null,5,null,null,{"$f":"IF(L16<5,\"\",'SE Loss-Obr'!C15)","v":""},null,null,null,{"$f":"IF(L$16<5,\"\",'SE Loss-Obr'!H15)","v":""},""]
[null,6,null,null,{"$f":"IF(L16<6,\"\",'SE Loss-Obr'!C16)","v":""},null,null,null,{"$f":"IF(L$16<6,\"\",'SE Loss-Obr'!H16)","v":""},"",null,{"$f":"QuesScr!G21","v":0},{"$f":"QuesScr!H21","v":0},{"$f":"UPPER(M21)","v":"0"},null,{"$f":"QuesScr!K21","v":0},{"$f":"QuesScr!L21","v":0},{"$f":"UPPER(Q21)","v":"0"}]
[null,7,null,null,{"$f":"IF(L16<7,\"\",'SE Loss-Obr'!C17)","v":""},null,null,null,{"$f":"IF(L$16<7,\"\",'SE Loss-Obr'!H17)","v":""},""]
[null,8,null,null,{"$f":"IF(L16<8,\"\",'SE Loss-Obr'!C18)","v":""},null,null,null,{"$f":"IF(L$16<8,\"\",'SE Loss-Obr'!H18)","v":""},"",null,{"$f":"QuesScr!G23","v":0},{"$f":"QuesScr!H23","v":0},{"$f":"UPPER(M23)","v":"0"},null,{"$f":"QuesScr!K23","v":0},{"$f":"QuesScr!L23","v":0},{"$f":"UPPER(Q23)","v":"0"}]
[null,9,null,null,{"$f":"IF(L16<9,\"\",'SE Loss-Obr'!C19)","v":""},null,null,null,{"$f":"IF(L$16<9,\"\",'SE Loss-Obr'!H19)","v":""},""]

{"sheet":"SE obe Rdc","index":42,"n_rows":24,"n_cols":19,"rows_kept":24,"cut":false,"hidden":false,"merged":[[2,3,2,17],[14,4,14,7],[4,7,4,9],[5,7,5,9]]}
[]
[null,"Child Support Guidelines Calculator - Worksheet Entry"]
[]
[null,null,null,null,"                                                                                "]
[null,null,null,{"$f":"NameScr!$B$7","v":"Obligor:"},null,null,null,{"$f":"HomeScr!$C$5","v":" "}]
[null,null,null,{"$f":"NameScr!$B$13","v":"Obligee:"},null,null,null,{"$f":"HomeScr!$C$6","v":" "}]
[null,null,null,"                                                                                "]
[]
[]
[]
[null,null,null,null,null,null,null,null,null,null,null,null,{"$f":"NameScr!C7","v":0},null,null,null,{"$f":"NameScr!C13","v":0}]
[null,null,"You have requested a reduction in self employment activities",null,null,null,null,null,null,null,null,null,{"$f":"QuesScr!H12","v":0},null,null,null,{"$f":"QuesScr!L12","v":0},null,{"$f":"Rates!O49","v":0}]
[null,null,"Select the ",null,null,null,{"$f":"P16-R16","v":0},"     activites to delete with an X for:",{"$f":"NameScr!C13","v":0}]
[null,null,null,null,null,null,null,null,null,null,null,{"$f":"QuesScr!G14","v":0},{"$f":"QuesScr!H14","v":0},{"$f":"UPPER(M14)","v":"0"},null,{"$f":"QuesScr!K14","v":0},{"$f":"QuesScr!L14","v":0},{"$f":"UPPER(Q14)","v":"0"}]
[null,null,null,null,"Description",null,null,null,"Average Income"]
[null,1,null,null,{"$f":"IF(P$16<1,\"\",'SE Loss-Obe'!C11)","v":""},null,null,null,{"$f":"IF(P$16<1,\"\",'SE Loss-Obe'!H11)","v":""},{"$f":"UPPER(C16)","v":""},null,{"$f":"QuesScr!G16","v":0},{"$f":"QuesScr!H16","v":0},{"$f":"M16","v":0},null,{"$f":"QuesScr!K16","v":0},{"$f":"QuesScr!L16","v":0},{"$f":"Q16","v":0}]
[null,2,null,null,{"$f":"IF(P$16<1,\"\",'SE Loss-Obe'!C12)","v":""},null,null,null,{"$f":"IF(P$16<1,\"\",'SE Loss-Obe'!H12)","v":""},{"$f":"UPPER(C17)","v":""}]
[null,3,null,null,{"$f":"IF(P$16<1,\"\",'SE Loss-Obe'!C13)","v":""},null,null,null,{"$f":"IF(P$16<1,\"\",'SE Loss-Obe'!H13)","v":""},"",null,{"$f":"QuesScr!G18","v":0},{"$f":"QuesScr!H18","v":0},{"$f":"UPPER(M18)","v":"0"},null,{"$f":"QuesScr!K18","v":0},{"$f":"QuesScr!L18","v":0},{"$f":"UPPER(Q18)","v":"0"}]
[null,4,null,null,{"$f":"IF(P$16<1,\"\",'SE Loss-Obe'!C14)","v":""},null,null,null,{"$f":"IF(P$16<1,\"\",'SE Loss-Obe'!H14)","v":""},""]
[null,5,null,null,{"$f":"IF(P$16<1,\"\",'SE Loss-Obe'!C15)","v":""},null,null,null,{"$f":"IF(P$16<1,\"\",'SE Loss-Obe'!H15)","v":""},""]
[null,6,null,null,{"$f":"IF(P$16<1,\"\",'SE Loss-Obe'!C16)","v":""},null,null,null,{"$f":"IF(P$16<1,\"\",'SE Loss-Obe'!H16)","v":""},"",null,{"$f":"QuesScr!G21","v":0},{"$f":"QuesScr!H21","v":0},{"$f":"UPPER(M21)","v":"0"},null,{"$f":"QuesScr!K21","v":0},{"$f":"QuesScr!L21","v":0},{"$f":"UPPER(Q21)","v":"0"}]
[null,7,null,null,{"$f":"IF(P$16<1,\"\",'SE Loss-Obe'!C17)","v":""},null,null,null,{"$f":"IF(P$16<1,\"\",'SE Loss-Obe'!H17)","v":""},""]
[null,8,null,null,{"$f":"IF(P$16<1,\"\",'SE Loss-Obe'!C18)","v":""},null,null,null,{"$f":"IF(P$16<1,\"\",'SE Loss-Obe'!H18)","v":""},"",null,{"$f":"QuesScr!G23","v":0},{"$f":"QuesScr!H23","v":0},{"$f":"UPPER(M23)","v":"0"},null,{"$f":"QuesScr!K23","v":0},{"$f":"QuesScr!L23","v":0},{"$f":"UPPER(Q23)","v":"0"}]
[null,9,null,null,{"$f":"IF(P$16<1,\"\",'SE Loss-Obe'!C19)","v":""},null,null,null,{"$f":"IF(P$16<1,\"\",'SE Loss-Obe'!H19)","v":""},""]

{"sheet":"MultFam","index":43,"n_rows":20,"n_cols":15,"rows_kept":20,"cut":false,"hidden":false,"merged":[[2,1,2,12],[8,6,8,8],[8,10,8,12],[11,6,11,8],[13,6,13,8],[4,3,4,4],[5,3,5,4],[9,1,9,3],[12,1,12,3],[17,6,17,8],[19,6,19,8],[11,10,11,12],[13,10,13,12],[15,10,15,12],[17,10,17,12],[19,10,19,12],[15,6,15,8]]}
[]
[null,"Child Support Guidelines Calculator - Multiple Families Entry"]
[]
[null,"                                                                                "]
[null,{"$f":"NameScr!$B$7","v":"Obligor:"},null,{"$f":"HomeScr!$C$5","v":" "}]
[null,{"$f":"NameScr!$B$13","v":"Obligee:"},null,{"$f":"HomeScr!$C$6","v":" "}]
[]
[null,null,null,null,null,null,null,{"$f":"NameScr!C7","v":0},null,{"$f":"Rates!O53","v":""},null,{"$f":"NameScr!C13","v":0},null,{"$f":"Rates!O49","v":0},{"$f":"Rates!P53","v":""}]
[null,"Number of children living with obligor . . . . . . . . . . . . . . . . . . . . . . . . . . . . . . . . . . . . . . . . .",null,null,null,null,null,null,null,{"$f":"VALUE(G9)","v":0},null,null,null,{"$f":"VALUE(K9)","v":0}]
[null,"     Do not count any child of the obligor who is also a child of the \n     other person in this guidelines calculation. Do not count step children."]
[]
[null,"Number of other persons with whom the obligor has child(ren) . . . . . . . . . . . . . . . . . . . .",null,null,null,null,null,null,null,{"$f":"VALUE(G12)","v":0},null,null,null,{"$f":"VALUE(K12)","v":0}]
[null,"     Do not count any child of the obligor who is also a child of the \n     other person in this guidelines calculation. Do not count step children."]
[null,null,"Number of children living with other person 1. . . . . . . . . . . . . . . . . . . . . . . . . . . . . . . . . . . ",null,null,null,null,null,null,{"$f":"VALUE(G14)","v":0},null,null,null,{"$f":"VALUE(K14)","v":0}]
[null,null,"                                                        "]
[null,null,"Number of children living with other person 2. . . . . . . . . . . . . . . . . . . . . . . . . . . . . . . . . . . ",null,null,null,null,null,null,{"$f":"VALUE(G16)","v":0},null,null,null,{"$f":"VALUE(K16)","v":0}]
[]
[null,null,"Number of children living with other person 3. . . . . . . . . . . . . . . . . . . . . . . . . . . . . . . . . . . ",null,null,null,null,null,null,{"$f":"VALUE(G18)","v":0},null,null,null,{"$f":"VALUE(K18)","v":0}]
[]
[null,null,"Number of children living with other person 4. . . . . . . . . . . . . . . . . . . . . . . . . . . . . . . . . . . ",null,null,null,null,null,null,{"$f":"VALUE(G20)","v":0},null,null,null,{"$f":"VALUE(K20)","v":0}]

{"sheet":"ExtParTm","index":44,"n_rows":25,"n_cols":15,"rows_kept":25,"cut":false,"hidden":false,"merged":[[2,1,2,12],[8,6,8,8],[8,10,8,12],[11,6,11,8],[11,10,11,12],[4,3,4,5],[5,3,5,5],[12,6,12,8],[12,10,12,12],[15,6,15,8],[15,10,15,12],[14,6,14,8],[14,10,14,12],[18,6,18,8],[18,10,18,12],[20,6,20,8],[20,10,20,12],[17,6,17,8],[17,10,17,12],[21,6,21,8],[21,10,21,12],[23,6,23,8],[23,10,23,12],[24,6,24,8],[24,10,24,12]]}
[]
[null,"Child Support Guidelines Calculator - Extended Parenting Time (Visitation) Entry"]
[]
[null,"                                                                                "]
[null,{"$f":"NameScr!$B$7","v":"Obligor:"},null,{"$f":"HomeScr!$C$5","v":" "},null,null,null,null,null,"?"]
[null,{"$f":"NameScr!$B$13","v":"Obligee:"},null,{"$f":"HomeScr!$C$6","v":" "}]
[]
[null,null,null,null,null,null,null,{"$f":"NameScr!C7","v":0},null,{"$f":"Rates!O54","v":""},null,{"$f":"NameScr!C13","v":0},null,{"$f":"Rates!O49","v":0},{"$f":"Rates!P54","v":""}]
[null,"How many different parenting time schedules have been specified in the order? . . . . . . .",null,null,null,null,null,null,null,{"$f":"VALUE(G9)","v":0},null,null,null,{"$f":"VALUE(K9)","v":0}]
[]
[null,"                                                     ",null,null,null,null,null,null,null,{"$f":"VALUE(G11)","v":0},null,null,null,{"$f":"VALUE(K11)","v":0}]
[null,null,"Number of parenting overnights per year for schedule 1. . . . . . . . . . . . . . . . . . . .. . . . . . .",null,null,null,null,null,null,0,null,null,null,0]
[null,null,"Number of children covered by schedule 1  . . . . . . . . . . . . . . . . . . . . . . . . . . . . . . . . . . . . .",null,null,null,null,null,null,0,null,null,null,0]
[null,null,null,"                                               "]
[null,null,"Number of parenting overnights per year for schedule 2. . . . . . . . . . . . . . . . . . .. . . . . . . .",null,null,null,null,null,null,0,null,null,null,0]
[null,null,"Number of children covered by schedule 2  . . . . . . . . . . . . . . . . . . . . . . . . . . . . . . . . . . . . .",null,null,null,null,null,null,0,null,null,null,0]
[]
[null,null,"Number of parenting overnights per year for schedule 3. . . . .. . . . . . . . . . . . . . . . . . . . . .",null,null,null,null,null,null,0,null,null,null,0]
[null,null,"Number of children covered by schedule 3  . . . . . . . . . . . . . . . . . . . . . . . . . . . . . . . . . . . . .",null,null,null,null,null,null,0,null,null,null,0]
[]
[null,null,"Number of parenting overnights per year for schedule 4. . . . .. . . . . . . . . . . . . . . . . . . . . .",null,null,null,null,null,null,0,null,null,null,0]
[null,null,"Number of children covered by schedule 4  . . . . . . . . . . . . . . . . . . . . . . . . . . . . . . . . . . . . .",null,null,null,null,null,null,0,null,null,null,0]
[]
[null,null,"Number of parenting overnights per year for schedule 5. . . ... . . . . . . . . . . . . . . . . . . . . .",null,null,null,null,null,null,0,null,null,null,0]
[null,null,"Number of children covered by schedule 5  . . . . . . . . . . . . . . . . . . . . . . . . . . . . . . . . . . . . .",null,null,null,null,null,null,0,null,null,null,0]

{"sheet":"ImpInc","index":45,"n_rows":70,"n_cols":250,"rows_kept":70,"cut":false,"hidden":false,"merged":[[68,9,68,12],[69,9,69,12],[67,15,67,18],[68,15,68,18],[69,15,69,18],[65,1,65,6],[66,1,66,6],[67,9,67,12],[13,15,13,18],[30,9,30,12],[30,15,30,18],[9,9,9,13],[9,15,9,19],[11,9,11,12],[13,9,13,12],[2,1,2,19],[4,4,4,10],[5,4,5,10],[7,9,7,13],[7,15,7,19],[10,1,10,6],[11,15,11,18]]}
[]
[null,"Child Support Guidelines Calculator - Schedule A - Imputed Income Entry"]
[]
[]
[null,null,null,null,{"$f":"HomeScr!$C$5","v":" "},null,null,null,null,null,null,null,null,null,"?"]
[null,{"$f":"NameScr!$B$13","v":"Obligee:"},null,null,{"$f":"HomeScr!$C$6","v":" "}]
[null,null,null,null,null,null,null,null,null,null,null,{"$f":"NameScr!C7","v":0},null,null,{"$f":"Rates!O51","v":""},null,null,{"$f":"NameScr!C13","v":0},null,null,{"$f":"Rates!O49","v":0},{"$f":"Rates!P51","v":""}]
[null,"Occupation . . . . . . . . . . . . . . . . . . . . . . . . . . . . . . . . . . . . . . . . . . . . . . . . . . . . . . . .",null,null,null,null,null,null,null,null,null,null,null,null,null,null,null,null,null,null,null,null,null,null,null,null,null,null,null,null,null,null,null,null,null,null,null,null,null,null,null,null,null,null,null,null,null,null,null,null,null,null,null,null,null,null,null,null,null,null,null,null,null,null,null,null,null,null,null,null,null,null,null,null,null,null,null,null,null,null,null,null,null,null,null,null,null,null,null,null,null,null,null,null,null,null,null,null,null,null,null,null,null,null,null,null,null,null,null,null,null,null,null,null,null,null,null,null,null,null,null,null,null,null,null,null,null,null,null,null,null,null,null,null,null,null,null,null,null,null,null,null,null,null,null,null,null,null,null,null,null,null,null,null,null,null,null,null,null,null,null,null,null,null,null,null,null,null,null,null,null,null,null,null,null,null,null,null,null,null,null,null,null,null,null,null,null,null,null,null,null,null,null,null,null,null,null,null,null,null,null,null,null,null,null,null,null,null,null,null,null,null,null,null,null,null,null,null,null,null,null,null,null,null,null,null,null,null,null,null,null,null,null,null,null,null,null,null,null,null,null,null,null,null,null,null,null,null,null,"N"]
[{"$f":"IF(LEN(J10)>48,IF(MID(J10,49,1)=\" \",49,IF(MID(J10,48,1)=\" \",48,IF(MID(J10,47,1)=\" \",47,IF(MID(J10,46,1)=\" \",46,IF(MID(J10,45,1)=\" \",45,IF(MID(J10,44,1)=\" \",44,IF(MID(J10,43,1)=\" \",43,IF(MID(J10,42,1)=\" \",42,IF(MID(J10,41,1)=\" \",41,IF(MID(J10,40,1)=\" \",40,IF(MID(J10,39,1)=\" \",39,IF(MID(J10,38,1)=\" \",38,IF(MID(J10,37,1)=\" \",37,IF(MID(J10,36,1)=\" \",36,IF(MID(J10,35,1)=\" \",35,IF(MID(J10,34,1)=\" \",34,IF(MID(J10,33,1)=\" \",33,48))))))))))))))))),LEN(J10))","v":0}]
[{"$f":"IF(LEN(P10)>48,IF(MID(P10,49,1)=\" \",49,IF(MID(P10,48,1)=\" \",48,IF(MID(P10,47,1)=\" \",47,IF(MID(P10,46,1)=\" \",46,IF(MID(P10,45,1)=\" \",45,IF(MID(P10,44,1)=\" \",44,IF(MID(P10,43,1)=\" \",43,IF(MID(P10,42,1)=\" \",42,IF(MID(P10,41,1)=\" \",41,IF(MID(P10,40,1)=\" \",40,IF(MID(P10,39,1)=\" \",39,IF(MID(P10,38,1)=\" \",38,IF(MID(P10,37,1)=\" \",37,IF(MID(P10,36,1)=\" \",36,IF(MID(P10,35,1)=\" \",35,IF(MID(P10,34,1)=\" \",34,IF(MID(P10,33,1)=\" \",33,48))))))))))))))))),LEN(P10))","v":0},"Source (for example:  Employment and Wages by Occupation)  . . . . . . . . . . . . . . . . . . . . . "]
[]
[null,"Statewide average monthly earnings for the occupation  . . . . . . . . . . . . . . . ",null,null,null,null,null,"?",null,null,null,null,null,{"$f":"VALUE(J12)","v":0},null,null,null,null,null,{"$f":"VALUE(P12)","v":0}]
[null,"                                                                                "]
[null,"Obligor's greatest average gross monthly earnings  . . . . . . . . . . . . . . . . . . ",null,null,null,null,null,"?",null,null,null,null,null,{"$f":"VALUE(J14)","v":0},null,null,null,null,null,{"$f":"VALUE(P14)","v":0}]
[null,"                                                                                "]
[]
[]
[]
[]
[]
[]
[null,"Is this obligor non-cooperative resulting in insufficient financial"]
[null,"information? (Y/N). . . . . .. . . . . . . . . . . . . . . . . . . . . . . . . . . . . . . . . . . . . . . . . . . . .  ",null,null,null,null,null,null,null,null,{"$f":"UPPER(J23)","v":""},null,null,null,null,null,{"$f":"UPPER(P23)","v":""}]
[]
[]
[]
[]
[]
[]
[]
[]
[]
[]
[]
[]
[]
[]
[]
[]
[]
[]
[]
[]
[]
[]
[]
[]
[]
[]
[]
[]
[]
[]
[]
[]
[]
[]
[]
[]
[null,"Is the obligor under 18, or under 19 and in high school? (Y/N) . . . . . . . . . "]
[null,"                                                                                "]
[null,"Is the obligor incarcerated? (Y/N) . . . . . ."]
[]
[null,null,"If yes, enter number of months . . . . . . . . . . . . . . . . . . . . . . . . . . . . . . . . . .",null,null,null,null,null,null,null,null,{"$f":"VALUE(J64)","v":0},null,null,null,null,null,{"$f":"VALUE(P64)","v":0}]
[]
[null,"Is support being established or is support being reviewed for "]
[null,"modification? (Establishment = E, Review = R)",null,null,null,null,null,null,"E"]
[null,null,"Date calculated  (Today's date mm/dd/yyyy) . . . . . . . . . . . . . . . . . . . . . . . . . ."]
[null,null,"Date order was entered or last modified . . . . . . . . . . . . . . . . . . . . . . . . . . "]
[null,null,"Net monthly income listed in the last order  . . . . . . . . . . . . . . . . . . . . . . . . ",null,null,null,null,null,null,null,null,null,null,{"$f":"IF(ISNUMBER(VALUE(J70)),VALUE(J70),0)","v":0},null,null,null,null,null,{"$f":"IF(ISNUMBER(VALUE(P70)),VALUE(P70),0)","v":0}]

{"sheet":"GrsInc","index":46,"n_rows":27,"n_cols":14,"rows_kept":27,"cut":false,"hidden":false,"merged":[[23,8,23,9],[10,8,10,9],[10,11,10,12],[2,1,2,13],[23,11,23,12],[5,3,5,9],[6,3,6,9]]}
[]
[null,"Child Support Guidelines Calculator - Gross Income Entry"]
[]
[]
[]
[null,{"$f":"NameScr!$B$7","v":"Obligor:"},null,{"$f":"HomeScr!$C$5","v":" "}]
[null,{"$f":"NameScr!$B$13","v":"Obligee:"},null,{"$f":"HomeScr!$C$6","v":" "}]
[null,"Gross annual employment income",null,null,null,null,null,null,null,{"$f":"NameScr!$C$7","v":0},null,null,{"$f":"NameScr!C13","v":0},{"$f":"Rates!O49","v":0}]
[null,null,"Actual . . . . . . . . . . . . . . . . . . . . . . . . . . . . . . . . . . . . . . . . . . .",null,null,null,null,null,null,null,{"$f":"VALUE(J9)","v":0},null,null,{"$f":"VALUE(M9)","v":0}]
[]
[null,null,"Source of financial data used . . . . . . . . . . . . . . . . . . . . . . ."]
[null,null,"     For example: tax return or paystub"]
[null,"Other gross annual income",null,null,null,"?"]
[null,null,"Children's benefits . . . . . . . . . . . . . . . . . . . . . . . . . . . . . . . .",null,null,null,null,null,null,null,{"$f":"VALUE(J14)","v":0},null,null,{"$f":"VALUE(M14)","v":0}]
[null,null,"Military subsistence . . . . . . . . . . . . . . . . . . . . . . . . . . . . . . .",null,null,null,null,null,null,null,0,null,null,0]
[null,null,"Spousal support . . . . . . . . . . . . . . . . . . . . . . . . . . . . . . . . . .",null,null,null,null,null,null,null,0,null,null,0]
[null,null,"Unemployment\\worker's compensation benefits . . . . . . ",null,null,null,null,null,null,null,0,null,null,0]
[null,null,"Social security benefits . . . . . . . . . . . . . . . . . . . . . . . . . . . .",null,null,null,null,null,null,null,0,null,null,0]
[null,null,"Pensions\\veterans benefits\\retirement income. . . . . . . .",null,null,null,null,null,null,null,0,null,null,0]
[null,null,"Refundable tax credits. . . . . . . . . . . . . . . . . . . . . . . . . . . . . ",null,null,null,null,null,null,null,0,null,null,0]
[null,null,"Dividends and interest. . . . . . . . . . . . . . . . . . . . . . . . . . . . .",null,null,null,null,null,null,null,0,null,null,0]
[null,null,"In-kind income . . . . . . . . . . . . . . . . . . . . . . . . . . . . . . . . . . . ",null,null,null,null,null,null,null,0,null,null,0]
[null,null,"Other . . . . . . . . . . . . . . . . . . . . . . . . . . . . . . . . . . . . . . . . . . . ",null,null,null,null,null,null,null,0,null,null,0]
[null,null,"*Other source . . . . . . . . . . . . . . . . . . . . . . . . . . . . . . . . . . . . "]
[null,"                                                                                "]
[null,"Imputed Income Comparison Amount  ",null,null,null,null,null,null,null,{"$f":"'SchA Obgr'!O34","v":0},null,null,{"$f":"'SchA Obge'!O34","v":0}]
[null,"Gross Annual Earnings to Reduce Imputed Income  . . . . . . . ",null,null,null,null,null,null,null,null,{"$f":"VALUE(J27)","v":0},null,null,{"$f":"VALUE(M27)","v":0}]

{"sheet":"SE Obr1","index":47,"n_rows":66016,"n_cols":27,"rows_kept":4500,"cut":true,"hidden":false,"merged":[[22,7,22,9],[22,11,22,13],[22,15,22,17],[22,19,22,21],[22,23,22,25],[21,7,21,9],[21,11,21,13],[21,15,21,17],[21,19,21,21],[21,23,21,25],[2,1,2,25],[24,13,24,16],[24,4,24,5],[12,7,12,9],[14,7,14,9],[15,7,15,9],[16,7,16,9],[17,7,17,9],[18,7,18,9],[19,7,19,9],[12,11,12,13],[13,11,13,13],[14,11,14,13],[15,11,15,13],[16,11,16,13],[17,11,17,13],[19,11,19,13],[13,7,13,9],[17,19,17,21],[18,19,18,21],[19,19,19,21],[17,15,17,17],[16,19,16,21],[19,15,19,17],[16,15,16,17],[19,23,19,25],[12,23,12,25],[13,23,13,25],[14,23,14,25],[15,23,15,25],[16,23,16,25],[17,23,17,25],[5,3,5,19],[6,3,6,19],[8,1,8,24],[9,1,9,24],[18,23,18,25],[18,15,18,17],[18,11,18,13],[12,19,12,21],[13,19,13,21],[14,19,14,21],[15,19,15,21],[12,15,12,17],[13,15,13,17],[14,15,14,17],[15,15,15,17]],"bounds":{"rows_first":2000,"rows_last":500,"rows_between":2000,"halvings":0}}
[]
[null,"Child Support Guidelines Calculator - Schedule B - Self Employment Income Entry"]
[]
[]
[]
[null,{"$f":"NameScr!$B$7","v":"Obligor:"},null,{"$f":"HomeScr!$C$5","v":" "}]
[null,{"$f":"NameScr!$B$13","v":"Obligee:"},null,{"$f":"HomeScr!$C$6","v":" "}]
[null,null,"Activity number:  1  for   ",null,null,{"$f":"NameScr!C7","v":0},null,"(enter up to 2 lines for business description below)   "]
[]
[]
[null,"                                                                                "]
[null,"Tax Year . . . . . . . . . . . . . . . . . . . . . . . . . . . . . . . . . . . . . . . . . . . . . . "]
[null,null,"Total income . . . . . . . . . . . . . . . . . . . . . . . . . . . . . . . . . . . . . . . . ",null,null,null,null,null,null,null,{"$f":"VALUE(H13)","v":0},null,null,null,{"$f":"VALUE(L13)","v":0},null,null,null,{"$f":"VALUE(P13)","v":0},null,null,null,{"$f":"VALUE(T13)","v":0},null,null,null,{"$f":"VALUE(X13)","v":0}]
[null,null,"Income that is not the obligor's . . . . . . . . . . . . . . . . . . . . . . . . .",null,null,null,null,null,null,null,{"$f":"VALUE(H14)","v":0},null,null,null,{"$f":"VALUE(L14)","v":0},null,null,null,{"$f":"VALUE(P14)","v":0},null,null,null,0,null,null,null,{"$f":"VALUE(X14)","v":0}]
[null,null,"Income that is not from self employment . . . . . . . . . . . . . . . . . ",null,null,null,null,null,null,null,0,null,null,null,0,null,null,null,0,null,null,null,0,null,null,null,0]
[null,null,"Undistributed partnership\\S-corp income . . . . . . . . . . . . . . . .",null,null,null,null,null,null,null,0,null,null,null,0,null,null,null,0,null,null,null,0,null,null,null,0]
[null,null,"Benefits\\pension\\profit sharing income . . . . . . . . . . . . . . . . . . ",null,null,null,null,null,null,null,0,null,null,null,0,null,null,null,0,null,null,null,0,null,null,null,0]
[null,null,"Payments to household member over fair market value  . . . . ",null,null,null,null,null,null,null,0,null,null,null,0,null,null,null,0,null,null,null,0,null,null,null,0]
[null,null,"C-corp taxable income . . . . . . . . . . . . . . . . . . . . . . . . . . . . . . . .",null,null,null,null,null,null,null,0,null,null,null,0,null,null,null,0,null,null,null,0,null,null,null,0]
[null,null,"C-corp federal income tax . . . . . . . . . . . . . . . . . . . . . . . . . . . . . ",null,null,null,null,null,null,null,0,null,null,null,0,null,null,null,0,null,null,null,0,null,null,null,0]
[null,null,"Obligor's ownership interest in C-corp (percentage) . . . . . . .",null,null,null,null,null,null,null,{"$f":"VALUE(I21)","v":0},null,null,null,{"$f":"VALUE(M21)","v":0},null,null,null,{"$f":"VALUE(Q21)","v":0},null,null,null,{"$f":"VALUE(U21)","v":0},null,null,null,{"$f":"VALUE(Y21)","v":0}]
[null,"Total additions . . . . . . . . . . . . . . . . . . . . . . . . . . . . . . . . . . . . . . . . . .",null,null,null,null,null,{"$f":"(K19-K20)*ROUND(((I21)/100*0.7),2)","v":0},null,null,null,{"$f":"(O19-O20)*ROUND(((M21)/100*0.7),2)","v":0},null,null,null,{"$f":"(S19-S20)*ROUND(((Q21)/100*0.7),2)","v":0},null,null,null,{"$f":"(W19-W20)*ROUND(((U21)/100*0.7),2)","v":0},null,null,null,{"$f":"(AA19-AA20)*ROUND(((Y21)/100*0.7),2)","v":0}]
[null,"Total annual net income from self-employment  . . . . . . . . . . . . . . . ",null,null,null,null,null,{"$f":"H13-(H14+H15+H16)+(H17+H18+H22)","v":0},null,null,null,{"$f":"L13-(L14+L15+L16)+(L17+L18+L22)","v":0},null,null,null,{"$f":"P13-(P14+P15+P16)+(P17+P18+P22)","v":0},null,null,null,{"$f":"T13-(T14+T15+T16)+(T17+T18+T22)","v":0},null,null,null,{"$f":"X13-(X14+X15+X16)+(X17+X18+X22)","v":0}]
[null,"                                                                                ",null,null,null,null,"Total years for average:",null,null,null,null,null,null,null,null,null,{"$f":"IF(M12=0,1,IF(Q12=0,2,IF(U12=0,3,IF(Y12=0,4,5))))","v":1}]
[null,"Total net income:",null,null,{"$f":"H23+L23+P23+T23+X23","v":0},null,"Average annual income:",null,null,null,null,null,null,{"$f":"ROUND(E25/Q24,0)","v":0}]
[null,1,"R",null,null,null,null,null,null,null,null,null,null,null,null,null,null,null,null,null,null,null,null,null,null,{"$f":"IF(N25<0,\"Y\",\"\")","v":""}]
[]
[]
[]
[]
[]
[]
[]
[]
[]
[]
[]
[]
[]
[]
[]
[]
[]
[]
[]
[]
[]
[]
[]
[]
[]
[]
[]
[]
[]
[]
[]
[]
[]
[]
[]
[]
[]
[null,null,null,null,null,null,null,null,null,null,48]
[null,null,null,null,null,null,null,null,null,null,49]
[null,null,null,null,null,null,null,null,null,null,50]
[null,null,null,null,null,null,null,null,null,null,51]
[null,null,null,null,null,null,null,null,null,null,52]
[null,null,null,null,null,null,null,null,null,null,53]
[null,null,null,null,null,null,null,null,null,null,54]
[null,null,null,null,null,null,null,null,null,null,55]
[null,null,null,null,null,null,null,null,null,null,56]
[null,null,null,null,null,null,null,null,null,null,57]
[null,null,null,null,null,null,null,null,null,null,58]
[null,null,null,null,null,null,null,null,null,null,59]
[null,null,null,null,null,null,null,null,null,null,60]
[null,null,null,null,null,null,null,null,null,null,61]
[null,null,null,null,null,null,null,null,null,null,62]
[null,null,null,null,null,null,null,null,null,null,63]
[null,null,null,null,null,null,null,null,null,null,64]
[null,null,null,null,null,null,null,null,null,null,65]
[null,null,null,null,null,null,null,null,null,null,66]
[null,null,null,null,null,null,null,null,null,null,67]
[null,null,null,null,null,null,null,null,null,null,68]
[null,null,null,null,null,null,null,null,null,null,69]
[null,null,null,null,null,null,null,null,null,null,70]
[null,null,null,null,null,null,null,null,null,null,71]
[null,null,null,null,null,null,null,null,null,null,72]
[null,null,null,null,null,null,null,null,null,null,73]
[null,null,null,null,null,null,null,null,null,null,74]
[null,null,null,null,null,null,null,null,null,null,75]
[null,null,null,null,null,null,null,null,null,null,76]
[null,null,null,null,null,null,null,null,null,null,77]
[null,null,null,null,null,null,null,null,null,null,78]
[null,null,null,null,null,null,null,null,null,null,79]
[null,null,null,null,null,null,null,null,null,null,80]
[null,null,null,null,null,null,null,null,null,null,81]
[null,null,null,null,null,null,null,null,null,null,82]
[null,null,null,null,null,null,null,null,null,null,83]
[null,null,null,null,null,null,null,null,null,null,84]
[null,null,null,null,null,null,null,null,null,null,85]
[null,null,null,null,null,null,null,null,null,null,86]
[null,null,null,null,null,null,null,null,null,null,87]
[null,null,null,null,null,null,null,null,null,null,88]
[null,null,null,null,null,null,null,null,null,null,89]
[null,null,null,null,null,null,null,null,null,null,90]
[null,null,null,null,null,null,null,null,null,null,91]
[null,null,null,null,null,null,null,null,null,null,92]
[null,null,null,null,null,null,null,null,null,null,93]
[null,null,null,null,null,null,null,null,null,null,94]
[null,null,null,null,null,null,null,null,null,null,95]
[null,null,null,null,null,null,null,null,null,null,96]
[null,null,null,null,null,null,null,null,null,null,97]
[null,null,null,null,null,null,null,null,null,null,98]
[null,null,null,null,null,null,null,null,null,null,99]
[null,null,null,null,null,null,null,null,null,null,100]
[null,null,null,null,null,null,null,null,null,null,101]
[null,null,null,null,null,null,null,null,null,null,102]
[null,null,null,null,null,null,null,null,null,null,103]
[null,null,null,null,null,null,null,null,null,null,104]
[null,null,null,null,null,null,null,null,null,null,105]
[null,null,null,null,null,null,null,null,null,null,106]
[null,null,null,null,null,null,null,null,null,null,107]
[null,null,null,null,null,null,null,null,null,null,108]
[null,null,null,null,null,null,null,null,null,null,109]
[null,null,null,null,null,null,null,null,null,null,110]
[null,null,null,null,null,null,null,null,null,null,111]
[null,null,null,null,null,null,null,null,null,null,112]
[null,null,null,null,null,null,null,null,null,null,113]
[null,null,null,null,null,null,null,null,null,null,114]
[null,null,null,null,null,null,null,null,null,null,115]
[null,null,null,null,null,null,null,null,null,null,116]
[null,null,null,null,null,null,null,null,null,null,117]
[null,null,null,null,null,null,null,null,null,null,118]
[null,null,null,null,null,null,null,null,null,null,119]
[null,null,null,null,null,null,null,null,null,null,120]
[null,null,null,null,null,null,null,null,null,null,121]
[null,null,null,null,null,null,null,null,null,null,122]
[null,null,null,null,null,null,null,null,null,null,123]
[null,null,null,null,null,null,null,null,null,null,124]
[null,null,null,null,null,null,null,null,null,null,125]
[null,null,null,null,null,null,null,null,null,null,126]
[null,null,null,null,null,null,null,null,null,null,127]
[null,null,null,null,null,null,null,null,null,null,128]
[null,null,null,null,null,null,null,null,null,null,129]
[null,null,null,null,null,null,null,null,null,null,130]
[null,null,null,null,null,null,null,null,null,null,131]
[null,null,null,null,null,null,null,null,null,null,132]
[null,null,null,null,null,null,null,null,null,null,133]
[null,null,null,null,null,null,null,null,null,null,134]
[null,null,null,null,null,null,null,null,null,null,135]
[null,null,null,null,null,null,null,null,null,null,136]
[null,null,null,null,null,null,null,null,null,null,137]
[null,null,null,null,null,null,null,null,null,null,138]
[null,null,null,null,null,null,null,null,null,null,139]
[null,null,null,null,null,null,null,null,null,null,140]
[null,null,null,null,null,null,null,null,null,null,141]
[null,null,null,null,null,null,null,null,null,null,142]
[null,null,null,null,null,null,null,null,null,null,143]
[null,null,null,null,null,null,null,null,null,null,144]
[null,null,null,null,null,null,null,null,null,null,145]
[null,null,null,null,null,null,null,null,null,null,146]
[null,null,null,null,null,null,null,null,null,null,147]
[null,null,null,null,null,null,null,null,null,null,148]
[null,null,null,null,null,null,null,null,null,null,149]
[null,null,null,null,null,null,null,null,null,null,150]
[null,null,null,null,null,null,null,null,null,null,151]
[null,null,null,null,null,null,null,null,null,null,152]
[null,null,null,null,null,null,null,null,null,null,153]
[null,null,null,null,null,null,null,null,null,null,154]
[null,null,null,null,null,null,null,null,null,null,155]
[null,null,null,null,null,null,null,null,null,null,156]
[null,null,null,null,null,null,null,null,null,null,157]
[null,null,null,null,null,null,null,null,null,null,158]
[null,null,null,null,null,null,null,null,null,null,159]
[null,null,null,null,null,null,null,null,null,null,160]
[null,null,null,null,null,null,null,null,null,null,161]
[null,null,null,null,null,null,null,null,null,null,162]
[null,null,null,null,null,null,null,null,null,null,163]
[null,null,null,null,null,null,null,null,null,null,164]
[null,null,null,null,null,null,null,null,null,null,165]
[null,null,null,null,null,null,null,null,null,null,166]
[null,null,null,null,null,null,null,null,null,null,167]
[null,null,null,null,null,null,null,null,null,null,168]
[null,null,null,null,null,null,null,null,null,null,169]
[null,null,null,null,null,null,null,null,null,null,170]
[null,null,null,null,null,null,null,null,null,null,171]
[null,null,null,null,null,null,null,null,null,null,172]
[null,null,null,null,null,null,null,null,null,null,173]
[null,null,null,null,null,null,null,null,null,null,174]
[null,null,null,null,null,null,null,null,null,null,175]
[null,null,null,null,null,null,null,null,null,null,176]
[null,null,null,null,null,null,null,null,null,null,177]
[null,null,null,null,null,null,null,null,null,null,178]
[null,null,null,null,null,null,null,null,null,null,179]
[null,null,null,null,null,null,null,null,null,null,180]
[null,null,null,null,null,null,null,null,null,null,181]
[null,null,null,null,null,null,null,null,null,null,182]
[null,null,null,null,null,null,null,null,null,null,183]
[null,null,null,null,null,null,null,null,null,null,184]
[null,null,null,null,null,null,null,null,null,null,185]
[null,null,null,null,null,null,null,null,null,null,186]
[null,null,null,null,null,null,null,null,null,null,187]
[null,null,null,null,null,null,null,null,null,null,188]
[null,null,null,null,null,null,null,null,null,null,189]
[null,null,null,null,null,null,null,null,null,null,190]
[null,null,null,null,null,null,null,null,null,null,191]
[null,null,null,null,null,null,null,null,null,null,192]
[null,null,null,null,null,null,null,null,null,null,193]
[null,null,null,null,null,null,null,null,null,null,194]
[null,null,null,null,null,null,null,null,null,null,195]
[null,null,null,null,null,null,null,null,null,null,196]
[null,null,null,null,null,null,null,null,null,null,197]
[null,null,null,null,null,null,null,null,null,null,198]
[null,null,null,null,null,null,null,null,null,null,199]
[null,null,null,null,null,null,null,null,null,null,200]
[null,null,null,null,null,null,null,null,null,null,201]
[null,null,null,null,null,null,null,null,null,null,202]
[null,null,null,null,null,null,null,null,null,null,203]
[null,null,null,null,null,null,null,null,null,null,204]
[null,null,null,null,null,null,null,null,null,null,205]
[null,null,null,null,null,null,null,null,null,null,206]
[null,null,null,null,null,null,null,null,null,null,207]
[null,null,null,null,null,null,null,null,null,null,208]
[null,null,null,null,null,null,null,null,null,null,209]
[null,null,null,null,null,null,null,null,null,null,210]
[null,null,null,null,null,null,null,null,null,null,211]
[null,null,null,null,null,null,null,null,null,null,212]
[null,null,null,null,null,null,null,null,null,null,213]
[null,null,null,null,null,null,null,null,null,null,214]
[null,null,null,null,null,null,null,null,null,null,215]
[null,null,null,null,null,null,null,null,null,null,216]
[null,null,null,null,null,null,null,null,null,null,217]
[null,null,null,null,null,null,null,null,null,null,218]
[null,null,null,null,null,null,null,null,null,null,219]
[null,null,null,null,null,null,null,null,null,null,220]
[null,null,null,null,null,null,null,null,null,null,221]
[null,null,null,null,null,null,null,null,null,null,222]
[null,null,null,null,null,null,null,null,null,null,223]
[null,null,null,null,null,null,null,null,null,null,224]
[null,null,null,null,null,null,null,null,null,null,225]
[null,null,null,null,null,null,null,null,null,null,226]
[null,null,null,null,null,null,null,null,null,null,227]
[null,null,null,null,null,null,null,null,null,null,228]
[null,null,null,null,null,null,null,null,null,null,229]
[null,null,null,null,null,null,null,null,null,null,230]
[null,null,null,null,null,null,null,null,null,null,231]
[null,null,null,null,null,null,null,null,null,null,232]
[null,null,null,null,null,null,null,null,null,null,233]
[null,null,null,null,null,null,null,null,null,null,234]
[null,null,null,null,null,null,null,null,null,null,235]
[null,null,null,null,null,null,null,null,null,null,236]
[null,null,null,null,null,null,null,null,null,null,237]
[null,null,null,null,null,null,null,null,null,null,238]
[null,null,null,null,null,null,null,null,null,null,239]
[null,null,null,null,null,null,null,null,null,null,240]
[null,null,null,null,null,null,null,null,null,null,241]
[null,null,null,null,null,null,null,null,null,null,242]
[null,null,null,null,null,null,null,null,null,null,243]
[null,null,null,null,null,null,null,null,null,null,244]
[null,null,null,null,null,null,null,null,null,null,245]
[null,null,null,null,null,null,null,null,null,null,246]
[null,null,null,null,null,null,null,null,null,null,247]
[null,null,null,null,null,null,null,null,null,null,248]
[null,null,null,null,null,null,null,null,null,null,249]
[null,null,null,null,null,null,null,null,null,null,250]
[null,null,null,null,null,null,null,null,null,null,251]
[null,null,null,null,null,null,null,null,null,null,252]
[null,null,null,null,null,null,null,null,null,null,253]
[null,null,null,null,null,null,null,null,null,null,254]
[null,null,null,null,null,null,null,null,null,null,255]
[null,null,null,null,null,null,null,null,null,null,256]
[null,null,null,null,null,null,null,null,null,null,257]
[null,null,null,null,null,null,null,null,null,null,258]
[null,null,null,null,null,null,null,null,null,null,259]
[null,null,null,null,null,null,null,null,null,null,260]
[null,null,null,null,null,null,null,null,null,null,261]
[null,null,null,null,null,null,null,null,null,null,262]
[null,null,null,null,null,null,null,null,null,null,263]
[null,null,null,null,null,null,null,null,null,null,264]
[null,null,null,null,null,null,null,null,null,null,265]
[null,null,null,null,null,null,null,null,null,null,266]
[null,null,null,null,null,null,null,null,null,null,267]
[null,null,null,null,null,null,null,null,null,null,268]
[null,null,null,null,null,null,null,null,null,null,269]
[null,null,null,null,null,null,null,null,null,null,270]
[null,null,null,null,null,null,null,null,null,null,271]
[null,null,null,null,null,null,null,null,null,null,272]
[null,null,null,null,null,null,null,null,null,null,273]
[null,null,null,null,null,null,null,null,null,null,274]
[null,null,null,null,null,null,null,null,null,null,275]
[null,null,null,null,null,null,null,null,null,null,276]
[null,null,null,null,null,null,null,null,null,null,277]
[null,null,null,null,null,null,null,null,null,null,278]
[null,null,null,null,null,null,null,null,null,null,279]
[null,null,null,null,null,null,null,null,null,null,280]
[null,null,null,null,null,null,null,null,null,null,281]
[null,null,null,null,null,null,null,null,null,null,282]
[null,null,null,null,null,null,null,null,null,null,283]
[null,null,null,null,null,null,null,null,null,null,284]
[null,null,null,null,null,null,null,null,null,null,285]
[null,null,null,null,null,null,null,null,null,null,286]
[null,null,null,null,null,null,null,null,null,null,287]
[null,null,null,null,null,null,null,null,null,null,288]
[null,null,null,null,null,null,null,null,null,null,289]
[null,null,null,null,null,null,null,null,null,null,290]
[null,null,null,null,null,null,null,null,null,null,291]
[null,null,null,null,null,null,null,null,null,null,292]
[null,null,null,null,null,null,null,null,null,null,293]
[null,null,null,null,null,null,null,null,null,null,294]
[null,null,null,null,null,null,null,null,null,null,295]
[null,null,null,null,null,null,null,null,null,null,296]
[null,null,null,null,null,null,null,null,null,null,297]
[null,null,null,null,null,null,null,null,null,null,298]
[null,null,null,null,null,null,null,null,null,null,299]
[null,null,null,null,null,null,null,null,null,null,300]
[null,null,null,null,null,null,null,null,null,null,301]
[null,null,null,null,null,null,null,null,null,null,302]
[null,null,null,null,null,null,null,null,null,null,303]
[null,null,null,null,null,null,null,null,null,null,304]
[null,null,null,null,null,null,null,null,null,null,305]
[null,null,null,null,null,null,null,null,null,null,306]
[null,null,null,null,null,null,null,null,null,null,307]
[null,null,null,null,null,null,null,null,null,null,308]
[null,null,null,null,null,null,null,null,null,null,309]
[null,null,null,null,null,null,null,null,null,null,310]
[null,null,null,null,null,null,null,null,null,null,311]
[null,null,null,null,null,null,null,null,null,null,312]
[null,null,null,null,null,null,null,null,null,null,313]
[null,null,null,null,null,null,null,null,null,null,314]
[null,null,null,null,null,null,null,null,null,null,315]
[null,null,null,null,null,null,null,null,null,null,316]
[null,null,null,null,null,null,null,null,null,null,317]
[null,null,null,null,null,null,null,null,null,null,318]
[null,null,null,null,null,null,null,null,null,null,319]
[null,null,null,null,null,null,null,null,null,null,320]
[null,null,null,null,null,null,null,null,null,null,321]
[null,null,null,null,null,null,null,null,null,null,322]
[null,null,null,null,null,null,null,null,null,null,323]
[null,null,null,null,null,null,null,null,null,null,324]
[null,null,null,null,null,null,null,null,null,null,325]
[null,null,null,null,null,null,null,null,null,null,326]
[null,null,null,null,null,null,null,null,null,null,327]
[null,null,null,null,null,null,null,null,null,null,328]
[null,null,null,null,null,null,null,null,null,null,329]
[null,null,null,null,null,null,null,null,null,null,330]
[null,null,null,null,null,null,null,null,null,null,331]
[null,null,null,null,null,null,null,null,null,null,332]
[null,null,null,null,null,null,null,null,null,null,333]
[null,null,null,null,null,null,null,null,null,null,334]
[null,null,null,null,null,null,null,null,null,null,335]
[null,null,null,null,null,null,null,null,null,null,336]
[null,null,null,null,null,null,null,null,null,null,337]
[null,null,null,null,null,null,null,null,null,null,338]
[null,null,null,null,null,null,null,null,null,null,339]
[null,null,null,null,null,null,null,null,null,null,340]
[null,null,null,null,null,null,null,null,null,null,341]
[null,null,null,null,null,null,null,null,null,null,342]
[null,null,null,null,null,null,null,null,null,null,343]
[null,null,null,null,null,null,null,null,null,null,344]
[null,null,null,null,null,null,null,null,null,null,345]
[null,null,null,null,null,null,null,null,null,null,346]
[null,null,null,null,null,null,null,null,null,null,347]
[null,null,null,null,null,null,null,null,null,null,348]
[null,null,null,null,null,null,null,null,null,null,349]
[null,null,null,null,null,null,null,null,null,null,350]
[null,null,null,null,null,null,null,null,null,null,351]
[null,null,null,null,null,null,null,null,null,null,352]
[null,null,null,null,null,null,null,null,null,null,353]
[null,null,null,null,null,null,null,null,null,null,354]
[null,null,null,null,null,null,null,null,null,null,355]
[null,null,null,null,null,null,null,null,null,null,356]
[null,null,null,null,null,null,null,null,null,null,357]
[null,null,null,null,null,null,null,null,null,null,358]
[null,null,null,null,null,null,null,null,null,null,359]
[null,null,null,null,null,null,null,null,null,null,360]
[null,null,null,null,null,null,null,null,null,null,361]
[null,null,null,null,null,null,null,null,null,null,362]
[null,null,null,null,null,null,null,null,null,null,363]
[null,null,null,null,null,null,null,null,null,null,364]
[null,null,null,null,null,null,null,null,null,null,365]
[null,null,null,null,null,null,null,null,null,null,366]
[null,null,null,null,null,null,null,null,null,null,367]
[null,null,null,null,null,null,null,null,null,null,368]
[null,null,null,null,null,null,null,null,null,null,369]
[null,null,null,null,null,null,null,null,null,null,370]
[null,null,null,null,null,null,null,null,null,null,371]
[null,null,null,null,null,null,null,null,null,null,372]
[null,null,null,null,null,null,null,null,null,null,373]
[null,null,null,null,null,null,null,null,null,null,374]
[null,null,null,null,null,null,null,null,null,null,375]
[null,null,null,null,null,null,null,null,null,null,376]
[null,null,null,null,null,null,null,null,null,null,377]
[null,null,null,null,null,null,null,null,null,null,378]
[null,null,null,null,null,null,null,null,null,null,379]
[null,null,null,null,null,null,null,null,null,null,380]
[null,null,null,null,null,null,null,null,null,null,381]
[null,null,null,null,null,null,null,null,null,null,382]
[null,null,null,null,null,null,null,null,null,null,383]
[null,null,null,null,null,null,null,null,null,null,384]
[null,null,null,null,null,null,null,null,null,null,385]
[null,null,null,null,null,null,null,null,null,null,386]
[null,null,null,null,null,null,null,null,null,null,387]
[null,null,null,null,null,null,null,null,null,null,388]
[null,null,null,null,null,null,null,null,null,null,389]
[null,null,null,null,null,null,null,null,null,null,390]
[null,null,null,null,null,null,null,null,null,null,391]
[null,null,null,null,null,null,null,null,null,null,392]
[null,null,null,null,null,null,null,null,null,null,393]
[null,null,null,null,null,null,null,null,null,null,394]
[null,null,null,null,null,null,null,null,null,null,395]
[null,null,null,null,null,null,null,null,null,null,396]
[null,null,null,null,null,null,null,null,null,null,397]
[null,null,null,null,null,null,null,null,null,null,398]
[null,null,null,null,null,null,null,null,null,null,399]
[null,null,null,null,null,null,null,null,null,null,400]
[null,null,null,null,null,null,null,null,null,null,401]
[null,null,null,null,null,null,null,null,null,null,402]
[null,null,null,null,null,null,null,null,null,null,403]
[null,null,null,null,null,null,null,null,null,null,404]
[null,null,null,null,null,null,null,null,null,null,405]
[null,null,null,null,null,null,null,null,null,null,406]
[null,null,null,null,null,null,null,null,null,null,407]
[null,null,null,null,null,null,null,null,null,null,408]
[null,null,null,null,null,null,null,null,null,null,409]
[null,null,null,null,null,null,null,null,null,null,410]
[null,null,null,null,null,null,null,null,null,null,411]
[null,null,null,null,null,null,null,null,null,null,412]
[null,null,null,null,null,null,null,null,null,null,413]
[null,null,null,null,null,null,null,null,null,null,414]
[null,null,null,null,null,null,null,null,null,null,415]
[null,null,null,null,null,null,null,null,null,null,416]
[null,null,null,null,null,null,null,null,null,null,417]
[null,null,null,null,null,null,null,null,null,null,418]
[null,null,null,null,null,null,null,null,null,null,419]
[null,null,null,null,null,null,null,null,null,null,420]
[null,null,null,null,null,null,null,null,null,null,421]
[null,null,null,null,null,null,null,null,null,null,422]
[null,null,null,null,null,null,null,null,null,null,423]
[null,null,null,null,null,null,null,null,null,null,424]
[null,null,null,null,null,null,null,null,null,null,425]
[null,null,null,null,null,null,null,null,null,null,426]
[null,null,null,null,null,null,null,null,null,null,427]
[null,null,null,null,null,null,null,null,null,null,428]
[null,null,null,null,null,null,null,null,null,null,429]
[null,null,null,null,null,null,null,null,null,null,430]
[null,null,null,null,null,null,null,null,null,null,431]
[null,null,null,null,null,null,null,null,null,null,432]
[null,null,null,null,null,null,null,null,null,null,433]
[null,null,null,null,null,null,null,null,null,null,434]
[null,null,null,null,null,null,null,null,null,null,435]
[null,null,null,null,null,null,null,null,null,null,436]
[null,null,null,null,null,null,null,null,null,null,437]
[null,null,null,null,null,null,null,null,null,null,438]
[null,null,null,null,null,null,null,null,null,null,439]
[null,null,null,null,null,null,null,null,null,null,440]
[null,null,null,null,null,null,null,null,null,null,441]
[null,null,null,null,null,null,null,null,null,null,442]
[null,null,null,null,null,null,null,null,null,null,443]
[null,null,null,null,null,null,null,null,null,null,444]
[null,null,null,null,null,null,null,null,null,null,445]
[null,null,null,null,null,null,null,null,null,null,446]
[null,null,null,null,null,null,null,null,null,null,447]
[null,null,null,null,null,null,null,null,null,null,448]
[null,null,null,null,null,null,null,null,null,null,449]
[null,null,null,null,null,null,null,null,null,null,450]
[null,null,null,null,null,null,null,null,null,null,451]
[null,null,null,null,null,null,null,null,null,null,452]
[null,null,null,null,null,null,null,null,null,null,453]
[null,null,null,null,null,null,null,null,null,null,454]
[null,null,null,null,null,null,null,null,null,null,455]
[null,null,null,null,null,null,null,null,null,null,456]
[null,null,null,null,null,null,null,null,null,null,457]
[null,null,null,null,null,null,null,null,null,null,458]
[null,null,null,null,null,null,null,null,null,null,459]
[null,null,null,null,null,null,null,null,null,null,460]
[null,null,null,null,null,null,null,null,null,null,461]
[null,null,null,null,null,null,null,null,null,null,462]
[null,null,null,null,null,null,null,null,null,null,463]
[null,null,null,null,null,null,null,null,null,null,464]
[null,null,null,null,null,null,null,null,null,null,465]
[null,null,null,null,null,null,null,null,null,null,466]
[null,null,null,null,null,null,null,null,null,null,467]
[null,null,null,null,null,null,null,null,null,null,468]
[null,null,null,null,null,null,null,null,null,null,469]
[null,null,null,null,null,null,null,null,null,null,470]
[null,null,null,null,null,null,null,null,null,null,471]
[null,null,null,null,null,null,null,null,null,null,472]
[null,null,null,null,null,null,null,null,null,null,473]
[null,null,null,null,null,null,null,null,null,null,474]
[null,null,null,null,null,null,null,null,null,null,475]
[null,null,null,null,null,null,null,null,null,null,476]
[null,null,null,null,null,null,null,null,null,null,477]
[null,null,null,null,null,null,null,null,null,null,478]
[null,null,null,null,null,null,null,null,null,null,479]
[null,null,null,null,null,null,null,null,null,null,480]
[null,null,null,null,null,null,null,null,null,null,481]
[null,null,null,null,null,null,null,null,null,null,482]
[null,null,null,null,null,null,null,null,null,null,483]
[null,null,null,null,null,null,null,null,null,null,484]
[null,null,null,null,null,null,null,null,null,null,485]
[null,null,null,null,null,null,null,null,null,null,486]
[null,null,null,null,null,null,null,null,null,null,487]
[null,null,null,null,null,null,null,null,null,null,488]
[null,null,null,null,null,null,null,null,null,null,489]
[null,null,null,null,null,null,null,null,null,null,490]
[null,null,null,null,null,null,null,null,null,null,491]
[null,null,null,null,null,null,null,null,null,null,492]
[null,null,null,null,null,null,null,null,null,null,493]
[null,null,null,null,null,null,null,null,null,null,494]
[null,null,null,null,null,null,null,null,null,null,495]
[null,null,null,null,null,null,null,null,null,null,496]
[null,null,null,null,null,null,null,null,null,null,497]
[null,null,null,null,null,null,null,null,null,null,498]
[null,null,null,null,null,null,null,null,null,null,499]
[null,null,null,null,null,null,null,null,null,null,500]
[null,null,null,null,null,null,null,null,null,null,501]
[null,null,null,null,null,null,null,null,null,null,502]
[null,null,null,null,null,null,null,null,null,null,503]
[null,null,null,null,null,null,null,null,null,null,504]
[null,null,null,null,null,null,null,null,null,null,505]
[null,null,null,null,null,null,null,null,null,null,506]
[null,null,null,null,null,null,null,null,null,null,507]
[null,null,null,null,null,null,null,null,null,null,508]
[null,null,null,null,null,null,null,null,null,null,509]
[null,null,null,null,null,null,null,null,null,null,510]
[null,null,null,null,null,null,null,null,null,null,511]
[null,null,null,null,null,null,null,null,null,null,512]
[null,null,null,null,null,null,null,null,null,null,513]
[null,null,null,null,null,null,null,null,null,null,514]
[null,null,null,null,null,null,null,null,null,null,515]
[null,null,null,null,null,null,null,null,null,null,516]
[null,null,null,null,null,null,null,null,null,null,517]
[null,null,null,null,null,null,null,null,null,null,518]
[null,null,null,null,null,null,null,null,null,null,519]
[null,null,null,null,null,null,null,null,null,null,520]
[null,null,null,null,null,null,null,null,null,null,521]
[null,null,null,null,null,null,null,null,null,null,522]
[null,null,null,null,null,null,null,null,null,null,523]
[null,null,null,null,null,null,null,null,null,null,524]
[null,null,null,null,null,null,null,null,null,null,525]
[null,null,null,null,null,null,null,null,null,null,526]
[null,null,null,null,null,null,null,null,null,null,527]
[null,null,null,null,null,null,null,null,null,null,528]
[null,null,null,null,null,null,null,null,null,null,529]
[null,null,null,null,null,null,null,null,null,null,530]
[null,null,null,null,null,null,null,null,null,null,531]
[null,null,null,null,null,null,null,null,null,null,532]
[null,null,null,null,null,null,null,null,null,null,533]
[null,null,null,null,null,null,null,null,null,null,534]
[null,null,null,null,null,null,null,null,null,null,535]
[null,null,null,null,null,null,null,null,null,null,536]
[null,null,null,null,null,null,null,null,null,null,537]
[null,null,null,null,null,null,null,null,null,null,538]
[null,null,null,null,null,null,null,null,null,null,539]
[null,null,null,null,null,null,null,null,null,null,540]
[null,null,null,null,null,null,null,null,null,null,541]
[null,null,null,null,null,null,null,null,null,null,542]
[null,null,null,null,null,null,null,null,null,null,543]
[null,null,null,null,null,null,null,null,null,null,544]
[null,null,null,null,null,null,null,null,null,null,545]
[null,null,null,null,null,null,null,null,null,null,546]
[null,null,null,null,null,null,null,null,null,null,547]
[null,null,null,null,null,null,null,null,null,null,548]
[null,null,null,null,null,null,null,null,null,null,549]
[null,null,null,null,null,null,null,null,null,null,550]
[null,null,null,null,null,null,null,null,null,null,551]
[null,null,null,null,null,null,null,null,null,null,552]
[null,null,null,null,null,null,null,null,null,null,553]
[null,null,null,null,null,null,null,null,null,null,554]
[null,null,null,null,null,null,null,null,null,null,555]
[null,null,null,null,null,null,null,null,null,null,556]
[null,null,null,null,null,null,null,null,null,null,557]
[null,null,null,null,null,null,null,null,null,null,558]
[null,null,null,null,null,null,null,null,null,null,559]
[null,null,null,null,null,null,null,null,null,null,560]
[null,null,null,null,null,null,null,null,null,null,561]
[null,null,null,null,null,null,null,null,null,null,562]
[null,null,null,null,null,null,null,null,null,null,563]
[null,null,null,null,null,null,null,null,null,null,564]
[null,null,null,null,null,null,null,null,null,null,565]
[null,null,null,null,null,null,null,null,null,null,566]
[null,null,null,null,null,null,null,null,null,null,567]
[null,null,null,null,null,null,null,null,null,null,568]
[null,null,null,null,null,null,null,null,null,null,569]
[null,null,null,null,null,null,null,null,null,null,570]
[null,null,null,null,null,null,null,null,null,null,571]
[null,null,null,null,null,null,null,null,null,null,572]
[null,null,null,null,null,null,null,null,null,null,573]
[null,null,null,null,null,null,null,null,null,null,574]
[null,null,null,null,null,null,null,null,null,null,575]
[null,null,null,null,null,null,null,null,null,null,576]
[null,null,null,null,null,null,null,null,null,null,577]
[null,null,null,null,null,null,null,null,null,null,578]
[null,null,null,null,null,null,null,null,null,null,579]
[null,null,null,null,null,null,null,null,null,null,580]
[null,null,null,null,null,null,null,null,null,null,581]
[null,null,null,null,null,null,null,null,null,null,582]
[null,null,null,null,null,null,null,null,null,null,583]
[null,null,null,null,null,null,null,null,null,null,584]
[null,null,null,null,null,null,null,null,null,null,585]
[null,null,null,null,null,null,null,null,null,null,586]
[null,null,null,null,null,null,null,null,null,null,587]
[null,null,null,null,null,null,null,null,null,null,588]
[null,null,null,null,null,null,null,null,null,null,589]
[null,null,null,null,null,null,null,null,null,null,590]
[null,null,null,null,null,null,null,null,null,null,591]
[null,null,null,null,null,null,null,null,null,null,592]
[null,null,null,null,null,null,null,null,null,null,593]
[null,null,null,null,null,null,null,null,null,null,594]
[null,null,null,null,null,null,null,null,null,null,595]
[null,null,null,null,null,null,null,null,null,null,596]
[null,null,null,null,null,null,null,null,null,null,597]
[null,null,null,null,null,null,null,null,null,null,598]
[null,null,null,null,null,null,null,null,null,null,599]
[null,null,null,null,null,null,null,null,null,null,600]
[null,null,null,null,null,null,null,null,null,null,601]
[null,null,null,null,null,null,null,null,null,null,602]
[null,null,null,null,null,null,null,null,null,null,603]
[null,null,null,null,null,null,null,null,null,null,604]
[null,null,null,null,null,null,null,null,null,null,605]
[null,null,null,null,null,null,null,null,null,null,606]
[null,null,null,null,null,null,null,null,null,null,607]
[null,null,null,null,null,null,null,null,null,null,608]
[null,null,null,null,null,null,null,null,null,null,609]
[null,null,null,null,null,null,null,null,null,null,610]
[null,null,null,null,null,null,null,null,null,null,611]
[null,null,null,null,null,null,null,null,null,null,612]
[null,null,null,null,null,null,null,null,null,null,613]
[null,null,null,null,null,null,null,null,null,null,614]
[null,null,null,null,null,null,null,null,null,null,615]
[null,null,null,null,null,null,null,null,null,null,616]
[null,null,null,null,null,null,null,null,null,null,617]
[null,null,null,null,null,null,null,null,null,null,618]
[null,null,null,null,null,null,null,null,null,null,619]
[null,null,null,null,null,null,null,null,null,null,620]
[null,null,null,null,null,null,null,null,null,null,621]
[null,null,null,null,null,null,null,null,null,null,622]
[null,null,null,null,null,null,null,null,null,null,623]
[null,null,null,null,null,null,null,null,null,null,624]
[null,null,null,null,null,null,null,null,null,null,625]
[null,null,null,null,null,null,null,null,null,null,626]
[null,null,null,null,null,null,null,null,null,null,627]
[null,null,null,null,null,null,null,null,null,null,628]
[null,null,null,null,null,null,null,null,null,null,629]
[null,null,null,null,null,null,null,null,null,null,630]
[null,null,null,null,null,null,null,null,null,null,631]
[null,null,null,null,null,null,null,null,null,null,632]
[null,null,null,null,null,null,null,null,null,null,633]
[null,null,null,null,null,null,null,null,null,null,634]
[null,null,null,null,null,null,null,null,null,null,635]
[null,null,null,null,null,null,null,null,null,null,636]
[null,null,null,null,null,null,null,null,null,null,637]
[null,null,null,null,null,null,null,null,null,null,638]
[null,null,null,null,null,null,null,null,null,null,639]
[null,null,null,null,null,null,null,null,null,null,640]
[null,null,null,null,null,null,null,null,null,null,641]
[null,null,null,null,null,null,null,null,null,null,642]
[null,null,null,null,null,null,null,null,null,null,643]
[null,null,null,null,null,null,null,null,null,null,644]
[null,null,null,null,null,null,null,null,null,null,645]
[null,null,null,null,null,null,null,null,null,null,646]
[null,null,null,null,null,null,null,null,null,null,647]
[null,null,null,null,null,null,null,null,null,null,648]
[null,null,null,null,null,null,null,null,null,null,649]
[null,null,null,null,null,null,null,null,null,null,650]
[null,null,null,null,null,null,null,null,null,null,651]
[null,null,null,null,null,null,null,null,null,null,652]
[null,null,null,null,null,null,null,null,null,null,653]
[null,null,null,null,null,null,null,null,null,null,654]
[null,null,null,null,null,null,null,null,null,null,655]
[null,null,null,null,null,null,null,null,null,null,656]
[null,null,null,null,null,null,null,null,null,null,657]
[null,null,null,null,null,null,null,null,null,null,658]
[null,null,null,null,null,null,null,null,null,null,659]
[null,null,null,null,null,null,null,null,null,null,660]
[null,null,null,null,null,null,null,null,null,null,661]
[null,null,null,null,null,null,null,null,null,null,662]
[null,null,null,null,null,null,null,null,null,null,663]
[null,null,null,null,null,null,null,null,null,null,664]
[null,null,null,null,null,null,null,null,null,null,665]
[null,null,null,null,null,null,null,null,null,null,666]
[null,null,null,null,null,null,null,null,null,null,667]
[null,null,null,null,null,null,null,null,null,null,668]
[null,null,null,null,null,null,null,null,null,null,669]
[null,null,null,null,null,null,null,null,null,null,670]
[null,null,null,null,null,null,null,null,null,null,671]
[null,null,null,null,null,null,null,null,null,null,672]
[null,null,null,null,null,null,null,null,null,null,673]
[null,null,null,null,null,null,null,null,null,null,674]
[null,null,null,null,null,null,null,null,null,null,675]
[null,null,null,null,null,null,null,null,null,null,676]
[null,null,null,null,null,null,null,null,null,null,677]
[null,null,null,null,null,null,null,null,null,null,678]
[null,null,null,null,null,null,null,null,null,null,679]
[null,null,null,null,null,null,null,null,null,null,680]
[null,null,null,null,null,null,null,null,null,null,681]
[null,null,null,null,null,null,null,null,null,null,682]
[null,null,null,null,null,null,null,null,null,null,683]
[null,null,null,null,null,null,null,null,null,null,684]
[null,null,null,null,null,null,null,null,null,null,685]
[null,null,null,null,null,null,null,null,null,null,686]
[null,null,null,null,null,null,null,null,null,null,687]
[null,null,null,null,null,null,null,null,null,null,688]
[null,null,null,null,null,null,null,null,null,null,689]
[null,null,null,null,null,null,null,null,null,null,690]
[null,null,null,null,null,null,null,null,null,null,691]
[null,null,null,null,null,null,null,null,null,null,692]
[null,null,null,null,null,null,null,null,null,null,693]
[null,null,null,null,null,null,null,null,null,null,694]
[null,null,null,null,null,null,null,null,null,null,695]
[null,null,null,null,null,null,null,null,null,null,696]
[null,null,null,null,null,null,null,null,null,null,697]
[null,null,null,null,null,null,null,null,null,null,698]
[null,null,null,null,null,null,null,null,null,null,699]
[null,null,null,null,null,null,null,null,null,null,700]
[null,null,null,null,null,null,null,null,null,null,701]
[null,null,null,null,null,null,null,null,null,null,702]
[null,null,null,null,null,null,null,null,null,null,703]
[null,null,null,null,null,null,null,null,null,null,704]
[null,null,null,null,null,null,null,null,null,null,705]
[null,null,null,null,null,null,null,null,null,null,706]
[null,null,null,null,null,null,null,null,null,null,707]
[null,null,null,null,null,null,null,null,null,null,708]
[null,null,null,null,null,null,null,null,null,null,709]
[null,null,null,null,null,null,null,null,null,null,710]
[null,null,null,null,null,null,null,null,null,null,711]
[null,null,null,null,null,null,null,null,null,null,712]
[null,null,null,null,null,null,null,null,null,null,713]
[null,null,null,null,null,null,null,null,null,null,714]
[null,null,null,null,null,null,null,null,null,null,715]
[null,null,null,null,null,null,null,null,null,null,716]
[null,null,null,null,null,null,null,null,null,null,717]
[null,null,null,null,null,null,null,null,null,null,718]
[null,null,null,null,null,null,null,null,null,null,719]
[null,null,null,null,null,null,null,null,null,null,720]
[null,null,null,null,null,null,null,null,null,null,721]
[null,null,null,null,null,null,null,null,null,null,722]
[null,null,null,null,null,null,null,null,null,null,723]
[null,null,null,null,null,null,null,null,null,null,724]
[null,null,null,null,null,null,null,null,null,null,725]
[null,null,null,null,null,null,null,null,null,null,726]
[null,null,null,null,null,null,null,null,null,null,727]
[null,null,null,null,null,null,null,null,null,null,728]
[null,null,null,null,null,null,null,null,null,null,729]
[null,null,null,null,null,null,null,null,null,null,730]
[null,null,null,null,null,null,null,null,null,null,731]
[null,null,null,null,null,null,null,null,null,null,732]
[null,null,null,null,null,null,null,null,null,null,733]
[null,null,null,null,null,null,null,null,null,null,734]
[null,null,null,null,null,null,null,null,null,null,735]
[null,null,null,null,null,null,null,null,null,null,736]
[null,null,null,null,null,null,null,null,null,null,737]
[null,null,null,null,null,null,null,null,null,null,738]
[null,null,null,null,null,null,null,null,null,null,739]
[null,null,null,null,null,null,null,null,null,null,740]
[null,null,null,null,null,null,null,null,null,null,741]
[null,null,null,null,null,null,null,null,null,null,742]
[null,null,null,null,null,null,null,null,null,null,743]
[null,null,null,null,null,null,null,null,null,null,744]
[null,null,null,null,null,null,null,null,null,null,745]
[null,null,null,null,null,null,null,null,null,null,746]
[null,null,null,null,null,null,null,null,null,null,747]
[null,null,null,null,null,null,null,null,null,null,748]
[null,null,null,null,null,null,null,null,null,null,749]
[null,null,null,null,null,null,null,null,null,null,750]
[null,null,null,null,null,null,null,null,null,null,751]
[null,null,null,null,null,null,null,null,null,null,752]
[null,null,null,null,null,null,null,null,null,null,753]
[null,null,null,null,null,null,null,null,null,null,754]
[null,null,null,null,null,null,null,null,null,null,755]
[null,null,null,null,null,null,null,null,null,null,756]
[null,null,null,null,null,null,null,null,null,null,757]
[null,null,null,null,null,null,null,null,null,null,758]
[null,null,null,null,null,null,null,null,null,null,759]
[null,null,null,null,null,null,null,null,null,null,760]
[null,null,null,null,null,null,null,null,null,null,761]
[null,null,null,null,null,null,null,null,null,null,762]
[null,null,null,null,null,null,null,null,null,null,763]
[null,null,null,null,null,null,null,null,null,null,764]
[null,null,null,null,null,null,null,null,null,null,765]
[null,null,null,null,null,null,null,null,null,null,766]
[null,null,null,null,null,null,null,null,null,null,767]
[null,null,null,null,null,null,null,null,null,null,768]
[null,null,null,null,null,null,null,null,null,null,769]
[null,null,null,null,null,null,null,null,null,null,770]
[null,null,null,null,null,null,null,null,null,null,771]
[null,null,null,null,null,null,null,null,null,null,772]
[null,null,null,null,null,null,null,null,null,null,773]
[null,null,null,null,null,null,null,null,null,null,774]
[null,null,null,null,null,null,null,null,null,null,775]
[null,null,null,null,null,null,null,null,null,null,776]
[null,null,null,null,null,null,null,null,null,null,777]
[null,null,null,null,null,null,null,null,null,null,778]
[null,null,null,null,null,null,null,null,null,null,779]
[null,null,null,null,null,null,null,null,null,null,780]
[null,null,null,null,null,null,null,null,null,null,781]
[null,null,null,null,null,null,null,null,null,null,782]
[null,null,null,null,null,null,null,null,null,null,783]
[null,null,null,null,null,null,null,null,null,null,784]
[null,null,null,null,null,null,null,null,null,null,785]
[null,null,null,null,null,null,null,null,null,null,786]
[null,null,null,null,null,null,null,null,null,null,787]
[null,null,null,null,null,null,null,null,null,null,788]
[null,null,null,null,null,null,null,null,null,null,789]
[null,null,null,null,null,null,null,null,null,null,790]
[null,null,null,null,null,null,null,null,null,null,791]
[null,null,null,null,null,null,null,null,null,null,792]
[null,null,null,null,null,null,null,null,null,null,793]
[null,null,null,null,null,null,null,null,null,null,794]
[null,null,null,null,null,null,null,null,null,null,795]
[null,null,null,null,null,null,null,null,null,null,796]
[null,null,null,null,null,null,null,null,null,null,797]
[null,null,null,null,null,null,null,null,null,null,798]
[null,null,null,null,null,null,null,null,null,null,799]
[null,null,null,null,null,null,null,null,null,null,800]
[null,null,null,null,null,null,null,null,null,null,801]
[null,null,null,null,null,null,null,null,null,null,802]
[null,null,null,null,null,null,null,null,null,null,803]
[null,null,null,null,null,null,null,null,null,null,804]
[null,null,null,null,null,null,null,null,null,null,805]
[null,null,null,null,null,null,null,null,null,null,806]
[null,null,null,null,null,null,null,null,null,null,807]
[null,null,null,null,null,null,null,null,null,null,808]
[null,null,null,null,null,null,null,null,null,null,809]
[null,null,null,null,null,null,null,null,null,null,810]
[null,null,null,null,null,null,null,null,null,null,811]
[null,null,null,null,null,null,null,null,null,null,812]
[null,null,null,null,null,null,null,null,null,null,813]
[null,null,null,null,null,null,null,null,null,null,814]
[null,null,null,null,null,null,null,null,null,null,815]
[null,null,null,null,null,null,null,null,null,null,816]
[null,null,null,null,null,null,null,null,null,null,817]
[null,null,null,null,null,null,null,null,null,null,818]
[null,null,null,null,null,null,null,null,null,null,819]
[null,null,null,null,null,null,null,null,null,null,820]
[null,null,null,null,null,null,null,null,null,null,821]
[null,null,null,null,null,null,null,null,null,null,822]
[null,null,null,null,null,null,null,null,null,null,823]
[null,null,null,null,null,null,null,null,null,null,824]
[null,null,null,null,null,null,null,null,null,null,825]
[null,null,null,null,null,null,null,null,null,null,826]
[null,null,null,null,null,null,null,null,null,null,827]
[null,null,null,null,null,null,null,null,null,null,828]
[null,null,null,null,null,null,null,null,null,null,829]
[null,null,null,null,null,null,null,null,null,null,830]
[null,null,null,null,null,null,null,null,null,null,831]
[null,null,null,null,null,null,null,null,null,null,832]
[null,null,null,null,null,null,null,null,null,null,833]
[null,null,null,null,null,null,null,null,null,null,834]
[null,null,null,null,null,null,null,null,null,null,835]
[null,null,null,null,null,null,null,null,null,null,836]
[null,null,null,null,null,null,null,null,null,null,837]
[null,null,null,null,null,null,null,null,null,null,838]
[null,null,null,null,null,null,null,null,null,null,839]
[null,null,null,null,null,null,null,null,null,null,840]
[null,null,null,null,null,null,null,null,null,null,841]
[null,null,null,null,null,null,null,null,null,null,842]
[null,null,null,null,null,null,null,null,null,null,843]
[null,null,null,null,null,null,null,null,null,null,844]
[null,null,null,null,null,null,null,null,null,null,845]
[null,null,null,null,null,null,null,null,null,null,846]
[null,null,null,null,null,null,null,null,null,null,847]
[null,null,null,null,null,null,null,null,null,null,848]
[null,null,null,null,null,null,null,null,null,null,849]
[null,null,null,null,null,null,null,null,null,null,850]
[null,null,null,null,null,null,null,null,null,null,851]
[null,null,null,null,null,null,null,null,null,null,852]
[null,null,null,null,null,null,null,null,null,null,853]
[null,null,null,null,null,null,null,null,null,null,854]
[null,null,null,null,null,null,null,null,null,null,855]
[null,null,null,null,null,null,null,null,null,null,856]
[null,null,null,null,null,null,null,null,null,null,857]
[null,null,null,null,null,null,null,null,null,null,858]
[null,null,null,null,null,null,null,null,null,null,859]
[null,null,null,null,null,null,null,null,null,null,860]
[null,null,null,null,null,null,null,null,null,null,861]
[null,null,null,null,null,null,null,null,null,null,862]
[null,null,null,null,null,null,null,null,null,null,863]
[null,null,null,null,null,null,null,null,null,null,864]
[null,null,null,null,null,null,null,null,null,null,865]
[null,null,null,null,null,null,null,null,null,null,866]
[null,null,null,null,null,null,null,null,null,null,867]
[null,null,null,null,null,null,null,null,null,null,868]
[null,null,null,null,null,null,null,null,null,null,869]
[null,null,null,null,null,null,null,null,null,null,870]
[null,null,null,null,null,null,null,null,null,null,871]
[null,null,null,null,null,null,null,null,null,null,872]
[null,null,null,null,null,null,null,null,null,null,873]
[null,null,null,null,null,null,null,null,null,null,874]
[null,null,null,null,null,null,null,null,null,null,875]
[null,null,null,null,null,null,null,null,null,null,876]
[null,null,null,null,null,null,null,null,null,null,877]
[null,null,null,null,null,null,null,null,null,null,878]
[null,null,null,null,null,null,null,null,null,null,879]
[null,null,null,null,null,null,null,null,null,null,880]
[null,null,null,null,null,null,null,null,null,null,881]
[null,null,null,null,null,null,null,null,null,null,882]
[null,null,null,null,null,null,null,null,null,null,883]
[null,null,null,null,null,null,null,null,null,null,884]
[null,null,null,null,null,null,null,null,null,null,885]
[null,null,null,null,null,null,null,null,null,null,886]
[null,null,null,null,null,null,null,null,null,null,887]
[null,null,null,null,null,null,null,null,null,null,888]
[null,null,null,null,null,null,null,null,null,null,889]
[null,null,null,null,null,null,null,null,null,null,890]
[null,null,null,null,null,null,null,null,null,null,891]
[null,null,null,null,null,null,null,null,null,null,892]
[null,null,null,null,null,null,null,null,null,null,893]
[null,null,null,null,null,null,null,null,null,null,894]
[null,null,null,null,null,null,null,null,null,null,895]
[null,null,null,null,null,null,null,null,null,null,896]
[null,null,null,null,null,null,null,null,null,null,897]
[null,null,null,null,null,null,null,null,null,null,898]
[null,null,null,null,null,null,null,null,null,null,899]
[null,null,null,null,null,null,null,null,null,null,900]
[null,null,null,null,null,null,null,null,null,null,901]
[null,null,null,null,null,null,null,null,null,null,902]
[null,null,null,null,null,null,null,null,null,null,903]
[null,null,null,null,null,null,null,null,null,null,904]
[null,null,null,null,null,null,null,null,null,null,905]
[null,null,null,null,null,null,null,null,null,null,906]
[null,null,null,null,null,null,null,null,null,null,907]
[null,null,null,null,null,null,null,null,null,null,908]
[null,null,null,null,null,null,null,null,null,null,909]
[null,null,null,null,null,null,null,null,null,null,910]
[null,null,null,null,null,null,null,null,null,null,911]
[null,null,null,null,null,null,null,null,null,null,912]
[null,null,null,null,null,null,null,null,null,null,913]
[null,null,null,null,null,null,null,null,null,null,914]
[null,null,null,null,null,null,null,null,null,null,915]
[null,null,null,null,null,null,null,null,null,null,916]
[null,null,null,null,null,null,null,null,null,null,917]
[null,null,null,null,null,null,null,null,null,null,918]
[null,null,null,null,null,null,null,null,null,null,919]
[null,null,null,null,null,null,null,null,null,null,920]
[null,null,null,null,null,null,null,null,null,null,921]
[null,null,null,null,null,null,null,null,null,null,922]
[null,null,null,null,null,null,null,null,null,null,923]
[null,null,null,null,null,null,null,null,null,null,924]
[null,null,null,null,null,null,null,null,null,null,925]
[null,null,null,null,null,null,null,null,null,null,926]
[null,null,null,null,null,null,null,null,null,null,927]
[null,null,null,null,null,null,null,null,null,null,928]
[null,null,null,null,null,null,null,null,null,null,929]
[null,null,null,null,null,null,null,null,null,null,930]
[null,null,null,null,null,null,null,null,null,null,931]
[null,null,null,null,null,null,null,null,null,null,932]
[null,null,null,null,null,null,null,null,null,null,933]
[null,null,null,null,null,null,null,null,null,null,934]
[null,null,null,null,null,null,null,null,null,null,935]
[null,null,null,null,null,null,null,null,null,null,936]
[null,null,null,null,null,null,null,null,null,null,937]
[null,null,null,null,null,null,null,null,null,null,938]
[null,null,null,null,null,null,null,null,null,null,939]
[null,null,null,null,null,null,null,null,null,null,940]
[null,null,null,null,null,null,null,null,null,null,941]
[null,null,null,null,null,null,null,null,null,null,942]
[null,null,null,null,null,null,null,null,null,null,943]
[null,null,null,null,null,null,null,null,null,null,944]
[null,null,null,null,null,null,null,null,null,null,945]
[null,null,null,null,null,null,null,null,null,null,946]
[null,null,null,null,null,null,null,null,null,null,947]
[null,null,null,null,null,null,null,null,null,null,948]
[null,null,null,null,null,null,null,null,null,null,949]
[null,null,null,null,null,null,null,null,null,null,950]
[null,null,null,null,null,null,null,null,null,null,951]
[null,null,null,null,null,null,null,null,null,null,952]
[null,null,null,null,null,null,null,null,null,null,953]
[null,null,null,null,null,null,null,null,null,null,954]
[null,null,null,null,null,null,null,null,null,null,955]
[null,null,null,null,null,null,null,null,null,null,956]
[null,null,null,null,null,null,null,null,null,null,957]
[null,null,null,null,null,null,null,null,null,null,958]
[null,null,null,null,null,null,null,null,null,null,959]
[null,null,null,null,null,null,null,null,null,null,960]
[null,null,null,null,null,null,null,null,null,null,961]
[null,null,null,null,null,null,null,null,null,null,962]
[null,null,null,null,null,null,null,null,null,null,963]
[null,null,null,null,null,null,null,null,null,null,964]
[null,null,null,null,null,null,null,null,null,null,965]
[null,null,null,null,null,null,null,null,null,null,966]
[null,null,null,null,null,null,null,null,null,null,967]
[null,null,null,null,null,null,null,null,null,null,968]
[null,null,null,null,null,null,null,null,null,null,969]
[null,null,null,null,null,null,null,null,null,null,970]
[null,null,null,null,null,null,null,null,null,null,971]
[null,null,null,null,null,null,null,null,null,null,972]
[null,null,null,null,null,null,null,null,null,null,973]
[null,null,null,null,null,null,null,null,null,null,974]
[null,null,null,null,null,null,null,null,null,null,975]
[null,null,null,null,null,null,null,null,null,null,976]
[null,null,null,null,null,null,null,null,null,null,977]
[null,null,null,null,null,null,null,null,null,null,978]
[null,null,null,null,null,null,null,null,null,null,979]
[null,null,null,null,null,null,null,null,null,null,980]
[null,null,null,null,null,null,null,null,null,null,981]
[null,null,null,null,null,null,null,null,null,null,982]
[null,null,null,null,null,null,null,null,null,null,983]
[null,null,null,null,null,null,null,null,null,null,984]
[null,null,null,null,null,null,null,null,null,null,985]
[null,null,null,null,null,null,null,null,null,null,986]
[null,null,null,null,null,null,null,null,null,null,987]
[null,null,null,null,null,null,null,null,null,null,988]
[null,null,null,null,null,null,null,null,null,null,989]
[null,null,null,null,null,null,null,null,null,null,990]
[null,null,null,null,null,null,null,null,null,null,991]
[null,null,null,null,null,null,null,null,null,null,992]
[null,null,null,null,null,null,null,null,null,null,993]
[null,null,null,null,null,null,null,null,null,null,994]
[null,null,null,null,null,null,null,null,null,null,995]
[null,null,null,null,null,null,null,null,null,null,996]
[null,null,null,null,null,null,null,null,null,null,997]
[null,null,null,null,null,null,null,null,null,null,998]
[null,null,null,null,null,null,null,null,null,null,999]
[null,null,null,null,null,null,null,null,null,null,1000]
[null,null,null,null,null,null,null,null,null,null,1001]
[null,null,null,null,null,null,null,null,null,null,1002]
[null,null,null,null,null,null,null,null,null,null,1003]
[null,null,null,null,null,null,null,null,null,null,1004]
[null,null,null,null,null,null,null,null,null,null,1005]
[null,null,null,null,null,null,null,null,null,null,1006]
[null,null,null,null,null,null,null,null,null,null,1007]
[null,null,null,null,null,null,null,null,null,null,1008]
[null,null,null,null,null,null,null,null,null,null,1009]
[null,null,null,null,null,null,null,null,null,null,1010]
[null,null,null,null,null,null,null,null,null,null,1011]
[null,null,null,null,null,null,null,null,null,null,1012]
[null,null,null,null,null,null,null,null,null,null,1013]
[null,null,null,null,null,null,null,null,null,null,1014]
[null,null,null,null,null,null,null,null,null,null,1015]
[null,null,null,null,null,null,null,null,null,null,1016]
[null,null,null,null,null,null,null,null,null,null,1017]
[null,null,null,null,null,null,null,null,null,null,1018]
[null,null,null,null,null,null,null,null,null,null,1019]
[null,null,null,null,null,null,null,null,null,null,1020]
[null,null,null,null,null,null,null,null,null,null,1021]
[null,null,null,null,null,null,null,null,null,null,1022]
[null,null,null,null,null,null,null,null,null,null,1023]
[null,null,null,null,null,null,null,null,null,null,1024]
[null,null,null,null,null,null,null,null,null,null,1025]
[null,null,null,null,null,null,null,null,null,null,1026]
[null,null,null,null,null,null,null,null,null,null,1027]
[null,null,null,null,null,null,null,null,null,null,1028]
[null,null,null,null,null,null,null,null,null,null,1029]
[null,null,null,null,null,null,null,null,null,null,1030]
[null,null,null,null,null,null,null,null,null,null,1031]
[null,null,null,null,null,null,null,null,null,null,1032]
[null,null,null,null,null,null,null,null,null,null,1033]
[null,null,null,null,null,null,null,null,null,null,1034]
[null,null,null,null,null,null,null,null,null,null,1035]
[null,null,null,null,null,null,null,null,null,null,1036]
[null,null,null,null,null,null,null,null,null,null,1037]
[null,null,null,null,null,null,null,null,null,null,1038]
[null,null,null,null,null,null,null,null,null,null,1039]
[null,null,null,null,null,null,null,null,null,null,1040]
[null,null,null,null,null,null,null,null,null,null,1041]
[null,null,null,null,null,null,null,null,null,null,1042]
[null,null,null,null,null,null,null,null,null,null,1043]
[null,null,null,null,null,null,null,null,null,null,1044]
[null,null,null,null,null,null,null,null,null,null,1045]
[null,null,null,null,null,null,null,null,null,null,1046]
[null,null,null,null,null,null,null,null,null,null,1047]
[null,null,null,null,null,null,null,null,null,null,1048]
[null,null,null,null,null,null,null,null,null,null,1049]
[null,null,null,null,null,null,null,null,null,null,1050]
[null,null,null,null,null,null,null,null,null,null,1051]
[null,null,null,null,null,null,null,null,null,null,1052]
[null,null,null,null,null,null,null,null,null,null,1053]
[null,null,null,null,null,null,null,null,null,null,1054]
[null,null,null,null,null,null,null,null,null,null,1055]
[null,null,null,null,null,null,null,null,null,null,1056]
[null,null,null,null,null,null,null,null,null,null,1057]
[null,null,null,null,null,null,null,null,null,null,1058]
[null,null,null,null,null,null,null,null,null,null,1059]
[null,null,null,null,null,null,null,null,null,null,1060]
[null,null,null,null,null,null,null,null,null,null,1061]
[null,null,null,null,null,null,null,null,null,null,1062]
[null,null,null,null,null,null,null,null,null,null,1063]
[null,null,null,null,null,null,null,null,null,null,1064]
[null,null,null,null,null,null,null,null,null,null,1065]
[null,null,null,null,null,null,null,null,null,null,1066]
[null,null,null,null,null,null,null,null,null,null,1067]
[null,null,null,null,null,null,null,null,null,null,1068]
[null,null,null,null,null,null,null,null,null,null,1069]
[null,null,null,null,null,null,null,null,null,null,1070]
[null,null,null,null,null,null,null,null,null,null,1071]
[null,null,null,null,null,null,null,null,null,null,1072]
[null,null,null,null,null,null,null,null,null,null,1073]
[null,null,null,null,null,null,null,null,null,null,1074]
[null,null,null,null,null,null,null,null,null,null,1075]
[null,null,null,null,null,null,null,null,null,null,1076]
[null,null,null,null,null,null,null,null,null,null,1077]
[null,null,null,null,null,null,null,null,null,null,1078]
[null,null,null,null,null,null,null,null,null,null,1079]
[null,null,null,null,null,null,null,null,null,null,1080]
[null,null,null,null,null,null,null,null,null,null,1081]
[null,null,null,null,null,null,null,null,null,null,1082]
[null,null,null,null,null,null,null,null,null,null,1083]
[null,null,null,null,null,null,null,null,null,null,1084]
[null,null,null,null,null,null,null,null,null,null,1085]
[null,null,null,null,null,null,null,null,null,null,1086]
[null,null,null,null,null,null,null,null,null,null,1087]
[null,null,null,null,null,null,null,null,null,null,1088]
[null,null,null,null,null,null,null,null,null,null,1089]
[null,null,null,null,null,null,null,null,null,null,1090]
[null,null,null,null,null,null,null,null,null,null,1091]
[null,null,null,null,null,null,null,null,null,null,1092]
[null,null,null,null,null,null,null,null,null,null,1093]
[null,null,null,null,null,null,null,null,null,null,1094]
[null,null,null,null,null,null,null,null,null,null,1095]
[null,null,null,null,null,null,null,null,null,null,1096]
[null,null,null,null,null,null,null,null,null,null,1097]
[null,null,null,null,null,null,null,null,null,null,1098]
[null,null,null,null,null,null,null,null,null,null,1099]
[null,null,null,null,null,null,null,null,null,null,1100]
[null,null,null,null,null,null,null,null,null,null,1101]
[null,null,null,null,null,null,null,null,null,null,1102]
[null,null,null,null,null,null,null,null,null,null,1103]
[null,null,null,null,null,null,null,null,null,null,1104]
[null,null,null,null,null,null,null,null,null,null,1105]
[null,null,null,null,null,null,null,null,null,null,1106]
[null,null,null,null,null,null,null,null,null,null,1107]
[null,null,null,null,null,null,null,null,null,null,1108]
[null,null,null,null,null,null,null,null,null,null,1109]
[null,null,null,null,null,null,null,null,null,null,1110]
[null,null,null,null,null,null,null,null,null,null,1111]
[null,null,null,null,null,null,null,null,null,null,1112]
[null,null,null,null,null,null,null,null,null,null,1113]
[null,null,null,null,null,null,null,null,null,null,1114]
[null,null,null,null,null,null,null,null,null,null,1115]
[null,null,null,null,null,null,null,null,null,null,1116]
[null,null,null,null,null,null,null,null,null,null,1117]
[null,null,null,null,null,null,null,null,null,null,1118]
[null,null,null,null,null,null,null,null,null,null,1119]
[null,null,null,null,null,null,null,null,null,null,1120]
[null,null,null,null,null,null,null,null,null,null,1121]
[null,null,null,null,null,null,null,null,null,null,1122]
[null,null,null,null,null,null,null,null,null,null,1123]
[null,null,null,null,null,null,null,null,null,null,1124]
[null,null,null,null,null,null,null,null,null,null,1125]
[null,null,null,null,null,null,null,null,null,null,1126]
[null,null,null,null,null,null,null,null,null,null,1127]
[null,null,null,null,null,null,null,null,null,null,1128]
[null,null,null,null,null,null,null,null,null,null,1129]
[null,null,null,null,null,null,null,null,null,null,1130]
[null,null,null,null,null,null,null,null,null,null,1131]
[null,null,null,null,null,null,null,null,null,null,1132]
[null,null,null,null,null,null,null,null,null,null,1133]
[null,null,null,null,null,null,null,null,null,null,1134]
[null,null,null,null,null,null,null,null,null,null,1135]
[null,null,null,null,null,null,null,null,null,null,1136]
[null,null,null,null,null,null,null,null,null,null,1137]
[null,null,null,null,null,null,null,null,null,null,1138]
[null,null,null,null,null,null,null,null,null,null,1139]
[null,null,null,null,null,null,null,null,null,null,1140]
[null,null,null,null,null,null,null,null,null,null,1141]
[null,null,null,null,null,null,null,null,null,null,1142]
[null,null,null,null,null,null,null,null,null,null,1143]
[null,null,null,null,null,null,null,null,null,null,1144]
[null,null,null,null,null,null,null,null,null,null,1145]
[null,null,null,null,null,null,null,null,null,null,1146]
[null,null,null,null,null,null,null,null,null,null,1147]
[null,null,null,null,null,null,null,null,null,null,1148]
[null,null,null,null,null,null,null,null,null,null,1149]
[null,null,null,null,null,null,null,null,null,null,1150]
[null,null,null,null,null,null,null,null,null,null,1151]
[null,null,null,null,null,null,null,null,null,null,1152]
[null,null,null,null,null,null,null,null,null,null,1153]
[null,null,null,null,null,null,null,null,null,null,1154]
[null,null,null,null,null,null,null,null,null,null,1155]
[null,null,null,null,null,null,null,null,null,null,1156]
[null,null,null,null,null,null,null,null,null,null,1157]
[null,null,null,null,null,null,null,null,null,null,1158]
[null,null,null,null,null,null,null,null,null,null,1159]
[null,null,null,null,null,null,null,null,null,null,1160]
[null,null,null,null,null,null,null,null,null,null,1161]
[null,null,null,null,null,null,null,null,null,null,1162]
[null,null,null,null,null,null,null,null,null,null,1163]
[null,null,null,null,null,null,null,null,null,null,1164]
[null,null,null,null,null,null,null,null,null,null,1165]
[null,null,null,null,null,null,null,null,null,null,1166]
[null,null,null,null,null,null,null,null,null,null,1167]
[null,null,null,null,null,null,null,null,null,null,1168]
[null,null,null,null,null,null,null,null,null,null,1169]
[null,null,null,null,null,null,null,null,null,null,1170]
[null,null,null,null,null,null,null,null,null,null,1171]
[null,null,null,null,null,null,null,null,null,null,1172]
[null,null,null,null,null,null,null,null,null,null,1173]
[null,null,null,null,null,null,null,null,null,null,1174]
[null,null,null,null,null,null,null,null,null,null,1175]
[null,null,null,null,null,null,null,null,null,null,1176]
[null,null,null,null,null,null,null,null,null,null,1177]
[null,null,null,null,null,null,null,null,null,null,1178]
[null,null,null,null,null,null,null,null,null,null,1179]
[null,null,null,null,null,null,null,null,null,null,1180]
[null,null,null,null,null,null,null,null,null,null,1181]
[null,null,null,null,null,null,null,null,null,null,1182]
[null,null,null,null,null,null,null,null,null,null,1183]
[null,null,null,null,null,null,null,null,null,null,1184]
[null,null,null,null,null,null,null,null,null,null,1185]
[null,null,null,null,null,null,null,null,null,null,1186]
[null,null,null,null,null,null,null,null,null,null,1187]
[null,null,null,null,null,null,null,null,null,null,1188]
[null,null,null,null,null,null,null,null,null,null,1189]
[null,null,null,null,null,null,null,null,null,null,1190]
[null,null,null,null,null,null,null,null,null,null,1191]
[null,null,null,null,null,null,null,null,null,null,1192]
[null,null,null,null,null,null,null,null,null,null,1193]
[null,null,null,null,null,null,null,null,null,null,1194]
[null,null,null,null,null,null,null,null,null,null,1195]
[null,null,null,null,null,null,null,null,null,null,1196]
[null,null,null,null,null,null,null,null,null,null,1197]
[null,null,null,null,null,null,null,null,null,null,1198]
[null,null,null,null,null,null,null,null,null,null,1199]
[null,null,null,null,null,null,null,null,null,null,1200]
[null,null,null,null,null,null,null,null,null,null,1201]
[null,null,null,null,null,null,null,null,null,null,1202]
[null,null,null,null,null,null,null,null,null,null,1203]
[null,null,null,null,null,null,null,null,null,null,1204]
[null,null,null,null,null,null,null,null,null,null,1205]
[null,null,null,null,null,null,null,null,null,null,1206]
[null,null,null,null,null,null,null,null,null,null,1207]
[null,null,null,null,null,null,null,null,null,null,1208]
[null,null,null,null,null,null,null,null,null,null,1209]
[null,null,null,null,null,null,null,null,null,null,1210]
[null,null,null,null,null,null,null,null,null,null,1211]
[null,null,null,null,null,null,null,null,null,null,1212]
[null,null,null,null,null,null,null,null,null,null,1213]
[null,null,null,null,null,null,null,null,null,null,1214]
[null,null,null,null,null,null,null,null,null,null,1215]
[null,null,null,null,null,null,null,null,null,null,1216]
[null,null,null,null,null,null,null,null,null,null,1217]
[null,null,null,null,null,null,null,null,null,null,1218]
[null,null,null,null,null,null,null,null,null,null,1219]
[null,null,null,null,null,null,null,null,null,null,1220]
[null,null,null,null,null,null,null,null,null,null,1221]
[null,null,null,null,null,null,null,null,null,null,1222]
[null,null,null,null,null,null,null,null,null,null,1223]
[null,null,null,null,null,null,null,null,null,null,1224]
[null,null,null,null,null,null,null,null,null,null,1225]
[null,null,null,null,null,null,null,null,null,null,1226]
[null,null,null,null,null,null,null,null,null,null,1227]
[null,null,null,null,null,null,null,null,null,null,1228]
[null,null,null,null,null,null,null,null,null,null,1229]
[null,null,null,null,null,null,null,null,null,null,1230]
[null,null,null,null,null,null,null,null,null,null,1231]
[null,null,null,null,null,null,null,null,null,null,1232]
[null,null,null,null,null,null,null,null,null,null,1233]
[null,null,null,null,null,null,null,null,null,null,1234]
[null,null,null,null,null,null,null,null,null,null,1235]
[null,null,null,null,null,null,null,null,null,null,1236]
[null,null,null,null,null,null,null,null,null,null,1237]
[null,null,null,null,null,null,null,null,null,null,1238]
[null,null,null,null,null,null,null,null,null,null,1239]
[null,null,null,null,null,null,null,null,null,null,1240]
[null,null,null,null,null,null,null,null,null,null,1241]
[null,null,null,null,null,null,null,null,null,null,1242]
[null,null,null,null,null,null,null,null,null,null,1243]
[null,null,null,null,null,null,null,null,null,null,1244]
[null,null,null,null,null,null,null,null,null,null,1245]
[null,null,null,null,null,null,null,null,null,null,1246]
[null,null,null,null,null,null,null,null,null,null,1247]
[null,null,null,null,null,null,null,null,null,null,1248]
[null,null,null,null,null,null,null,null,null,null,1249]
[null,null,null,null,null,null,null,null,null,null,1250]
[null,null,null,null,null,null,null,null,null,null,1251]
[null,null,null,null,null,null,null,null,null,null,1252]
[null,null,null,null,null,null,null,null,null,null,1253]
[null,null,null,null,null,null,null,null,null,null,1254]
[null,null,null,null,null,null,null,null,null,null,1255]
[null,null,null,null,null,null,null,null,null,null,1256]
[null,null,null,null,null,null,null,null,null,null,1257]
[null,null,null,null,null,null,null,null,null,null,1258]
[null,null,null,null,null,null,null,null,null,null,1259]
[null,null,null,null,null,null,null,null,null,null,1260]
[null,null,null,null,null,null,null,null,null,null,1261]
[null,null,null,null,null,null,null,null,null,null,1262]
[null,null,null,null,null,null,null,null,null,null,1263]
[null,null,null,null,null,null,null,null,null,null,1264]
[null,null,null,null,null,null,null,null,null,null,1265]
[null,null,null,null,null,null,null,null,null,null,1266]
[null,null,null,null,null,null,null,null,null,null,1267]
[null,null,null,null,null,null,null,null,null,null,1268]
[null,null,null,null,null,null,null,null,null,null,1269]
[null,null,null,null,null,null,null,null,null,null,1270]
[null,null,null,null,null,null,null,null,null,null,1271]
[null,null,null,null,null,null,null,null,null,null,1272]
[null,null,null,null,null,null,null,null,null,null,1273]
[null,null,null,null,null,null,null,null,null,null,1274]
[null,null,null,null,null,null,null,null,null,null,1275]
[null,null,null,null,null,null,null,null,null,null,1276]
[null,null,null,null,null,null,null,null,null,null,1277]
[null,null,null,null,null,null,null,null,null,null,1278]
[null,null,null,null,null,null,null,null,null,null,1279]
[null,null,null,null,null,null,null,null,null,null,1280]
[null,null,null,null,null,null,null,null,null,null,1281]
[null,null,null,null,null,null,null,null,null,null,1282]
[null,null,null,null,null,null,null,null,null,null,1283]
[null,null,null,null,null,null,null,null,null,null,1284]
[null,null,null,null,null,null,null,null,null,null,1285]
[null,null,null,null,null,null,null,null,null,null,1286]
[null,null,null,null,null,null,null,null,null,null,1287]
[null,null,null,null,null,null,null,null,null,null,1288]
[null,null,null,null,null,null,null,null,null,null,1289]
[null,null,null,null,null,null,null,null,null,null,1290]
[null,null,null,null,null,null,null,null,null,null,1291]
[null,null,null,null,null,null,null,null,null,null,1292]
[null,null,null,null,null,null,null,null,null,null,1293]
[null,null,null,null,null,null,null,null,null,null,1294]
[null,null,null,null,null,null,null,null,null,null,1295]
[null,null,null,null,null,null,null,null,null,null,1296]
[null,null,null,null,null,null,null,null,null,null,1297]
[null,null,null,null,null,null,null,null,null,null,1298]
[null,null,null,null,null,null,null,null,null,null,1299]
[null,null,null,null,null,null,null,null,null,null,1300]
[null,null,null,null,null,null,null,null,null,null,1301]
[null,null,null,null,null,null,null,null,null,null,1302]
[null,null,null,null,null,null,null,null,null,null,1303]
[null,null,null,null,null,null,null,null,null,null,1304]
[null,null,null,null,null,null,null,null,null,null,1305]
[null,null,null,null,null,null,null,null,null,null,1306]
[null,null,null,null,null,null,null,null,null,null,1307]
[null,null,null,null,null,null,null,null,null,null,1308]
[null,null,null,null,null,null,null,null,null,null,1309]
[null,null,null,null,null,null,null,null,null,null,1310]
[null,null,null,null,null,null,null,null,null,null,1311]
[null,null,null,null,null,null,null,null,null,null,1312]
[null,null,null,null,null,null,null,null,null,null,1313]
[null,null,null,null,null,null,null,null,null,null,1314]
[null,null,null,null,null,null,null,null,null,null,1315]
[null,null,null,null,null,null,null,null,null,null,1316]
[null,null,null,null,null,null,null,null,null,null,1317]
[null,null,null,null,null,null,null,null,null,null,1318]
[null,null,null,null,null,null,null,null,null,null,1319]
[null,null,null,null,null,null,null,null,null,null,1320]
[null,null,null,null,null,null,null,null,null,null,1321]
[null,null,null,null,null,null,null,null,null,null,1322]
[null,null,null,null,null,null,null,null,null,null,1323]
[null,null,null,null,null,null,null,null,null,null,1324]
[null,null,null,null,null,null,null,null,null,null,1325]
[null,null,null,null,null,null,null,null,null,null,1326]
[null,null,null,null,null,null,null,null,null,null,1327]
[null,null,null,null,null,null,null,null,null,null,1328]
[null,null,null,null,null,null,null,null,null,null,1329]
[null,null,null,null,null,null,null,null,null,null,1330]
[null,null,null,null,null,null,null,null,null,null,1331]
[null,null,null,null,null,null,null,null,null,null,1332]
[null,null,null,null,null,null,null,null,null,null,1333]
[null,null,null,null,null,null,null,null,null,null,1334]
[null,null,null,null,null,null,null,null,null,null,1335]
[null,null,null,null,null,null,null,null,null,null,1336]
[null,null,null,null,null,null,null,null,null,null,1337]
[null,null,null,null,null,null,null,null,null,null,1338]
[null,null,null,null,null,null,null,null,null,null,1339]
[null,null,null,null,null,null,null,null,null,null,1340]
[null,null,null,null,null,null,null,null,null,null,1341]
[null,null,null,null,null,null,null,null,null,null,1342]
[null,null,null,null,null,null,null,null,null,null,1343]
[null,null,null,null,null,null,null,null,null,null,1344]
[null,null,null,null,null,null,null,null,null,null,1345]
[null,null,null,null,null,null,null,null,null,null,1346]
[null,null,null,null,null,null,null,null,null,null,1347]
[null,null,null,null,null,null,null,null,null,null,1348]
[null,null,null,null,null,null,null,null,null,null,1349]
[null,null,null,null,null,null,null,null,null,null,1350]
[null,null,null,null,null,null,null,null,null,null,1351]
[null,null,null,null,null,null,null,null,null,null,1352]
[null,null,null,null,null,null,null,null,null,null,1353]
[null,null,null,null,null,null,null,null,null,null,1354]
[null,null,null,null,null,null,null,null,null,null,1355]
[null,null,null,null,null,null,null,null,null,null,1356]
[null,null,null,null,null,null,null,null,null,null,1357]
[null,null,null,null,null,null,null,null,null,null,1358]
[null,null,null,null,null,null,null,null,null,null,1359]
[null,null,null,null,null,null,null,null,null,null,1360]
[null,null,null,null,null,null,null,null,null,null,1361]
[null,null,null,null,null,null,null,null,null,null,1362]
[null,null,null,null,null,null,null,null,null,null,1363]
[null,null,null,null,null,null,null,null,null,null,1364]
[null,null,null,null,null,null,null,null,null,null,1365]
[null,null,null,null,null,null,null,null,null,null,1366]
[null,null,null,null,null,null,null,null,null,null,1367]
[null,null,null,null,null,null,null,null,null,null,1368]
[null,null,null,null,null,null,null,null,null,null,1369]
[null,null,null,null,null,null,null,null,null,null,1370]
[null,null,null,null,null,null,null,null,null,null,1371]
[null,null,null,null,null,null,null,null,null,null,1372]
[null,null,null,null,null,null,null,null,null,null,1373]
[null,null,null,null,null,null,null,null,null,null,1374]
[null,null,null,null,null,null,null,null,null,null,1375]
[null,null,null,null,null,null,null,null,null,null,1376]
[null,null,null,null,null,null,null,null,null,null,1377]
[null,null,null,null,null,null,null,null,null,null,1378]
[null,null,null,null,null,null,null,null,null,null,1379]
[null,null,null,null,null,null,null,null,null,null,1380]
[null,null,null,null,null,null,null,null,null,null,1381]
[null,null,null,null,null,null,null,null,null,null,1382]
[null,null,null,null,null,null,null,null,null,null,1383]
[null,null,null,null,null,null,null,null,null,null,1384]
[null,null,null,null,null,null,null,null,null,null,1385]
[null,null,null,null,null,null,null,null,null,null,1386]
[null,null,null,null,null,null,null,null,null,null,1387]
[null,null,null,null,null,null,null,null,null,null,1388]
[null,null,null,null,null,null,null,null,null,null,1389]
[null,null,null,null,null,null,null,null,null,null,1390]
[null,null,null,null,null,null,null,null,null,null,1391]
[null,null,null,null,null,null,null,null,null,null,1392]
[null,null,null,null,null,null,null,null,null,null,1393]
[null,null,null,null,null,null,null,null,null,null,1394]
[null,null,null,null,null,null,null,null,null,null,1395]
[null,null,null,null,null,null,null,null,null,null,1396]
[null,null,null,null,null,null,null,null,null,null,1397]
[null,null,null,null,null,null,null,null,null,null,1398]
[null,null,null,null,null,null,null,null,null,null,1399]
[null,null,null,null,null,null,null,null,null,null,1400]
[null,null,null,null,null,null,null,null,null,null,1401]
[null,null,null,null,null,null,null,null,null,null,1402]
[null,null,null,null,null,null,null,null,null,null,1403]
[null,null,null,null,null,null,null,null,null,null,1404]
[null,null,null,null,null,null,null,null,null,null,1405]
[null,null,null,null,null,null,null,null,null,null,1406]
[null,null,null,null,null,null,null,null,null,null,1407]
[null,null,null,null,null,null,null,null,null,null,1408]
[null,null,null,null,null,null,null,null,null,null,1409]
[null,null,null,null,null,null,null,null,null,null,1410]
[null,null,null,null,null,null,null,null,null,null,1411]
[null,null,null,null,null,null,null,null,null,null,1412]
[null,null,null,null,null,null,null,null,null,null,1413]
[null,null,null,null,null,null,null,null,null,null,1414]
[null,null,null,null,null,null,null,null,null,null,1415]
[null,null,null,null,null,null,null,null,null,null,1416]
[null,null,null,null,null,null,null,null,null,null,1417]
[null,null,null,null,null,null,null,null,null,null,1418]
[null,null,null,null,null,null,null,null,null,null,1419]
[null,null,null,null,null,null,null,null,null,null,1420]
[null,null,null,null,null,null,null,null,null,null,1421]
[null,null,null,null,null,null,null,null,null,null,1422]
[null,null,null,null,null,null,null,null,null,null,1423]
[null,null,null,null,null,null,null,null,null,null,1424]
[null,null,null,null,null,null,null,null,null,null,1425]
[null,null,null,null,null,null,null,null,null,null,1426]
[null,null,null,null,null,null,null,null,null,null,1427]
[null,null,null,null,null,null,null,null,null,null,1428]
[null,null,null,null,null,null,null,null,null,null,1429]
[null,null,null,null,null,null,null,null,null,null,1430]
[null,null,null,null,null,null,null,null,null,null,1431]
[null,null,null,null,null,null,null,null,null,null,1432]
[null,null,null,null,null,null,null,null,null,null,1433]
[null,null,null,null,null,null,null,null,null,null,1434]
[null,null,null,null,null,null,null,null,null,null,1435]
[null,null,null,null,null,null,null,null,null,null,1436]
[null,null,null,null,null,null,null,null,null,null,1437]
[null,null,null,null,null,null,null,null,null,null,1438]
[null,null,null,null,null,null,null,null,null,null,1439]
[null,null,null,null,null,null,null,null,null,null,1440]
[null,null,null,null,null,null,null,null,null,null,1441]
[null,null,null,null,null,null,null,null,null,null,1442]
[null,null,null,null,null,null,null,null,null,null,1443]
[null,null,null,null,null,null,null,null,null,null,1444]
[null,null,null,null,null,null,null,null,null,null,1445]
[null,null,null,null,null,null,null,null,null,null,1446]
[null,null,null,null,null,null,null,null,null,null,1447]
[null,null,null,null,null,null,null,null,null,null,1448]
[null,null,null,null,null,null,null,null,null,null,1449]
[null,null,null,null,null,null,null,null,null,null,1450]
[null,null,null,null,null,null,null,null,null,null,1451]
[null,null,null,null,null,null,null,null,null,null,1452]
[null,null,null,null,null,null,null,null,null,null,1453]
[null,null,null,null,null,null,null,null,null,null,1454]
[null,null,null,null,null,null,null,null,null,null,1455]
[null,null,null,null,null,null,null,null,null,null,1456]
[null,null,null,null,null,null,null,null,null,null,1457]
[null,null,null,null,null,null,null,null,null,null,1458]
[null,null,null,null,null,null,null,null,null,null,1459]
[null,null,null,null,null,null,null,null,null,null,1460]
[null,null,null,null,null,null,null,null,null,null,1461]
[null,null,null,null,null,null,null,null,null,null,1462]
[null,null,null,null,null,null,null,null,null,null,1463]
[null,null,null,null,null,null,null,null,null,null,1464]
[null,null,null,null,null,null,null,null,null,null,1465]
[null,null,null,null,null,null,null,null,null,null,1466]
[null,null,null,null,null,null,null,null,null,null,1467]
[null,null,null,null,null,null,null,null,null,null,1468]
[null,null,null,null,null,null,null,null,null,null,1469]
[null,null,null,null,null,null,null,null,null,null,1470]
[null,null,null,null,null,null,null,null,null,null,1471]
[null,null,null,null,null,null,null,null,null,null,1472]
[null,null,null,null,null,null,null,null,null,null,1473]
[null,null,null,null,null,null,null,null,null,null,1474]
[null,null,null,null,null,null,null,null,null,null,1475]
[null,null,null,null,null,null,null,null,null,null,1476]
[null,null,null,null,null,null,null,null,null,null,1477]
[null,null,null,null,null,null,null,null,null,null,1478]
[null,null,null,null,null,null,null,null,null,null,1479]
[null,null,null,null,null,null,null,null,null,null,1480]
[null,null,null,null,null,null,null,null,null,null,1481]
[null,null,null,null,null,null,null,null,null,null,1482]
[null,null,null,null,null,null,null,null,null,null,1483]
[null,null,null,null,null,null,null,null,null,null,1484]
[null,null,null,null,null,null,null,null,null,null,1485]
[null,null,null,null,null,null,null,null,null,null,1486]
[null,null,null,null,null,null,null,null,null,null,1487]
[null,null,null,null,null,null,null,null,null,null,1488]
[null,null,null,null,null,null,null,null,null,null,1489]
[null,null,null,null,null,null,null,null,null,null,1490]
[null,null,null,null,null,null,null,null,null,null,1491]
[null,null,null,null,null,null,null,null,null,null,1492]
[null,null,null,null,null,null,null,null,null,null,1493]
[null,null,null,null,null,null,null,null,null,null,1494]
[null,null,null,null,null,null,null,null,null,null,1495]
[null,null,null,null,null,null,null,null,null,null,1496]
[null,null,null,null,null,null,null,null,null,null,1497]
[null,null,null,null,null,null,null,null,null,null,1498]
[null,null,null,null,null,null,null,null,null,null,1499]
[null,null,null,null,null,null,null,null,null,null,1500]
[null,null,null,null,null,null,null,null,null,null,1501]
[null,null,null,null,null,null,null,null,null,null,1502]
[null,null,null,null,null,null,null,null,null,null,1503]
[null,null,null,null,null,null,null,null,null,null,1504]
[null,null,null,null,null,null,null,null,null,null,1505]
[null,null,null,null,null,null,null,null,null,null,1506]
[null,null,null,null,null,null,null,null,null,null,1507]
[null,null,null,null,null,null,null,null,null,null,1508]
[null,null,null,null,null,null,null,null,null,null,1509]
[null,null,null,null,null,null,null,null,null,null,1510]
[null,null,null,null,null,null,null,null,null,null,1511]
[null,null,null,null,null,null,null,null,null,null,1512]
[null,null,null,null,null,null,null,null,null,null,1513]
[null,null,null,null,null,null,null,null,null,null,1514]
[null,null,null,null,null,null,null,null,null,null,1515]
[null,null,null,null,null,null,null,null,null,null,1516]
[null,null,null,null,null,null,null,null,null,null,1517]
[null,null,null,null,null,null,null,null,null,null,1518]
[null,null,null,null,null,null,null,null,null,null,1519]
[null,null,null,null,null,null,null,null,null,null,1520]
[null,null,null,null,null,null,null,null,null,null,1521]
[null,null,null,null,null,null,null,null,null,null,1522]
[null,null,null,null,null,null,null,null,null,null,1523]
[null,null,null,null,null,null,null,null,null,null,1524]
[null,null,null,null,null,null,null,null,null,null,1525]
[null,null,null,null,null,null,null,null,null,null,1526]
[null,null,null,null,null,null,null,null,null,null,1527]
[null,null,null,null,null,null,null,null,null,null,1528]
[null,null,null,null,null,null,null,null,null,null,1529]
[null,null,null,null,null,null,null,null,null,null,1530]
[null,null,null,null,null,null,null,null,null,null,1531]
[null,null,null,null,null,null,null,null,null,null,1532]
[null,null,null,null,null,null,null,null,null,null,1533]
[null,null,null,null,null,null,null,null,null,null,1534]
[null,null,null,null,null,null,null,null,null,null,1535]
[null,null,null,null,null,null,null,null,null,null,1536]
[null,null,null,null,null,null,null,null,null,null,1537]
[null,null,null,null,null,null,null,null,null,null,1538]
[null,null,null,null,null,null,null,null,null,null,1539]
[null,null,null,null,null,null,null,null,null,null,1540]
[null,null,null,null,null,null,null,null,null,null,1541]
[null,null,null,null,null,null,null,null,null,null,1542]
[null,null,null,null,null,null,null,null,null,null,1543]
[null,null,null,null,null,null,null,null,null,null,1544]
[null,null,null,null,null,null,null,null,null,null,1545]
[null,null,null,null,null,null,null,null,null,null,1546]
[null,null,null,null,null,null,null,null,null,null,1547]
[null,null,null,null,null,null,null,null,null,null,1548]
[null,null,null,null,null,null,null,null,null,null,1549]
[null,null,null,null,null,null,null,null,null,null,1550]
[null,null,null,null,null,null,null,null,null,null,1551]
[null,null,null,null,null,null,null,null,null,null,1552]
[null,null,null,null,null,null,null,null,null,null,1553]
[null,null,null,null,null,null,null,null,null,null,1554]
[null,null,null,null,null,null,null,null,null,null,1555]
[null,null,null,null,null,null,null,null,null,null,1556]
[null,null,null,null,null,null,null,null,null,null,1557]
[null,null,null,null,null,null,null,null,null,null,1558]
[null,null,null,null,null,null,null,null,null,null,1559]
[null,null,null,null,null,null,null,null,null,null,1560]
[null,null,null,null,null,null,null,null,null,null,1561]
[null,null,null,null,null,null,null,null,null,null,1562]
[null,null,null,null,null,null,null,null,null,null,1563]
[null,null,null,null,null,null,null,null,null,null,1564]
[null,null,null,null,null,null,null,null,null,null,1565]
[null,null,null,null,null,null,null,null,null,null,1566]
[null,null,null,null,null,null,null,null,null,null,1567]
[null,null,null,null,null,null,null,null,null,null,1568]
[null,null,null,null,null,null,null,null,null,null,1569]
[null,null,null,null,null,null,null,null,null,null,1570]
[null,null,null,null,null,null,null,null,null,null,1571]
[null,null,null,null,null,null,null,null,null,null,1572]
[null,null,null,null,null,null,null,null,null,null,1573]
[null,null,null,null,null,null,null,null,null,null,1574]
[null,null,null,null,null,null,null,null,null,null,1575]
[null,null,null,null,null,null,null,null,null,null,1576]
[null,null,null,null,null,null,null,null,null,null,1577]
[null,null,null,null,null,null,null,null,null,null,1578]
[null,null,null,null,null,null,null,null,null,null,1579]
[null,null,null,null,null,null,null,null,null,null,1580]
[null,null,null,null,null,null,null,null,null,null,1581]
[null,null,null,null,null,null,null,null,null,null,1582]
[null,null,null,null,null,null,null,null,null,null,1583]
[null,null,null,null,null,null,null,null,null,null,1584]
[null,null,null,null,null,null,null,null,null,null,1585]
[null,null,null,null,null,null,null,null,null,null,1586]
[null,null,null,null,null,null,null,null,null,null,1587]
[null,null,null,null,null,null,null,null,null,null,1588]
[null,null,null,null,null,null,null,null,null,null,1589]
[null,null,null,null,null,null,null,null,null,null,1590]
[null,null,null,null,null,null,null,null,null,null,1591]
[null,null,null,null,null,null,null,null,null,null,1592]
[null,null,null,null,null,null,null,null,null,null,1593]
[null,null,null,null,null,null,null,null,null,null,1594]
[null,null,null,null,null,null,null,null,null,null,1595]
[null,null,null,null,null,null,null,null,null,null,1596]
[null,null,null,null,null,null,null,null,null,null,1597]
[null,null,null,null,null,null,null,null,null,null,1598]
[null,null,null,null,null,null,null,null,null,null,1599]
[null,null,null,null,null,null,null,null,null,null,1600]
[null,null,null,null,null,null,null,null,null,null,1601]
[null,null,null,null,null,null,null,null,null,null,1602]
[null,null,null,null,null,null,null,null,null,null,1603]
[null,null,null,null,null,null,null,null,null,null,1604]
[null,null,null,null,null,null,null,null,null,null,1605]
[null,null,null,null,null,null,null,null,null,null,1606]
[null,null,null,null,null,null,null,null,null,null,1607]
[null,null,null,null,null,null,null,null,null,null,1608]
[null,null,null,null,null,null,null,null,null,null,1609]
[null,null,null,null,null,null,null,null,null,null,1610]
[null,null,null,null,null,null,null,null,null,null,1611]
[null,null,null,null,null,null,null,null,null,null,1612]
[null,null,null,null,null,null,null,null,null,null,1613]
[null,null,null,null,null,null,null,null,null,null,1614]
[null,null,null,null,null,null,null,null,null,null,1615]
[null,null,null,null,null,null,null,null,null,null,1616]
[null,null,null,null,null,null,null,null,null,null,1617]
[null,null,null,null,null,null,null,null,null,null,1618]
[null,null,null,null,null,null,null,null,null,null,1619]
[null,null,null,null,null,null,null,null,null,null,1620]
[null,null,null,null,null,null,null,null,null,null,1621]
[null,null,null,null,null,null,null,null,null,null,1622]
[null,null,null,null,null,null,null,null,null,null,1623]
[null,null,null,null,null,null,null,null,null,null,1624]
[null,null,null,null,null,null,null,null,null,null,1625]
[null,null,null,null,null,null,null,null,null,null,1626]
[null,null,null,null,null,null,null,null,null,null,1627]
[null,null,null,null,null,null,null,null,null,null,1628]
[null,null,null,null,null,null,null,null,null,null,1629]
[null,null,null,null,null,null,null,null,null,null,1630]
[null,null,null,null,null,null,null,null,null,null,1631]
[null,null,null,null,null,null,null,null,null,null,1632]
[null,null,null,null,null,null,null,null,null,null,1633]
[null,null,null,null,null,null,null,null,null,null,1634]
[null,null,null,null,null,null,null,null,null,null,1635]
[null,null,null,null,null,null,null,null,null,null,1636]
[null,null,null,null,null,null,null,null,null,null,1637]
[null,null,null,null,null,null,null,null,null,null,1638]
[null,null,null,null,null,null,null,null,null,null,1639]
[null,null,null,null,null,null,null,null,null,null,1640]
[null,null,null,null,null,null,null,null,null,null,1641]
[null,null,null,null,null,null,null,null,null,null,1642]
[null,null,null,null,null,null,null,null,null,null,1643]
[null,null,null,null,null,null,null,null,null,null,1644]
[null,null,null,null,null,null,null,null,null,null,1645]
[null,null,null,null,null,null,null,null,null,null,1646]
[null,null,null,null,null,null,null,null,null,null,1647]
[null,null,null,null,null,null,null,null,null,null,1648]
[null,null,null,null,null,null,null,null,null,null,1649]
[null,null,null,null,null,null,null,null,null,null,1650]
[null,null,null,null,null,null,null,null,null,null,1651]
[null,null,null,null,null,null,null,null,null,null,1652]
[null,null,null,null,null,null,null,null,null,null,1653]
[null,null,null,null,null,null,null,null,null,null,1654]
[null,null,null,null,null,null,null,null,null,null,1655]
[null,null,null,null,null,null,null,null,null,null,1656]
[null,null,null,null,null,null,null,null,null,null,1657]
[null,null,null,null,null,null,null,null,null,null,1658]
[null,null,null,null,null,null,null,null,null,null,1659]
[null,null,null,null,null,null,null,null,null,null,1660]
[null,null,null,null,null,null,null,null,null,null,1661]
[null,null,null,null,null,null,null,null,null,null,1662]
[null,null,null,null,null,null,null,null,null,null,1663]
[null,null,null,null,null,null,null,null,null,null,1664]
[null,null,null,null,null,null,null,null,null,null,1665]
[null,null,null,null,null,null,null,null,null,null,1666]
[null,null,null,null,null,null,null,null,null,null,1667]
[null,null,null,null,null,null,null,null,null,null,1668]
[null,null,null,null,null,null,null,null,null,null,1669]
[null,null,null,null,null,null,null,null,null,null,1670]
[null,null,null,null,null,null,null,null,null,null,1671]
[null,null,null,null,null,null,null,null,null,null,1672]
[null,null,null,null,null,null,null,null,null,null,1673]
[null,null,null,null,null,null,null,null,null,null,1674]
[null,null,null,null,null,null,null,null,null,null,1675]
[null,null,null,null,null,null,null,null,null,null,1676]
[null,null,null,null,null,null,null,null,null,null,1677]
[null,null,null,null,null,null,null,null,null,null,1678]
[null,null,null,null,null,null,null,null,null,null,1679]
[null,null,null,null,null,null,null,null,null,null,1680]
[null,null,null,null,null,null,null,null,null,null,1681]
[null,null,null,null,null,null,null,null,null,null,1682]
[null,null,null,null,null,null,null,null,null,null,1683]
[null,null,null,null,null,null,null,null,null,null,1684]
[null,null,null,null,null,null,null,null,null,null,1685]
[null,null,null,null,null,null,null,null,null,null,1686]
[null,null,null,null,null,null,null,null,null,null,1687]
[null,null,null,null,null,null,null,null,null,null,1688]
[null,null,null,null,null,null,null,null,null,null,1689]
[null,null,null,null,null,null,null,null,null,null,1690]
[null,null,null,null,null,null,null,null,null,null,1691]
[null,null,null,null,null,null,null,null,null,null,1692]
[null,null,null,null,null,null,null,null,null,null,1693]
[null,null,null,null,null,null,null,null,null,null,1694]
[null,null,null,null,null,null,null,null,null,null,1695]
[null,null,null,null,null,null,null,null,null,null,1696]
[null,null,null,null,null,null,null,null,null,null,1697]
[null,null,null,null,null,null,null,null,null,null,1698]
[null,null,null,null,null,null,null,null,null,null,1699]
[null,null,null,null,null,null,null,null,null,null,1700]
[null,null,null,null,null,null,null,null,null,null,1701]
[null,null,null,null,null,null,null,null,null,null,1702]
[null,null,null,null,null,null,null,null,null,null,1703]
[null,null,null,null,null,null,null,null,null,null,1704]
[null,null,null,null,null,null,null,null,null,null,1705]
[null,null,null,null,null,null,null,null,null,null,1706]
[null,null,null,null,null,null,null,null,null,null,1707]
[null,null,null,null,null,null,null,null,null,null,1708]
[null,null,null,null,null,null,null,null,null,null,1709]
[null,null,null,null,null,null,null,null,null,null,1710]
[null,null,null,null,null,null,null,null,null,null,1711]
[null,null,null,null,null,null,null,null,null,null,1712]
[null,null,null,null,null,null,null,null,null,null,1713]
[null,null,null,null,null,null,null,null,null,null,1714]
[null,null,null,null,null,null,null,null,null,null,1715]
[null,null,null,null,null,null,null,null,null,null,1716]
[null,null,null,null,null,null,null,null,null,null,1717]
[null,null,null,null,null,null,null,null,null,null,1718]
[null,null,null,null,null,null,null,null,null,null,1719]
[null,null,null,null,null,null,null,null,null,null,1720]
[null,null,null,null,null,null,null,null,null,null,1721]
[null,null,null,null,null,null,null,null,null,null,1722]
[null,null,null,null,null,null,null,null,null,null,1723]
[null,null,null,null,null,null,null,null,null,null,1724]
[null,null,null,null,null,null,null,null,null,null,1725]
[null,null,null,null,null,null,null,null,null,null,1726]
[null,null,null,null,null,null,null,null,null,null,1727]
[null,null,null,null,null,null,null,null,null,null,1728]
[null,null,null,null,null,null,null,null,null,null,1729]
[null,null,null,null,null,null,null,null,null,null,1730]
[null,null,null,null,null,null,null,null,null,null,1731]
[null,null,null,null,null,null,null,null,null,null,1732]
[null,null,null,null,null,null,null,null,null,null,1733]
[null,null,null,null,null,null,null,null,null,null,1734]
[null,null,null,null,null,null,null,null,null,null,1735]
[null,null,null,null,null,null,null,null,null,null,1736]
[null,null,null,null,null,null,null,null,null,null,1737]
[null,null,null,null,null,null,null,null,null,null,1738]
[null,null,null,null,null,null,null,null,null,null,1739]
[null,null,null,null,null,null,null,null,null,null,1740]
[null,null,null,null,null,null,null,null,null,null,1741]
[null,null,null,null,null,null,null,null,null,null,1742]
[null,null,null,null,null,null,null,null,null,null,1743]
[null,null,null,null,null,null,null,null,null,null,1744]
[null,null,null,null,null,null,null,null,null,null,1745]
[null,null,null,null,null,null,null,null,null,null,1746]
[null,null,null,null,null,null,null,null,null,null,1747]
[null,null,null,null,null,null,null,null,null,null,1748]
[null,null,null,null,null,null,null,null,null,null,1749]
[null,null,null,null,null,null,null,null,null,null,1750]
[null,null,null,null,null,null,null,null,null,null,1751]
[null,null,null,null,null,null,null,null,null,null,1752]
[null,null,null,null,null,null,null,null,null,null,1753]
[null,null,null,null,null,null,null,null,null,null,1754]
[null,null,null,null,null,null,null,null,null,null,1755]
[null,null,null,null,null,null,null,null,null,null,1756]
[null,null,null,null,null,null,null,null,null,null,1757]
[null,null,null,null,null,null,null,null,null,null,1758]
[null,null,null,null,null,null,null,null,null,null,1759]
[null,null,null,null,null,null,null,null,null,null,1760]
[null,null,null,null,null,null,null,null,null,null,1761]
[null,null,null,null,null,null,null,null,null,null,1762]
[null,null,null,null,null,null,null,null,null,null,1763]
[null,null,null,null,null,null,null,null,null,null,1764]
[null,null,null,null,null,null,null,null,null,null,1765]
[null,null,null,null,null,null,null,null,null,null,1766]
[null,null,null,null,null,null,null,null,null,null,1767]
[null,null,null,null,null,null,null,null,null,null,1768]
[null,null,null,null,null,null,null,null,null,null,1769]
[null,null,null,null,null,null,null,null,null,null,1770]
[null,null,null,null,null,null,null,null,null,null,1771]
[null,null,null,null,null,null,null,null,null,null,1772]
[null,null,null,null,null,null,null,null,null,null,1773]
[null,null,null,null,null,null,null,null,null,null,1774]
[null,null,null,null,null,null,null,null,null,null,1775]
[null,null,null,null,null,null,null,null,null,null,1776]
[null,null,null,null,null,null,null,null,null,null,1777]
[null,null,null,null,null,null,null,null,null,null,1778]
[null,null,null,null,null,null,null,null,null,null,1779]
[null,null,null,null,null,null,null,null,null,null,1780]
[null,null,null,null,null,null,null,null,null,null,1781]
[null,null,null,null,null,null,null,null,null,null,1782]
[null,null,null,null,null,null,null,null,null,null,1783]
[null,null,null,null,null,null,null,null,null,null,1784]
[null,null,null,null,null,null,null,null,null,null,1785]
[null,null,null,null,null,null,null,null,null,null,1786]
[null,null,null,null,null,null,null,null,null,null,1787]
[null,null,null,null,null,null,null,null,null,null,1788]
[null,null,null,null,null,null,null,null,null,null,1789]
[null,null,null,null,null,null,null,null,null,null,1790]
[null,null,null,null,null,null,null,null,null,null,1791]
[null,null,null,null,null,null,null,null,null,null,1792]
[null,null,null,null,null,null,null,null,null,null,1793]
[null,null,null,null,null,null,null,null,null,null,1794]
[null,null,null,null,null,null,null,null,null,null,1795]
[null,null,null,null,null,null,null,null,null,null,1796]
[null,null,null,null,null,null,null,null,null,null,1797]
[null,null,null,null,null,null,null,null,null,null,1798]
[null,null,null,null,null,null,null,null,null,null,1799]
[null,null,null,null,null,null,null,null,null,null,1800]
[null,null,null,null,null,null,null,null,null,null,1801]
[null,null,null,null,null,null,null,null,null,null,1802]
[null,null,null,null,null,null,null,null,null,null,1803]
[null,null,null,null,null,null,null,null,null,null,1804]
[null,null,null,null,null,null,null,null,null,null,1805]
[null,null,null,null,null,null,null,null,null,null,1806]
[null,null,null,null,null,null,null,null,null,null,1807]
[null,null,null,null,null,null,null,null,null,null,1808]
[null,null,null,null,null,null,null,null,null,null,1809]
[null,null,null,null,null,null,null,null,null,null,1810]
[null,null,null,null,null,null,null,null,null,null,1811]
[null,null,null,null,null,null,null,null,null,null,1812]
[null,null,null,null,null,null,null,null,null,null,1813]
[null,null,null,null,null,null,null,null,null,null,1814]
[null,null,null,null,null,null,null,null,null,null,1815]
[null,null,null,null,null,null,null,null,null,null,1816]
[null,null,null,null,null,null,null,null,null,null,1817]
[null,null,null,null,null,null,null,null,null,null,1818]
[null,null,null,null,null,null,null,null,null,null,1819]
[null,null,null,null,null,null,null,null,null,null,1820]
[null,null,null,null,null,null,null,null,null,null,1821]
[null,null,null,null,null,null,null,null,null,null,1822]
[null,null,null,null,null,null,null,null,null,null,1823]
[null,null,null,null,null,null,null,null,null,null,1824]
[null,null,null,null,null,null,null,null,null,null,1825]
[null,null,null,null,null,null,null,null,null,null,1826]
[null,null,null,null,null,null,null,null,null,null,1827]
[null,null,null,null,null,null,null,null,null,null,1828]
[null,null,null,null,null,null,null,null,null,null,1829]
[null,null,null,null,null,null,null,null,null,null,1830]
[null,null,null,null,null,null,null,null,null,null,1831]
[null,null,null,null,null,null,null,null,null,null,1832]
[null,null,null,null,null,null,null,null,null,null,1833]
[null,null,null,null,null,null,null,null,null,null,1834]
[null,null,null,null,null,null,null,null,null,null,1835]
[null,null,null,null,null,null,null,null,null,null,1836]
[null,null,null,null,null,null,null,null,null,null,1837]
[null,null,null,null,null,null,null,null,null,null,1838]
[null,null,null,null,null,null,null,null,null,null,1839]
[null,null,null,null,null,null,null,null,null,null,1840]
[null,null,null,null,null,null,null,null,null,null,1841]
[null,null,null,null,null,null,null,null,null,null,1842]
[null,null,null,null,null,null,null,null,null,null,1843]
[null,null,null,null,null,null,null,null,null,null,1844]
[null,null,null,null,null,null,null,null,null,null,1845]
[null,null,null,null,null,null,null,null,null,null,1846]
[null,null,null,null,null,null,null,null,null,null,1847]
[null,null,null,null,null,null,null,null,null,null,1848]
[null,null,null,null,null,null,null,null,null,null,1849]
[null,null,null,null,null,null,null,null,null,null,1850]
[null,null,null,null,null,null,null,null,null,null,1851]
[null,null,null,null,null,null,null,null,null,null,1852]
[null,null,null,null,null,null,null,null,null,null,1853]
[null,null,null,null,null,null,null,null,null,null,1854]
[null,null,null,null,null,null,null,null,null,null,1855]
[null,null,null,null,null,null,null,null,null,null,1856]
[null,null,null,null,null,null,null,null,null,null,1857]
[null,null,null,null,null,null,null,null,null,null,1858]
[null,null,null,null,null,null,null,null,null,null,1859]
[null,null,null,null,null,null,null,null,null,null,1860]
[null,null,null,null,null,null,null,null,null,null,1861]
[null,null,null,null,null,null,null,null,null,null,1862]
[null,null,null,null,null,null,null,null,null,null,1863]
[null,null,null,null,null,null,null,null,null,null,1864]
[null,null,null,null,null,null,null,null,null,null,1865]
[null,null,null,null,null,null,null,null,null,null,1866]
[null,null,null,null,null,null,null,null,null,null,1867]
[null,null,null,null,null,null,null,null,null,null,1868]
[null,null,null,null,null,null,null,null,null,null,1869]
[null,null,null,null,null,null,null,null,null,null,1870]
[null,null,null,null,null,null,null,null,null,null,1871]
[null,null,null,null,null,null,null,null,null,null,1872]
[null,null,null,null,null,null,null,null,null,null,1873]
[null,null,null,null,null,null,null,null,null,null,1874]
[null,null,null,null,null,null,null,null,null,null,1875]
[null,null,null,null,null,null,null,null,null,null,1876]
[null,null,null,null,null,null,null,null,null,null,1877]
[null,null,null,null,null,null,null,null,null,null,1878]
[null,null,null,null,null,null,null,null,null,null,1879]
[null,null,null,null,null,null,null,null,null,null,1880]
[null,null,null,null,null,null,null,null,null,null,1881]
[null,null,null,null,null,null,null,null,null,null,1882]
[null,null,null,null,null,null,null,null,null,null,1883]
[null,null,null,null,null,null,null,null,null,null,1884]
[null,null,null,null,null,null,null,null,null,null,1885]
[null,null,null,null,null,null,null,null,null,null,1886]
[null,null,null,null,null,null,null,null,null,null,1887]
[null,null,null,null,null,null,null,null,null,null,1888]
[null,null,null,null,null,null,null,null,null,null,1889]
[null,null,null,null,null,null,null,null,null,null,1890]
[null,null,null,null,null,null,null,null,null,null,1891]
[null,null,null,null,null,null,null,null,null,null,1892]
[null,null,null,null,null,null,null,null,null,null,1893]
[null,null,null,null,null,null,null,null,null,null,1894]
[null,null,null,null,null,null,null,null,null,null,1895]
[null,null,null,null,null,null,null,null,null,null,1896]
[null,null,null,null,null,null,null,null,null,null,1897]
[null,null,null,null,null,null,null,null,null,null,1898]
[null,null,null,null,null,null,null,null,null,null,1899]
[null,null,null,null,null,null,null,null,null,null,1900]
[null,null,null,null,null,null,null,null,null,null,1901]
[null,null,null,null,null,null,null,null,null,null,1902]
[null,null,null,null,null,null,null,null,null,null,1903]
[null,null,null,null,null,null,null,null,null,null,1904]
[null,null,null,null,null,null,null,null,null,null,1905]
[null,null,null,null,null,null,null,null,null,null,1906]
[null,null,null,null,null,null,null,null,null,null,1907]
[null,null,null,null,null,null,null,null,null,null,1908]
[null,null,null,null,null,null,null,null,null,null,1909]
[null,null,null,null,null,null,null,null,null,null,1910]
[null,null,null,null,null,null,null,null,null,null,1911]
[null,null,null,null,null,null,null,null,null,null,1912]
[null,null,null,null,null,null,null,null,null,null,1913]
[null,null,null,null,null,null,null,null,null,null,1914]
[null,null,null,null,null,null,null,null,null,null,1915]
[null,null,null,null,null,null,null,null,null,null,1916]
[null,null,null,null,null,null,null,null,null,null,1917]
[null,null,null,null,null,null,null,null,null,null,1918]
[null,null,null,null,null,null,null,null,null,null,1919]
[null,null,null,null,null,null,null,null,null,null,1920]
[null,null,null,null,null,null,null,null,null,null,1921]
[null,null,null,null,null,null,null,null,null,null,1922]
[null,null,null,null,null,null,null,null,null,null,1923]
[null,null,null,null,null,null,null,null,null,null,1924]
[null,null,null,null,null,null,null,null,null,null,1925]
[null,null,null,null,null,null,null,null,null,null,1926]
[null,null,null,null,null,null,null,null,null,null,1927]
[null,null,null,null,null,null,null,null,null,null,1928]
[null,null,null,null,null,null,null,null,null,null,1929]
[null,null,null,null,null,null,null,null,null,null,1930]
[null,null,null,null,null,null,null,null,null,null,1931]
[null,null,null,null,null,null,null,null,null,null,1932]
[null,null,null,null,null,null,null,null,null,null,1933]
[null,null,null,null,null,null,null,null,null,null,1934]
[null,null,null,null,null,null,null,null,null,null,1935]
[null,null,null,null,null,null,null,null,null,null,1936]
[null,null,null,null,null,null,null,null,null,null,1937]
[null,null,null,null,null,null,null,null,null,null,1938]
[null,null,null,null,null,null,null,null,null,null,1939]
[null,null,null,null,null,null,null,null,null,null,1940]
[null,null,null,null,null,null,null,null,null,null,1941]
[null,null,null,null,null,null,null,null,null,null,1942]
[null,null,null,null,null,null,null,null,null,null,1943]
[null,null,null,null,null,null,null,null,null,null,1944]
[null,null,null,null,null,null,null,null,null,null,1945]
[null,null,null,null,null,null,null,null,null,null,1946]
[null,null,null,null,null,null,null,null,null,null,1947]
[null,null,null,null,null,null,null,null,null,null,1948]
[null,null,null,null,null,null,null,null,null,null,1949]
[null,null,null,null,null,null,null,null,null,null,1950]
[null,null,null,null,null,null,null,null,null,null,1951]
[null,null,null,null,null,null,null,null,null,null,1952]
[null,null,null,null,null,null,null,null,null,null,1953]
[null,null,null,null,null,null,null,null,null,null,1954]
[null,null,null,null,null,null,null,null,null,null,1955]
[null,null,null,null,null,null,null,null,null,null,1956]
[null,null,null,null,null,null,null,null,null,null,1957]
[null,null,null,null,null,null,null,null,null,null,1958]
[null,null,null,null,null,null,null,null,null,null,1959]
[null,null,null,null,null,null,null,null,null,null,1960]
[null,null,null,null,null,null,null,null,null,null,1961]
[null,null,null,null,null,null,null,null,null,null,1962]
[null,null,null,null,null,null,null,null,null,null,1963]
[null,null,null,null,null,null,null,null,null,null,1964]
[null,null,null,null,null,null,null,null,null,null,1965]
[null,null,null,null,null,null,null,null,null,null,1966]
[null,null,null,null,null,null,null,null,null,null,1967]
[null,null,null,null,null,null,null,null,null,null,1968]
[null,null,null,null,null,null,null,null,null,null,1969]
[null,null,null,null,null,null,null,null,null,null,1970]
[null,null,null,null,null,null,null,null,null,null,1971]
[null,null,null,null,null,null,null,null,null,null,1972]
[null,null,null,null,null,null,null,null,null,null,1973]
[null,null,null,null,null,null,null,null,null,null,1974]
[null,null,null,null,null,null,null,null,null,null,1975]
[null,null,null,null,null,null,null,null,null,null,1976]
[null,null,null,null,null,null,null,null,null,null,1977]
[null,null,null,null,null,null,null,null,null,null,1978]
[null,null,null,null,null,null,null,null,null,null,1979]
[null,null,null,null,null,null,null,null,null,null,1980]
[null,null,null,null,null,null,null,null,null,null,1981]
[null,null,null,null,null,null,null,null,null,null,1982]
[null,null,null,null,null,null,null,null,null,null,1983]
[null,null,null,null,null,null,null,null,null,null,1984]
[null,null,null,null,null,null,null,null,null,null,1992]
[null,null,null,null,null,null,null,null,null,null,2026]
[null,null,null,null,null,null,null,null,null,null,2075]
[null,null,null,null,null,null,null,null,null,null,2092]
[null,null,null,null,null,null,null,null,null,null,2115]
[null,null,null,null,null,null,null,null,null,null,2157]
[null,null,null,null,null,null,null,null,null,null,2206]
[null,null,null,null,null,null,null,null,null,null,2223]
[null,null,null,null,null,null,null,null,null,null,2269]
[null,null,null,null,null,null,null,null,null,null,2288]
[null,null,null,null,null,null,null,null,null,null,2305]
[null,null,null,null,null,null,null,null,null,null,2354]
[null,null,null,null,null,null,null,null,null,null,2388]
[null,null,null,null,null,null,null,null,null,null,2419]
[null,null,null,null,null,null,null,null,null,null,2436]
[null,null,null,null,null,null,null,null,null,null,2485]
[null,null,null,null,null,null,null,null,null,null,2511]
[null,null,null,null,null,null,null,null,null,null,2550]
[null,null,null,null,null,null,null,null,null,null,2567]
[null,null,null,null,null,null,null,null,null,null,2616]
[null,null,null,null,null,null,null,null,null,null,2630]
[null,null,null,null,null,null,null,null,null,null,2681]
[null,null,null,null,null,null,null,null,null,null,2698]
[null,null,null,null,null,null,null,null,null,null,2715]
[null,null,null,null,null,null,null,null,null,null,2753]
[null,null,null,null,null,null,null,null,null,null,2780]
[null,null,null,null,null,null,null,null,null,null,2829]
[null,null,null,null,null,null,null,null,null,null,2846]
[null,null,null,null,null,null,null,null,null,null,2903]
[null,null,null,null,null,null,null,null,null,null,2911]
[null,null,null,null,null,null,null,null,null,null,2960]
[null,null,null,null,null,null,null,null,null,null,2977]
[null,null,null,null,null,null,null,null,null,null,3026]
[null,null,null,null,null,null,null,null,null,null,3055]
[null,null,null,null,null,null,null,null,null,null,3091]
[null,null,null,null,null,null,null,null,null,null,3108]
[null,null,null,null,null,null,null,null,null,null,3157]
[null,null,null,null,null,null,null,null,null,null,3178]
[null,null,null,null,null,null,null,null,null,null,3222]
[null,null,null,null,null,null,null,null,null,null,3239]
[null,null,null,null,null,null,null,null,null,null,3256]
[null,null,null,null,null,null,null,null,null,null,3297]
[null,null,null,null,null,null,null,null,null,null,3321]
[null,null,null,null,null,null,null,null,null,null,3370]
[null,null,null,null,null,null,null,null,null,null,3387]
[null,null,null,null,null,null,null,null,null,null,3420]
[null,null,null,null,null,null,null,null,null,null,3452]
[null,null,null,null,null,null,null,null,null,null,3501]
[null,null,null,null,null,null,null,null,null,null,3518]
[null,null,null,null,null,null,null,null,null,null,3570]
[null,null,null,null,null,null,null,null,null,null,3583]
[null,null,null,null,null,null,null,null,null,null,3632]
[null,null,null,null,null,null,null,null,null,null,3649]
[null,null,null,null,null,null,null,null,null,null,3693]
[null,null,null,null,null,null,null,null,null,null,3714]
[null,null,null,null,null,null,null,null,null,null,3731]
[null,null,null,null,null,null,null,null,null,null,3780]
[null,null,null,null,null,null,null,null,null,null,3812]
[null,null,null,null,null,null,null,null,null,null,3845]
[null,null,null,null,null,null,null,null,null,null,3862]
[null,null,null,null,null,null,null,null,null,null,3911]
[null,null,null,null,null,null,null,null,null,null,3935]
[null,null,null,null,null,null,null,null,null,null,3976]
[null,null,null,null,null,null,null,null,null,null,3993]
[null,null,null,null,null,null,null,null,null,null,4042]
[null,null,null,null,null,null,null,null,null,null,4059]
[null,null,null,null,null,null,null,null,null,null,4087]
[null,null,null,null,null,null,null,null,null,null,4124]
[null,null,null,null,null,null,null,null,null,null,4173]
[null,null,null,null,null,null,null,null,null,null,4190]
[null,null,null,null,null,null,null,null,null,null,4237]
[null,null,null,null,null,null,null,null,null,null,4255]
[null,null,null,null,null,null,null,null,null,null,4272]
[null,null,null,null,null,null,null,null,null,null,4321]
[null,null,null,null,null,null,null,null,null,null,4360]
[null,null,null,null,null,null,null,null,null,null,4386]
[null,null,null,null,null,null,null,null,null,null,4403]
[null,null,null,null,null,null,null,null,null,null,4452]
[null,null,null,null,null,null,null,null,null,null,4479]
[null,null,null,null,null,null,null,null,null,null,4517]
[null,null,null,null,null,null,null,null,null,null,4534]
[null,null,null,null,null,null,null,null,null,null,4583]
[null,null,null,null,null,null,null,null,null,null,4602]
[null,null,null,null,null,null,null,null,null,null,4648]
[null,null,null,null,null,null,null,null,null,null,4665]
[null,null,null,null,null,null,null,null,null,null,4714]
[null,null,null,null,null,null,null,null,null,null,4721]
[null,null,null,null,null,null,null,null,null,null,4747]
[null,null,null,null,null,null,null,null,null,null,4796]
[null,null,null,null,null,null,null,null,null,null,4813]
[null,null,null,null,null,null,null,null,null,null,4844]
[null,null,null,null,null,null,null,null,null,null,4878]
[null,null,null,null,null,null,null,null,null,null,4927]
[null,null,null,null,null,null,null,null,null,null,4944]
[null,null,null,null,null,null,null,null,null,null,4993]
[null,null,null,null,null,null,null,null,null,null,5027]
[null,null,null,null,null,null,null,null,null,null,5058]
[null,null,null,null,null,null,null,null,null,null,5075]
[null,null,null,null,null,null,null,null,null,null,5124]
[null,null,null,null,null,null,null,null,null,null,5146]
[null,null,null,null,null,null,null,null,null,null,5189]
[null,null,null,null,null,null,null,null,null,null,5206]
[null,null,null,null,null,null,null,null,null,null,5255]
[null,null,null,null,null,null,null,null,null,null,5269]
[null,null,null,null,null,null,null,null,null,null,5288]
[null,null,null,null,null,null,null,null,null,null,5337]
[null,null,null,null,null,null,null,null,null,null,5354]
[null,null,null,null,null,null,null,null,null,null,5388]
[null,null,null,null,null,null,null,null,null,null,5419]
[null,null,null,null,null,null,null,null,null,null,5468]
[null,null,null,null,null,null,null,null,null,null,5485]
[null,null,null,null,null,null,null,null,null,null,5511]
[null,null,null,null,null,null,null,null,null,null,5550]
[null,null,null,null,null,null,null,null,null,null,5599]
[null,null,null,null,null,null,null,null,null,null,5616]
[null,null,null,null,null,null,null,null,null,null,5661]
[null,null,null,null,null,null,null,null,null,null,5681]
[null,null,null,null,null,null,null,null,null,null,5730]
[null,null,null,null,null,null,null,null,null,null,5747]
[null,null,null,null,null,null,null,null,null,null,5784]
[null,null,null,null,null,null,null,null,null,null,5812]
[null,null,null,null,null,null,null,null,null,null,5829]
[null,null,null,null,null,null,null,null,null,null,5878]
[null,null,null,null,null,null,null,null,null,null,5903]
[null,null,null,null,null,null,null,null,null,null,5943]
[null,null,null,null,null,null,null,null,null,null,5960]
[null,null,null,null,null,null,null,null,null,null,6009]
[null,null,null,null,null,null,null,null,null,null,6026]
[null,null,null,null,null,null,null,null,null,null,6055]
[null,null,null,null,null,null,null,null,null,null,6091]
[null,null,null,null,null,null,null,null,null,null,6140]
[null,null,null,null,null,null,null,null,null,null,6157]
[null,null,null,null,null,null,null,null,null,null,6178]
[null,null,null,null,null,null,null,null,null,null,6222]
[null,null,null,null,null,null,null,null,null,null,6271]
[null,null,null,null,null,null,null,null,null,null,6288]
[null,null,null,null,null,null,null,null,null,null,6328]
[null,null,null,null,null,null,null,null,null,null,6353]
[null,null,null,null,null,null,null,null,null,null,6370]
[null,null,null,null,null,null,null,null,null,null,6419]
[null,null,null,null,null,null,null,null,null,null,6451]
[null,null,null,null,null,null,null,null,null,null,6484]
[null,null,null,null,null,null,null,null,null,null,6501]
[null,null,null,null,null,null,null,null,null,null,6550]
[null,null,null,null,null,null,null,null,null,null,6574]
[null,null,null,null,null,null,null,null,null,null,6615]
[null,null,null,null,null,null,null,null,null,null,6632]
[null,null,null,null,null,null,null,null,null,null,6681]
[null,null,null,null,null,null,null,null,null,null,6693]
[null,null,null,null,null,null,null,null,null,null,6746]
[null,null,null,null,null,null,null,null,null,null,6763]
[null,null,null,null,null,null,null,null,null,null,6780]
[null,null,null,null,null,null,null,null,null,null,6816]
[null,null,null,null,null,null,null,null,null,null,6845]
[null,null,null,null,null,null,null,null,null,null,6894]
[null,null,null,null,null,null,null,null,null,null,6911]
[null,null,null,null,null,null,null,null,null,null,6960]
[null,null,null,null,null,null,null,null,null,null,6995]
[null,null,null,null,null,null,null,null,null,null,7025]
[null,null,null,null,null,null,null,null,null,null,7042]
[null,null,null,null,null,null,null,null,null,null,7091]
[null,null,null,null,null,null,null,null,null,null,7118]
[null,null,null,null,null,null,null,null,null,null,7156]
[null,null,null,null,null,null,null,null,null,null,7173]
[null,null,null,null,null,null,null,null,null,null,7222]
[null,null,null,null,null,null,null,null,null,null,7241]
[null,null,null,null,null,null,null,null,null,null,7287]
[null,null,null,null,null,null,null,null,null,null,7304]
[null,null,null,null,null,null,null,null,null,null,7321]
[null,null,null,null,null,null,null,null,null,null,7360]
[null,null,null,null,null,null,null,null,null,null,7386]
[null,null,null,null,null,null,null,null,null,null,7435]
[null,null,null,null,null,null,null,null,null,null,7452]
[null,null,null,null,null,null,null,null,null,null,7483]
[null,null,null,null,null,null,null,null,null,null,7517]
[null,null,null,null,null,null,null,null,null,null,7566]
[null,null,null,null,null,null,null,null,null,null,7583]
[null,null,null,null,null,null,null,null,null,null,7633]
[null,null,null,null,null,null,null,null,null,null,7648]
[null,null,null,null,null,null,null,null,null,null,7697]
[null,null,null,null,null,null,null,null,null,null,7714]
[null,null,null,null,null,null,null,null,null,null,7756]
[null,null,null,null,null,null,null,null,null,null,7779]
[null,null,null,null,null,null,null,null,null,null,7796]
[null,null,null,null,null,null,null,null,null,null,7845]
[null,null,null,null,null,null,null,null,null,null,7875]
[null,null,null,null,null,null,null,null,null,null,7910]
[null,null,null,null,null,null,null,null,null,null,7927]
[null,null,null,null,null,null,null,null,null,null,7976]
[null,null,null,null,null,null,null,null,null,null,7993]
[null,null,null,null,null,null,null,null,null,null,8027]
[null,null,null,null,null,null,null,null,null,null,8058]
[null,null,null,null,null,null,null,null,null,null,8107]
[null,null,null,null,null,null,null,null,null,null,8124]
[null,null,null,null,null,null,null,null,null,null,8150]
[null,null,null,null,null,null,null,null,null,null,8189]
[null,null,null,null,null,null,null,null,null,null,8238]
[null,null,null,null,null,null,null,null,null,null,8255]
[null,null,null,null,null,null,null,null,null,null,8300]
[null,null,null,null,null,null,null,null,null,null,8320]
[null,null,null,null,null,null,null,null,null,null,8337]
[null,null,null,null,null,null,null,null,null,null,8386]
[null,null,null,null,null,null,null,null,null,null,8423]
[null,null,null,null,null,null,null,null,null,null,8451]
[null,null,null,null,null,null,null,null,null,null,8468]
[null,null,null,null,null,null,null,null,null,null,8517]
[null,null,null,null,null,null,null,null,null,null,8542]
[null,null,null,null,null,null,null,null,null,null,8582]
[null,null,null,null,null,null,null,null,null,null,8599]
[null,null,null,null,null,null,null,null,null,null,8648]
[null,null,null,null,null,null,null,null,null,null,8665]
[null,null,null,null,null,null,null,null,null,null,8713]
[null,null,null,null,null,null,null,null,null,null,8730]
[null,null,null,null,null,null,null,null,null,null,8779]
[null,null,null,null,null,null,null,null,null,null,8784]
[null,null,null,null,null,null,null,null,null,null,8812]
[null,null,null,null,null,null,null,null,null,null,8861]
[null,null,null,null,null,null,null,null,null,null,8878]
[null,null,null,null,null,null,null,null,null,null,8927]
[null,null,null,null,null,null,null,null,null,null,8967]
[null,null,null,null,null,null,null,null,null,null,8992]
[null,null,null,null,null,null,null,null,null,null,9009]
[null,null,null,null,null,null,null,null,null,null,9058]
[null,null,null,null,null,null,null,null,null,null,9090]
[null,null,null,null,null,null,null,null,null,null,9123]
[null,null,null,null,null,null,null,null,null,null,9140]
[null,null,null,null,null,null,null,null,null,null,9189]
[null,null,null,null,null,null,null,null,null,null,9209]
[null,null,null,null,null,null,null,null,null,null,9254]
[null,null,null,null,null,null,null,null,null,null,9271]
[null,null,null,null,null,null,null,null,null,null,9320]
[null,null,null,null,null,null,null,null,null,null,9332]
[null,null,null,null,null,null,null,null,null,null,9353]
[null,null,null,null,null,null,null,null,null,null,9402]
[null,null,null,null,null,null,null,null,null,null,9419]
[null,null,null,null,null,null,null,null,null,null,9451]
[null,null,null,null,null,null,null,null,null,null,9484]
[null,null,null,null,null,null,null,null,null,null,9533]
[null,null,null,null,null,null,null,null,null,null,9550]
[null,null,null,null,null,null,null,null,null,null,9605]
[null,null,null,null,null,null,null,null,null,null,9615]
[null,null,null,null,null,null,null,null,null,null,9664]
[null,null,null,null,null,null,null,null,null,null,9681]
[null,null,null,null,null,null,null,null,null,null,9724]
[null,null,null,null,null,null,null,null,null,null,9746]
[null,null,null,null,null,null,null,null,null,null,9795]
[null,null,null,null,null,null,null,null,null,null,9812]
[null,null,null,null,null,null,null,null,null,null,9847]
[null,null,null,null,null,null,null,null,null,null,9877]
[null,null,null,null,null,null,null,null,null,null,9894]
[null,null,null,null,null,null,null,null,null,null,9943]
[null,null,null,null,null,null,null,null,null,null,9960]
[null,null,null,null,null,null,null,null,null,null,9999]
[null,null,null,null,null,null,null,null,null,null,10025]
[null,null,null,null,null,null,null,null,null,null,10074]
[null,null,null,null,null,null,null,null,null,null,10091]
[null,null,null,null,null,null,null,null,null,null,10118]
[null,null,null,null,null,null,null,null,null,null,10156]
[null,null,null,null,null,null,null,null,null,null,10205]
[null,null,null,null,null,null,null,null,null,null,10222]
[null,null,null,null,null,null,null,null,null,null,10272]
[null,null,null,null,null,null,null,null,null,null,10287]
[null,null,null,null,null,null,null,null,null,null,10336]
[null,null,null,null,null,null,null,null,null,null,10353]
[null,null,null,null,null,null,null,null,null,null,10391]
[null,null,null,null,null,null,null,null,null,null,10418]
[null,null,null,null,null,null,null,null,null,null,10435]
[null,null,null,null,null,null,null,null,null,null,10484]
[null,null,null,null,null,null,null,null,null,null,10514]
[null,null,null,null,null,null,null,null,null,null,10549]
[null,null,null,null,null,null,null,null,null,null,10566]
[null,null,null,null,null,null,null,null,null,null,10615]
[null,null,null,null,null,null,null,null,null,null,10633]
[null,null,null,null,null,null,null,null,null,null,10680]
[null,null,null,null,null,null,null,null,null,null,10697]
[null,null,null,null,null,null,null,null,null,null,10746]
[null,null,null,null,null,null,null,null,null,null,10756]
[null,null,null,null,null,null,null,null,null,null,10811]
[null,null,null,null,null,null,null,null,null,null,10828]
[null,null,null,null,null,null,null,null,null,null,10845]
[null,null,null,null,null,null,null,null,null,null,10906]
[null,null,null,null,null,null,null,null,null,null,10910]
[null,null,null,null,null,null,null,null,null,null,10959]
[null,null,null,null,null,null,null,null,null,null,10976]
[null,null,null,null,null,null,null,null,null,null,11025]
[null,null,null,null,null,null,null,null,null,null,11058]
[null,null,null,null,null,null,null,null,null,null,11090]
[null,null,null,null,null,null,null,null,null,null,11107]
[null,null,null,null,null,null,null,null,null,null,11156]
[null,null,null,null,null,null,null,null,null,null,11181]
[null,null,null,null,null,null,null,null,null,null,11221]
[null,null,null,null,null,null,null,null,null,null,11238]
[null,null,null,null,null,null,null,null,null,null,11287]
[null,null,null,null,null,null,null,null,null,null,11300]
[null,null,null,null,null,null,null,null,null,null,11352]
[null,null,null,null,null,null,null,null,null,null,11369]
[null,null,null,null,null,null,null,null,null,null,11386]
[null,null,null,null,null,null,null,null,null,null,11423]
[null,null,null,null,null,null,null,null,null,null,11451]
[null,null,null,null,null,null,null,null,null,null,11500]
[null,null,null,null,null,null,null,null,null,null,11517]
[null,null,null,null,null,null,null,null,null,null,11573]
[null,null,null,null,null,null,null,null,null,null,11582]
[null,null,null,null,null,null,null,null,null,null,11631]
[null,null,null,null,null,null,null,null,null,null,11648]
[null,null,null,null,null,null,null,null,null,null,11696]
[null,null,null,null,null,null,null,null,null,null,11713]
[null,null,null,null,null,null,null,null,null,null,11762]
[null,null,null,null,null,null,null,null,null,null,11779]
[null,null,null,null,null,null,null,null,null,null,11819]
[null,null,null,null,null,null,null,null,null,null,11844]
[null,null,null,null,null,null,null,null,null,null,11861]
[null,null,null,null,null,null,null,null,null,null,11910]
[null,null,null,null,null,null,null,null,null,null,11927]
[null,null,null,null,null,null,null,null,null,null,11967]
[null,null,null,null,null,null,null,null,null,null,11992]
[null,null,null,null,null,null,null,null,null,null,12041]
[null,null,null,null,null,null,null,null,null,null,12058]
[null,null,null,null,null,null,null,null,null,null,12090]
[null,null,null,null,null,null,null,null,null,null,12123]
[null,null,null,null,null,null,null,null,null,null,12172]
[null,null,null,null,null,null,null,null,null,null,12189]
[null,null,null,null,null,null,null,null,null,null,12240]
[null,null,null,null,null,null,null,null,null,null,12254]
[null,null,null,null,null,null,null,null,null,null,12303]
[null,null,null,null,null,null,null,null,null,null,12320]
[null,null,null,null,null,null,null,null,null,null,12363]
[null,null,null,null,null,null,null,null,null,null,12385]
[null,null,null,null,null,null,null,null,null,null,12402]
[null,null,null,null,null,null,null,null,null,null,12451]
[null,null,null,null,null,null,null,null,null,null,12486]
[null,null,null,null,null,null,null,null,null,null,12516]
[null,null,null,null,null,null,null,null,null,null,12533]
[null,null,null,null,null,null,null,null,null,null,12582]
[null,null,null,null,null,null,null,null,null,null,12605]
[null,null,null,null,null,null,null,null,null,null,12647]
[null,null,null,null,null,null,null,null,null,null,12664]
[null,null,null,null,null,null,null,null,null,null,12713]
[null,null,null,null,null,null,null,null,null,null,12728]
[null,null,null,null,null,null,null,null,null,null,12778]
[null,null,null,null,null,null,null,null,null,null,12795]
[null,null,null,null,null,null,null,null,null,null,12844]
[null,null,null,null,null,null,null,null,null,null,12847]
[null,null,null,null,null,null,null,null,null,null,12877]
[null,null,null,null,null,null,null,null,null,null,12926]
[null,null,null,null,null,null,null,null,null,null,12943]
[null,null,null,null,null,null,null,null,null,null,12992]
[null,null,null,null,null,null,null,null,null,null,13030]
[null,null,null,null,null,null,null,null,null,null,13057]
[null,null,null,null,null,null,null,null,null,null,13074]
[null,null,null,null,null,null,null,null,null,null,13123]
[null,null,null,null,null,null,null,null,null,null,13153]
[null,null,null,null,null,null,null,null,null,null,13188]
[null,null,null,null,null,null,null,null,null,null,13205]
[null,null,null,null,null,null,null,null,null,null,13254]
[null,null,null,null,null,null,null,null,null,null,13272]
[null,null,null,null,null,null,null,null,null,null,13319]
[null,null,null,null,null,null,null,null,null,null,13336]
[null,null,null,null,null,null,null,null,null,null,13385]
[null,null,null,null,null,null,null,null,null,null,13395]
[null,null,null,null,null,null,null,null,null,null,13418]
[null,null,null,null,null,null,null,null,null,null,13467]
[null,null,null,null,null,null,null,null,null,null,13484]
[null,null,null,null,null,null,null,null,null,null,13514]
[null,null,null,null,null,null,null,null,null,null,13549]
[null,null,null,null,null,null,null,null,null,null,13598]
[null,null,null,null,null,null,null,null,null,null,13615]
[null,null,null,null,null,null,null,null,null,null,13668]
[null,null,null,null,null,null,null,null,null,null,13680]
[null,null,null,null,null,null,null,null,null,null,13729]
[null,null,null,null,null,null,null,null,null,null,13746]
[null,null,null,null,null,null,null,null,null,null,13787]
[null,null,null,null,null,null,null,null,null,null,13811]
[null,null,null,null,null,null,null,null,null,null,13860]
[null,null,null,null,null,null,null,null,null,null,13877]
[null,null,null,null,null,null,null,null,null,null,13894]
[null,null,null,null,null,null,null,null,null,null,13939]
[null,null,null,null,null,null,null,null,null,null,13959]
[null,null,null,null,null,null,null,null,null,null,14008]
[null,null,null,null,null,null,null,null,null,null,14025]
[null,null,null,null,null,null,null,null,null,null,14062]
[null,null,null,null,null,null,null,null,null,null,14090]
[null,null,null,null,null,null,null,null,null,null,14139]
[null,null,null,null,null,null,null,null,null,null,14156]
[null,null,null,null,null,null,null,null,null,null,14181]
[null,null,null,null,null,null,null,null,null,null,14221]
[null,null,null,null,null,null,null,null,null,null,14270]
[null,null,null,null,null,null,null,null,null,null,14287]
[null,null,null,null,null,null,null,null,null,null,14335]
[null,null,null,null,null,null,null,null,null,null,14352]
[null,null,null,null,null,null,null,null,null,null,14401]
[null,null,null,null,null,null,null,null,null,null,14418]
[null,null,null,null,null,null,null,null,null,null,14454]
[null,null,null,null,null,null,null,null,null,null,14483]
[null,null,null,null,null,null,null,null,null,null,14500]
[null,null,null,null,null,null,null,null,null,null,14549]
[null,null,null,null,null,null,null,null,null,null,14577]
[null,null,null,null,null,null,null,null,null,null,14614]
[null,null,null,null,null,null,null,null,null,null,14631]
[null,null,null,null,null,null,null,null,null,null,14680]
[null,null,null,null,null,null,null,null,null,null,14696]
[null,null,null,null,null,null,null,null,null,null,14745]
[null,null,null,null,null,null,null,null,null,null,14762]
[null,null,null,null,null,null,null,null,null,null,14811]
[null,null,null,null,null,null,null,null,null,null,14819]
[null,null,null,null,null,null,null,null,null,null,14876]
[null,null,null,null,null,null,null,null,null,null,14893]
[null,null,null,null,null,null,null,null,null,null,14910]
[null,null,null,null,null,null,null,null,null,null,14959]
[null,null,null,null,null,null,null,null,null,null,15002]
[null,null,null,null,null,null,null,null,null,null,15024]
[null,null,null,null,null,null,null,null,null,null,15041]
[null,null,null,null,null,null,null,null,null,null,15090]
[null,null,null,null,null,null,null,null,null,null,15121]
[null,null,null,null,null,null,null,null,null,null,15155]
[null,null,null,null,null,null,null,null,null,null,15172]
[null,null,null,null,null,null,null,null,null,null,15221]
[null,null,null,null,null,null,null,null,null,null,15244]
[null,null,null,null,null,null,null,null,null,null,15286]
[null,null,null,null,null,null,null,null,null,null,15303]
[null,null,null,null,null,null,null,null,null,null,15352]
[null,null,null,null,null,null,null,null,null,null,15363]
[null,null,null,null,null,null,null,null,null,null,15417]
[null,null,null,null,null,null,null,null,null,null,15434]
[null,null,null,null,null,null,null,null,null,null,15451]
[null,null,null,null,null,null,null,null,null,null,15486]
[null,null,null,null,null,null,null,null,null,null,15516]
[null,null,null,null,null,null,null,null,null,null,15565]
[null,null,null,null,null,null,null,null,null,null,15582]
[null,null,null,null,null,null,null,null,null,null,15636]
[null,null,null,null,null,null,null,null,null,null,15647]
[null,null,null,null,null,null,null,null,null,null,15696]
[null,null,null,null,null,null,null,null,null,null,15713]
[null,null,null,null,null,null,null,null,null,null,15759]
[null,null,null,null,null,null,null,null,null,null,15778]
[null,null,null,null,null,null,null,null,null,null,15827]
[null,null,null,null,null,null,null,null,null,null,15844]
[null,null,null,null,null,null,null,null,null,null,15893]
[null,null,null,null,null,null,null,null,null,null,15911]
[null,null,null,null,null,null,null,null,null,null,15926]
[null,null,null,null,null,null,null,null,null,null,15975]
[null,null,null,null,null,null,null,null,null,null,15992]
[null,null,null,null,null,null,null,null,null,null,16030]
[null,null,null,null,null,null,null,null,null,null,16057]
[null,null,null,null,null,null,null,null,null,null,16106]
[null,null,null,null,null,null,null,null,null,null,16123]
[null,null,null,null,null,null,null,null,null,null,16153]
[null,null,null,null,null,null,null,null,null,null,16188]
[null,null,null,null,null,null,null,null,null,null,16237]
[null,null,null,null,null,null,null,null,null,null,16254]
[null,null,null,null,null,null,null,null,null,null,16303]
[null,null,null,null,null,null,null,null,null,null,16319]
[null,null,null,null,null,null,null,null,null,null,16368]
[null,null,null,null,null,null,null,null,null,null,16385]
[null,null,null,null,null,null,null,null,null,null,16426]
[null,null,null,null,null,null,null,null,null,null,16450]
[null,null,null,null,null,null,null,null,null,null,16467]
[null,null,null,null,null,null,null,null,null,null,16516]
[null,null,null,null,null,null,null,null,null,null,16545]
[null,null,null,null,null,null,null,null,null,null,16581]
[null,null,null,null,null,null,null,null,null,null,16598]
[null,null,null,null,null,null,null,null,null,null,16647]
[null,null,null,null,null,null,null,null,null,null,16668]
[null,null,null,null,null,null,null,null,null,null,16712]
[null,null,null,null,null,null,null,null,null,null,16729]
[null,null,null,null,null,null,null,null,null,null,16778]
[null,null,null,null,null,null,null,null,null,null,16787]
[null,null,null,null,null,null,null,null,null,null,16843]
[null,null,null,null,null,null,null,null,null,null,16860]
[null,null,null,null,null,null,null,null,null,null,16909]
[null,null,null,null,null,null,null,null,null,null,16926]
[null,null,null,null,null,null,null,null,null,null,16970]
[null,null,null,null,null,null,null,null,null,null,16991]
[null,null,null,null,null,null,null,null,null,null,17008]
[null,null,null,null,null,null,null,null,null,null,17057]
[null,null,null,null,null,null,null,null,null,null,17093]
[null,null,null,null,null,null,null,null,null,null,17122]
[null,null,null,null,null,null,null,null,null,null,17139]
[null,null,null,null,null,null,null,null,null,null,17188]
[null,null,null,null,null,null,null,null,null,null,17212]
[null,null,null,null,null,null,null,null,null,null,17253]
[null,null,null,null,null,null,null,null,null,null,17270]
[null,null,null,null,null,null,null,null,null,null,17319]
[null,null,null,null,null,null,null,null,null,null,17335]
[null,null,null,null,null,null,null,null,null,null,17384]
[null,null,null,null,null,null,null,null,null,null,17401]
[null,null,null,null,null,null,null,null,null,null,17450]
[null,null,null,null,null,null,null,null,null,null,17458]
[null,null,null,null,null,null,null,null,null,null,17483]
[null,null,null,null,null,null,null,null,null,null,17532]
[null,null,null,null,null,null,null,null,null,null,17549]
[null,null,null,null,null,null,null,null,null,null,17608]
[null,null,null,null,null,null,null,null,null,null,17614]
[null,null,null,null,null,null,null,null,null,null,17663]
[null,null,null,null,null,null,null,null,null,null,17680]
[null,null,null,null,null,null,null,null,null,null,17731]
[null,null,null,null,null,null,null,null,null,null,17745]
[null,null,null,null,null,null,null,null,null,null,17794]
[null,null,null,null,null,null,null,null,null,null,17811]
[null,null,null,null,null,null,null,null,null,null,17860]
[null,null,null,null,null,null,null,null,null,null,17879]
[null,null,null,null,null,null,null,null,null,null,17925]
[null,null,null,null,null,null,null,null,null,null,17942]
[null,null,null,null,null,null,null,null,null,null,17959]
[null,null,null,null,null,null,null,null,null,null,18002]
[null,null,null,null,null,null,null,null,null,null,18024]
[null,null,null,null,null,null,null,null,null,null,18073]
[null,null,null,null,null,null,null,null,null,null,18090]
[null,null,null,null,null,null,null,null,null,null,18125]
[null,null,null,null,null,null,null,null,null,null,18155]
[null,null,null,null,null,null,null,null,null,null,18204]
[null,null,null,null,null,null,null,null,null,null,18221]
[null,null,null,null,null,null,null,null,null,null,18275]
[null,null,null,null,null,null,null,null,null,null,18286]
[null,null,null,null,null,null,null,null,null,null,18335]
[null,null,null,null,null,null,null,null,null,null,18352]
[null,null,null,null,null,null,null,null,null,null,18398]
[null,null,null,null,null,null,null,null,null,null,18417]
[null,null,null,null,null,null,null,null,null,null,18466]
[null,null,null,null,null,null,null,null,null,null,18483]
[null,null,null,null,null,null,null,null,null,null,18517]
[null,null,null,null,null,null,null,null,null,null,18548]
[null,null,null,null,null,null,null,null,null,null,18565]
[null,null,null,null,null,null,null,null,null,null,18614]
[null,null,null,null,null,null,null,null,null,null,18640]
[null,null,null,null,null,null,null,null,null,null,18679]
[null,null,null,null,null,null,null,null,null,null,18696]
[null,null,null,null,null,null,null,null,null,null,18745]
[null,null,null,null,null,null,null,null,null,null,18759]
[null,null,null,null,null,null,null,null,null,null,18810]
[null,null,null,null,null,null,null,null,null,null,18827]
[null,null,null,null,null,null,null,null,null,null,18876]
[null,null,null,null,null,null,null,null,null,null,18893]
[null,null,null,null,null,null,null,null,null,null,18942]
[null,null,null,null,null,null,null,null,null,null,18958]
[null,null,null,null,null,null,null,null,null,null,18975]
[null,null,null,null,null,null,null,null,null,null,19024]
[null,null,null,null,null,null,null,null,null,null,19065]
[null,null,null,null,null,null,null,null,null,null,19089]
[null,null,null,null,null,null,null,null,null,null,19106]
[null,null,null,null,null,null,null,null,null,null,19155]
[null,null,null,null,null,null,null,null,null,null,19184]
[null,null,null,null,null,null,null,null,null,null,19220]
[null,null,null,null,null,null,null,null,null,null,19237]
[null,null,null,null,null,null,null,null,null,null,19286]
[null,null,null,null,null,null,null,null,null,null,19307]
[null,null,null,null,null,null,null,null,null,null,19351]
[null,null,null,null,null,null,null,null,null,null,19368]
[null,null,null,null,null,null,null,null,null,null,19417]
[null,null,null,null,null,null,null,null,null,null,19426]
[null,null,null,null,null,null,null,null,null,null,19482]
[null,null,null,null,null,null,null,null,null,null,19499]
[null,null,null,null,null,null,null,null,null,null,19516]
[null,null,null,null,null,null,null,null,null,null,19549]
[null,null,null,null,null,null,null,null,null,null,19581]
[null,null,null,null,null,null,null,null,null,null,19630]
[null,null,null,null,null,null,null,null,null,null,19647]
[null,null,null,null,null,null,null,null,null,null,19699]
[null,null,null,null,null,null,null,null,null,null,19712]
[null,null,null,null,null,null,null,null,null,null,19761]
[null,null,null,null,null,null,null,null,null,null,19778]
[null,null,null,null,null,null,null,null,null,null,19822]
[null,null,null,null,null,null,null,null,null,null,19843]
[null,null,null,null,null,null,null,null,null,null,19892]
[null,null,null,null,null,null,null,null,null,null,19909]
[null,null,null,null,null,null,null,null,null,null,19958]
[null,null,null,null,null,null,null,null,null,null,19974]
[null,null,null,null,null,null,null,null,null,null,19991]
[null,null,null,null,null,null,null,null,null,null,20040]
[null,null,null,null,null,null,null,null,null,null,20057]
[null,null,null,null,null,null,null,null,null,null,20093]
[null,null,null,null,null,null,null,null,null,null,20122]
[null,null,null,null,null,null,null,null,null,null,20171]
[null,null,null,null,null,null,null,null,null,null,20188]
[null,null,null,null,null,null,null,null,null,null,20216]
[null,null,null,null,null,null,null,null,null,null,20253]
[null,null,null,null,null,null,null,null,null,null,20302]
[null,null,null,null,null,null,null,null,null,null,20319]
[null,null,null,null,null,null,null,null,null,null,20366]
[null,null,null,null,null,null,null,null,null,null,20384]
[null,null,null,null,null,null,null,null,null,null,20433]
[null,null,null,null,null,null,null,null,null,null,20450]
[null,null,null,null,null,null,null,null,null,null,20489]
[null,null,null,null,null,null,null,null,null,null,20515]
[null,null,null,null,null,null,null,null,null,null,20532]
[null,null,null,null,null,null,null,null,null,null,20581]
[null,null,null,null,null,null,null,null,null,null,20608]
[null,null,null,null,null,null,null,null,null,null,20646]
[null,null,null,null,null,null,null,null,null,null,20663]
[null,null,null,null,null,null,null,null,null,null,20712]
[null,null,null,null,null,null,null,null,null,null,20731]
[null,null,null,null,null,null,null,null,null,null,20777]
[null,null,null,null,null,null,null,null,null,null,20794]
[null,null,null,null,null,null,null,null,null,null,20843]
[null,null,null,null,null,null,null,null,null,null,20860]
[null,null,null,null,null,null,null,null,null,null,20883]
[null,null,null,null,null,null,null,null,null,null,20925]
[null,null,null,null,null,null,null,null,null,null,20974]
[null,null,null,null,null,null,null,null,null,null,20991]
[null,null,null,null,null,null,null,null,null,null,21033]
[null,null,null,null,null,null,null,null,null,null,21056]
[null,null,null,null,null,null,null,null,null,null,21073]
[null,null,null,null,null,null,null,null,null,null,21122]
[null,null,null,null,null,null,null,null,null,null,21156]
[null,null,null,null,null,null,null,null,null,null,21187]
[null,null,null,null,null,null,null,null,null,null,21204]
[null,null,null,null,null,null,null,null,null,null,21253]
[null,null,null,null,null,null,null,null,null,null,21275]
[null,null,null,null,null,null,null,null,null,null,21318]
[null,null,null,null,null,null,null,null,null,null,21335]
[null,null,null,null,null,null,null,null,null,null,21384]
[null,null,null,null,null,null,null,null,null,null,21398]
[null,null,null,null,null,null,null,null,null,null,21449]
[null,null,null,null,null,null,null,null,null,null,21466]
[null,null,null,null,null,null,null,null,null,null,21515]
[null,null,null,null,null,null,null,null,null,null,21517]
[null,null,null,null,null,null,null,null,null,null,21548]
[null,null,null,null,null,null,null,null,null,null,21597]
[null,null,null,null,null,null,null,null,null,null,21614]
[null,null,null,null,null,null,null,null,null,null,21671]
[null,null,null,null,null,null,null,null,null,null,21679]
[null,null,null,null,null,null,null,null,null,null,21728]
[null,null,null,null,null,null,null,null,null,null,21745]
[null,null,null,null,null,null,null,null,null,null,21790]
[null,null,null,null,null,null,null,null,null,null,21810]
[null,null,null,null,null,null,null,null,null,null,21859]
[null,null,null,null,null,null,null,null,null,null,21876]
[null,null,null,null,null,null,null,null,null,null,21925]
[null,null,null,null,null,null,null,null,null,null,21942]
[null,null,null,null,null,null,null,null,null,null,21990]
[null,null,null,null,null,null,null,null,null,null,22007]
[null,null,null,null,null,null,null,null,null,null,22024]
[null,null,null,null,null,null,null,null,null,null,22065]
[null,null,null,null,null,null,null,null,null,null,22089]
[null,null,null,null,null,null,null,null,null,null,22138]
[null,null,null,null,null,null,null,null,null,null,22155]
[null,null,null,null,null,null,null,null,null,null,22184]
[null,null,null,null,null,null,null,null,null,null,22220]
[null,null,null,null,null,null,null,null,null,null,22269]
[null,null,null,null,null,null,null,null,null,null,22286]
[null,null,null,null,null,null,null,null,null,null,22338]
[null,null,null,null,null,null,null,null,null,null,22351]
[null,null,null,null,null,null,null,null,null,null,22400]
[null,null,null,null,null,null,null,null,null,null,22417]
[null,null,null,null,null,null,null,null,null,null,22457]
[null,null,null,null,null,null,null,null,null,null,22482]
[null,null,null,null,null,null,null,null,null,null,22531]
[null,null,null,null,null,null,null,null,null,null,22548]
[null,null,null,null,null,null,null,null,null,null,22580]
[null,null,null,null,null,null,null,null,null,null,22613]
[null,null,null,null,null,null,null,null,null,null,22630]
[null,null,null,null,null,null,null,null,null,null,22679]
[null,null,null,null,null,null,null,null,null,null,22703]
[null,null,null,null,null,null,null,null,null,null,22744]
[null,null,null,null,null,null,null,null,null,null,22761]
[null,null,null,null,null,null,null,null,null,null,22810]
[null,null,null,null,null,null,null,null,null,null,22827]
[null,null,null,null,null,null,null,null,null,null,22851]
[null,null,null,null,null,null,null,null,null,null,22892]
[null,null,null,null,null,null,null,null,null,null,22941]
[null,null,null,null,null,null,null,null,null,null,22958]
[null,null,null,null,null,null,null,null,null,null,23005]
[null,null,null,null,null,null,null,null,null,null,23023]
[null,null,null,null,null,null,null,null,null,null,23040]
[null,null,null,null,null,null,null,null,null,null,23089]
[null,null,null,null,null,null,null,null,null,null,23128]
[null,null,null,null,null,null,null,null,null,null,23154]
[null,null,null,null,null,null,null,null,null,null,23171]
[null,null,null,null,null,null,null,null,null,null,23220]
[null,null,null,null,null,null,null,null,null,null,23247]
[null,null,null,null,null,null,null,null,null,null,23285]
[null,null,null,null,null,null,null,null,null,null,23302]
[null,null,null,null,null,null,null,null,null,null,23351]
[null,null,null,null,null,null,null,null,null,null,23370]
[null,null,null,null,null,null,null,null,null,null,23416]
[null,null,null,null,null,null,null,null,null,null,23433]
[null,null,null,null,null,null,null,null,null,null,23482]
[null,null,null,null,null,null,null,null,null,null,23489]
[null,null,null,null,null,null,null,null,null,null,23547]
[null,null,null,null,null,null,null,null,null,null,23564]
[null,null,null,null,null,null,null,null,null,null,23581]
[null,null,null,null,null,null,null,null,null,null,23612]
[null,null,null,null,null,null,null,null,null,null,23646]
[null,null,null,null,null,null,null,null,null,null,23695]
[null,null,null,null,null,null,null,null,null,null,23712]
[null,null,null,null,null,null,null,null,null,null,23762]
[null,null,null,null,null,null,null,null,null,null,23777]
[null,null,null,null,null,null,null,null,null,null,23826]
[null,null,null,null,null,null,null,null,null,null,23843]
[null,null,null,null,null,null,null,null,null,null,23892]
[null,null,null,null,null,null,null,null,null,null,23914]
[null,null,null,null,null,null,null,null,null,null,23957]
[null,null,null,null,null,null,null,null,null,null,23974]
[null,null,null,null,null,null,null,null,null,null,24023]
[null,null,null,null,null,null,null,null,null,null,24037]
[null,null,null,null,null,null,null,null,null,null,24056]
[null,null,null,null,null,null,null,null,null,null,24105]
[null,null,null,null,null,null,null,null,null,null,24122]
[null,null,null,null,null,null,null,null,null,null,24156]
[null,null,null,null,null,null,null,null,null,null,24187]
[null,null,null,null,null,null,null,null,null,null,24236]
[null,null,null,null,null,null,null,null,null,null,24253]
[null,null,null,null,null,null,null,null,null,null,24279]
[null,null,null,null,null,null,null,null,null,null,24318]
[null,null,null,null,null,null,null,null,null,null,24367]
[null,null,null,null,null,null,null,null,null,null,24384]
[null,null,null,null,null,null,null,null,null,null,24429]
[null,null,null,null,null,null,null,null,null,null,24449]
[null,null,null,null,null,null,null,null,null,null,24498]
[null,null,null,null,null,null,null,null,null,null,24515]
[null,null,null,null,null,null,null,null,null,null,24552]
[null,null,null,null,null,null,null,null,null,null,24580]
[null,null,null,null,null,null,null,null,null,null,24597]
[null,null,null,null,null,null,null,null,null,null,24646]
[null,null,null,null,null,null,null,null,null,null,24671]
[null,null,null,null,null,null,null,null,null,null,24711]
[null,null,null,null,null,null,null,null,null,null,24728]
[null,null,null,null,null,null,null,null,null,null,24777]
[null,null,null,null,null,null,null,null,null,null,24794]
[null,null,null,null,null,null,null,null,null,null,24823]
[null,null,null,null,null,null,null,null,null,null,24859]
[null,null,null,null,null,null,null,null,null,null,24908]
[null,null,null,null,null,null,null,null,null,null,24925]
[null,null,null,null,null,null,null,null,null,null,24946]
[null,null,null,null,null,null,null,null,null,null,24990]
[null,null,null,null,null,null,null,null,null,null,25039]
[null,null,null,null,null,null,null,null,null,null,25056]
[null,null,null,null,null,null,null,null,null,null,25096]
[null,null,null,null,null,null,null,null,null,null,25121]
[null,null,null,null,null,null,null,null,null,null,25138]
[null,null,null,null,null,null,null,null,null,null,25187]
[null,null,null,null,null,null,null,null,null,null,25219]
[null,null,null,null,null,null,null,null,null,null,25252]
[null,null,null,null,null,null,null,null,null,null,25269]
[null,null,null,null,null,null,null,null,null,null,25318]
[null,null,null,null,null,null,null,null,null,null,25338]
[null,null,null,null,null,null,null,null,null,null,25383]
[null,null,null,null,null,null,null,null,null,null,25400]
[null,null,null,null,null,null,null,null,null,null,25449]
[null,null,null,null,null,null,null,null,null,null,25461]
[null,null,null,null,null,null,null,null,null,null,25514]
[null,null,null,null,null,null,null,null,null,null,25531]
[null,null,null,null,null,null,null,null,null,null,25580]
[null,null,null,null,null,null,null,null,null,null,25611]
[null,null,null,null,null,null,null,null,null,null,25613]
[null,null,null,null,null,null,null,null,null,null,25662]
[null,null,null,null,null,null,null,null,null,null,25679]
[null,null,null,null,null,null,null,null,null,null,25734]
[null,null,null,null,null,null,null,null,null,null,25744]
[null,null,null,null,null,null,null,null,null,null,25793]
[null,null,null,null,null,null,null,null,null,null,25810]
[null,null,null,null,null,null,null,null,null,null,25859]
[null,null,null,null,null,null,null,null,null,null,25886]
[null,null,null,null,null,null,null,null,null,null,25924]
[null,null,null,null,null,null,null,null,null,null,25941]
[null,null,null,null,null,null,null,null,null,null,25990]
[null,null,null,null,null,null,null,null,null,null,26005]
[null,null,null,null,null,null,null,null,null,null,26055]
[null,null,null,null,null,null,null,null,null,null,26072]
[null,null,null,null,null,null,null,null,null,null,26089]
[null,null,null,null,null,null,null,null,null,null,26128]
[null,null,null,null,null,null,null,null,null,null,26154]
[null,null,null,null,null,null,null,null,null,null,26203]
[null,null,null,null,null,null,null,null,null,null,26220]
[null,null,null,null,null,null,null,null,null,null,26278]
[null,null,null,null,null,null,null,null,null,null,26285]
[null,null,null,null,null,null,null,null,null,null,26334]
[null,null,null,null,null,null,null,null,null,null,26351]
[null,null,null,null,null,null,null,null,null,null,26401]
[null,null,null,null,null,null,null,null,null,null,26416]
[null,null,null,null,null,null,null,null,null,null,26465]
[null,null,null,null,null,null,null,null,null,null,26482]
[null,null,null,null,null,null,null,null,null,null,26520]
[null,null,null,null,null,null,null,null,null,null,26547]
[null,null,null,null,null,null,null,null,null,null,26596]
[null,null,null,null,null,null,null,null,null,null,26613]
[null,null,null,null,null,null,null,null,null,null,26643]
[null,null,null,null,null,null,null,null,null,null,26678]
[null,null,null,null,null,null,null,null,null,null,26695]
[null,null,null,null,null,null,null,null,null,null,26744]
[null,null,null,null,null,null,null,null,null,null,26762]
[null,null,null,null,null,null,null,null,null,null,26809]
[null,null,null,null,null,null,null,null,null,null,26826]
[null,null,null,null,null,null,null,null,null,null,26875]
[null,null,null,null,null,null,null,null,null,null,26892]
[null,null,null,null,null,null,null,null,null,null,26945]
[null,null,null,null,null,null,null,null,null,null,26957]
[null,null,null,null,null,null,null,null,null,null,27006]
[null,null,null,null,null,null,null,null,null,null,27023]
[null,null,null,null,null,null,null,null,null,null,27068]
[null,null,null,null,null,null,null,null,null,null,27088]
[null,null,null,null,null,null,null,null,null,null,27105]
[null,null,null,null,null,null,null,null,null,null,27154]
[null,null,null,null,null,null,null,null,null,null,27187]
[null,null,null,null,null,null,null,null,null,null,27219]
[null,null,null,null,null,null,null,null,null,null,27236]
[null,null,null,null,null,null,null,null,null,null,27285]
[null,null,null,null,null,null,null,null,null,null,27310]
[null,null,null,null,null,null,null,null,null,null,27350]
[null,null,null,null,null,null,null,null,null,null,27367]
[null,null,null,null,null,null,null,null,null,null,27416]
[null,null,null,null,null,null,null,null,null,null,27429]
[null,null,null,null,null,null,null,null,null,null,27481]
[null,null,null,null,null,null,null,null,null,null,27498]
[null,null,null,null,null,null,null,null,null,null,27547]
[null,null,null,null,null,null,null,null,null,null,27552]
[null,null,null,null,null,null,null,null,null,null,27612]
[null,null,null,null,null,null,null,null,null,null,27629]
[null,null,null,null,null,null,null,null,null,null,27646]
[null,null,null,null,null,null,null,null,null,null,27706]
[null,null,null,null,null,null,null,null,null,null,27711]
[null,null,null,null,null,null,null,null,null,null,27760]
[null,null,null,null,null,null,null,null,null,null,27777]
[null,null,null,null,null,null,null,null,null,null,27826]
[null,null,null,null,null,null,null,null,null,null,27854]
[null,null,null,null,null,null,null,null,null,null,27891]
[null,null,null,null,null,null,null,null,null,null,27908]
[null,null,null,null,null,null,null,null,null,null,27957]
[null,null,null,null,null,null,null,null,null,null,27977]
[null,null,null,null,null,null,null,null,null,null,28022]
[null,null,null,null,null,null,null,null,null,null,28039]
[null,null,null,null,null,null,null,null,null,null,28088]
[null,null,null,null,null,null,null,null,null,null,28096]
[null,null,null,null,null,null,null,null,null,null,28121]
[null,null,null,null,null,null,null,null,null,null,28170]
[null,null,null,null,null,null,null,null,null,null,28187]
[null,null,null,null,null,null,null,null,null,null,28219]
[null,null,null,null,null,null,null,null,null,null,28252]
[null,null,null,null,null,null,null,null,null,null,28301]
[null,null,null,null,null,null,null,null,null,null,28318]
[null,null,null,null,null,null,null,null,null,null,28373]
[null,null,null,null,null,null,null,null,null,null,28383]
[null,null,null,null,null,null,null,null,null,null,28432]
[null,null,null,null,null,null,null,null,null,null,28449]
[null,null,null,null,null,null,null,null,null,null,28492]
[null,null,null,null,null,null,null,null,null,null,28514]
[null,null,null,null,null,null,null,null,null,null,28563]
[null,null,null,null,null,null,null,null,null,null,28580]
[null,null,null,null,null,null,null,null,null,null,28615]
[null,null,null,null,null,null,null,null,null,null,28645]
[null,null,null,null,null,null,null,null,null,null,28662]
[null,null,null,null,null,null,null,null,null,null,28711]
[null,null,null,null,null,null,null,null,null,null,28734]
[null,null,null,null,null,null,null,null,null,null,28776]
[null,null,null,null,null,null,null,null,null,null,28793]
[null,null,null,null,null,null,null,null,null,null,28842]
[null,null,null,null,null,null,null,null,null,null,28859]
[null,null,null,null,null,null,null,null,null,null,28886]
[null,null,null,null,null,null,null,null,null,null,28924]
[null,null,null,null,null,null,null,null,null,null,28973]
[null,null,null,null,null,null,null,null,null,null,28990]
[null,null,null,null,null,null,null,null,null,null,29040]
[null,null,null,null,null,null,null,null,null,null,29055]
[null,null,null,null,null,null,null,null,null,null,29104]
[null,null,null,null,null,null,null,null,null,null,29121]
[null,null,null,null,null,null,null,null,null,null,29159]
[null,null,null,null,null,null,null,null,null,null,29186]
[null,null,null,null,null,null,null,null,null,null,29203]
[null,null,null,null,null,null,null,null,null,null,29252]
[null,null,null,null,null,null,null,null,null,null,29282]
[null,null,null,null,null,null,null,null,null,null,29317]
[null,null,null,null,null,null,null,null,null,null,29334]
[null,null,null,null,null,null,null,null,null,null,29383]
[null,null,null,null,null,null,null,null,null,null,29401]
[null,null,null,null,null,null,null,null,null,null,29448]
[null,null,null,null,null,null,null,null,null,null,29465]
[null,null,null,null,null,null,null,null,null,null,29514]
[null,null,null,null,null,null,null,null,null,null,29524]
[null,null,null,null,null,null,null,null,null,null,29579]
[null,null,null,null,null,null,null,null,null,null,29596]
[null,null,null,null,null,null,null,null,null,null,29645]
[null,null,null,null,null,null,null,null,null,null,29674]
[null,null,null,null,null,null,null,null,null,null,29678]
[null,null,null,null,null,null,null,null,null,null,29727]
[null,null,null,null,null,null,null,null,null,null,29744]
[null,null,null,null,null,null,null,null,null,null,29793]
[null,null,null,null,null,null,null,null,null,null,29826]
[null,null,null,null,null,null,null,null,null,null,29858]
[null,null,null,null,null,null,null,null,null,null,29875]
[null,null,null,null,null,null,null,null,null,null,29924]
[null,null,null,null,null,null,null,null,null,null,29949]
[null,null,null,null,null,null,null,null,null,null,29989]
[null,null,null,null,null,null,null,null,null,null,30006]
[null,null,null,null,null,null,null,null,null,null,30055]
[null,null,null,null,null,null,null,null,null,null,30068]
[null,null,null,null,null,null,null,null,null,null,30120]
[null,null,null,null,null,null,null,null,null,null,30137]
[null,null,null,null,null,null,null,null,null,null,30154]
[null,null,null,null,null,null,null,null,null,null,30191]
[null,null,null,null,null,null,null,null,null,null,30219]
[null,null,null,null,null,null,null,null,null,null,30268]
[null,null,null,null,null,null,null,null,null,null,30285]
[null,null,null,null,null,null,null,null,null,null,30341]
[null,null,null,null,null,null,null,null,null,null,30350]
[null,null,null,null,null,null,null,null,null,null,30399]
[null,null,null,null,null,null,null,null,null,null,30416]
[null,null,null,null,null,null,null,null,null,null,30464]
[null,null,null,null,null,null,null,null,null,null,30481]
[null,null,null,null,null,null,null,null,null,null,30530]
[null,null,null,null,null,null,null,null,null,null,30547]
[null,null,null,null,null,null,null,null,null,null,30583]
[null,null,null,null,null,null,null,null,null,null,30612]
[null,null,null,null,null,null,null,null,null,null,30661]
[null,null,null,null,null,null,null,null,null,null,30678]
[null,null,null,null,null,null,null,null,null,null,30706]
[null,null,null,null,null,null,null,null,null,null,30743]
[null,null,null,null,null,null,null,null,null,null,30760]
[null,null,null,null,null,null,null,null,null,null,30809]
[null,null,null,null,null,null,null,null,null,null,30826]
[null,null,null,null,null,null,null,null,null,null,30858]
[null,null,null,null,null,null,null,null,null,null,30891]
[null,null,null,null,null,null,null,null,null,null,30940]
[null,null,null,null,null,null,null,null,null,null,30957]
[null,null,null,null,null,null,null,null,null,null,31008]
[null,null,null,null,null,null,null,null,null,null,31022]
[null,null,null,null,null,null,null,null,null,null,31071]
[null,null,null,null,null,null,null,null,null,null,31088]
[null,null,null,null,null,null,null,null,null,null,31131]
[null,null,null,null,null,null,null,null,null,null,31153]
[null,null,null,null,null,null,null,null,null,null,31170]
[null,null,null,null,null,null,null,null,null,null,31219]
[null,null,null,null,null,null,null,null,null,null,31250]
[null,null,null,null,null,null,null,null,null,null,31284]
[null,null,null,null,null,null,null,null,null,null,31301]
[null,null,null,null,null,null,null,null,null,null,31350]
[null,null,null,null,null,null,null,null,null,null,31373]
[null,null,null,null,null,null,null,null,null,null,31415]
[null,null,null,null,null,null,null,null,null,null,31432]
[null,null,null,null,null,null,null,null,null,null,31481]
[null,null,null,null,null,null,null,null,null,null,31492]
[null,null,null,null,null,null,null,null,null,null,31546]
[null,null,null,null,null,null,null,null,null,null,31563]
[null,null,null,null,null,null,null,null,null,null,31612]
[null,null,null,null,null,null,null,null,null,null,31615]
[null,null,null,null,null,null,null,null,null,null,31677]
[null,null,null,null,null,null,null,null,null,null,31694]
[null,null,null,null,null,null,null,null,null,null,31711]
[null,null,null,null,null,null,null,null,null,null,31760]
[null,null,null,null,null,null,null,null,null,null,31798]
[null,null,null,null,null,null,null,null,null,null,31825]
[null,null,null,null,null,null,null,null,null,null,31842]
[null,null,null,null,null,null,null,null,null,null,31891]
[null,null,null,null,null,null,null,null,null,null,31917]
[null,null,null,null,null,null,null,null,null,null,31956]
[null,null,null,null,null,null,null,null,null,null,31973]
[null,null,null,null,null,null,null,null,null,null,32022]
[null,null,null,null,null,null,null,null,null,null,32040]
[null,null,null,null,null,null,null,null,null,null,32087]
[null,null,null,null,null,null,null,null,null,null,32104]
[null,null,null,null,null,null,null,null,null,null,32153]
[null,null,null,null,null,null,null,null,null,null,32159]
[null,null,null,null,null,null,null,null,null,null,32186]
[null,null,null,null,null,null,null,null,null,null,32235]
[null,null,null,null,null,null,null,null,null,null,32252]
[null,null,null,null,null,null,null,null,null,null,32282]
[null,null,null,null,null,null,null,null,null,null,32317]
[null,null,null,null,null,null,null,null,null,null,32366]
[null,null,null,null,null,null,null,null,null,null,32383]
[null,null,null,null,null,null,null,null,null,null,32432]
[null,null,null,null,null,null,null,null,null,null,32448]
[null,null,null,null,null,null,null,null,null,null,32497]
[null,null,null,null,null,null,null,null,null,null,32514]
[null,null,null,null,null,null,null,null,null,null,32555]
[null,null,null,null,null,null,null,null,null,null,32579]
[null,null,null,null,null,null,null,null,null,null,32628]
[null,null,null,null,null,null,null,null,null,null,32645]
[null,null,null,null,null,null,null,null,null,null,32674]
[null,null,null,null,null,null,null,null,null,null,32710]
[null,null,null,null,null,null,null,null,null,null,32727]
[null,null,null,null,null,null,null,null,null,null,32776]
[null,null,null,null,null,null,null,null,null,null,32793]
[null,null,null,null,null,null,null,null,null,null,32826]
[null,null,null,null,null,null,null,null,null,null,32858]
[null,null,null,null,null,null,null,null,null,null,32907]
[null,null,null,null,null,null,null,null,null,null,32924]
[null,null,null,null,null,null,null,null,null,null,32949]
[null,null,null,null,null,null,null,null,null,null,32989]
[null,null,null,null,null,null,null,null,null,null,33038]
[null,null,null,null,null,null,null,null,null,null,33055]
[null,null,null,null,null,null,null,null,null,null,33099]
[null,null,null,null,null,null,null,null,null,null,33120]
[null,null,null,null,null,null,null,null,null,null,33169]
[null,null,null,null,null,null,null,null,null,null,33186]
[null,null,null,null,null,null,null,null,null,null,33222]
[null,null,null,null,null,null,null,null,null,null,33251]
[null,null,null,null,null,null,null,null,null,null,33268]
[null,null,null,null,null,null,null,null,null,null,33317]
[null,null,null,null,null,null,null,null,null,null,33345]
[null,null,null,null,null,null,null,null,null,null,33382]
[null,null,null,null,null,null,null,null,null,null,33399]
[null,null,null,null,null,null,null,null,null,null,33448]
[null,null,null,null,null,null,null,null,null,null,33464]
[null,null,null,null,null,null,null,null,null,null,33513]
[null,null,null,null,null,null,null,null,null,null,33530]
[null,null,null,null,null,null,null,null,null,null,33579]
[null,null,null,null,null,null,null,null,null,null,33587]
[null,null,null,null,null,null,null,null,null,null,33644]
[null,null,null,null,null,null,null,null,null,null,33661]
[null,null,null,null,null,null,null,null,null,null,33710]
[null,null,null,null,null,null,null,null,null,null,33727]
[null,null,null,null,null,null,null,null,null,null,33766]
[null,null,null,null,null,null,null,null,null,null,33792]
[null,null,null,null,null,null,null,null,null,null,33809]
[null,null,null,null,null,null,null,null,null,null,33858]
[null,null,null,null,null,null,null,null,null,null,33889]
[null,null,null,null,null,null,null,null,null,null,33923]
[null,null,null,null,null,null,null,null,null,null,33940]
[null,null,null,null,null,null,null,null,null,null,33989]
[null,null,null,null,null,null,null,null,null,null,34012]
[null,null,null,null,null,null,null,null,null,null,34054]
[null,null,null,null,null,null,null,null,null,null,34071]
[null,null,null,null,null,null,null,null,null,null,34120]
[null,null,null,null,null,null,null,null,null,null,34131]
[null,null,null,null,null,null,null,null,null,null,34185]
[null,null,null,null,null,null,null,null,null,null,34202]
[null,null,null,null,null,null,null,null,null,null,34219]
[null,null,null,null,null,null,null,null,null,null,34254]
[null,null,null,null,null,null,null,null,null,null,34284]
[null,null,null,null,null,null,null,null,null,null,34333]
[null,null,null,null,null,null,null,null,null,null,34350]
[null,null,null,null,null,null,null,null,null,null,34404]
[null,null,null,null,null,null,null,null,null,null,34415]
[null,null,null,null,null,null,null,null,null,null,34464]
[null,null,null,null,null,null,null,null,null,null,34481]
[null,null,null,null,null,null,null,null,null,null,34527]
[null,null,null,null,null,null,null,null,null,null,34546]
[null,null,null,null,null,null,null,null,null,null,34595]
[null,null,null,null,null,null,null,null,null,null,34612]
[null,null,null,null,null,null,null,null,null,null,34646]
[null,null,null,null,null,null,null,null,null,null,34677]
[null,null,null,null,null,null,null,null,null,null,34726]
[null,null,null,null,null,null,null,null,null,null,34743]
[null,null,null,null,null,null,null,null,null,null,34760]
[null,null,null,null,null,null,null,null,null,null,34798]
[null,null,null,null,null,null,null,null,null,null,34825]
[null,null,null,null,null,null,null,null,null,null,34874]
[null,null,null,null,null,null,null,null,null,null,34891]
[null,null,null,null,null,null,null,null,null,null,34921]
[null,null,null,null,null,null,null,null,null,null,34956]
[null,null,null,null,null,null,null,null,null,null,35005]
[null,null,null,null,null,null,null,null,null,null,35022]
[null,null,null,null,null,null,null,null,null,null,35071]
[null,null,null,null,null,null,null,null,null,null,35087]
[null,null,null,null,null,null,null,null,null,null,35136]
[null,null,null,null,null,null,null,null,null,null,35153]
[null,null,null,null,null,null,null,null,null,null,35194]
[null,null,null,null,null,null,null,null,null,null,35218]
[null,null,null,null,null,null,null,null,null,null,35235]
[null,null,null,null,null,null,null,null,null,null,35284]
[null,null,null,null,null,null,null,null,null,null,35313]
[null,null,null,null,null,null,null,null,null,null,35349]
[null,null,null,null,null,null,null,null,null,null,35366]
[null,null,null,null,null,null,null,null,null,null,35415]
[null,null,null,null,null,null,null,null,null,null,35436]
[null,null,null,null,null,null,null,null,null,null,35480]
[null,null,null,null,null,null,null,null,null,null,35497]
[null,null,null,null,null,null,null,null,null,null,35546]
[null,null,null,null,null,null,null,null,null,null,35555]
[null,null,null,null,null,null,null,null,null,null,35611]
[null,null,null,null,null,null,null,null,null,null,35628]
[null,null,null,null,null,null,null,null,null,null,35677]
[null,null,null,null,null,null,null,null,null,null,35709]
[null,null,null,null,null,null,null,null,null,null,35742]
[null,null,null,null,null,null,null,null,null,null,35759]
[null,null,null,null,null,null,null,null,null,null,35776]
[null,null,null,null,null,null,null,null,null,null,35825]
[null,null,null,null,null,null,null,null,null,null,35861]
[null,null,null,null,null,null,null,null,null,null,35890]
[null,null,null,null,null,null,null,null,null,null,35907]
[null,null,null,null,null,null,null,null,null,null,35956]
[null,null,null,null,null,null,null,null,null,null,35980]
[null,null,null,null,null,null,null,null,null,null,36021]
[null,null,null,null,null,null,null,null,null,null,36038]
[null,null,null,null,null,null,null,null,null,null,36087]
[null,null,null,null,null,null,null,null,null,null,36103]
[null,null,null,null,null,null,null,null,null,null,36152]
[null,null,null,null,null,null,null,null,null,null,36169]
[null,null,null,null,null,null,null,null,null,null,36218]
[null,null,null,null,null,null,null,null,null,null,36222]
[null,null,null,null,null,null,null,null,null,null,36251]
[null,null,null,null,null,null,null,null,null,null,36300]
[null,null,null,null,null,null,null,null,null,null,36317]
[null,null,null,null,null,null,null,null,null,null,36376]
[null,null,null,null,null,null,null,null,null,null,36382]
[null,null,null,null,null,null,null,null,null,null,36431]
[null,null,null,null,null,null,null,null,null,null,36448]
[null,null,null,null,null,null,null,null,null,null,36495]
[null,null,null,null,null,null,null,null,null,null,36513]
[null,null,null,null,null,null,null,null,null,null,36562]
[null,null,null,null,null,null,null,null,null,null,36579]
[null,null,null,null,null,null,null,null,null,null,36618]
[null,null,null,null,null,null,null,null,null,null,36644]
[null,null,null,null,null,null,null,null,null,null,36693]
[null,null,null,null,null,null,null,null,null,null,36710]
[null,null,null,null,null,null,null,null,null,null,36759]
[null,null,null,null,null,null,null,null,null,null,36770]
[null,null,null,null,null,null,null,null,null,null,36792]
[null,null,null,null,null,null,null,null,null,null,36841]
[null,null,null,null,null,null,null,null,null,null,36858]
[null,null,null,null,null,null,null,null,null,null,36889]
[null,null,null,null,null,null,null,null,null,null,36923]
[null,null,null,null,null,null,null,null,null,null,36972]
[null,null,null,null,null,null,null,null,null,null,36989]
[null,null,null,null,null,null,null,null,null,null,37043]
[null,null,null,null,null,null,null,null,null,null,37054]
[null,null,null,null,null,null,null,null,null,null,37103]
[null,null,null,null,null,null,null,null,null,null,37120]
[null,null,null,null,null,null,null,null,null,null,37162]
[null,null,null,null,null,null,null,null,null,null,37185]
[null,null,null,null,null,null,null,null,null,null,37234]
[null,null,null,null,null,null,null,null,null,null,37251]
[null,null,null,null,null,null,null,null,null,null,37285]
[null,null,null,null,null,null,null,null,null,null,37316]
[null,null,null,null,null,null,null,null,null,null,37333]
[null,null,null,null,null,null,null,null,null,null,37382]
[null,null,null,null,null,null,null,null,null,null,37404]
[null,null,null,null,null,null,null,null,null,null,37447]
[null,null,null,null,null,null,null,null,null,null,37464]
[null,null,null,null,null,null,null,null,null,null,37513]
[null,null,null,null,null,null,null,null,null,null,37527]
[null,null,null,null,null,null,null,null,null,null,37578]
[null,null,null,null,null,null,null,null,null,null,37595]
[null,null,null,null,null,null,null,null,null,null,37644]
[null,null,null,null,null,null,null,null,null,null,37677]
[null,null,null,null,null,null,null,null,null,null,37709]
[null,null,null,null,null,null,null,null,null,null,37726]
[null,null,null,null,null,null,null,null,null,null,37775]
[null,null,null,null,null,null,null,null,null,null,37792]
[null,null,null,null,null,null,null,null,null,null,37829]
[null,null,null,null,null,null,null,null,null,null,37857]
[null,null,null,null,null,null,null,null,null,null,37874]
[null,null,null,null,null,null,null,null,null,null,37923]
[null,null,null,null,null,null,null,null,null,null,37952]
[null,null,null,null,null,null,null,null,null,null,37988]
[null,null,null,null,null,null,null,null,null,null,38005]
[null,null,null,null,null,null,null,null,null,null,38054]
[null,null,null,null,null,null,null,null,null,null,38071]
[null,null,null,null,null,null,null,null,null,null,38119]
[null,null,null,null,null,null,null,null,null,null,38136]
[null,null,null,null,null,null,null,null,null,null,38185]
[null,null,null,null,null,null,null,null,null,null,38194]
[null,null,null,null,null,null,null,null,null,null,38250]
[null,null,null,null,null,null,null,null,null,null,38267]
[null,null,null,null,null,null,null,null,null,null,38284]
[null,null,null,null,null,null,null,null,null,null,38344]
[null,null,null,null,null,null,null,null,null,null,38349]
[null,null,null,null,null,null,null,null,null,null,38398]
[null,null,null,null,null,null,null,null,null,null,38415]
[null,null,null,null,null,null,null,null,null,null,38467]
[null,null,null,null,null,null,null,null,null,null,38480]
[null,null,null,null,null,null,null,null,null,null,38529]
[null,null,null,null,null,null,null,null,null,null,38546]
[null,null,null,null,null,null,null,null,null,null,38590]
[null,null,null,null,null,null,null,null,null,null,38611]
[null,null,null,null,null,null,null,null,null,null,38660]
[null,null,null,null,null,null,null,null,null,null,38677]
[null,null,null,null,null,null,null,null,null,null,38726]
[null,null,null,null,null,null,null,null,null,null,38738]
[null,null,null,null,null,null,null,null,null,null,38791]
[null,null,null,null,null,null,null,null,null,null,38808]
[null,null,null,null,null,null,null,null,null,null,38825]
[null,null,null,null,null,null,null,null,null,null,38861]
[null,null,null,null,null,null,null,null,null,null,38890]
[null,null,null,null,null,null,null,null,null,null,38939]
[null,null,null,null,null,null,null,null,null,null,38956]
[null,null,null,null,null,null,null,null,null,null,39011]
[null,null,null,null,null,null,null,null,null,null,39021]
[null,null,null,null,null,null,null,null,null,null,39070]
[null,null,null,null,null,null,null,null,null,null,39087]
[null,null,null,null,null,null,null,null,null,null,39134]
[null,null,null,null,null,null,null,null,null,null,39152]
[null,null,null,null,null,null,null,null,null,null,39201]
[null,null,null,null,null,null,null,null,null,null,39218]
[null,null,null,null,null,null,null,null,null,null,39257]
[null,null,null,null,null,null,null,null,null,null,39283]
[null,null,null,null,null,null,null,null,null,null,39300]
[null,null,null,null,null,null,null,null,null,null,39349]
[null,null,null,null,null,null,null,null,null,null,39376]
[null,null,null,null,null,null,null,null,null,null,39414]
[null,null,null,null,null,null,null,null,null,null,39431]
[null,null,null,null,null,null,null,null,null,null,39480]
[null,null,null,null,null,null,null,null,null,null,39499]
[null,null,null,null,null,null,null,null,null,null,39545]
[null,null,null,null,null,null,null,null,null,null,39562]
[null,null,null,null,null,null,null,null,null,null,39611]
[null,null,null,null,null,null,null,null,null,null,39618]
[null,null,null,null,null,null,null,null,null,null,39676]
[null,null,null,null,null,null,null,null,null,null,39693]
[null,null,null,null,null,null,null,null,null,null,39742]
[null,null,null,null,null,null,null,null,null,null,39759]
[null,null,null,null,null,null,null,null,null,null,39801]
[null,null,null,null,null,null,null,null,null,null,39824]
[null,null,null,null,null,null,null,null,null,null,39841]
[null,null,null,null,null,null,null,null,null,null,39890]
[null,null,null,null,null,null,null,null,null,null,39924]
[null,null,null,null,null,null,null,null,null,null,39955]
[null,null,null,null,null,null,null,null,null,null,39972]
[null,null,null,null,null,null,null,null,null,null,40021]
[null,null,null,null,null,null,null,null,null,null,40043]
[null,null,null,null,null,null,null,null,null,null,40086]
[null,null,null,null,null,null,null,null,null,null,40103]
[null,null,null,null,null,null,null,null,null,null,40152]
[null,null,null,null,null,null,null,null,null,null,40166]
[null,null,null,null,null,null,null,null,null,null,40217]
[null,null,null,null,null,null,null,null,null,null,40234]
[null,null,null,null,null,null,null,null,null,null,40283]
[null,null,null,null,null,null,null,null,null,null,40285]
[null,null,null,null,null,null,null,null,null,null,40316]
[null,null,null,null,null,null,null,null,null,null,40365]
[null,null,null,null,null,null,null,null,null,null,40382]
[null,null,null,null,null,null,null,null,null,null,40439]
[null,null,null,null,null,null,null,null,null,null,40447]
[null,null,null,null,null,null,null,null,null,null,40496]
[null,null,null,null,null,null,null,null,null,null,40513]
[null,null,null,null,null,null,null,null,null,null,40558]
[null,null,null,null,null,null,null,null,null,null,40578]
[null,null,null,null,null,null,null,null,null,null,40627]
[null,null,null,null,null,null,null,null,null,null,40644]
[null,null,null,null,null,null,null,null,null,null,40693]
[null,null,null,null,null,null,null,null,null,null,40710]
[null,null,null,null,null,null,null,null,null,null,40758]
[null,null,null,null,null,null,null,null,null,null,40775]
[null,null,null,null,null,null,null,null,null,null,40824]
[null,null,null,null,null,null,null,null,null,null,40833]
[null,null,null,null,null,null,null,null,null,null,40857]
[null,null,null,null,null,null,null,null,null,null,40906]
[null,null,null,null,null,null,null,null,null,null,40923]
[null,null,null,null,null,null,null,null,null,null,40952]
[null,null,null,null,null,null,null,null,null,null,40988]
[null,null,null,null,null,null,null,null,null,null,41037]
[null,null,null,null,null,null,null,null,null,null,41054]
[null,null,null,null,null,null,null,null,null,null,41106]
[null,null,null,null,null,null,null,null,null,null,41119]
[null,null,null,null,null,null,null,null,null,null,41168]
[null,null,null,null,null,null,null,null,null,null,41185]
[null,null,null,null,null,null,null,null,null,null,41225]
[null,null,null,null,null,null,null,null,null,null,41250]
[null,null,null,null,null,null,null,null,null,null,41299]
[null,null,null,null,null,null,null,null,null,null,41316]
[null,null,null,null,null,null,null,null,null,null,41348]
[null,null,null,null,null,null,null,null,null,null,41381]
[null,null,null,null,null,null,null,null,null,null,41398]
[null,null,null,null,null,null,null,null,null,null,41447]
[null,null,null,null,null,null,null,null,null,null,41467]
[null,null,null,null,null,null,null,null,null,null,41512]
[null,null,null,null,null,null,null,null,null,null,41529]
[null,null,null,null,null,null,null,null,null,null,41578]
[null,null,null,null,null,null,null,null,null,null,41590]
[null,null,null,null,null,null,null,null,null,null,41643]
[null,null,null,null,null,null,null,null,null,null,41660]
[null,null,null,null,null,null,null,null,null,null,41709]
[null,null,null,null,null,null,null,null,null,null,41726]
[null,null,null,null,null,null,null,null,null,null,41773]
[null,null,null,null,null,null,null,null,null,null,41791]
[null,null,null,null,null,null,null,null,null,null,41840]
[null,null,null,null,null,null,null,null,null,null,41857]
[null,null,null,null,null,null,null,null,null,null,41892]
[null,null,null,null,null,null,null,null,null,null,41922]
[null,null,null,null,null,null,null,null,null,null,41939]
[null,null,null,null,null,null,null,null,null,null,41988]
[null,null,null,null,null,null,null,null,null,null,42015]
[null,null,null,null,null,null,null,null,null,null,42053]
[null,null,null,null,null,null,null,null,null,null,42070]
[null,null,null,null,null,null,null,null,null,null,42119]
[null,null,null,null,null,null,null,null,null,null,42134]
[null,null,null,null,null,null,null,null,null,null,42184]
[null,null,null,null,null,null,null,null,null,null,42201]
[null,null,null,null,null,null,null,null,null,null,42250]
[null,null,null,null,null,null,null,null,null,null,42257]
[null,null,null,null,null,null,null,null,null,null,42315]
[null,null,null,null,null,null,null,null,null,null,42332]
[null,null,null,null,null,null,null,null,null,null,42349]
[null,null,null,null,null,null,null,null,null,null,42407]
[null,null,null,null,null,null,null,null,null,null,42414]
[null,null,null,null,null,null,null,null,null,null,42463]
[null,null,null,null,null,null,null,null,null,null,42480]
[null,null,null,null,null,null,null,null,null,null,42530]
[null,null,null,null,null,null,null,null,null,null,42545]
[null,null,null,null,null,null,null,null,null,null,42594]
[null,null,null,null,null,null,null,null,null,null,42611]
[null,null,null,null,null,null,null,null,null,null,42649]
[null,null,null,null,null,null,null,null,null,null,42676]
[null,null,null,null,null,null,null,null,null,null,42725]
[null,null,null,null,null,null,null,null,null,null,42742]
[null,null,null,null,null,null,null,null,null,null,42791]
[null,null,null,null,null,null,null,null,null,null,42801]
[null,null,null,null,null,null,null,null,null,null,42856]
[null,null,null,null,null,null,null,null,null,null,42873]
[null,null,null,null,null,null,null,null,null,null,42890]
[null,null,null,null,null,null,null,null,null,null,42924]
[null,null,null,null,null,null,null,null,null,null,42955]
[null,null,null,null,null,null,null,null,null,null,43004]
[null,null,null,null,null,null,null,null,null,null,43021]
[null,null,null,null,null,null,null,null,null,null,43074]
[null,null,null,null,null,null,null,null,null,null,43086]
[null,null,null,null,null,null,null,null,null,null,43135]
[null,null,null,null,null,null,null,null,null,null,43152]
[null,null,null,null,null,null,null,null,null,null,43197]
[null,null,null,null,null,null,null,null,null,null,43217]
[null,null,null,null,null,null,null,null,null,null,43266]
[null,null,null,null,null,null,null,null,null,null,43283]
[null,null,null,null,null,null,null,null,null,null,43316]
[null,null,null,null,null,null,null,null,null,null,43348]
[null,null,null,null,null,null,null,null,null,null,43365]
[null,null,null,null,null,null,null,null,null,null,43414]
[null,null,null,null,null,null,null,null,null,null,43439]
[null,null,null,null,null,null,null,null,null,null,43479]
[null,null,null,null,null,null,null,null,null,null,43496]
[null,null,null,null,null,null,null,null,null,null,43545]
[null,null,null,null,null,null,null,null,null,null,43558]
[null,null,null,null,null,null,null,null,null,null,43610]
[null,null,null,null,null,null,null,null,null,null,43627]
[null,null,null,null,null,null,null,null,null,null,43676]
[null,null,null,null,null,null,null,null,null,null,43693]
[null,null,null,null,null,null,null,null,null,null,43741]
[null,null,null,null,null,null,null,null,null,null,43758]
[null,null,null,null,null,null,null,null,null,null,43807]
[null,null,null,null,null,null,null,null,null,null,43824]
[null,null,null,null,null,null,null,null,null,null,43864]
[null,null,null,null,null,null,null,null,null,null,43889]
[null,null,null,null,null,null,null,null,null,null,43906]
[null,null,null,null,null,null,null,null,null,null,43955]
[null,null,null,null,null,null,null,null,null,null,43983]
[null,null,null,null,null,null,null,null,null,null,44020]
[null,null,null,null,null,null,null,null,null,null,44037]
[null,null,null,null,null,null,null,null,null,null,44086]
[null,null,null,null,null,null,null,null,null,null,44106]
[null,null,null,null,null,null,null,null,null,null,44151]
[null,null,null,null,null,null,null,null,null,null,44168]
[null,null,null,null,null,null,null,null,null,null,44217]
[null,null,null,null,null,null,null,null,null,null,44229]
[null,null,null,null,null,null,null,null,null,null,44282]
[null,null,null,null,null,null,null,null,null,null,44299]
[null,null,null,null,null,null,null,null,null,null,44348]
[null,null,null,null,null,null,null,null,null,null,44379]
[null,null,null,null,null,null,null,null,null,null,44381]
[null,null,null,null,null,null,null,null,null,null,44430]
[null,null,null,null,null,null,null,null,null,null,44447]
[null,null,null,null,null,null,null,null,null,null,44502]
[null,null,null,null,null,null,null,null,null,null,44512]
[null,null,null,null,null,null,null,null,null,null,44561]
[null,null,null,null,null,null,null,null,null,null,44578]
[null,null,null,null,null,null,null,null,null,null,44621]
[null,null,null,null,null,null,null,null,null,null,44643]
[null,null,null,null,null,null,null,null,null,null,44692]
[null,null,null,null,null,null,null,null,null,null,44709]
[null,null,null,null,null,null,null,null,null,null,44758]
[null,null,null,null,null,null,null,null,null,null,44773]
[null,null,null,null,null,null,null,null,null,null,44823]
[null,null,null,null,null,null,null,null,null,null,44840]
[null,null,null,null,null,null,null,null,null,null,44889]
[null,null,null,null,null,null,null,null,null,null,44896]
[null,null,null,null,null,null,null,null,null,null,44922]
[null,null,null,null,null,null,null,null,null,null,44971]
[null,null,null,null,null,null,null,null,null,null,44988]
[null,null,null,null,null,null,null,null,null,null,45046]
[null,null,null,null,null,null,null,null,null,null,45053]
[null,null,null,null,null,null,null,null,null,null,45102]
[null,null,null,null,null,null,null,null,null,null,45119]
[null,null,null,null,null,null,null,null,null,null,45169]
[null,null,null,null,null,null,null,null,null,null,45184]
[null,null,null,null,null,null,null,null,null,null,45233]
[null,null,null,null,null,null,null,null,null,null,45250]
[null,null,null,null,null,null,null,null,null,null,45288]
[null,null,null,null,null,null,null,null,null,null,45315]
[null,null,null,null,null,null,null,null,null,null,45364]
[null,null,null,null,null,null,null,null,null,null,45381]
[null,null,null,null,null,null,null,null,null,null,45411]
[null,null,null,null,null,null,null,null,null,null,45446]
[null,null,null,null,null,null,null,null,null,null,45463]
[null,null,null,null,null,null,null,null,null,null,45512]
[null,null,null,null,null,null,null,null,null,null,45530]
[null,null,null,null,null,null,null,null,null,null,45577]
[null,null,null,null,null,null,null,null,null,null,45594]
[null,null,null,null,null,null,null,null,null,null,45643]
[null,null,null,null,null,null,null,null,null,null,45660]
[null,null,null,null,null,null,null,null,null,null,45713]
[null,null,null,null,null,null,null,null,null,null,45725]
[null,null,null,null,null,null,null,null,null,null,45774]
[null,null,null,null,null,null,null,null,null,null,45791]
[null,null,null,null,null,null,null,null,null,null,45836]
[null,null,null,null,null,null,null,null,null,null,45856]
[null,null,null,null,null,null,null,null,null,null,45905]
[null,null,null,null,null,null,null,null,null,null,45922]
[null,null,null,null,null,null,null,null,null,null,45955]
[null,null,null,null,null,null,null,null,null,null,45987]
[null,null,null,null,null,null,null,null,null,null,46004]
[null,null,null,null,null,null,null,null,null,null,46053]
[null,null,null,null,null,null,null,null,null,null,46078]
[null,null,null,null,null,null,null,null,null,null,46118]
[null,null,null,null,null,null,null,null,null,null,46135]
[null,null,null,null,null,null,null,null,null,null,46184]
[null,null,null,null,null,null,null,null,null,null,46197]
[null,null,null,null,null,null,null,null,null,null,46249]
[null,null,null,null,null,null,null,null,null,null,46266]
[null,null,null,null,null,null,null,null,null,null,46315]
[null,null,null,null,null,null,null,null,null,null,46320]
[null,null,null,null,null,null,null,null,null,null,46380]
[null,null,null,null,null,null,null,null,null,null,46397]
[null,null,null,null,null,null,null,null,null,null,46414]
[null,null,null,null,null,null,null,null,null,null,46470]
[null,null,null,null,null,null,null,null,null,null,46479]
[null,null,null,null,null,null,null,null,null,null,46528]
[null,null,null,null,null,null,null,null,null,null,46545]
[null,null,null,null,null,null,null,null,null,null,46593]
[null,null,null,null,null,null,null,null,null,null,46610]
[null,null,null,null,null,null,null,null,null,null,46659]
[null,null,null,null,null,null,null,null,null,null,46676]
[null,null,null,null,null,null,null,null,null,null,46725]
[null,null,null,null,null,null,null,null,null,null,46745]
[null,null,null,null,null,null,null,null,null,null,46790]
[null,null,null,null,null,null,null,null,null,null,46807]
[null,null,null,null,null,null,null,null,null,null,46856]
[null,null,null,null,null,null,null,null,null,null,46864]
[null,null,null,null,null,null,null,null,null,null,46921]
[null,null,null,null,null,null,null,null,null,null,46938]
[null,null,null,null,null,null,null,null,null,null,46955]
[null,null,null,null,null,null,null,null,null,null,46987]
[null,null,null,null,null,null,null,null,null,null,47020]
[null,null,null,null,null,null,null,null,null,null,47069]
[null,null,null,null,null,null,null,null,null,null,47086]
[null,null,null,null,null,null,null,null,null,null,47137]
[null,null,null,null,null,null,null,null,null,null,47151]
[null,null,null,null,null,null,null,null,null,null,47200]
[null,null,null,null,null,null,null,null,null,null,47217]
[null,null,null,null,null,null,null,null,null,null,47260]
[null,null,null,null,null,null,null,null,null,null,47282]
[null,null,null,null,null,null,null,null,null,null,47331]
[null,null,null,null,null,null,null,null,null,null,47348]
[null,null,null,null,null,null,null,null,null,null,47379]
[null,null,null,null,null,null,null,null,null,null,47413]
[null,null,null,null,null,null,null,null,null,null,47430]
[null,null,null,null,null,null,null,null,null,null,47479]
[null,null,null,null,null,null,null,null,null,null,47502]
[null,null,null,null,null,null,null,null,null,null,47544]
[null,null,null,null,null,null,null,null,null,null,47561]
[null,null,null,null,null,null,null,null,null,null,47610]
[null,null,null,null,null,null,null,null,null,null,47627]
[null,null,null,null,null,null,null,null,null,null,47654]
[null,null,null,null,null,null,null,null,null,null,47692]
[null,null,null,null,null,null,null,null,null,null,47741]
[null,null,null,null,null,null,null,null,null,null,47758]
[null,null,null,null,null,null,null,null,null,null,47804]
[null,null,null,null,null,null,null,null,null,null,47823]
[null,null,null,null,null,null,null,null,null,null,47872]
[null,null,null,null,null,null,null,null,null,null,47889]
[null,null,null,null,null,null,null,null,null,null,47927]
[null,null,null,null,null,null,null,null,null,null,47954]
[null,null,null,null,null,null,null,null,null,null,47971]
[null,null,null,null,null,null,null,null,null,null,48020]
[null,null,null,null,null,null,null,null,null,null,48046]
[null,null,null,null,null,null,null,null,null,null,48085]
[null,null,null,null,null,null,null,null,null,null,48102]
[null,null,null,null,null,null,null,null,null,null,48151]
[null,null,null,null,null,null,null,null,null,null,48169]
[null,null,null,null,null,null,null,null,null,null,48216]
[null,null,null,null,null,null,null,null,null,null,48233]
[null,null,null,null,null,null,null,null,null,null,48282]
[null,null,null,null,null,null,null,null,null,null,48288]
[null,null,null,null,null,null,null,null,null,null,48347]
[null,null,null,null,null,null,null,null,null,null,48364]
[null,null,null,null,null,null,null,null,null,null,48413]
[null,null,null,null,null,null,null,null,null,null,48442]
[null,null,null,null,null,null,null,null,null,null,48446]
[null,null,null,null,null,null,null,null,null,null,48495]
[null,null,null,null,null,null,null,null,null,null,48512]
[null,null,null,null,null,null,null,null,null,null,48561]
[null,null,null,null,null,null,null,null,null,null,48577]
[null,null,null,null,null,null,null,null,null,null,48626]
[null,null,null,null,null,null,null,null,null,null,48643]
[null,null,null,null,null,null,null,null,null,null,48692]
[null,null,null,null,null,null,null,null,null,null,48713]
[null,null,null,null,null,null,null,null,null,null,48757]
[null,null,null,null,null,null,null,null,null,null,48774]
[null,null,null,null,null,null,null,null,null,null,48823]
[null,null,null,null,null,null,null,null,null,null,48836]
[null,null,null,null,null,null,null,null,null,null,48888]
[null,null,null,null,null,null,null,null,null,null,48905]
[null,null,null,null,null,null,null,null,null,null,48954]
[null,null,null,null,null,null,null,null,null,null,48955]
[null,null,null,null,null,null,null,null,null,null,48987]
[null,null,null,null,null,null,null,null,null,null,49036]
[null,null,null,null,null,null,null,null,null,null,49053]
[null,null,null,null,null,null,null,null,null,null,49109]
[null,null,null,null,null,null,null,null,null,null,49118]
[null,null,null,null,null,null,null,null,null,null,49167]
[null,null,null,null,null,null,null,null,null,null,49184]
[null,null,null,null,null,null,null,null,null,null,49228]
[null,null,null,null,null,null,null,null,null,null,49249]
[null,null,null,null,null,null,null,null,null,null,49298]
[null,null,null,null,null,null,null,null,null,null,49315]
[null,null,null,null,null,null,null,null,null,null,49351]
[null,null,null,null,null,null,null,null,null,null,49380]
[null,null,null,null,null,null,null,null,null,null,49429]
[null,null,null,null,null,null,null,null,null,null,49446]
[null,null,null,null,null,null,null,null,null,null,49474]
[null,null,null,null,null,null,null,null,null,null,49511]
[null,null,null,null,null,null,null,null,null,null,49528]
[null,null,null,null,null,null,null,null,null,null,49577]
[null,null,null,null,null,null,null,null,null,null,49594]
[null,null,null,null,null,null,null,null,null,null,49622]
[null,null,null,null,null,null,null,null,null,null,49659]
[null,null,null,null,null,null,null,null,null,null,49708]
[null,null,null,null,null,null,null,null,null,null,49725]
[null,null,null,null,null,null,null,null,null,null,49776]
[null,null,null,null,null,null,null,null,null,null,49790]
[null,null,null,null,null,null,null,null,null,null,49839]
[null,null,null,null,null,null,null,null,null,null,49856]
[null,null,null,null,null,null,null,null,null,null,49899]
[null,null,null,null,null,null,null,null,null,null,49921]
[null,null,null,null,null,null,null,null,null,null,49970]
[null,null,null,null,null,null,null,null,null,null,49987]
[null,null,null,null,null,null,null,null,null,null,50018]
[null,null,null,null,null,null,null,null,null,null,50052]
[null,null,null,null,null,null,null,null,null,null,50069]
[null,null,null,null,null,null,null,null,null,null,50118]
[null,null,null,null,null,null,null,null,null,null,50141]
[null,null,null,null,null,null,null,null,null,null,50183]
[null,null,null,null,null,null,null,null,null,null,50200]
[null,null,null,null,null,null,null,null,null,null,50249]
[null,null,null,null,null,null,null,null,null,null,50260]
[null,null,null,null,null,null,null,null,null,null,50314]
[null,null,null,null,null,null,null,null,null,null,50331]
[null,null,null,null,null,null,null,null,null,null,50380]
[null,null,null,null,null,null,null,null,null,null,50414]
[null,null,null,null,null,null,null,null,null,null,50445]
[null,null,null,null,null,null,null,null,null,null,50462]
[null,null,null,null,null,null,null,null,null,null,50479]
[null,null,null,null,null,null,null,null,null,null,50533]
[null,null,null,null,null,null,null,null,null,null,50544]
[null,null,null,null,null,null,null,null,null,null,50593]
[null,null,null,null,null,null,null,null,null,null,50610]
[null,null,null,null,null,null,null,null,null,null,50659]
[null,null,null,null,null,null,null,null,null,null,50685]
[null,null,null,null,null,null,null,null,null,null,50724]
[null,null,null,null,null,null,null,null,null,null,50741]
[null,null,null,null,null,null,null,null,null,null,50790]
[null,null,null,null,null,null,null,null,null,null,50808]
[null,null,null,null,null,null,null,null,null,null,50855]
[null,null,null,null,null,null,null,null,null,null,50872]
[null,null,null,null,null,null,null,null,null,null,50921]
[null,null,null,null,null,null,null,null,null,null,50927]
[null,null,null,null,null,null,null,null,null,null,50986]
[null,null,null,null,null,null,null,null,null,null,51003]
[null,null,null,null,null,null,null,null,null,null,51020]
[null,null,null,null,null,null,null,null,null,null,51081]
[null,null,null,null,null,null,null,null,null,null,51085]
[null,null,null,null,null,null,null,null,null,null,51134]
[null,null,null,null,null,null,null,null,null,null,51151]
[null,null,null,null,null,null,null,null,null,null,51200]
[null,null,null,null,null,null,null,null,null,null,51216]
[null,null,null,null,null,null,null,null,null,null,51265]
[null,null,null,null,null,null,null,null,null,null,51282]
[null,null,null,null,null,null,null,null,null,null,51323]
[null,null,null,null,null,null,null,null,null,null,51347]
[null,null,null,null,null,null,null,null,null,null,51396]
[null,null,null,null,null,null,null,null,null,null,51413]
[null,null,null,null,null,null,null,null,null,null,51442]
[null,null,null,null,null,null,null,null,null,null,51478]
[null,null,null,null,null,null,null,null,null,null,51495]
[null,null,null,null,null,null,null,null,null,null,51544]
[null,null,null,null,null,null,null,null,null,null,51565]
[null,null,null,null,null,null,null,null,null,null,51609]
[null,null,null,null,null,null,null,null,null,null,51626]
[null,null,null,null,null,null,null,null,null,null,51675]
[null,null,null,null,null,null,null,null,null,null,51692]
[null,null,null,null,null,null,null,null,null,null,51748]
[null,null,null,null,null,null,null,null,null,null,51757]
[null,null,null,null,null,null,null,null,null,null,51806]
[null,null,null,null,null,null,null,null,null,null,51823]
[null,null,null,null,null,null,null,null,null,null,51867]
[null,null,null,null,null,null,null,null,null,null,51888]
[null,null,null,null,null,null,null,null,null,null,51937]
[null,null,null,null,null,null,null,null,null,null,51954]
[null,null,null,null,null,null,null,null,null,null,51990]
[null,null,null,null,null,null,null,null,null,null,52019]
[null,null,null,null,null,null,null,null,null,null,52036]
[null,null,null,null,null,null,null,null,null,null,52085]
[null,null,null,null,null,null,null,null,null,null,52109]
[null,null,null,null,null,null,null,null,null,null,52150]
[null,null,null,null,null,null,null,null,null,null,52167]
[null,null,null,null,null,null,null,null,null,null,52216]
[null,null,null,null,null,null,null,null,null,null,52232]
[null,null,null,null,null,null,null,null,null,null,52281]
[null,null,null,null,null,null,null,null,null,null,52298]
[null,null,null,null,null,null,null,null,null,null,52347]
[null,null,null,null,null,null,null,null,null,null,52382]
[null,null,null,null,null,null,null,null,null,null,52412]
[null,null,null,null,null,null,null,null,null,null,52429]
[null,null,null,null,null,null,null,null,null,null,52478]
[null,null,null,null,null,null,null,null,null,null,52505]
[null,null,null,null,null,null,null,null,null,null,52511]
[null,null,null,null,null,null,null,null,null,null,52560]
[null,null,null,null,null,null,null,null,null,null,52577]
[null,null,null,null,null,null,null,null,null,null,52626]
[null,null,null,null,null,null,null,null,null,null,52657]
[null,null,null,null,null,null,null,null,null,null,52691]
[null,null,null,null,null,null,null,null,null,null,52708]
[null,null,null,null,null,null,null,null,null,null,52757]
[null,null,null,null,null,null,null,null,null,null,52776]
[null,null,null,null,null,null,null,null,null,null,52822]
[null,null,null,null,null,null,null,null,null,null,52839]
[null,null,null,null,null,null,null,null,null,null,52888]
[null,null,null,null,null,null,null,null,null,null,52899]
[null,null,null,null,null,null,null,null,null,null,52953]
[null,null,null,null,null,null,null,null,null,null,52970]
[null,null,null,null,null,null,null,null,null,null,53019]
[null,null,null,null,null,null,null,null,null,null,53049]
[null,null,null,null,null,null,null,null,null,null,53052]
[null,null,null,null,null,null,null,null,null,null,53101]
[null,null,null,null,null,null,null,null,null,null,53118]
[null,null,null,null,null,null,null,null,null,null,53172]
[null,null,null,null,null,null,null,null,null,null,53183]
[null,null,null,null,null,null,null,null,null,null,53232]
[null,null,null,null,null,null,null,null,null,null,53249]
[null,null,null,null,null,null,null,null,null,null,53291]
[null,null,null,null,null,null,null,null,null,null,53314]
[null,null,null,null,null,null,null,null,null,null,53363]
[null,null,null,null,null,null,null,null,null,null,53380]
[null,null,null,null,null,null,null,null,null,null,53414]
[null,null,null,null,null,null,null,null,null,null,53445]
[null,null,null,null,null,null,null,null,null,null,53494]
[null,null,null,null,null,null,null,null,null,null,53511]
[null,null,null,null,null,null,null,null,null,null,53533]
[null,null,null,null,null,null,null,null,null,null,53576]
[null,null,null,null,null,null,null,null,null,null,53593]
[null,null,null,null,null,null,null,null,null,null,53642]
[null,null,null,null,null,null,null,null,null,null,53659]
[null,null,null,null,null,null,null,null,null,null,53716]
[null,null,null,null,null,null,null,null,null,null,53724]
[null,null,null,null,null,null,null,null,null,null,53773]
[null,null,null,null,null,null,null,null,null,null,53790]
[null,null,null,null,null,null,null,null,null,null,53839]
[null,null,null,null,null,null,null,null,null,null,53855]
[null,null,null,null,null,null,null,null,null,null,53904]
[null,null,null,null,null,null,null,null,null,null,53921]
[null,null,null,null,null,null,null,null,null,null,53958]
[null,null,null,null,null,null,null,null,null,null,53986]
[null,null,null,null,null,null,null,null,null,null,54035]
[null,null,null,null,null,null,null,null,null,null,54052]
[null,null,null,null,null,null,null,null,null,null,54081]
[null,null,null,null,null,null,null,null,null,null,54117]
[null,null,null,null,null,null,null,null,null,null,54134]
[null,null,null,null,null,null,null,null,null,null,54183]
[null,null,null,null,null,null,null,null,null,null,54200]
[null,null,null,null,null,null,null,null,null,null,54248]
[null,null,null,null,null,null,null,null,null,null,54265]
[null,null,null,null,null,null,null,null,null,null,54314]
[null,null,null,null,null,null,null,null,null,null,54323]
[null,null,null,null,null,null,null,null,null,null,54379]
[null,null,null,null,null,null,null,null,null,null,54396]
[null,null,null,null,null,null,null,null,null,null,54445]
[null,null,null,null,null,null,null,null,null,null,54477]
[null,null,null,null,null,null,null,null,null,null,54510]
[null,null,null,null,null,null,null,null,null,null,54527]
[null,null,null,null,null,null,null,null,null,null,54544]
[null,null,null,null,null,null,null,null,null,null,54593]
[null,null,null,null,null,null,null,null,null,null,54625]
[null,null,null,null,null,null,null,null,null,null,54658]
[null,null,null,null,null,null,null,null,null,null,54675]
[null,null,null,null,null,null,null,null,null,null,54724]
[null,null,null,null,null,null,null,null,null,null,54748]
[null,null,null,null,null,null,null,null,null,null,54789]
[null,null,null,null,null,null,null,null,null,null,54806]
[null,null,null,null,null,null,null,null,null,null,54855]
[null,null,null,null,null,null,null,null,null,null,54867]
[null,null,null,null,null,null,null,null,null,null,54920]
[null,null,null,null,null,null,null,null,null,null,54937]
[null,null,null,null,null,null,null,null,null,null,54986]
[null,null,null,null,null,null,null,null,null,null,54990]
[null,null,null,null,null,null,null,null,null,null,55051]
[null,null,null,null,null,null,null,null,null,null,55068]
[null,null,null,null,null,null,null,null,null,null,55085]
[null,null,null,null,null,null,null,null,null,null,55144]
[null,null,null,null,null,null,null,null,null,null,55150]
[null,null,null,null,null,null,null,null,null,null,55199]
[null,null,null,null,null,null,null,null,null,null,55216]
[null,null,null,null,null,null,null,null,null,null,55263]
[null,null,null,null,null,null,null,null,null,null,55281]
[null,null,null,null,null,null,null,null,null,null,55330]
[null,null,null,null,null,null,null,null,null,null,55347]
[null,null,null,null,null,null,null,null,null,null,55386]
[null,null,null,null,null,null,null,null,null,null,55412]
[null,null,null,null,null,null,null,null,null,null,55461]
[null,null,null,null,null,null,null,null,null,null,55478]
[null,null,null,null,null,null,null,null,null,null,55505]
[null,null,null,null,null,null,null,null,null,null,55543]
[null,null,null,null,null,null,null,null,null,null,55560]
[null,null,null,null,null,null,null,null,null,null,55609]
[null,null,null,null,null,null,null,null,null,null,55626]
[null,null,null,null,null,null,null,null,null,null,55657]
[null,null,null,null,null,null,null,null,null,null,55691]
[null,null,null,null,null,null,null,null,null,null,55740]
[null,null,null,null,null,null,null,null,null,null,55757]
[null,null,null,null,null,null,null,null,null,null,55811]
[null,null,null,null,null,null,null,null,null,null,55822]
[null,null,null,null,null,null,null,null,null,null,55871]
[null,null,null,null,null,null,null,null,null,null,55888]
[null,null,null,null,null,null,null,null,null,null,55930]
[null,null,null,null,null,null,null,null,null,null,55953]
[null,null,null,null,null,null,null,null,null,null,56002]
[null,null,null,null,null,null,null,null,null,null,56019]
[null,null,null,null,null,null,null,null,null,null,56053]
[null,null,null,null,null,null,null,null,null,null,56084]
[null,null,null,null,null,null,null,null,null,null,56101]
[null,null,null,null,null,null,null,null,null,null,56150]
[null,null,null,null,null,null,null,null,null,null,56172]
[null,null,null,null,null,null,null,null,null,null,56215]
[null,null,null,null,null,null,null,null,null,null,56232]
[null,null,null,null,null,null,null,null,null,null,56281]
[null,null,null,null,null,null,null,null,null,null,56295]
[null,null,null,null,null,null,null,null,null,null,56346]
[null,null,null,null,null,null,null,null,null,null,56363]
[null,null,null,null,null,null,null,null,null,null,56412]
[null,null,null,null,null,null,null,null,null,null,56445]
[null,null,null,null,null,null,null,null,null,null,56477]
[null,null,null,null,null,null,null,null,null,null,56494]
[null,null,null,null,null,null,null,null,null,null,56543]
[null,null,null,null,null,null,null,null,null,null,56560]
[null,null,null,null,null,null,null,null,null,null,56597]
[null,null,null,null,null,null,null,null,null,null,56625]
[null,null,null,null,null,null,null,null,null,null,56642]
[null,null,null,null,null,null,null,null,null,null,56691]
[null,null,null,null,null,null,null,null,null,null,56720]
[null,null,null,null,null,null,null,null,null,null,56756]
[null,null,null,null,null,null,null,null,null,null,56773]
[null,null,null,null,null,null,null,null,null,null,56822]
[null,null,null,null,null,null,null,null,null,null,56839]
[null,null,null,null,null,null,null,null,null,null,56887]
[null,null,null,null,null,null,null,null,null,null,56904]
[null,null,null,null,null,null,null,null,null,null,56953]
[null,null,null,null,null,null,null,null,null,null,56962]
[null,null,null,null,null,null,null,null,null,null,57018]
[null,null,null,null,null,null,null,null,null,null,57035]
[null,null,null,null,null,null,null,null,null,null,57084]
[null,null,null,null,null,null,null,null,null,null,57112]
[null,null,null,null,null,null,null,null,null,null,57117]
[null,null,null,null,null,null,null,null,null,null,57166]
[null,null,null,null,null,null,null,null,null,null,57183]
[null,null,null,null,null,null,null,null,null,null,57235]
[null,null,null,null,null,null,null,null,null,null,57248]
[null,null,null,null,null,null,null,null,null,null,57297]
[null,null,null,null,null,null,null,null,null,null,57314]
[null,null,null,null,null,null,null,null,null,null,57354]
[null,null,null,null,null,null,null,null,null,null,57379]
[null,null,null,null,null,null,null,null,null,null,57428]
[null,null,null,null,null,null,null,null,null,null,57445]
[null,null,null,null,null,null,null,null,null,null,57477]
[null,null,null,null,null,null,null,null,null,null,57510]
[null,null,null,null,null,null,null,null,null,null,57559]
[null,null,null,null,null,null,null,null,null,null,57576]
[null,null,null,null,null,null,null,null,null,null,57593]
[null,null,null,null,null,null,null,null,null,null,57629]
[null,null,null,null,null,null,null,null,null,null,57658]
[null,null,null,null,null,null,null,null,null,null,57707]
[null,null,null,null,null,null,null,null,null,null,57724]
[null,null,null,null,null,null,null,null,null,null,57779]
[null,null,null,null,null,null,null,null,null,null,57789]
[null,null,null,null,null,null,null,null,null,null,57838]
[null,null,null,null,null,null,null,null,null,null,57855]
[null,null,null,null,null,null,null,null,null,null,57902]
[null,null,null,null,null,null,null,null,null,null,57920]
[null,null,null,null,null,null,null,null,null,null,57969]
[null,null,null,null,null,null,null,null,null,null,57986]
[null,null,null,null,null,null,null,null,null,null,58021]
[null,null,null,null,null,null,null,null,null,null,58051]
[null,null,null,null,null,null,null,null,null,null,58100]
[null,null,null,null,null,null,null,null,null,null,58117]
[null,null,null,null,null,null,null,null,null,null,58144]
[null,null,null,null,null,null,null,null,null,null,58182]
[null,null,null,null,null,null,null,null,null,null,58199]
[null,null,null,null,null,null,null,null,null,null,58248]
[null,null,null,null,null,null,null,null,null,null,58263]
[null,null,null,null,null,null,null,null,null,null,58313]
[null,null,null,null,null,null,null,null,null,null,58330]
[null,null,null,null,null,null,null,null,null,null,58379]
[null,null,null,null,null,null,null,null,null,null,58417]
[null,null,null,null,null,null,null,null,null,null,58444]
[null,null,null,null,null,null,null,null,null,null,58461]
[null,null,null,null,null,null,null,null,null,null,58510]
[null,null,null,null,null,null,null,null,null,null,58536]
[null,null,null,null,null,null,null,null,null,null,58575]
[null,null,null,null,null,null,null,null,null,null,58592]
[null,null,null,null,null,null,null,null,null,null,58609]
[null,null,null,null,null,null,null,null,null,null,58658]
[null,null,null,null,null,null,null,null,null,null,58688]
[null,null,null,null,null,null,null,null,null,null,58723]
[null,null,null,null,null,null,null,null,null,null,58740]
[null,null,null,null,null,null,null,null,null,null,58789]
[null,null,null,null,null,null,null,null,null,null,58811]
[null,null,null,null,null,null,null,null,null,null,58854]
[null,null,null,null,null,null,null,null,null,null,58871]
[null,null,null,null,null,null,null,null,null,null,58920]
[null,null,null,null,null,null,null,null,null,null,58930]
[null,null,null,null,null,null,null,null,null,null,58985]
[null,null,null,null,null,null,null,null,null,null,59002]
[null,null,null,null,null,null,null,null,null,null,59051]
[null,null,null,null,null,null,null,null,null,null,59084]
[null,null,null,null,null,null,null,null,null,null,59116]
[null,null,null,null,null,null,null,null,null,null,59133]
[null,null,null,null,null,null,null,null,null,null,59150]
[null,null,null,null,null,null,null,null,null,null,59203]
[null,null,null,null,null,null,null,null,null,null,59215]
[null,null,null,null,null,null,null,null,null,null,59264]
[null,null,null,null,null,null,null,null,null,null,59281]
[null,null,null,null,null,null,null,null,null,null,59326]
[null,null,null,null,null,null,null,null,null,null,59346]
[null,null,null,null,null,null,null,null,null,null,59395]
[null,null,null,null,null,null,null,null,null,null,59412]
[null,null,null,null,null,null,null,null,null,null,59445]
[null,null,null,null,null,null,null,null,null,null,59477]
[null,null,null,null,null,null,null,null,null,null,59526]
[null,null,null,null,null,null,null,null,null,null,59543]
[null,null,null,null,null,null,null,null,null,null,59592]
[null,null,null,null,null,null,null,null,null,null,59597]
[null,null,null,null,null,null,null,null,null,null,59625]
[null,null,null,null,null,null,null,null,null,null,59674]
[null,null,null,null,null,null,null,null,null,null,59691]
[null,null,null,null,null,null,null,null,null,null,59751]
[null,null,null,null,null,null,null,null,null,null,59756]
[null,null,null,null,null,null,null,null,null,null,59805]
[null,null,null,null,null,null,null,null,null,null,59822]
[null,null,null,null,null,null,null,null,null,null,59870]
[null,null,null,null,null,null,null,null,null,null,59887]
[null,null,null,null,null,null,null,null,null,null,59936]
[null,null,null,null,null,null,null,null,null,null,59953]
[null,null,null,null,null,null,null,null,null,null,59993]
[null,null,null,null,null,null,null,null,null,null,60018]
[null,null,null,null,null,null,null,null,null,null,60067]
[null,null,null,null,null,null,null,null,null,null,60084]
[null,null,null,null,null,null,null,null,null,null,60112]
[null,null,null,null,null,null,null,null,null,null,60149]
[null,null,null,null,null,null,null,null,null,null,60166]
[null,null,null,null,null,null,null,null,null,null,60215]
[null,null,null,null,null,null,null,null,null,null,60235]
[null,null,null,null,null,null,null,null,null,null,60280]
[null,null,null,null,null,null,null,null,null,null,60297]
[null,null,null,null,null,null,null,null,null,null,60346]
[null,null,null,null,null,null,null,null,null,null,60358]
[null,null,null,null,null,null,null,null,null,null,60411]
[null,null,null,null,null,null,null,null,null,null,60428]
[null,null,null,null,null,null,null,null,null,null,60477]
[null,null,null,null,null,null,null,null,null,null,60508]
[null,null,null,null,null,null,null,null,null,null,60542]
[null,null,null,null,null,null,null,null,null,null,60559]
[null,null,null,null,null,null,null,null,null,null,60608]
[null,null,null,null,null,null,null,null,null,null,60625]
[null,null,null,null,null,null,null,null,null,null,60660]
[null,null,null,null,null,null,null,null,null,null,60690]
[null,null,null,null,null,null,null,null,null,null,60707]
[null,null,null,null,null,null,null,null,null,null,60756]
[null,null,null,null,null,null,null,null,null,null,60783]
[null,null,null,null,null,null,null,null,null,null,60821]
[null,null,null,null,null,null,null,null,null,null,60838]
[null,null,null,null,null,null,null,null,null,null,60887]
[null,null,null,null,null,null,null,null,null,null,60902]
[null,null,null,null,null,null,null,null,null,null,60952]
[null,null,null,null,null,null,null,null,null,null,60969]
[null,null,null,null,null,null,null,null,null,null,61018]
[null,null,null,null,null,null,null,null,null,null,61025]
[null,null,null,null,null,null,null,null,null,null,61083]
[null,null,null,null,null,null,null,null,null,null,61100]
[null,null,null,null,null,null,null,null,null,null,61149]
[null,null,null,null,null,null,null,null,null,null,61175]
[null,null,null,null,null,null,null,null,null,null,61182]
[null,null,null,null,null,null,null,null,null,null,61231]
[null,null,null,null,null,null,null,null,null,null,61248]
[null,null,null,null,null,null,null,null,null,null,61298]
[null,null,null,null,null,null,null,null,null,null,61313]
[null,null,null,null,null,null,null,null,null,null,61362]
[null,null,null,null,null,null,null,null,null,null,61379]
[null,null,null,null,null,null,null,null,null,null,61417]
[null,null,null,null,null,null,null,null,null,null,61444]
[null,null,null,null,null,null,null,null,null,null,61493]
[null,null,null,null,null,null,null,null,null,null,61510]
[null,null,null,null,null,null,null,null,null,null,61559]
[null,null,null,null,null,null,null,null,null,null,61569]
[null,null,null,null,null,null,null,null,null,null,61624]
[null,null,null,null,null,null,null,null,null,null,61641]
[null,null,null,null,null,null,null,null,null,null,61658]
[null,null,null,null,null,null,null,null,null,null,61692]
[null,null,null,null,null,null,null,null,null,null,61723]
[null,null,null,null,null,null,null,null,null,null,61772]
[null,null,null,null,null,null,null,null,null,null,61789]
[null,null,null,null,null,null,null,null,null,null,61842]
[null,null,null,null,null,null,null,null,null,null,61854]
[null,null,null,null,null,null,null,null,null,null,61903]
[null,null,null,null,null,null,null,null,null,null,61920]
[null,null,null,null,null,null,null,null,null,null,61965]
[null,null,null,null,null,null,null,null,null,null,61985]
[null,null,null,null,null,null,null,null,null,null,62034]
[null,null,null,null,null,null,null,null,null,null,62051]
[null,null,null,null,null,null,null,null,null,null,62084]
[null,null,null,null,null,null,null,null,null,null,62116]
[null,null,null,null,null,null,null,null,null,null,62165]
[null,null,null,null,null,null,null,null,null,null,62182]
[null,null,null,null,null,null,null,null,null,null,62207]
[null,null,null,null,null,null,null,null,null,null,62247]
[null,null,null,null,null,null,null,null,null,null,62264]
[null,null,null,null,null,null,null,null,null,null,62313]
[null,null,null,null,null,null,null,null,null,null,62326]
[null,null,null,null,null,null,null,null,null,null,62378]
[null,null,null,null,null,null,null,null,null,null,62395]
[null,null,null,null,null,null,null,null,null,null,62444]
[null,null,null,null,null,null,null,null,null,null,62480]
[null,null,null,null,null,null,null,null,null,null,62509]
[null,null,null,null,null,null,null,null,null,null,62526]
[null,null,null,null,null,null,null,null,null,null,62575]
[null,null,null,null,null,null,null,null,null,null,62592]
[null,null,null,null,null,null,null,null,null,null,62632]
[null,null,null,null,null,null,null,null,null,null,62657]
[null,null,null,null,null,null,null,null,null,null,62674]
[null,null,null,null,null,null,null,null,null,null,62723]
[null,null,null,null,null,null,null,null,null,null,62751]
[null,null,null,null,null,null,null,null,null,null,62788]
[null,null,null,null,null,null,null,null,null,null,62805]
[null,null,null,null,null,null,null,null,null,null,62854]
[null,null,null,null,null,null,null,null,null,null,62874]
[null,null,null,null,null,null,null,null,null,null,62919]
[null,null,null,null,null,null,null,null,null,null,62936]
[null,null,null,null,null,null,null,null,null,null,62985]
[null,null,null,null,null,null,null,null,null,null,62993]
[null,null,null,null,null,null,null,null,null,null,63050]
[null,null,null,null,null,null,null,null,null,null,63067]
[null,null,null,null,null,null,null,null,null,null,63116]
[null,null,null,null,null,null,null,null,null,null,63147]
[null,null,null,null,null,null,null,null,null,null,63181]
[null,null,null,null,null,null,null,null,null,null,63198]
[null,null,null,null,null,null,null,null,null,null,63215]
[null,null,null,null,null,null,null,null,null,null,63266]
[null,null,null,null,null,null,null,null,null,null,63280]
[null,null,null,null,null,null,null,null,null,null,63329]
[null,null,null,null,null,null,null,null,null,null,63346]
[null,null,null,null,null,null,null,null,null,null,63389]
[null,null,null,null,null,null,null,null,null,null,63411]
[null,null,null,null,null,null,null,null,null,null,63460]
[null,null,null,null,null,null,null,null,null,null,63477]
[null,null,null,null,null,null,null,null,null,null,63526]
[null,null,null,null,null,null,null,null,null,null,63541]
[null,null,null,null,null,null,null,null,null,null,63591]
[null,null,null,null,null,null,null,null,null,null,63608]
[null,null,null,null,null,null,null,null,null,null,63657]
[null,null,null,null,null,null,null,null,null,null,63660]
[null,null,null,null,null,null,null,null,null,null,63690]
[null,null,null,null,null,null,null,null,null,null,63739]
[null,null,null,null,null,null,null,null,null,null,63756]
[null,null,null,null,null,null,null,null,null,null,63814]
[null,null,null,null,null,null,null,null,null,null,63821]
[null,null,null,null,null,null,null,null,null,null,63870]
[null,null,null,null,null,null,null,null,null,null,63887]
[null,null,null,null,null,null,null,null,null,null,63933]
[null,null,null,null,null,null,null,null,null,null,63952]
[null,null,null,null,null,null,null,null,null,null,64001]
[null,null,null,null,null,null,null,null,null,null,64018]
[null,null,null,null,null,null,null,null,null,null,64056]
[null,null,null,null,null,null,null,null,null,null,64083]
[null,null,null,null,null,null,null,null,null,null,64132]
[null,null,null,null,null,null,null,null,null,null,64149]
[null,null,null,null,null,null,null,null,null,null,64175]
[null,null,null,null,null,null,null,null,null,null,64214]
[null,null,null,null,null,null,null,null,null,null,64231]
[null,null,null,null,null,null,null,null,null,null,64280]
[null,null,null,null,null,null,null,null,null,null,64298]
[null,null,null,null,null,null,null,null,null,null,64345]
[null,null,null,null,null,null,null,null,null,null,64362]
[null,null,null,null,null,null,null,null,null,null,64411]
[null,null,null,null,null,null,null,null,null,null,64448]
[null,null,null,null,null,null,null,null,null,null,64476]
[null,null,null,null,null,null,null,null,null,null,64493]
[null,null,null,null,null,null,null,null,null,null,64542]
[null,null,null,null,null,null,null,null,null,null,64559]
[null,null,null,null,null,null,null,null,null,null,64600]
[null,null,null,null,null,null,null,null,null,null,64624]
[null,null,null,null,null,null,null,null,null,null,64673]
[null,null,null,null,null,null,null,null,null,null,64690]
[null,null,null,null,null,null,null,null,null,null,64723]
[null,null,null,null,null,null,null,null,null,null,64755]
[null,null,null,null,null,null,null,null,null,null,64772]
[null,null,null,null,null,null,null,null,null,null,64821]
[null,null,null,null,null,null,null,null,null,null,64842]
[null,null,null,null,null,null,null,null,null,null,64886]
[null,null,null,null,null,null,null,null,null,null,64903]
[null,null,null,null,null,null,null,null,null,null,64952]
[null,null,null,null,null,null,null,null,null,null,64965]
[null,null,null,null,null,null,null,null,null,null,65017]
[null,null,null,null,null,null,null,null,null,null,65034]
[null,null,null,null,null,null,null,null,null,null,65083]
[null,null,null,null,null,null,null,null,null,null,65115]
[null,null,null,null,null,null,null,null,null,null,65148]
[null,null,null,null,null,null,null,null,null,null,65165]
[null,null,null,null,null,null,null,null,null,null,65214]
[null,null,null,null,null,null,null,null,null,null,65238]
[null,null,null,null,null,null,null,null,null,null,65247]
[null,null,null,null,null,null,null,null,null,null,65296]
[null,null,null,null,null,null,null,null,null,null,65313]
[null,null,null,null,null,null,null,null,null,null,65361]
[null,null,null,null,null,null,null,null,null,null,65378]
[null,null,null,null,null,null,null,null,null,null,65427]
[null,null,null,null,null,null,null,null,null,null,65444]
[null,null,null,null,null,null,null,null,null,null,65493]
[null,null,null,null,null,null,null,null,null,null,65501]
[null,null,null,null,null,null,null,null,null,null,65502]
[null,null,null,null,null,null,null,null,null,null,65503]
[null,null,null,null,null,null,null,null,null,null,65504]
[null,null,null,null,null,null,null,null,null,null,65505]
[null,null,null,null,null,null,null,null,null,null,65506]
[null,null,null,null,null,null,null,null,null,null,65507]
[null,null,null,null,null,null,null,null,null,null,65508]
[null,null,null,null,null,null,null,null,null,null,65509]
[null,null,null,null,null,null,null,null,null,null,65510]
[null,null,null,null,null,null,null,null,null,null,65511]
[null,null,null,null,null,null,null,null,null,null,65512]
[null,null,null,null,null,null,null,null,null,null,65513]
[null,null,null,null,null,null,null,null,null,null,65514]
[null,null,null,null,null,null,null,null,null,null,65515]
[null,null,null,null,null,null,null,null,null,null,65516]
[null,null,null,null,null,null,null,null,null,null,65517]
[null,null,null,null,null,null,null,null,null,null,65518]
[null,null,null,null,null,null,null,null,null,null,65519]
[null,null,null,null,null,null,null,null,null,null,65520]
[null,null,null,null,null,null,null,null,null,null,65521]
[null,null,null,null,null,null,null,null,null,null,65522]
[null,null,null,null,null,null,null,null,null,null,65523]
[null,null,null,null,null,null,null,null,null,null,65524]
[null,null,null,null,null,null,null,null,null,null,65525]
[null,null,null,null,null,null,null,null,null,null,65526]
[null,null,null,null,null,null,null,null,null,null,65527]
[null,null,null,null,null,null,null,null,null,null,65528]
[null,null,null,null,null,null,null,null,null,null,65529]
[null,null,null,null,null,null,null,null,null,null,65530]
[null,null,null,null,null,null,null,null,null,null,65531]
[null,null,null,null,null,null,null,null,null,null,65532]
[null,null,null,null,null,null,null,null,null,null,65533]
[null,null,null,null,null,null,null,null,null,null,65534]
[null,null,null,null,null,null,null,null,null,null,65535]
[null,null,null,null,null,null,null,null,null,null,65536]
[null,null,null,null,null,null,null,null,null,null,65537]
[null,null,null,null,null,null,null,null,null,null,65538]
[null,null,null,null,null,null,null,null,null,null,65539]
[null,null,null,null,null,null,null,null,null,null,65540]
[null,null,null,null,null,null,null,null,null,null,65541]
[null,null,null,null,null,null,null,null,null,null,65542]
[null,null,null,null,null,null,null,null,null,null,65543]
[null,null,null,null,null,null,null,null,null,null,65544]
[null,null,null,null,null,null,null,null,null,null,65545]
[null,null,null,null,null,null,null,null,null,null,65546]
[null,null,null,null,null,null,null,null,null,null,65547]
[null,null,null,null,null,null,null,null,null,null,65548]
[null,null,null,null,null,null,null,null,null,null,65549]
[null,null,null,null,null,null,null,null,null,null,65550]
[null,null,null,null,null,null,null,null,null,null,65551]
[null,null,null,null,null,null,null,null,null,null,65552]
[null,null,null,null,null,null,null,null,null,null,65553]
[null,null,null,null,null,null,null,null,null,null,65554]
[null,null,null,null,null,null,null,null,null,null,65555]
[null,null,null,null,null,null,null,null,null,null,65556]
[null,null,null,null,null,null,null,null,null,null,65557]
[null,null,null,null,null,null,null,null,null,null,65558]
[null,null,null,null,null,null,null,null,null,null,65559]
[null,null,null,null,null,null,null,null,null,null,65560]
[null,null,null,null,null,null,null,null,null,null,65561]
[null,null,null,null,null,null,null,null,null,null,65562]
[null,null,null,null,null,null,null,null,null,null,65563]
[null,null,null,null,null,null,null,null,null,null,65564]
[null,null,null,null,null,null,null,null,null,null,65565]
[null,null,null,null,null,null,null,null,null,null,65566]
[null,null,null,null,null,null,null,null,null,null,65567]
[null,null,null,null,null,null,null,null,null,null,65568]
[null,null,null,null,null,null,null,null,null,null,65569]
[null,null,null,null,null,null,null,null,null,null,65570]
[null,null,null,null,null,null,null,null,null,null,65571]
[null,null,null,null,null,null,null,null,null,null,65572]
[null,null,null,null,null,null,null,null,null,null,65573]
[null,null,null,null,null,null,null,null,null,null,65574]
[null,null,null,null,null,null,null,null,null,null,65575]
[null,null,null,null,null,null,null,null,null,null,65576]
[null,null,null,null,null,null,null,null,null,null,65577]
[null,null,null,null,null,null,null,null,null,null,65578]
[null,null,null,null,null,null,null,null,null,null,65579]
[null,null,null,null,null,null,null,null,null,null,65580]
[null,null,null,null,null,null,null,null,null,null,65581]
[null,null,null,null,null,null,null,null,null,null,65582]
[null,null,null,null,null,null,null,null,null,null,65583]
[null,null,null,null,null,null,null,null,null,null,65584]
[null,null,null,null,null,null,null,null,null,null,65585]
[null,null,null,null,null,null,null,null,null,null,65586]
[null,null,null,null,null,null,null,null,null,null,65587]
[null,null,null,null,null,null,null,null,null,null,65588]
[null,null,null,null,null,null,null,null,null,null,65589]
[null,null,null,null,null,null,null,null,null,null,65590]
[null,null,null,null,null,null,null,null,null,null,65591]
[null,null,null,null,null,null,null,null,null,null,65592]
[null,null,null,null,null,null,null,null,null,null,65593]
[null,null,null,null,null,null,null,null,null,null,65594]
[null,null,null,null,null,null,null,null,null,null,65595]
[null,null,null,null,null,null,null,null,null,null,65596]
[null,null,null,null,null,null,null,null,null,null,65597]
[null,null,null,null,null,null,null,null,null,null,65598]
[null,null,null,null,null,null,null,null,null,null,65599]
[null,null,null,null,null,null,null,null,null,null,65600]
[null,null,null,null,null,null,null,null,null,null,65601]
[null,null,null,null,null,null,null,null,null,null,65602]
[null,null,null,null,null,null,null,null,null,null,65603]
[null,null,null,null,null,null,null,null,null,null,65604]
[null,null,null,null,null,null,null,null,null,null,65605]
[null,null,null,null,null,null,null,null,null,null,65606]
[null,null,null,null,null,null,null,null,null,null,65607]
[null,null,null,null,null,null,null,null,null,null,65608]
[null,null,null,null,null,null,null,null,null,null,65609]
[null,null,null,null,null,null,null,null,null,null,65610]
[null,null,null,null,null,null,null,null,null,null,65611]
[null,null,null,null,null,null,null,null,null,null,65612]
[null,null,null,null,null,null,null,null,null,null,65613]
[null,null,null,null,null,null,null,null,null,null,65614]
[null,null,null,null,null,null,null,null,null,null,65615]
[null,null,null,null,null,null,null,null,null,null,65616]
[null,null,null,null,null,null,null,null,null,null,65617]
[null,null,null,null,null,null,null,null,null,null,65618]
[null,null,null,null,null,null,null,null,null,null,65619]
[null,null,null,null,null,null,null,null,null,null,65620]
[null,null,null,null,null,null,null,null,null,null,65621]
[null,null,null,null,null,null,null,null,null,null,65622]
[null,null,null,null,null,null,null,null,null,null,65623]
[null,null,null,null,null,null,null,null,null,null,65624]
[null,null,null,null,null,null,null,null,null,null,65625]
[null,null,null,null,null,null,null,null,null,null,65626]
[null,null,null,null,null,null,null,null,null,null,65627]
[null,null,null,null,null,null,null,null,null,null,65628]
[null,null,null,null,null,null,null,null,null,null,65629]
[null,null,null,null,null,null,null,null,null,null,65630]
[null,null,null,null,null,null,null,null,null,null,65631]
[null,null,null,null,null,null,null,null,null,null,65632]
[null,null,null,null,null,null,null,null,null,null,65633]
[null,null,null,null,null,null,null,null,null,null,65634]
[null,null,null,null,null,null,null,null,null,null,65635]
[null,null,null,null,null,null,null,null,null,null,65636]
[null,null,null,null,null,null,null,null,null,null,65637]
[null,null,null,null,null,null,null,null,null,null,65638]
[null,null,null,null,null,null,null,null,null,null,65639]
[null,null,null,null,null,null,null,null,null,null,65640]
[null,null,null,null,null,null,null,null,null,null,65641]
[null,null,null,null,null,null,null,null,null,null,65642]
[null,null,null,null,null,null,null,null,null,null,65643]
[null,null,null,null,null,null,null,null,null,null,65644]
[null,null,null,null,null,null,null,null,null,null,65645]
[null,null,null,null,null,null,null,null,null,null,65646]
[null,null,null,null,null,null,null,null,null,null,65647]
[null,null,null,null,null,null,null,null,null,null,65648]
[null,null,null,null,null,null,null,null,null,null,65649]
[null,null,null,null,null,null,null,null,null,null,65650]
[null,null,null,null,null,null,null,null,null,null,65651]
[null,null,null,null,null,null,null,null,null,null,65652]
[null,null,null,null,null,null,null,null,null,null,65653]
[null,null,null,null,null,null,null,null,null,null,65654]
[null,null,null,null,null,null,null,null,null,null,65655]
[null,null,null,null,null,null,null,null,null,null,65656]
[null,null,null,null,null,null,null,null,null,null,65657]
[null,null,null,null,null,null,null,null,null,null,65658]
[null,null,null,null,null,null,null,null,null,null,65659]
[null,null,null,null,null,null,null,null,null,null,65660]
[null,null,null,null,null,null,null,null,null,null,65661]
[null,null,null,null,null,null,null,null,null,null,65662]
[null,null,null,null,null,null,null,null,null,null,65663]
[null,null,null,null,null,null,null,null,null,null,65664]
[null,null,null,null,null,null,null,null,null,null,65665]
[null,null,null,null,null,null,null,null,null,null,65666]
[null,null,null,null,null,null,null,null,null,null,65667]
[null,null,null,null,null,null,null,null,null,null,65668]
[null,null,null,null,null,null,null,null,null,null,65669]
[null,null,null,null,null,null,null,null,null,null,65670]
[null,null,null,null,null,null,null,null,null,null,65671]
[null,null,null,null,null,null,null,null,null,null,65672]
[null,null,null,null,null,null,null,null,null,null,65673]
[null,null,null,null,null,null,null,null,null,null,65674]
[null,null,null,null,null,null,null,null,null,null,65675]
[null,null,null,null,null,null,null,null,null,null,65676]
[null,null,null,null,null,null,null,null,null,null,65677]
[null,null,null,null,null,null,null,null,null,null,65678]
[null,null,null,null,null,null,null,null,null,null,65679]
[null,null,null,null,null,null,null,null,null,null,65680]
[null,null,null,null,null,null,null,null,null,null,65681]
[null,null,null,null,null,null,null,null,null,null,65682]
[null,null,null,null,null,null,null,null,null,null,65683]
[null,null,null,null,null,null,null,null,null,null,65684]
[null,null,null,null,null,null,null,null,null,null,65685]
[null,null,null,null,null,null,null,null,null,null,65686]
[null,null,null,null,null,null,null,null,null,null,65687]
[null,null,null,null,null,null,null,null,null,null,65688]
[null,null,null,null,null,null,null,null,null,null,65689]
[null,null,null,null,null,null,null,null,null,null,65690]
[null,null,null,null,null,null,null,null,null,null,65691]
[null,null,null,null,null,null,null,null,null,null,65692]
[null,null,null,null,null,null,null,null,null,null,65693]
[null,null,null,null,null,null,null,null,null,null,65694]
[null,null,null,null,null,null,null,null,null,null,65695]
[null,null,null,null,null,null,null,null,null,null,65696]
[null,null,null,null,null,null,null,null,null,null,65697]
[null,null,null,null,null,null,null,null,null,null,65698]
[null,null,null,null,null,null,null,null,null,null,65699]
[null,null,null,null,null,null,null,null,null,null,65700]
[null,null,null,null,null,null,null,null,null,null,65701]
[null,null,null,null,null,null,null,null,null,null,65702]
[null,null,null,null,null,null,null,null,null,null,65703]
[null,null,null,null,null,null,null,null,null,null,65704]
[null,null,null,null,null,null,null,null,null,null,65705]
[null,null,null,null,null,null,null,null,null,null,65706]
[null,null,null,null,null,null,null,null,null,null,65707]
[null,null,null,null,null,null,null,null,null,null,65708]
[null,null,null,null,null,null,null,null,null,null,65709]
[null,null,null,null,null,null,null,null,null,null,65710]
[null,null,null,null,null,null,null,null,null,null,65711]
[null,null,null,null,null,null,null,null,null,null,65712]
[null,null,null,null,null,null,null,null,null,null,65713]
[null,null,null,null,null,null,null,null,null,null,65714]
[null,null,null,null,null,null,null,null,null,null,65715]
[null,null,null,null,null,null,null,null,null,null,65716]
[null,null,null,null,null,null,null,null,null,null,65717]
[null,null,null,null,null,null,null,null,null,null,65718]
[null,null,null,null,null,null,null,null,null,null,65719]
[null,null,null,null,null,null,null,null,null,null,65720]
[null,null,null,null,null,null,null,null,null,null,65721]
[null,null,null,null,null,null,null,null,null,null,65722]
[null,null,null,null,null,null,null,null,null,null,65723]
[null,null,null,null,null,null,null,null,null,null,65724]
[null,null,null,null,null,null,null,null,null,null,65725]
[null,null,null,null,null,null,null,null,null,null,65726]
[null,null,null,null,null,null,null,null,null,null,65727]
[null,null,null,null,null,null,null,null,null,null,65728]
[null,null,null,null,null,null,null,null,null,null,65729]
[null,null,null,null,null,null,null,null,null,null,65730]
[null,null,null,null,null,null,null,null,null,null,65731]
[null,null,null,null,null,null,null,null,null,null,65732]
[null,null,null,null,null,null,null,null,null,null,65733]
[null,null,null,null,null,null,null,null,null,null,65734]
[null,null,null,null,null,null,null,null,null,null,65735]
[null,null,null,null,null,null,null,null,null,null,65736]
[null,null,null,null,null,null,null,null,null,null,65737]
[null,null,null,null,null,null,null,null,null,null,65738]
[null,null,null,null,null,null,null,null,null,null,65739]
[null,null,null,null,null,null,null,null,null,null,65740]
[null,null,null,null,null,null,null,null,null,null,65741]
[null,null,null,null,null,null,null,null,null,null,65742]
[null,null,null,null,null,null,null,null,null,null,65743]
[null,null,null,null,null,null,null,null,null,null,65744]
[null,null,null,null,null,null,null,null,null,null,65745]
[null,null,null,null,null,null,null,null,null,null,65746]
[null,null,null,null,null,null,null,null,null,null,65747]
[null,null,null,null,null,null,null,null,null,null,65748]
[null,null,null,null,null,null,null,null,null,null,65749]
[null,null,null,null,null,null,null,null,null,null,65750]
[null,null,null,null,null,null,null,null,null,null,65751]
[null,null,null,null,null,null,null,null,null,null,65752]
[null,null,null,null,null,null,null,null,null,null,65753]
[null,null,null,null,null,null,null,null,null,null,65754]
[null,null,null,null,null,null,null,null,null,null,65755]
[null,null,null,null,null,null,null,null,null,null,65756]
[null,null,null,null,null,null,null,null,null,null,65757]
[null,null,null,null,null,null,null,null,null,null,65758]
[null,null,null,null,null,null,null,null,null,null,65759]
[null,null,null,null,null,null,null,null,null,null,65760]
[null,null,null,null,null,null,null,null,null,null,65761]
[null,null,null,null,null,null,null,null,null,null,65762]
[null,null,null,null,null,null,null,null,null,null,65763]
[null,null,null,null,null,null,null,null,null,null,65764]
[null,null,null,null,null,null,null,null,null,null,65765]
[null,null,null,null,null,null,null,null,null,null,65766]
[null,null,null,null,null,null,null,null,null,null,65767]
[null,null,null,null,null,null,null,null,null,null,65768]
[null,null,null,null,null,null,null,null,null,null,65769]
[null,null,null,null,null,null,null,null,null,null,65770]
[null,null,null,null,null,null,null,null,null,null,65771]
[null,null,null,null,null,null,null,null,null,null,65772]
[null,null,null,null,null,null,null,null,null,null,65773]
[null,null,null,null,null,null,null,null,null,null,65774]
[null,null,null,null,null,null,null,null,null,null,65775]
[null,null,null,null,null,null,null,null,null,null,65776]
[null,null,null,null,null,null,null,null,null,null,65777]
[null,null,null,null,null,null,null,null,null,null,65778]
[null,null,null,null,null,null,null,null,null,null,65779]
[null,null,null,null,null,null,null,null,null,null,65780]
[null,null,null,null,null,null,null,null,null,null,65781]
[null,null,null,null,null,null,null,null,null,null,65782]
[null,null,null,null,null,null,null,null,null,null,65783]
[null,null,null,null,null,null,null,null,null,null,65784]
[null,null,null,null,null,null,null,null,null,null,65785]
[null,null,null,null,null,null,null,null,null,null,65786]
[null,null,null,null,null,null,null,null,null,null,65787]
[null,null,null,null,null,null,null,null,null,null,65788]
[null,null,null,null,null,null,null,null,null,null,65789]
[null,null,null,null,null,null,null,null,null,null,65790]
[null,null,null,null,null,null,null,null,null,null,65791]
[null,null,null,null,null,null,null,null,null,null,65792]
[null,null,null,null,null,null,null,null,null,null,65793]
[null,null,null,null,null,null,null,null,null,null,65794]
[null,null,null,null,null,null,null,null,null,null,65795]
[null,null,null,null,null,null,null,null,null,null,65796]
[null,null,null,null,null,null,null,null,null,null,65797]
[null,null,null,null,null,null,null,null,null,null,65798]
[null,null,null,null,null,null,null,null,null,null,65799]
[null,null,null,null,null,null,null,null,null,null,65800]
[null,null,null,null,null,null,null,null,null,null,65801]
[null,null,null,null,null,null,null,null,null,null,65802]
[null,null,null,null,null,null,null,null,null,null,65803]
[null,null,null,null,null,null,null,null,null,null,65804]
[null,null,null,null,null,null,null,null,null,null,65805]
[null,null,null,null,null,null,null,null,null,null,65806]
[null,null,null,null,null,null,null,null,null,null,65807]
[null,null,null,null,null,null,null,null,null,null,65808]
[null,null,null,null,null,null,null,null,null,null,65809]
[null,null,null,null,null,null,null,null,null,null,65810]
[null,null,null,null,null,null,null,null,null,null,65811]
[null,null,null,null,null,null,null,null,null,null,65812]
[null,null,null,null,null,null,null,null,null,null,65813]
[null,null,null,null,null,null,null,null,null,null,65814]
[null,null,null,null,null,null,null,null,null,null,65815]
[null,null,null,null,null,null,null,null,null,null,65816]
[null,null,null,null,null,null,null,null,null,null,65817]
[null,null,null,null,null,null,null,null,null,null,65818]
[null,null,null,null,null,null,null,null,null,null,65819]
[null,null,null,null,null,null,null,null,null,null,65820]
[null,null,null,null,null,null,null,null,null,null,65821]
[null,null,null,null,null,null,null,null,null,null,65822]
[null,null,null,null,null,null,null,null,null,null,65823]
[null,null,null,null,null,null,null,null,null,null,65824]
[null,null,null,null,null,null,null,null,null,null,65825]
[null,null,null,null,null,null,null,null,null,null,65826]
[null,null,null,null,null,null,null,null,null,null,65827]
[null,null,null,null,null,null,null,null,null,null,65828]
[null,null,null,null,null,null,null,null,null,null,65829]
[null,null,null,null,null,null,null,null,null,null,65830]
[null,null,null,null,null,null,null,null,null,null,65831]
[null,null,null,null,null,null,null,null,null,null,65832]
[null,null,null,null,null,null,null,null,null,null,65833]
[null,null,null,null,null,null,null,null,null,null,65834]
[null,null,null,null,null,null,null,null,null,null,65835]
[null,null,null,null,null,null,null,null,null,null,65836]
[null,null,null,null,null,null,null,null,null,null,65837]
[null,null,null,null,null,null,null,null,null,null,65838]
[null,null,null,null,null,null,null,null,null,null,65839]
[null,null,null,null,null,null,null,null,null,null,65840]
[null,null,null,null,null,null,null,null,null,null,65841]
[null,null,null,null,null,null,null,null,null,null,65842]
[null,null,null,null,null,null,null,null,null,null,65843]
[null,null,null,null,null,null,null,null,null,null,65844]
[null,null,null,null,null,null,null,null,null,null,65845]
[null,null,null,null,null,null,null,null,null,null,65846]
[null,null,null,null,null,null,null,null,null,null,65847]
[null,null,null,null,null,null,null,null,null,null,65848]
[null,null,null,null,null,null,null,null,null,null,65849]
[null,null,null,null,null,null,null,null,null,null,65850]
[null,null,null,null,null,null,null,null,null,null,65851]
[null,null,null,null,null,null,null,null,null,null,65852]
[null,null,null,null,null,null,null,null,null,null,65853]
[null,null,null,null,null,null,null,null,null,null,65854]
[null,null,null,null,null,null,null,null,null,null,65855]
[null,null,null,null,null,null,null,null,null,null,65856]
[null,null,null,null,null,null,null,null,null,null,65857]
[null,null,null,null,null,null,null,null,null,null,65858]
[null,null,null,null,null,null,null,null,null,null,65859]
[null,null,null,null,null,null,null,null,null,null,65860]
[null,null,null,null,null,null,null,null,null,null,65861]
[null,null,null,null,null,null,null,null,null,null,65862]
[null,null,null,null,null,null,null,null,null,null,65863]
[null,null,null,null,null,null,null,null,null,null,65864]
[null,null,null,null,null,null,null,null,null,null,65865]
[null,null,null,null,null,null,null,null,null,null,65866]
[null,null,null,null,null,null,null,null,null,null,65867]
[null,null,null,null,null,null,null,null,null,null,65868]
[null,null,null,null,null,null,null,null,null,null,65869]
[null,null,null,null,null,null,null,null,null,null,65870]
[null,null,null,null,null,null,null,null,null,null,65871]
[null,null,null,null,null,null,null,null,null,null,65872]
[null,null,null,null,null,null,null,null,null,null,65873]
[null,null,null,null,null,null,null,null,null,null,65874]
[null,null,null,null,null,null,null,null,null,null,65875]
[null,null,null,null,null,null,null,null,null,null,65876]
[null,null,null,null,null,null,null,null,null,null,65877]
[null,null,null,null,null,null,null,null,null,null,65878]
[null,null,null,null,null,null,null,null,null,null,65879]
[null,null,null,null,null,null,null,null,null,null,65880]
[null,null,null,null,null,null,null,null,null,null,65881]
[null,null,null,null,null,null,null,null,null,null,65882]
[null,null,null,null,null,null,null,null,null,null,65883]
[null,null,null,null,null,null,null,null,null,null,65884]
[null,null,null,null,null,null,null,null,null,null,65885]
[null,null,null,null,null,null,null,null,null,null,65886]
[null,null,null,null,null,null,null,null,null,null,65887]
[null,null,null,null,null,null,null,null,null,null,65888]
[null,null,null,null,null,null,null,null,null,null,65889]
[null,null,null,null,null,null,null,null,null,null,65890]
[null,null,null,null,null,null,null,null,null,null,65891]
[null,null,null,null,null,null,null,null,null,null,65892]
[null,null,null,null,null,null,null,null,null,null,65893]
[null,null,null,null,null,null,null,null,null,null,65894]
[null,null,null,null,null,null,null,null,null,null,65895]
[null,null,null,null,null,null,null,null,null,null,65896]
[null,null,null,null,null,null,null,null,null,null,65897]
[null,null,null,null,null,null,null,null,null,null,65898]
[null,null,null,null,null,null,null,null,null,null,65899]
[null,null,null,null,null,null,null,null,null,null,65900]
[null,null,null,null,null,null,null,null,null,null,65901]
[null,null,null,null,null,null,null,null,null,null,65902]
[null,null,null,null,null,null,null,null,null,null,65903]
[null,null,null,null,null,null,null,null,null,null,65904]
[null,null,null,null,null,null,null,null,null,null,65905]
[null,null,null,null,null,null,null,null,null,null,65906]
[null,null,null,null,null,null,null,null,null,null,65907]
[null,null,null,null,null,null,null,null,null,null,65908]
[null,null,null,null,null,null,null,null,null,null,65909]
[null,null,null,null,null,null,null,null,null,null,65910]
[null,null,null,null,null,null,null,null,null,null,65911]
[null,null,null,null,null,null,null,null,null,null,65912]
[null,null,null,null,null,null,null,null,null,null,65913]
[null,null,null,null,null,null,null,null,null,null,65914]
[null,null,null,null,null,null,null,null,null,null,65915]
[null,null,null,null,null,null,null,null,null,null,65916]
[null,null,null,null,null,null,null,null,null,null,65917]
[null,null,null,null,null,null,null,null,null,null,65918]
[null,null,null,null,null,null,null,null,null,null,65919]
[null,null,null,null,null,null,null,null,null,null,65920]
[null,null,null,null,null,null,null,null,null,null,65921]
[null,null,null,null,null,null,null,null,null,null,65922]
[null,null,null,null,null,null,null,null,null,null,65923]
[null,null,null,null,null,null,null,null,null,null,65924]
[null,null,null,null,null,null,null,null,null,null,65925]
[null,null,null,null,null,null,null,null,null,null,65926]
[null,null,null,null,null,null,null,null,null,null,65927]
[null,null,null,null,null,null,null,null,null,null,65928]
[null,null,null,null,null,null,null,null,null,null,65929]
[null,null,null,null,null,null,null,null,null,null,65930]
[null,null,null,null,null,null,null,null,null,null,65931]
[null,null,null,null,null,null,null,null,null,null,65932]
[null,null,null,null,null,null,null,null,null,null,65933]
[null,null,null,null,null,null,null,null,null,null,65934]
[null,null,null,null,null,null,null,null,null,null,65935]
[null,null,null,null,null,null,null,null,null,null,65936]
[null,null,null,null,null,null,null,null,null,null,65937]
[null,null,null,null,null,null,null,null,null,null,65938]
[null,null,null,null,null,null,null,null,null,null,65939]
[null,null,null,null,null,null,null,null,null,null,65940]
[null,null,null,null,null,null,null,null,null,null,65941]
[null,null,null,null,null,null,null,null,null,null,65942]
[null,null,null,null,null,null,null,null,null,null,65943]
[null,null,null,null,null,null,null,null,null,null,65944]
[null,null,null,null,null,null,null,null,null,null,65945]
[null,null,null,null,null,null,null,null,null,null,65946]
[null,null,null,null,null,null,null,null,null,null,65947]
[null,null,null,null,null,null,null,null,null,null,65948]
[null,null,null,null,null,null,null,null,null,null,65949]
[null,null,null,null,null,null,null,null,null,null,65950]
[null,null,null,null,null,null,null,null,null,null,65951]
[null,null,null,null,null,null,null,null,null,null,65952]
[null,null,null,null,null,null,null,null,null,null,65953]
[null,null,null,null,null,null,null,null,null,null,65954]
[null,null,null,null,null,null,null,null,null,null,65955]
[null,null,null,null,null,null,null,null,null,null,65956]
[null,null,null,null,null,null,null,null,null,null,65957]
[null,null,null,null,null,null,null,null,null,null,65958]
[null,null,null,null,null,null,null,null,null,null,65959]
[null,null,null,null,null,null,null,null,null,null,65960]
[null,null,null,null,null,null,null,null,null,null,65961]
[null,null,null,null,null,null,null,null,null,null,65962]
[null,null,null,null,null,null,null,null,null,null,65963]
[null,null,null,null,null,null,null,null,null,null,65964]
[null,null,null,null,null,null,null,null,null,null,65965]
[null,null,null,null,null,null,null,null,null,null,65966]
[null,null,null,null,null,null,null,null,null,null,65967]
[null,null,null,null,null,null,null,null,null,null,65968]
[null,null,null,null,null,null,null,null,null,null,65969]
[null,null,null,null,null,null,null,null,null,null,65970]
[null,null,null,null,null,null,null,null,null,null,65971]
[null,null,null,null,null,null,null,null,null,null,65972]
[null,null,null,null,null,null,null,null,null,null,65973]
[null,null,null,null,null,null,null,null,null,null,65974]
[null,null,null,null,null,null,null,null,null,null,65975]
[null,null,null,null,null,null,null,null,null,null,65976]
[null,null,null,null,null,null,null,null,null,null,65977]
[null,null,null,null,null,null,null,null,null,null,65978]
[null,null,null,null,null,null,null,null,null,null,65979]
[null,null,null,null,null,null,null,null,null,null,65980]
[null,null,null,null,null,null,null,null,null,null,65981]
[null,null,null,null,null,null,null,null,null,null,65982]
[null,null,null,null,null,null,null,null,null,null,65983]
[null,null,null,null,null,null,null,null,null,null,65984]
[null,null,null,null,null,null,null,null,null,null,65985]
[null,null,null,null,null,null,null,null,null,null,65986]
[null,null,null,null,null,null,null,null,null,null,65987]
[null,null,null,null,null,null,null,null,null,null,65988]
[null,null,null,null,null,null,null,null,null,null,65989]
[null,null,null,null,null,null,null,null,null,null,65990]
[null,null,null,null,null,null,null,null,null,null,65991]
[null,null,null,null,null,null,null,null,null,null,65992]
[null,null,null,null,null,null,null,null,null,null,65993]
[null,null,null,null,null,null,null,null,null,null,65994]
[null,null,null,null,null,null,null,null,null,null,65995]
[null,null,null,null,null,null,null,null,null,null,65996]
[null,null,null,null,null,null,null,null,null,null,65997]
[null,null,null,null,null,null,null,null,null,null,65998]
[null,null,null,null,null,null,null,null,null,null,65999]
[null,null,null,null,null,null,null,null,null,null,66000]

{"sheet":"SE Obr2","index":48,"n_rows":26,"n_cols":27,"rows_kept":26,"cut":false,"hidden":false,"merged":[[12,7,12,9],[12,11,12,13],[12,15,12,17],[12,19,12,21],[12,23,12,25],[2,1,2,25],[9,1,9,24],[5,3,5,19],[6,3,6,19],[8,1,8,24],[14,7,14,9],[14,11,14,13],[14,15,14,17],[14,19,14,21],[14,23,14,25],[13,7,13,9],[13,11,13,13],[13,15,13,17],[13,19,13,21],[13,23,13,25],[24,4,24,5],[24,13,24,16],[16,7,16,9],[16,11,16,13],[16,15,16,17],[21,7,21,9],[21,11,21,13],[21,15,21,17],[18,7,18,9],[18,11,18,13],[18,15,18,17],[21,19,21,21],[21,23,21,25],[22,7,22,9],[22,11,22,13],[22,15,22,17],[22,19,22,21],[22,23,22,25],[15,23,15,25],[17,7,17,9],[17,11,17,13],[17,15,17,17],[17,19,17,21],[17,23,17,25],[16,19,16,21],[16,23,16,25],[15,7,15,9],[15,11,15,13],[15,15,15,17],[15,19,15,21],[18,19,18,21],[18,23,18,25],[19,7,19,9],[19,11,19,13],[19,15,19,17],[19,19,19,21],[19,23,19,25]]}
[]
[null,"Child Support Guidelines Calculator - Schedule B - Self Employment Income Entry"]
[]
[]
[]
[null,{"$f":"NameScr!$B$7","v":"Obligor:"},null,{"$f":"HomeScr!$C$5","v":" "}]
[null,{"$f":"NameScr!$B$13","v":"Obligee:"},null,{"$f":"HomeScr!$C$6","v":" "}]
[null,null,"Activity number:  2  for   ",null,null,{"$f":"NameScr!C7","v":0},null,"(enter up to 2 lines for business description below)   "]
[]
[]
[null,"                                                                                "]
[null,"Tax Year . . . . . . . . . . . . . . . . . . . . . . . . . . . . . . . . . . . . . . . . . . . . . . "]
[null,null,"Total income . . . . . . . . . . . . . . . . . . . . . . . . . . . . . . . . . . . . . . . . ",null,null,null,null,null,null,null,{"$f":"VALUE(H13)","v":0},null,null,null,{"$f":"VALUE(L13)","v":0},null,null,null,{"$f":"VALUE(P13)","v":0},null,null,null,{"$f":"VALUE(T13)","v":0},null,null,null,{"$f":"VALUE(X13)","v":0}]
[null,null,"Income that is not the obligor's . . . . . . . . . . . . . . . . . . . . . . . . .",null,null,null,null,null,null,null,{"$f":"VALUE(H14)","v":0},null,null,null,{"$f":"VALUE(L14)","v":0},null,null,null,{"$f":"VALUE(P14)","v":0},null,null,null,{"$f":"VALUE(T14)","v":0},null,null,null,{"$f":"VALUE(X14)","v":0}]
[null,null,"Income that is not from self employment . . . . . . . . . . . . . . . . . ",null,null,null,null,null,null,null,0,null,null,null,0,null,null,null,0,null,null,null,0,null,null,null,0]
[null,null,"Undistributed partnership\\S-corp income . . . . . . . . . . . . . . . .",null,null,null,null,null,null,null,0,null,null,null,0,null,null,null,0,null,null,null,0,null,null,null,0]
[null,null,"Benefits\\pension\\profit sharing income . . . . . . . . . . . . . . . . . . ",null,null,null,null,null,null,null,0,null,null,null,0,null,null,null,0,null,null,null,0,null,null,null,0]
[null,null,"Payments to household member over fair market value  . . . . ",null,null,null,null,null,null,null,0,null,null,null,0,null,null,null,0,null,null,null,0,null,null,null,0]
[null,null,"C-corp taxable income . . . . . . . . . . . . . . . . . . . . . . . . . . . . . . . .",null,null,null,null,null,null,null,0,null,null,null,0,null,null,null,0,null,null,null,0,null,null,null,0]
[null,null,"C-corp federal income tax . . . . . . . . . . . . . . . . . . . . . . . . . . . . . ",null,null,null,null,null,null,null,0,null,null,null,0,null,null,null,0,null,null,null,0,null,null,null,0]
[null,null,"Obligor's ownership interest in C-corp (percentage) . . . . . . .",null,null,null,null,null,null,null,{"$f":"VALUE(I21)","v":0},null,null,null,{"$f":"VALUE(M21)","v":0},null,null,null,{"$f":"VALUE(Q21)","v":0},null,null,null,{"$f":"VALUE(U21)","v":0},null,null,null,{"$f":"VALUE(Y21)","v":0}]
[null,"Total additions . . . . . . . . . . . . . . . . . . . . . . . . . . . . . . . . . . . . . . . . . .",null,null,null,null,null,{"$f":"(K19-K20)*ROUND(((I21)/100*0.7),2)","v":0},null,null,null,{"$f":"(O19-O20)*ROUND(((M21)/100*0.7),2)","v":0},null,null,null,{"$f":"(S19-S20)*ROUND(((Q21)/100*0.7),2)","v":0},null,null,null,{"$f":"(W19-W20)*ROUND(((U21)/100*0.7),2)","v":0},null,null,null,{"$f":"(AA19-AA20)*ROUND(((Y21)/100*0.7),2)","v":0}]
[null,"Total annual net income from self-employment  . . . . . . . . . . . . . . . ",null,null,null,null,null,{"$f":"H13-(H14+H15+H16)+(H17+H18+H22)","v":0},null,null,null,{"$f":"L13-(L14+L15+L16)+(L17+L18+L22)","v":0},null,null,null,{"$f":"P13-(P14+P15+P16)+(P17+P18+P22)","v":0},null,null,null,{"$f":"T13-(T14+T15+T16)+(T17+T18+T22)","v":0},null,null,null,{"$f":"X13-(X14+X15+X16)+(X17+X18+X22)","v":0}]
[null,"                                                                                ",null,null,null,null,"Total years for average:",null,null,null,null,null,null,null,null,null,{"$f":"IF(M12=0,1,IF(Q12=0,2,IF(U12=0,3,IF(Y12=0,4,5))))","v":1}]
[null,"Total net income:",null,null,{"$f":"H23+L23+P23+T23+X23","v":0},null,"Average annual income:",null,null,null,null,null,null,{"$f":"ROUND(E25/Q24,0)","v":0}]
[null,2,"R",null,null,null,null,null,null,null,null,null,null,null,null,null,null,null,null,null,null,null,null,null,null,{"$f":"IF(N25<0,\"Y\",\"\")","v":""}]

{"sheet":"SE Obr3","index":49,"n_rows":66016,"n_cols":27,"rows_kept":4500,"cut":true,"hidden":false,"merged":[[12,7,12,9],[12,11,12,13],[12,15,12,17],[12,19,12,21],[12,23,12,25],[2,1,2,25],[9,1,9,24],[5,3,5,19],[6,3,6,19],[8,1,8,24],[14,7,14,9],[14,11,14,13],[14,15,14,17],[14,19,14,21],[14,23,14,25],[13,7,13,9],[13,11,13,13],[13,15,13,17],[13,19,13,21],[13,23,13,25],[24,4,24,5],[24,13,24,16],[16,7,16,9],[16,11,16,13],[16,15,16,17],[21,7,21,9],[21,11,21,13],[21,15,21,17],[18,7,18,9],[18,11,18,13],[18,15,18,17],[21,19,21,21],[21,23,21,25],[22,7,22,9],[22,11,22,13],[22,15,22,17],[22,19,22,21],[22,23,22,25],[15,23,15,25],[17,7,17,9],[17,11,17,13],[17,15,17,17],[17,19,17,21],[17,23,17,25],[16,19,16,21],[16,23,16,25],[15,7,15,9],[15,11,15,13],[15,15,15,17],[15,19,15,21],[18,19,18,21],[18,23,18,25],[19,7,19,9],[19,11,19,13],[19,15,19,17],[19,19,19,21],[19,23,19,25]],"bounds":{"rows_first":2000,"rows_last":500,"rows_between":2000,"halvings":0}}
[]
[null,"Child Support Guidelines Calculator - Schedule B - Self Employment Income Entry"]
[]
[]
[]
[null,{"$f":"NameScr!$B$7","v":"Obligor:"},null,{"$f":"HomeScr!$C$5","v":" "}]
[null,{"$f":"NameScr!$B$13","v":"Obligee:"},null,{"$f":"HomeScr!$C$6","v":" "}]
[null,null,"Activity number:  3  for",null,null,{"$f":"NameScr!C7","v":0},null,"(enter up to 2 lines for business description below)   "]
[]
[]
[null,"                                                                                "]
[null,"Tax Year . . . . . . . . . . . . . . . . . . . . . . . . . . . . . . . . . . . . . . . . . . . . . . "]
[null,null,"Total income . . . . . . . . . . . . . . . . . . . . . . . . . . . . . . . . . . . . . . . . ",null,null,null,null,null,null,null,{"$f":"VALUE(H13)","v":0},null,null,null,{"$f":"VALUE(L13)","v":0},null,null,null,{"$f":"VALUE(P13)","v":0},null,null,null,{"$f":"VALUE(T13)","v":0},null,null,null,{"$f":"VALUE(X13)","v":0}]
[null,null,"Income that is not the obligor's . . . . . . . . . . . . . . . . . . . . . . . . .",null,null,null,null,null,null,null,{"$f":"VALUE(H14)","v":0},null,null,null,{"$f":"VALUE(L14)","v":0},null,null,null,{"$f":"VALUE(P14)","v":0},null,null,null,{"$f":"VALUE(T14)","v":0},null,null,null,{"$f":"VALUE(X14)","v":0}]
[null,null,"Income that is not from self employment . . . . . . . . . . . . . . . . . ",null,null,null,null,null,null,null,0,null,null,null,0,null,null,null,0,null,null,null,0,null,null,null,0]
[null,null,"Undistributed partnership\\S-corp income . . . . . . . . . . . . . . . .",null,null,null,null,null,null,null,0,null,null,null,0,null,null,null,0,null,null,null,0,null,null,null,0]
[null,null,"Benefits\\pension\\profit sharing income . . . . . . . . . . . . . . . . . . ",null,null,null,null,null,null,null,0,null,null,null,0,null,null,null,0,null,null,null,0,null,null,null,0]
[null,null,"Payments to household member over fair market value  . . . . ",null,null,null,null,null,null,null,0,null,null,null,0,null,null,null,0,null,null,null,0,null,null,null,0]
[null,null,"C-corp taxable income . . . . . . . . . . . . . . . . . . . . . . . . . . . . . . . .",null,null,null,null,null,null,null,0,null,null,null,0,null,null,null,0,null,null,null,0,null,null,null,0]
[null,null,"C-corp federal income tax . . . . . . . . . . . . . . . . . . . . . . . . . . . . . ",null,null,null,null,null,null,null,0,null,null,null,0,null,null,null,0,null,null,null,0,null,null,null,0]
[null,null,"Obligor's ownership interest in C-corp (percentage) . . . . . . .",null,null,null,null,null,null,null,{"$f":"VALUE(I21)","v":0},null,null,null,{"$f":"VALUE(M21)","v":0},null,null,null,{"$f":"VALUE(Q21)","v":0},null,null,null,{"$f":"VALUE(U21)","v":0},null,null,null,{"$f":"VALUE(Y21)","v":0}]
[null,"Total additions . . . . . . . . . . . . . . . . . . . . . . . . . . . . . . . . . . . . . . . . . .",null,null,null,null,null,{"$f":"(K19-K20)*ROUND(((I21)/100*0.7),2)","v":0},null,null,null,{"$f":"(O19-O20)*ROUND(((M21)/100*0.7),2)","v":0},null,null,null,{"$f":"(S19-S20)*ROUND(((Q21)/100*0.7),2)","v":0},null,null,null,{"$f":"(W19-W20)*ROUND(((U21)/100*0.7),2)","v":0},null,null,null,{"$f":"(AA19-AA20)*ROUND(((Y21)/100*0.7),2)","v":0}]
[null,"Total annual net income from self-employment  . . . . . . . . . . . . . . . ",null,null,null,null,null,{"$f":"H13-(H14+H15+H16)+(H17+H18+H22)","v":0},null,null,null,{"$f":"L13-(L14+L15+L16)+(L17+L18+L22)","v":0},null,null,null,{"$f":"P13-(P14+P15+P16)+(P17+P18+P22)","v":0},null,null,null,{"$f":"T13-(T14+T15+T16)+(T17+T18+T22)","v":0},null,null,null,{"$f":"X13-(X14+X15+X16)+(X17+X18+X22)","v":0}]
[null,"                                                                                ",null,null,null,null,"Total years for average:",null,null,null,null,null,null,null,null,null,{"$f":"IF(M12=0,1,IF(Q12=0,2,IF(U12=0,3,IF(Y12=0,4,5))))","v":1}]
[null,"Total net income:",null,null,{"$f":"H23+L23+P23+T23+X23","v":0},null,"Average annual income:",null,null,null,null,null,null,{"$f":"ROUND(E25/Q24,0)","v":0}]
[null,3,"R",null,null,null,null,null,null,null,null,null,null,null,null,null,null,null,null,null,null,null,null,null,null,{"$f":"IF(N25<0,\"Y\",\"\")","v":""}]
[]
[]
[]
[]
[]
[]
[]
[]
[]
[]
[]
[]
[]
[]
[]
[]
[null,null,null,null,null,null,null,null,null,null,27]
[null,null,null,null,null,null,null,null,null,null,28]
[null,null,null,null,null,null,null,null,null,null,29]
[null,null,null,null,null,null,null,null,null,null,30]
[null,null,null,null,null,null,null,null,null,null,31]
[null,null,null,null,null,null,null,null,null,null,32]
[null,null,null,null,null,null,null,null,null,null,33]
[null,null,null,null,null,null,null,null,null,null,34]
[null,null,null,null,null,null,null,null,null,null,35]
[null,null,null,null,null,null,null,null,null,null,36]
[null,null,null,null,null,null,null,null,null,null,37]
[null,null,null,null,null,null,null,null,null,null,38]
[null,null,null,null,null,null,null,null,null,null,39]
[null,null,null,null,null,null,null,null,null,null,40]
[null,null,null,null,null,null,null,null,null,null,41]
[null,null,null,null,null,null,null,null,null,null,42]
[null,null,null,null,null,null,null,null,null,null,43]
[null,null,null,null,null,null,null,null,null,null,44]
[null,null,null,null,null,null,null,null,null,null,45]
[null,null,null,null,null,null,null,null,null,null,46]
[null,null,null,null,null,null,null,null,null,null,47]
[null,null,null,null,null,null,null,null,null,null,48]
[null,null,null,null,null,null,null,null,null,null,49]
[null,null,null,null,null,null,null,null,null,null,50]
[null,null,null,null,null,null,null,null,null,null,51]
[null,null,null,null,null,null,null,null,null,null,52]
[null,null,null,null,null,null,null,null,null,null,53]
[null,null,null,null,null,null,null,null,null,null,54]
[null,null,null,null,null,null,null,null,null,null,55]
[null,null,null,null,null,null,null,null,null,null,56]
[null,null,null,null,null,null,null,null,null,null,57]
[null,null,null,null,null,null,null,null,null,null,58]
[null,null,null,null,null,null,null,null,null,null,59]
[null,null,null,null,null,null,null,null,null,null,60]
[null,null,null,null,null,null,null,null,null,null,61]
[null,null,null,null,null,null,null,null,null,null,62]
[null,null,null,null,null,null,null,null,null,null,63]
[null,null,null,null,null,null,null,null,null,null,64]
[null,null,null,null,null,null,null,null,null,null,65]
[null,null,null,null,null,null,null,null,null,null,66]
[null,null,null,null,null,null,null,null,null,null,67]
[null,null,null,null,null,null,null,null,null,null,68]
[null,null,null,null,null,null,null,null,null,null,69]
[null,null,null,null,null,null,null,null,null,null,70]
[null,null,null,null,null,null,null,null,null,null,71]
[null,null,null,null,null,null,null,null,null,null,72]
[null,null,null,null,null,null,null,null,null,null,73]
[null,null,null,null,null,null,null,null,null,null,74]
[null,null,null,null,null,null,null,null,null,null,75]
[null,null,null,null,null,null,null,null,null,null,76]
[null,null,null,null,null,null,null,null,null,null,77]
[null,null,null,null,null,null,null,null,null,null,78]
[null,null,null,null,null,null,null,null,null,null,79]
[null,null,null,null,null,null,null,null,null,null,80]
[null,null,null,null,null,null,null,null,null,null,81]
[null,null,null,null,null,null,null,null,null,null,82]
[null,null,null,null,null,null,null,null,null,null,83]
[null,null,null,null,null,null,null,null,null,null,84]
[null,null,null,null,null,null,null,null,null,null,85]
[null,null,null,null,null,null,null,null,null,null,86]
[null,null,null,null,null,null,null,null,null,null,87]
[null,null,null,null,null,null,null,null,null,null,88]
[null,null,null,null,null,null,null,null,null,null,89]
[null,null,null,null,null,null,null,null,null,null,90]
[null,null,null,null,null,null,null,null,null,null,91]
[null,null,null,null,null,null,null,null,null,null,92]
[null,null,null,null,null,null,null,null,null,null,93]
[null,null,null,null,null,null,null,null,null,null,94]
[null,null,null,null,null,null,null,null,null,null,95]
[null,null,null,null,null,null,null,null,null,null,96]
[null,null,null,null,null,null,null,null,null,null,97]
[null,null,null,null,null,null,null,null,null,null,98]
[null,null,null,null,null,null,null,null,null,null,99]
[null,null,null,null,null,null,null,null,null,null,100]
[null,null,null,null,null,null,null,null,null,null,101]
[null,null,null,null,null,null,null,null,null,null,102]
[null,null,null,null,null,null,null,null,null,null,103]
[null,null,null,null,null,null,null,null,null,null,104]
[null,null,null,null,null,null,null,null,null,null,105]
[null,null,null,null,null,null,null,null,null,null,106]
[null,null,null,null,null,null,null,null,null,null,107]
[null,null,null,null,null,null,null,null,null,null,108]
[null,null,null,null,null,null,null,null,null,null,109]
[null,null,null,null,null,null,null,null,null,null,110]
[null,null,null,null,null,null,null,null,null,null,111]
[null,null,null,null,null,null,null,null,null,null,112]
[null,null,null,null,null,null,null,null,null,null,113]
[null,null,null,null,null,null,null,null,null,null,114]
[null,null,null,null,null,null,null,null,null,null,115]
[null,null,null,null,null,null,null,null,null,null,116]
[null,null,null,null,null,null,null,null,null,null,117]
[null,null,null,null,null,null,null,null,null,null,118]
[null,null,null,null,null,null,null,null,null,null,119]
[null,null,null,null,null,null,null,null,null,null,120]
[null,null,null,null,null,null,null,null,null,null,121]
[null,null,null,null,null,null,null,null,null,null,122]
[null,null,null,null,null,null,null,null,null,null,123]
[null,null,null,null,null,null,null,null,null,null,124]
[null,null,null,null,null,null,null,null,null,null,125]
[null,null,null,null,null,null,null,null,null,null,126]
[null,null,null,null,null,null,null,null,null,null,127]
[null,null,null,null,null,null,null,null,null,null,128]
[null,null,null,null,null,null,null,null,null,null,129]
[null,null,null,null,null,null,null,null,null,null,130]
[null,null,null,null,null,null,null,null,null,null,131]
[null,null,null,null,null,null,null,null,null,null,132]
[null,null,null,null,null,null,null,null,null,null,133]
[null,null,null,null,null,null,null,null,null,null,134]
[null,null,null,null,null,null,null,null,null,null,135]
[null,null,null,null,null,null,null,null,null,null,136]
[null,null,null,null,null,null,null,null,null,null,137]
[null,null,null,null,null,null,null,null,null,null,138]
[null,null,null,null,null,null,null,null,null,null,139]
[null,null,null,null,null,null,null,null,null,null,140]
[null,null,null,null,null,null,null,null,null,null,141]
[null,null,null,null,null,null,null,null,null,null,142]
[null,null,null,null,null,null,null,null,null,null,143]
[null,null,null,null,null,null,null,null,null,null,144]
[null,null,null,null,null,null,null,null,null,null,145]
[null,null,null,null,null,null,null,null,null,null,146]
[null,null,null,null,null,null,null,null,null,null,147]
[null,null,null,null,null,null,null,null,null,null,148]
[null,null,null,null,null,null,null,null,null,null,149]
[null,null,null,null,null,null,null,null,null,null,150]
[null,null,null,null,null,null,null,null,null,null,151]
[null,null,null,null,null,null,null,null,null,null,152]
[null,null,null,null,null,null,null,null,null,null,153]
[null,null,null,null,null,null,null,null,null,null,154]
[null,null,null,null,null,null,null,null,null,null,155]
[null,null,null,null,null,null,null,null,null,null,156]
[null,null,null,null,null,null,null,null,null,null,157]
[null,null,null,null,null,null,null,null,null,null,158]
[null,null,null,null,null,null,null,null,null,null,159]
[null,null,null,null,null,null,null,null,null,null,160]
[null,null,null,null,null,null,null,null,null,null,161]
[null,null,null,null,null,null,null,null,null,null,162]
[null,null,null,null,null,null,null,null,null,null,163]
[null,null,null,null,null,null,null,null,null,null,164]
[null,null,null,null,null,null,null,null,null,null,165]
[null,null,null,null,null,null,null,null,null,null,166]
[null,null,null,null,null,null,null,null,null,null,167]
[null,null,null,null,null,null,null,null,null,null,168]
[null,null,null,null,null,null,null,null,null,null,169]
[null,null,null,null,null,null,null,null,null,null,170]
[null,null,null,null,null,null,null,null,null,null,171]
[null,null,null,null,null,null,null,null,null,null,172]
[null,null,null,null,null,null,null,null,null,null,173]
[null,null,null,null,null,null,null,null,null,null,174]
[null,null,null,null,null,null,null,null,null,null,175]
[null,null,null,null,null,null,null,null,null,null,176]
[null,null,null,null,null,null,null,null,null,null,177]
[null,null,null,null,null,null,null,null,null,null,178]
[null,null,null,null,null,null,null,null,null,null,179]
[null,null,null,null,null,null,null,null,null,null,180]
[null,null,null,null,null,null,null,null,null,null,181]
[null,null,null,null,null,null,null,null,null,null,182]
[null,null,null,null,null,null,null,null,null,null,183]
[null,null,null,null,null,null,null,null,null,null,184]
[null,null,null,null,null,null,null,null,null,null,185]
[null,null,null,null,null,null,null,null,null,null,186]
[null,null,null,null,null,null,null,null,null,null,187]
[null,null,null,null,null,null,null,null,null,null,188]
[null,null,null,null,null,null,null,null,null,null,189]
[null,null,null,null,null,null,null,null,null,null,190]
[null,null,null,null,null,null,null,null,null,null,191]
[null,null,null,null,null,null,null,null,null,null,192]
[null,null,null,null,null,null,null,null,null,null,193]
[null,null,null,null,null,null,null,null,null,null,194]
[null,null,null,null,null,null,null,null,null,null,195]
[null,null,null,null,null,null,null,null,null,null,196]
[null,null,null,null,null,null,null,null,null,null,197]
[null,null,null,null,null,null,null,null,null,null,198]
[null,null,null,null,null,null,null,null,null,null,199]
[null,null,null,null,null,null,null,null,null,null,200]
[null,null,null,null,null,null,null,null,null,null,201]
[null,null,null,null,null,null,null,null,null,null,202]
[null,null,null,null,null,null,null,null,null,null,203]
[null,null,null,null,null,null,null,null,null,null,204]
[null,null,null,null,null,null,null,null,null,null,205]
[null,null,null,null,null,null,null,null,null,null,206]
[null,null,null,null,null,null,null,null,null,null,207]
[null,null,null,null,null,null,null,null,null,null,208]
[null,null,null,null,null,null,null,null,null,null,209]
[null,null,null,null,null,null,null,null,null,null,210]
[null,null,null,null,null,null,null,null,null,null,211]
[null,null,null,null,null,null,null,null,null,null,212]
[null,null,null,null,null,null,null,null,null,null,213]
[null,null,null,null,null,null,null,null,null,null,214]
[null,null,null,null,null,null,null,null,null,null,215]
[null,null,null,null,null,null,null,null,null,null,216]
[null,null,null,null,null,null,null,null,null,null,217]
[null,null,null,null,null,null,null,null,null,null,218]
[null,null,null,null,null,null,null,null,null,null,219]
[null,null,null,null,null,null,null,null,null,null,220]
[null,null,null,null,null,null,null,null,null,null,221]
[null,null,null,null,null,null,null,null,null,null,222]
[null,null,null,null,null,null,null,null,null,null,223]
[null,null,null,null,null,null,null,null,null,null,224]
[null,null,null,null,null,null,null,null,null,null,225]
[null,null,null,null,null,null,null,null,null,null,226]
[null,null,null,null,null,null,null,null,null,null,227]
[null,null,null,null,null,null,null,null,null,null,228]
[null,null,null,null,null,null,null,null,null,null,229]
[null,null,null,null,null,null,null,null,null,null,230]
[null,null,null,null,null,null,null,null,null,null,231]
[null,null,null,null,null,null,null,null,null,null,232]
[null,null,null,null,null,null,null,null,null,null,233]
[null,null,null,null,null,null,null,null,null,null,234]
[null,null,null,null,null,null,null,null,null,null,235]
[null,null,null,null,null,null,null,null,null,null,236]
[null,null,null,null,null,null,null,null,null,null,237]
[null,null,null,null,null,null,null,null,null,null,238]
[null,null,null,null,null,null,null,null,null,null,239]
[null,null,null,null,null,null,null,null,null,null,240]
[null,null,null,null,null,null,null,null,null,null,241]
[null,null,null,null,null,null,null,null,null,null,242]
[null,null,null,null,null,null,null,null,null,null,243]
[null,null,null,null,null,null,null,null,null,null,244]
[null,null,null,null,null,null,null,null,null,null,245]
[null,null,null,null,null,null,null,null,null,null,246]
[null,null,null,null,null,null,null,null,null,null,247]
[null,null,null,null,null,null,null,null,null,null,248]
[null,null,null,null,null,null,null,null,null,null,249]
[null,null,null,null,null,null,null,null,null,null,250]
[null,null,null,null,null,null,null,null,null,null,251]
[null,null,null,null,null,null,null,null,null,null,252]
[null,null,null,null,null,null,null,null,null,null,253]
[null,null,null,null,null,null,null,null,null,null,254]
[null,null,null,null,null,null,null,null,null,null,255]
[null,null,null,null,null,null,null,null,null,null,256]
[null,null,null,null,null,null,null,null,null,null,257]
[null,null,null,null,null,null,null,null,null,null,258]
[null,null,null,null,null,null,null,null,null,null,259]
[null,null,null,null,null,null,null,null,null,null,260]
[null,null,null,null,null,null,null,null,null,null,261]
[null,null,null,null,null,null,null,null,null,null,262]
[null,null,null,null,null,null,null,null,null,null,263]
[null,null,null,null,null,null,null,null,null,null,264]
[null,null,null,null,null,null,null,null,null,null,265]
[null,null,null,null,null,null,null,null,null,null,266]
[null,null,null,null,null,null,null,null,null,null,267]
[null,null,null,null,null,null,null,null,null,null,268]
[null,null,null,null,null,null,null,null,null,null,269]
[null,null,null,null,null,null,null,null,null,null,270]
[null,null,null,null,null,null,null,null,null,null,271]
[null,null,null,null,null,null,null,null,null,null,272]
[null,null,null,null,null,null,null,null,null,null,273]
[null,null,null,null,null,null,null,null,null,null,274]
[null,null,null,null,null,null,null,null,null,null,275]
[null,null,null,null,null,null,null,null,null,null,276]
[null,null,null,null,null,null,null,null,null,null,277]
[null,null,null,null,null,null,null,null,null,null,278]
[null,null,null,null,null,null,null,null,null,null,279]
[null,null,null,null,null,null,null,null,null,null,280]
[null,null,null,null,null,null,null,null,null,null,281]
[null,null,null,null,null,null,null,null,null,null,282]
[null,null,null,null,null,null,null,null,null,null,283]
[null,null,null,null,null,null,null,null,null,null,284]
[null,null,null,null,null,null,null,null,null,null,285]
[null,null,null,null,null,null,null,null,null,null,286]
[null,null,null,null,null,null,null,null,null,null,287]
[null,null,null,null,null,null,null,null,null,null,288]
[null,null,null,null,null,null,null,null,null,null,289]
[null,null,null,null,null,null,null,null,null,null,290]
[null,null,null,null,null,null,null,null,null,null,291]
[null,null,null,null,null,null,null,null,null,null,292]
[null,null,null,null,null,null,null,null,null,null,293]
[null,null,null,null,null,null,null,null,null,null,294]
[null,null,null,null,null,null,null,null,null,null,295]
[null,null,null,null,null,null,null,null,null,null,296]
[null,null,null,null,null,null,null,null,null,null,297]
[null,null,null,null,null,null,null,null,null,null,298]
[null,null,null,null,null,null,null,null,null,null,299]
[null,null,null,null,null,null,null,null,null,null,300]
[null,null,null,null,null,null,null,null,null,null,301]
[null,null,null,null,null,null,null,null,null,null,302]
[null,null,null,null,null,null,null,null,null,null,303]
[null,null,null,null,null,null,null,null,null,null,304]
[null,null,null,null,null,null,null,null,null,null,305]
[null,null,null,null,null,null,null,null,null,null,306]
[null,null,null,null,null,null,null,null,null,null,307]
[null,null,null,null,null,null,null,null,null,null,308]
[null,null,null,null,null,null,null,null,null,null,309]
[null,null,null,null,null,null,null,null,null,null,310]
[null,null,null,null,null,null,null,null,null,null,311]
[null,null,null,null,null,null,null,null,null,null,312]
[null,null,null,null,null,null,null,null,null,null,313]
[null,null,null,null,null,null,null,null,null,null,314]
[null,null,null,null,null,null,null,null,null,null,315]
[null,null,null,null,null,null,null,null,null,null,316]
[null,null,null,null,null,null,null,null,null,null,317]
[null,null,null,null,null,null,null,null,null,null,318]
[null,null,null,null,null,null,null,null,null,null,319]
[null,null,null,null,null,null,null,null,null,null,320]
[null,null,null,null,null,null,null,null,null,null,321]
[null,null,null,null,null,null,null,null,null,null,322]
[null,null,null,null,null,null,null,null,null,null,323]
[null,null,null,null,null,null,null,null,null,null,324]
[null,null,null,null,null,null,null,null,null,null,325]
[null,null,null,null,null,null,null,null,null,null,326]
[null,null,null,null,null,null,null,null,null,null,327]
[null,null,null,null,null,null,null,null,null,null,328]
[null,null,null,null,null,null,null,null,null,null,329]
[null,null,null,null,null,null,null,null,null,null,330]
[null,null,null,null,null,null,null,null,null,null,331]
[null,null,null,null,null,null,null,null,null,null,332]
[null,null,null,null,null,null,null,null,null,null,333]
[null,null,null,null,null,null,null,null,null,null,334]
[null,null,null,null,null,null,null,null,null,null,335]
[null,null,null,null,null,null,null,null,null,null,336]
[null,null,null,null,null,null,null,null,null,null,337]
[null,null,null,null,null,null,null,null,null,null,338]
[null,null,null,null,null,null,null,null,null,null,339]
[null,null,null,null,null,null,null,null,null,null,340]
[null,null,null,null,null,null,null,null,null,null,341]
[null,null,null,null,null,null,null,null,null,null,342]
[null,null,null,null,null,null,null,null,null,null,343]
[null,null,null,null,null,null,null,null,null,null,344]
[null,null,null,null,null,null,null,null,null,null,345]
[null,null,null,null,null,null,null,null,null,null,346]
[null,null,null,null,null,null,null,null,null,null,347]
[null,null,null,null,null,null,null,null,null,null,348]
[null,null,null,null,null,null,null,null,null,null,349]
[null,null,null,null,null,null,null,null,null,null,350]
[null,null,null,null,null,null,null,null,null,null,351]
[null,null,null,null,null,null,null,null,null,null,352]
[null,null,null,null,null,null,null,null,null,null,353]
[null,null,null,null,null,null,null,null,null,null,354]
[null,null,null,null,null,null,null,null,null,null,355]
[null,null,null,null,null,null,null,null,null,null,356]
[null,null,null,null,null,null,null,null,null,null,357]
[null,null,null,null,null,null,null,null,null,null,358]
[null,null,null,null,null,null,null,null,null,null,359]
[null,null,null,null,null,null,null,null,null,null,360]
[null,null,null,null,null,null,null,null,null,null,361]
[null,null,null,null,null,null,null,null,null,null,362]
[null,null,null,null,null,null,null,null,null,null,363]
[null,null,null,null,null,null,null,null,null,null,364]
[null,null,null,null,null,null,null,null,null,null,365]
[null,null,null,null,null,null,null,null,null,null,366]
[null,null,null,null,null,null,null,null,null,null,367]
[null,null,null,null,null,null,null,null,null,null,368]
[null,null,null,null,null,null,null,null,null,null,369]
[null,null,null,null,null,null,null,null,null,null,370]
[null,null,null,null,null,null,null,null,null,null,371]
[null,null,null,null,null,null,null,null,null,null,372]
[null,null,null,null,null,null,null,null,null,null,373]
[null,null,null,null,null,null,null,null,null,null,374]
[null,null,null,null,null,null,null,null,null,null,375]
[null,null,null,null,null,null,null,null,null,null,376]
[null,null,null,null,null,null,null,null,null,null,377]
[null,null,null,null,null,null,null,null,null,null,378]
[null,null,null,null,null,null,null,null,null,null,379]
[null,null,null,null,null,null,null,null,null,null,380]
[null,null,null,null,null,null,null,null,null,null,381]
[null,null,null,null,null,null,null,null,null,null,382]
[null,null,null,null,null,null,null,null,null,null,383]
[null,null,null,null,null,null,null,null,null,null,384]
[null,null,null,null,null,null,null,null,null,null,385]
[null,null,null,null,null,null,null,null,null,null,386]
[null,null,null,null,null,null,null,null,null,null,387]
[null,null,null,null,null,null,null,null,null,null,388]
[null,null,null,null,null,null,null,null,null,null,389]
[null,null,null,null,null,null,null,null,null,null,390]
[null,null,null,null,null,null,null,null,null,null,391]
[null,null,null,null,null,null,null,null,null,null,392]
[null,null,null,null,null,null,null,null,null,null,393]
[null,null,null,null,null,null,null,null,null,null,394]
[null,null,null,null,null,null,null,null,null,null,395]
[null,null,null,null,null,null,null,null,null,null,396]
[null,null,null,null,null,null,null,null,null,null,397]
[null,null,null,null,null,null,null,null,null,null,398]
[null,null,null,null,null,null,null,null,null,null,399]
[null,null,null,null,null,null,null,null,null,null,400]
[null,null,null,null,null,null,null,null,null,null,401]
[null,null,null,null,null,null,null,null,null,null,402]
[null,null,null,null,null,null,null,null,null,null,403]
[null,null,null,null,null,null,null,null,null,null,404]
[null,null,null,null,null,null,null,null,null,null,405]
[null,null,null,null,null,null,null,null,null,null,406]
[null,null,null,null,null,null,null,null,null,null,407]
[null,null,null,null,null,null,null,null,null,null,408]
[null,null,null,null,null,null,null,null,null,null,409]
[null,null,null,null,null,null,null,null,null,null,410]
[null,null,null,null,null,null,null,null,null,null,411]
[null,null,null,null,null,null,null,null,null,null,412]
[null,null,null,null,null,null,null,null,null,null,413]
[null,null,null,null,null,null,null,null,null,null,414]
[null,null,null,null,null,null,null,null,null,null,415]
[null,null,null,null,null,null,null,null,null,null,416]
[null,null,null,null,null,null,null,null,null,null,417]
[null,null,null,null,null,null,null,null,null,null,418]
[null,null,null,null,null,null,null,null,null,null,419]
[null,null,null,null,null,null,null,null,null,null,420]
[null,null,null,null,null,null,null,null,null,null,421]
[null,null,null,null,null,null,null,null,null,null,422]
[null,null,null,null,null,null,null,null,null,null,423]
[null,null,null,null,null,null,null,null,null,null,424]
[null,null,null,null,null,null,null,null,null,null,425]
[null,null,null,null,null,null,null,null,null,null,426]
[null,null,null,null,null,null,null,null,null,null,427]
[null,null,null,null,null,null,null,null,null,null,428]
[null,null,null,null,null,null,null,null,null,null,429]
[null,null,null,null,null,null,null,null,null,null,430]
[null,null,null,null,null,null,null,null,null,null,431]
[null,null,null,null,null,null,null,null,null,null,432]
[null,null,null,null,null,null,null,null,null,null,433]
[null,null,null,null,null,null,null,null,null,null,434]
[null,null,null,null,null,null,null,null,null,null,435]
[null,null,null,null,null,null,null,null,null,null,436]
[null,null,null,null,null,null,null,null,null,null,437]
[null,null,null,null,null,null,null,null,null,null,438]
[null,null,null,null,null,null,null,null,null,null,439]
[null,null,null,null,null,null,null,null,null,null,440]
[null,null,null,null,null,null,null,null,null,null,441]
[null,null,null,null,null,null,null,null,null,null,442]
[null,null,null,null,null,null,null,null,null,null,443]
[null,null,null,null,null,null,null,null,null,null,444]
[null,null,null,null,null,null,null,null,null,null,445]
[null,null,null,null,null,null,null,null,null,null,446]
[null,null,null,null,null,null,null,null,null,null,447]
[null,null,null,null,null,null,null,null,null,null,448]
[null,null,null,null,null,null,null,null,null,null,449]
[null,null,null,null,null,null,null,null,null,null,450]
[null,null,null,null,null,null,null,null,null,null,451]
[null,null,null,null,null,null,null,null,null,null,452]
[null,null,null,null,null,null,null,null,null,null,453]
[null,null,null,null,null,null,null,null,null,null,454]
[null,null,null,null,null,null,null,null,null,null,455]
[null,null,null,null,null,null,null,null,null,null,456]
[null,null,null,null,null,null,null,null,null,null,457]
[null,null,null,null,null,null,null,null,null,null,458]
[null,null,null,null,null,null,null,null,null,null,459]
[null,null,null,null,null,null,null,null,null,null,460]
[null,null,null,null,null,null,null,null,null,null,461]
[null,null,null,null,null,null,null,null,null,null,462]
[null,null,null,null,null,null,null,null,null,null,463]
[null,null,null,null,null,null,null,null,null,null,464]
[null,null,null,null,null,null,null,null,null,null,465]
[null,null,null,null,null,null,null,null,null,null,466]
[null,null,null,null,null,null,null,null,null,null,467]
[null,null,null,null,null,null,null,null,null,null,468]
[null,null,null,null,null,null,null,null,null,null,469]
[null,null,null,null,null,null,null,null,null,null,470]
[null,null,null,null,null,null,null,null,null,null,471]
[null,null,null,null,null,null,null,null,null,null,472]
[null,null,null,null,null,null,null,null,null,null,473]
[null,null,null,null,null,null,null,null,null,null,474]
[null,null,null,null,null,null,null,null,null,null,475]
[null,null,null,null,null,null,null,null,null,null,476]
[null,null,null,null,null,null,null,null,null,null,477]
[null,null,null,null,null,null,null,null,null,null,478]
[null,null,null,null,null,null,null,null,null,null,479]
[null,null,null,null,null,null,null,null,null,null,480]
[null,null,null,null,null,null,null,null,null,null,481]
[null,null,null,null,null,null,null,null,null,null,482]
[null,null,null,null,null,null,null,null,null,null,483]
[null,null,null,null,null,null,null,null,null,null,484]
[null,null,null,null,null,null,null,null,null,null,485]
[null,null,null,null,null,null,null,null,null,null,486]
[null,null,null,null,null,null,null,null,null,null,487]
[null,null,null,null,null,null,null,null,null,null,488]
[null,null,null,null,null,null,null,null,null,null,489]
[null,null,null,null,null,null,null,null,null,null,490]
[null,null,null,null,null,null,null,null,null,null,491]
[null,null,null,null,null,null,null,null,null,null,492]
[null,null,null,null,null,null,null,null,null,null,493]
[null,null,null,null,null,null,null,null,null,null,494]
[null,null,null,null,null,null,null,null,null,null,495]
[null,null,null,null,null,null,null,null,null,null,496]
[null,null,null,null,null,null,null,null,null,null,497]
[null,null,null,null,null,null,null,null,null,null,498]
[null,null,null,null,null,null,null,null,null,null,499]
[null,null,null,null,null,null,null,null,null,null,500]
[null,null,null,null,null,null,null,null,null,null,501]
[null,null,null,null,null,null,null,null,null,null,502]
[null,null,null,null,null,null,null,null,null,null,503]
[null,null,null,null,null,null,null,null,null,null,504]
[null,null,null,null,null,null,null,null,null,null,505]
[null,null,null,null,null,null,null,null,null,null,506]
[null,null,null,null,null,null,null,null,null,null,507]
[null,null,null,null,null,null,null,null,null,null,508]
[null,null,null,null,null,null,null,null,null,null,509]
[null,null,null,null,null,null,null,null,null,null,510]
[null,null,null,null,null,null,null,null,null,null,511]
[null,null,null,null,null,null,null,null,null,null,512]
[null,null,null,null,null,null,null,null,null,null,513]
[null,null,null,null,null,null,null,null,null,null,514]
[null,null,null,null,null,null,null,null,null,null,515]
[null,null,null,null,null,null,null,null,null,null,516]
[null,null,null,null,null,null,null,null,null,null,517]
[null,null,null,null,null,null,null,null,null,null,518]
[null,null,null,null,null,null,null,null,null,null,519]
[null,null,null,null,null,null,null,null,null,null,520]
[null,null,null,null,null,null,null,null,null,null,521]
[null,null,null,null,null,null,null,null,null,null,522]
[null,null,null,null,null,null,null,null,null,null,523]
[null,null,null,null,null,null,null,null,null,null,524]
[null,null,null,null,null,null,null,null,null,null,525]
[null,null,null,null,null,null,null,null,null,null,526]
[null,null,null,null,null,null,null,null,null,null,527]
[null,null,null,null,null,null,null,null,null,null,528]
[null,null,null,null,null,null,null,null,null,null,529]
[null,null,null,null,null,null,null,null,null,null,530]
[null,null,null,null,null,null,null,null,null,null,531]
[null,null,null,null,null,null,null,null,null,null,532]
[null,null,null,null,null,null,null,null,null,null,533]
[null,null,null,null,null,null,null,null,null,null,534]
[null,null,null,null,null,null,null,null,null,null,535]
[null,null,null,null,null,null,null,null,null,null,536]
[null,null,null,null,null,null,null,null,null,null,537]
[null,null,null,null,null,null,null,null,null,null,538]
[null,null,null,null,null,null,null,null,null,null,539]
[null,null,null,null,null,null,null,null,null,null,540]
[null,null,null,null,null,null,null,null,null,null,541]
[null,null,null,null,null,null,null,null,null,null,542]
[null,null,null,null,null,null,null,null,null,null,543]
[null,null,null,null,null,null,null,null,null,null,544]
[null,null,null,null,null,null,null,null,null,null,545]
[null,null,null,null,null,null,null,null,null,null,546]
[null,null,null,null,null,null,null,null,null,null,547]
[null,null,null,null,null,null,null,null,null,null,548]
[null,null,null,null,null,null,null,null,null,null,549]
[null,null,null,null,null,null,null,null,null,null,550]
[null,null,null,null,null,null,null,null,null,null,551]
[null,null,null,null,null,null,null,null,null,null,552]
[null,null,null,null,null,null,null,null,null,null,553]
[null,null,null,null,null,null,null,null,null,null,554]
[null,null,null,null,null,null,null,null,null,null,555]
[null,null,null,null,null,null,null,null,null,null,556]
[null,null,null,null,null,null,null,null,null,null,557]
[null,null,null,null,null,null,null,null,null,null,558]
[null,null,null,null,null,null,null,null,null,null,559]
[null,null,null,null,null,null,null,null,null,null,560]
[null,null,null,null,null,null,null,null,null,null,561]
[null,null,null,null,null,null,null,null,null,null,562]
[null,null,null,null,null,null,null,null,null,null,563]
[null,null,null,null,null,null,null,null,null,null,564]
[null,null,null,null,null,null,null,null,null,null,565]
[null,null,null,null,null,null,null,null,null,null,566]
[null,null,null,null,null,null,null,null,null,null,567]
[null,null,null,null,null,null,null,null,null,null,568]
[null,null,null,null,null,null,null,null,null,null,569]
[null,null,null,null,null,null,null,null,null,null,570]
[null,null,null,null,null,null,null,null,null,null,571]
[null,null,null,null,null,null,null,null,null,null,572]
[null,null,null,null,null,null,null,null,null,null,573]
[null,null,null,null,null,null,null,null,null,null,574]
[null,null,null,null,null,null,null,null,null,null,575]
[null,null,null,null,null,null,null,null,null,null,576]
[null,null,null,null,null,null,null,null,null,null,577]
[null,null,null,null,null,null,null,null,null,null,578]
[null,null,null,null,null,null,null,null,null,null,579]
[null,null,null,null,null,null,null,null,null,null,580]
[null,null,null,null,null,null,null,null,null,null,581]
[null,null,null,null,null,null,null,null,null,null,582]
[null,null,null,null,null,null,null,null,null,null,583]
[null,null,null,null,null,null,null,null,null,null,584]
[null,null,null,null,null,null,null,null,null,null,585]
[null,null,null,null,null,null,null,null,null,null,586]
[null,null,null,null,null,null,null,null,null,null,587]
[null,null,null,null,null,null,null,null,null,null,588]
[null,null,null,null,null,null,null,null,null,null,589]
[null,null,null,null,null,null,null,null,null,null,590]
[null,null,null,null,null,null,null,null,null,null,591]
[null,null,null,null,null,null,null,null,null,null,592]
[null,null,null,null,null,null,null,null,null,null,593]
[null,null,null,null,null,null,null,null,null,null,594]
[null,null,null,null,null,null,null,null,null,null,595]
[null,null,null,null,null,null,null,null,null,null,596]
[null,null,null,null,null,null,null,null,null,null,597]
[null,null,null,null,null,null,null,null,null,null,598]
[null,null,null,null,null,null,null,null,null,null,599]
[null,null,null,null,null,null,null,null,null,null,600]
[null,null,null,null,null,null,null,null,null,null,601]
[null,null,null,null,null,null,null,null,null,null,602]
[null,null,null,null,null,null,null,null,null,null,603]
[null,null,null,null,null,null,null,null,null,null,604]
[null,null,null,null,null,null,null,null,null,null,605]
[null,null,null,null,null,null,null,null,null,null,606]
[null,null,null,null,null,null,null,null,null,null,607]
[null,null,null,null,null,null,null,null,null,null,608]
[null,null,null,null,null,null,null,null,null,null,609]
[null,null,null,null,null,null,null,null,null,null,610]
[null,null,null,null,null,null,null,null,null,null,611]
[null,null,null,null,null,null,null,null,null,null,612]
[null,null,null,null,null,null,null,null,null,null,613]
[null,null,null,null,null,null,null,null,null,null,614]
[null,null,null,null,null,null,null,null,null,null,615]
[null,null,null,null,null,null,null,null,null,null,616]
[null,null,null,null,null,null,null,null,null,null,617]
[null,null,null,null,null,null,null,null,null,null,618]
[null,null,null,null,null,null,null,null,null,null,619]
[null,null,null,null,null,null,null,null,null,null,620]
[null,null,null,null,null,null,null,null,null,null,621]
[null,null,null,null,null,null,null,null,null,null,622]
[null,null,null,null,null,null,null,null,null,null,623]
[null,null,null,null,null,null,null,null,null,null,624]
[null,null,null,null,null,null,null,null,null,null,625]
[null,null,null,null,null,null,null,null,null,null,626]
[null,null,null,null,null,null,null,null,null,null,627]
[null,null,null,null,null,null,null,null,null,null,628]
[null,null,null,null,null,null,null,null,null,null,629]
[null,null,null,null,null,null,null,null,null,null,630]
[null,null,null,null,null,null,null,null,null,null,631]
[null,null,null,null,null,null,null,null,null,null,632]
[null,null,null,null,null,null,null,null,null,null,633]
[null,null,null,null,null,null,null,null,null,null,634]
[null,null,null,null,null,null,null,null,null,null,635]
[null,null,null,null,null,null,null,null,null,null,636]
[null,null,null,null,null,null,null,null,null,null,637]
[null,null,null,null,null,null,null,null,null,null,638]
[null,null,null,null,null,null,null,null,null,null,639]
[null,null,null,null,null,null,null,null,null,null,640]
[null,null,null,null,null,null,null,null,null,null,641]
[null,null,null,null,null,null,null,null,null,null,642]
[null,null,null,null,null,null,null,null,null,null,643]
[null,null,null,null,null,null,null,null,null,null,644]
[null,null,null,null,null,null,null,null,null,null,645]
[null,null,null,null,null,null,null,null,null,null,646]
[null,null,null,null,null,null,null,null,null,null,647]
[null,null,null,null,null,null,null,null,null,null,648]
[null,null,null,null,null,null,null,null,null,null,649]
[null,null,null,null,null,null,null,null,null,null,650]
[null,null,null,null,null,null,null,null,null,null,651]
[null,null,null,null,null,null,null,null,null,null,652]
[null,null,null,null,null,null,null,null,null,null,653]
[null,null,null,null,null,null,null,null,null,null,654]
[null,null,null,null,null,null,null,null,null,null,655]
[null,null,null,null,null,null,null,null,null,null,656]
[null,null,null,null,null,null,null,null,null,null,657]
[null,null,null,null,null,null,null,null,null,null,658]
[null,null,null,null,null,null,null,null,null,null,659]
[null,null,null,null,null,null,null,null,null,null,660]
[null,null,null,null,null,null,null,null,null,null,661]
[null,null,null,null,null,null,null,null,null,null,662]
[null,null,null,null,null,null,null,null,null,null,663]
[null,null,null,null,null,null,null,null,null,null,664]
[null,null,null,null,null,null,null,null,null,null,665]
[null,null,null,null,null,null,null,null,null,null,666]
[null,null,null,null,null,null,null,null,null,null,667]
[null,null,null,null,null,null,null,null,null,null,668]
[null,null,null,null,null,null,null,null,null,null,669]
[null,null,null,null,null,null,null,null,null,null,670]
[null,null,null,null,null,null,null,null,null,null,671]
[null,null,null,null,null,null,null,null,null,null,672]
[null,null,null,null,null,null,null,null,null,null,673]
[null,null,null,null,null,null,null,null,null,null,674]
[null,null,null,null,null,null,null,null,null,null,675]
[null,null,null,null,null,null,null,null,null,null,676]
[null,null,null,null,null,null,null,null,null,null,677]
[null,null,null,null,null,null,null,null,null,null,678]
[null,null,null,null,null,null,null,null,null,null,679]
[null,null,null,null,null,null,null,null,null,null,680]
[null,null,null,null,null,null,null,null,null,null,681]
[null,null,null,null,null,null,null,null,null,null,682]
[null,null,null,null,null,null,null,null,null,null,683]
[null,null,null,null,null,null,null,null,null,null,684]
[null,null,null,null,null,null,null,null,null,null,685]
[null,null,null,null,null,null,null,null,null,null,686]
[null,null,null,null,null,null,null,null,null,null,687]
[null,null,null,null,null,null,null,null,null,null,688]
[null,null,null,null,null,null,null,null,null,null,689]
[null,null,null,null,null,null,null,null,null,null,690]
[null,null,null,null,null,null,null,null,null,null,691]
[null,null,null,null,null,null,null,null,null,null,692]
[null,null,null,null,null,null,null,null,null,null,693]
[null,null,null,null,null,null,null,null,null,null,694]
[null,null,null,null,null,null,null,null,null,null,695]
[null,null,null,null,null,null,null,null,null,null,696]
[null,null,null,null,null,null,null,null,null,null,697]
[null,null,null,null,null,null,null,null,null,null,698]
[null,null,null,null,null,null,null,null,null,null,699]
[null,null,null,null,null,null,null,null,null,null,700]
[null,null,null,null,null,null,null,null,null,null,701]
[null,null,null,null,null,null,null,null,null,null,702]
[null,null,null,null,null,null,null,null,null,null,703]
[null,null,null,null,null,null,null,null,null,null,704]
[null,null,null,null,null,null,null,null,null,null,705]
[null,null,null,null,null,null,null,null,null,null,706]
[null,null,null,null,null,null,null,null,null,null,707]
[null,null,null,null,null,null,null,null,null,null,708]
[null,null,null,null,null,null,null,null,null,null,709]
[null,null,null,null,null,null,null,null,null,null,710]
[null,null,null,null,null,null,null,null,null,null,711]
[null,null,null,null,null,null,null,null,null,null,712]
[null,null,null,null,null,null,null,null,null,null,713]
[null,null,null,null,null,null,null,null,null,null,714]
[null,null,null,null,null,null,null,null,null,null,715]
[null,null,null,null,null,null,null,null,null,null,716]
[null,null,null,null,null,null,null,null,null,null,717]
[null,null,null,null,null,null,null,null,null,null,718]
[null,null,null,null,null,null,null,null,null,null,719]
[null,null,null,null,null,null,null,null,null,null,720]
[null,null,null,null,null,null,null,null,null,null,721]
[null,null,null,null,null,null,null,null,null,null,722]
[null,null,null,null,null,null,null,null,null,null,723]
[null,null,null,null,null,null,null,null,null,null,724]
[null,null,null,null,null,null,null,null,null,null,725]
[null,null,null,null,null,null,null,null,null,null,726]
[null,null,null,null,null,null,null,null,null,null,727]
[null,null,null,null,null,null,null,null,null,null,728]
[null,null,null,null,null,null,null,null,null,null,729]
[null,null,null,null,null,null,null,null,null,null,730]
[null,null,null,null,null,null,null,null,null,null,731]
[null,null,null,null,null,null,null,null,null,null,732]
[null,null,null,null,null,null,null,null,null,null,733]
[null,null,null,null,null,null,null,null,null,null,734]
[null,null,null,null,null,null,null,null,null,null,735]
[null,null,null,null,null,null,null,null,null,null,736]
[null,null,null,null,null,null,null,null,null,null,737]
[null,null,null,null,null,null,null,null,null,null,738]
[null,null,null,null,null,null,null,null,null,null,739]
[null,null,null,null,null,null,null,null,null,null,740]
[null,null,null,null,null,null,null,null,null,null,741]
[null,null,null,null,null,null,null,null,null,null,742]
[null,null,null,null,null,null,null,null,null,null,743]
[null,null,null,null,null,null,null,null,null,null,744]
[null,null,null,null,null,null,null,null,null,null,745]
[null,null,null,null,null,null,null,null,null,null,746]
[null,null,null,null,null,null,null,null,null,null,747]
[null,null,null,null,null,null,null,null,null,null,748]
[null,null,null,null,null,null,null,null,null,null,749]
[null,null,null,null,null,null,null,null,null,null,750]
[null,null,null,null,null,null,null,null,null,null,751]
[null,null,null,null,null,null,null,null,null,null,752]
[null,null,null,null,null,null,null,null,null,null,753]
[null,null,null,null,null,null,null,null,null,null,754]
[null,null,null,null,null,null,null,null,null,null,755]
[null,null,null,null,null,null,null,null,null,null,756]
[null,null,null,null,null,null,null,null,null,null,757]
[null,null,null,null,null,null,null,null,null,null,758]
[null,null,null,null,null,null,null,null,null,null,759]
[null,null,null,null,null,null,null,null,null,null,760]
[null,null,null,null,null,null,null,null,null,null,761]
[null,null,null,null,null,null,null,null,null,null,762]
[null,null,null,null,null,null,null,null,null,null,763]
[null,null,null,null,null,null,null,null,null,null,764]
[null,null,null,null,null,null,null,null,null,null,765]
[null,null,null,null,null,null,null,null,null,null,766]
[null,null,null,null,null,null,null,null,null,null,767]
[null,null,null,null,null,null,null,null,null,null,768]
[null,null,null,null,null,null,null,null,null,null,769]
[null,null,null,null,null,null,null,null,null,null,770]
[null,null,null,null,null,null,null,null,null,null,771]
[null,null,null,null,null,null,null,null,null,null,772]
[null,null,null,null,null,null,null,null,null,null,773]
[null,null,null,null,null,null,null,null,null,null,774]
[null,null,null,null,null,null,null,null,null,null,775]
[null,null,null,null,null,null,null,null,null,null,776]
[null,null,null,null,null,null,null,null,null,null,777]
[null,null,null,null,null,null,null,null,null,null,778]
[null,null,null,null,null,null,null,null,null,null,779]
[null,null,null,null,null,null,null,null,null,null,780]
[null,null,null,null,null,null,null,null,null,null,781]
[null,null,null,null,null,null,null,null,null,null,782]
[null,null,null,null,null,null,null,null,null,null,783]
[null,null,null,null,null,null,null,null,null,null,784]
[null,null,null,null,null,null,null,null,null,null,785]
[null,null,null,null,null,null,null,null,null,null,786]
[null,null,null,null,null,null,null,null,null,null,787]
[null,null,null,null,null,null,null,null,null,null,788]
[null,null,null,null,null,null,null,null,null,null,789]
[null,null,null,null,null,null,null,null,null,null,790]
[null,null,null,null,null,null,null,null,null,null,791]
[null,null,null,null,null,null,null,null,null,null,792]
[null,null,null,null,null,null,null,null,null,null,793]
[null,null,null,null,null,null,null,null,null,null,794]
[null,null,null,null,null,null,null,null,null,null,795]
[null,null,null,null,null,null,null,null,null,null,796]
[null,null,null,null,null,null,null,null,null,null,797]
[null,null,null,null,null,null,null,null,null,null,798]
[null,null,null,null,null,null,null,null,null,null,799]
[null,null,null,null,null,null,null,null,null,null,800]
[null,null,null,null,null,null,null,null,null,null,801]
[null,null,null,null,null,null,null,null,null,null,802]
[null,null,null,null,null,null,null,null,null,null,803]
[null,null,null,null,null,null,null,null,null,null,804]
[null,null,null,null,null,null,null,null,null,null,805]
[null,null,null,null,null,null,null,null,null,null,806]
[null,null,null,null,null,null,null,null,null,null,807]
[null,null,null,null,null,null,null,null,null,null,808]
[null,null,null,null,null,null,null,null,null,null,809]
[null,null,null,null,null,null,null,null,null,null,810]
[null,null,null,null,null,null,null,null,null,null,811]
[null,null,null,null,null,null,null,null,null,null,812]
[null,null,null,null,null,null,null,null,null,null,813]
[null,null,null,null,null,null,null,null,null,null,814]
[null,null,null,null,null,null,null,null,null,null,815]
[null,null,null,null,null,null,null,null,null,null,816]
[null,null,null,null,null,null,null,null,null,null,817]
[null,null,null,null,null,null,null,null,null,null,818]
[null,null,null,null,null,null,null,null,null,null,819]
[null,null,null,null,null,null,null,null,null,null,820]
[null,null,null,null,null,null,null,null,null,null,821]
[null,null,null,null,null,null,null,null,null,null,822]
[null,null,null,null,null,null,null,null,null,null,823]
[null,null,null,null,null,null,null,null,null,null,824]
[null,null,null,null,null,null,null,null,null,null,825]
[null,null,null,null,null,null,null,null,null,null,826]
[null,null,null,null,null,null,null,null,null,null,827]
[null,null,null,null,null,null,null,null,null,null,828]
[null,null,null,null,null,null,null,null,null,null,829]
[null,null,null,null,null,null,null,null,null,null,830]
[null,null,null,null,null,null,null,null,null,null,831]
[null,null,null,null,null,null,null,null,null,null,832]
[null,null,null,null,null,null,null,null,null,null,833]
[null,null,null,null,null,null,null,null,null,null,834]
[null,null,null,null,null,null,null,null,null,null,835]
[null,null,null,null,null,null,null,null,null,null,836]
[null,null,null,null,null,null,null,null,null,null,837]
[null,null,null,null,null,null,null,null,null,null,838]
[null,null,null,null,null,null,null,null,null,null,839]
[null,null,null,null,null,null,null,null,null,null,840]
[null,null,null,null,null,null,null,null,null,null,841]
[null,null,null,null,null,null,null,null,null,null,842]
[null,null,null,null,null,null,null,null,null,null,843]
[null,null,null,null,null,null,null,null,null,null,844]
[null,null,null,null,null,null,null,null,null,null,845]
[null,null,null,null,null,null,null,null,null,null,846]
[null,null,null,null,null,null,null,null,null,null,847]
[null,null,null,null,null,null,null,null,null,null,848]
[null,null,null,null,null,null,null,null,null,null,849]
[null,null,null,null,null,null,null,null,null,null,850]
[null,null,null,null,null,null,null,null,null,null,851]
[null,null,null,null,null,null,null,null,null,null,852]
[null,null,null,null,null,null,null,null,null,null,853]
[null,null,null,null,null,null,null,null,null,null,854]
[null,null,null,null,null,null,null,null,null,null,855]
[null,null,null,null,null,null,null,null,null,null,856]
[null,null,null,null,null,null,null,null,null,null,857]
[null,null,null,null,null,null,null,null,null,null,858]
[null,null,null,null,null,null,null,null,null,null,859]
[null,null,null,null,null,null,null,null,null,null,860]
[null,null,null,null,null,null,null,null,null,null,861]
[null,null,null,null,null,null,null,null,null,null,862]
[null,null,null,null,null,null,null,null,null,null,863]
[null,null,null,null,null,null,null,null,null,null,864]
[null,null,null,null,null,null,null,null,null,null,865]
[null,null,null,null,null,null,null,null,null,null,866]
[null,null,null,null,null,null,null,null,null,null,867]
[null,null,null,null,null,null,null,null,null,null,868]
[null,null,null,null,null,null,null,null,null,null,869]
[null,null,null,null,null,null,null,null,null,null,870]
[null,null,null,null,null,null,null,null,null,null,871]
[null,null,null,null,null,null,null,null,null,null,872]
[null,null,null,null,null,null,null,null,null,null,873]
[null,null,null,null,null,null,null,null,null,null,874]
[null,null,null,null,null,null,null,null,null,null,875]
[null,null,null,null,null,null,null,null,null,null,876]
[null,null,null,null,null,null,null,null,null,null,877]
[null,null,null,null,null,null,null,null,null,null,878]
[null,null,null,null,null,null,null,null,null,null,879]
[null,null,null,null,null,null,null,null,null,null,880]
[null,null,null,null,null,null,null,null,null,null,881]
[null,null,null,null,null,null,null,null,null,null,882]
[null,null,null,null,null,null,null,null,null,null,883]
[null,null,null,null,null,null,null,null,null,null,884]
[null,null,null,null,null,null,null,null,null,null,885]
[null,null,null,null,null,null,null,null,null,null,886]
[null,null,null,null,null,null,null,null,null,null,887]
[null,null,null,null,null,null,null,null,null,null,888]
[null,null,null,null,null,null,null,null,null,null,889]
[null,null,null,null,null,null,null,null,null,null,890]
[null,null,null,null,null,null,null,null,null,null,891]
[null,null,null,null,null,null,null,null,null,null,892]
[null,null,null,null,null,null,null,null,null,null,893]
[null,null,null,null,null,null,null,null,null,null,894]
[null,null,null,null,null,null,null,null,null,null,895]
[null,null,null,null,null,null,null,null,null,null,896]
[null,null,null,null,null,null,null,null,null,null,897]
[null,null,null,null,null,null,null,null,null,null,898]
[null,null,null,null,null,null,null,null,null,null,899]
[null,null,null,null,null,null,null,null,null,null,900]
[null,null,null,null,null,null,null,null,null,null,901]
[null,null,null,null,null,null,null,null,null,null,902]
[null,null,null,null,null,null,null,null,null,null,903]
[null,null,null,null,null,null,null,null,null,null,904]
[null,null,null,null,null,null,null,null,null,null,905]
[null,null,null,null,null,null,null,null,null,null,906]
[null,null,null,null,null,null,null,null,null,null,907]
[null,null,null,null,null,null,null,null,null,null,908]
[null,null,null,null,null,null,null,null,null,null,909]
[null,null,null,null,null,null,null,null,null,null,910]
[null,null,null,null,null,null,null,null,null,null,911]
[null,null,null,null,null,null,null,null,null,null,912]
[null,null,null,null,null,null,null,null,null,null,913]
[null,null,null,null,null,null,null,null,null,null,914]
[null,null,null,null,null,null,null,null,null,null,915]
[null,null,null,null,null,null,null,null,null,null,916]
[null,null,null,null,null,null,null,null,null,null,917]
[null,null,null,null,null,null,null,null,null,null,918]
[null,null,null,null,null,null,null,null,null,null,919]
[null,null,null,null,null,null,null,null,null,null,920]
[null,null,null,null,null,null,null,null,null,null,921]
[null,null,null,null,null,null,null,null,null,null,922]
[null,null,null,null,null,null,null,null,null,null,923]
[null,null,null,null,null,null,null,null,null,null,924]
[null,null,null,null,null,null,null,null,null,null,925]
[null,null,null,null,null,null,null,null,null,null,926]
[null,null,null,null,null,null,null,null,null,null,927]
[null,null,null,null,null,null,null,null,null,null,928]
[null,null,null,null,null,null,null,null,null,null,929]
[null,null,null,null,null,null,null,null,null,null,930]
[null,null,null,null,null,null,null,null,null,null,931]
[null,null,null,null,null,null,null,null,null,null,932]
[null,null,null,null,null,null,null,null,null,null,933]
[null,null,null,null,null,null,null,null,null,null,934]
[null,null,null,null,null,null,null,null,null,null,935]
[null,null,null,null,null,null,null,null,null,null,936]
[null,null,null,null,null,null,null,null,null,null,937]
[null,null,null,null,null,null,null,null,null,null,938]
[null,null,null,null,null,null,null,null,null,null,939]
[null,null,null,null,null,null,null,null,null,null,940]
[null,null,null,null,null,null,null,null,null,null,941]
[null,null,null,null,null,null,null,null,null,null,942]
[null,null,null,null,null,null,null,null,null,null,943]
[null,null,null,null,null,null,null,null,null,null,944]
[null,null,null,null,null,null,null,null,null,null,945]
[null,null,null,null,null,null,null,null,null,null,946]
[null,null,null,null,null,null,null,null,null,null,947]
[null,null,null,null,null,null,null,null,null,null,948]
[null,null,null,null,null,null,null,null,null,null,949]
[null,null,null,null,null,null,null,null,null,null,950]
[null,null,null,null,null,null,null,null,null,null,951]
[null,null,null,null,null,null,null,null,null,null,952]
[null,null,null,null,null,null,null,null,null,null,953]
[null,null,null,null,null,null,null,null,null,null,954]
[null,null,null,null,null,null,null,null,null,null,955]
[null,null,null,null,null,null,null,null,null,null,956]
[null,null,null,null,null,null,null,null,null,null,957]
[null,null,null,null,null,null,null,null,null,null,958]
[null,null,null,null,null,null,null,null,null,null,959]
[null,null,null,null,null,null,null,null,null,null,960]
[null,null,null,null,null,null,null,null,null,null,961]
[null,null,null,null,null,null,null,null,null,null,962]
[null,null,null,null,null,null,null,null,null,null,963]
[null,null,null,null,null,null,null,null,null,null,964]
[null,null,null,null,null,null,null,null,null,null,965]
[null,null,null,null,null,null,null,null,null,null,966]
[null,null,null,null,null,null,null,null,null,null,967]
[null,null,null,null,null,null,null,null,null,null,968]
[null,null,null,null,null,null,null,null,null,null,969]
[null,null,null,null,null,null,null,null,null,null,970]
[null,null,null,null,null,null,null,null,null,null,971]
[null,null,null,null,null,null,null,null,null,null,972]
[null,null,null,null,null,null,null,null,null,null,973]
[null,null,null,null,null,null,null,null,null,null,974]
[null,null,null,null,null,null,null,null,null,null,975]
[null,null,null,null,null,null,null,null,null,null,976]
[null,null,null,null,null,null,null,null,null,null,977]
[null,null,null,null,null,null,null,null,null,null,978]
[null,null,null,null,null,null,null,null,null,null,979]
[null,null,null,null,null,null,null,null,null,null,980]
[null,null,null,null,null,null,null,null,null,null,981]
[null,null,null,null,null,null,null,null,null,null,982]
[null,null,null,null,null,null,null,null,null,null,983]
[null,null,null,null,null,null,null,null,null,null,984]
[null,null,null,null,null,null,null,null,null,null,985]
[null,null,null,null,null,null,null,null,null,null,986]
[null,null,null,null,null,null,null,null,null,null,987]
[null,null,null,null,null,null,null,null,null,null,988]
[null,null,null,null,null,null,null,null,null,null,989]
[null,null,null,null,null,null,null,null,null,null,990]
[null,null,null,null,null,null,null,null,null,null,991]
[null,null,null,null,null,null,null,null,null,null,992]
[null,null,null,null,null,null,null,null,null,null,993]
[null,null,null,null,null,null,null,null,null,null,994]
[null,null,null,null,null,null,null,null,null,null,995]
[null,null,null,null,null,null,null,null,null,null,996]
[null,null,null,null,null,null,null,null,null,null,997]
[null,null,null,null,null,null,null,null,null,null,998]
[null,null,null,null,null,null,null,null,null,null,999]
[null,null,null,null,null,null,null,null,null,null,1000]
[null,null,null,null,null,null,null,null,null,null,1001]
[null,null,null,null,null,null,null,null,null,null,1002]
[null,null,null,null,null,null,null,null,null,null,1003]
[null,null,null,null,null,null,null,null,null,null,1004]
[null,null,null,null,null,null,null,null,null,null,1005]
[null,null,null,null,null,null,null,null,null,null,1006]
[null,null,null,null,null,null,null,null,null,null,1007]
[null,null,null,null,null,null,null,null,null,null,1008]
[null,null,null,null,null,null,null,null,null,null,1009]
[null,null,null,null,null,null,null,null,null,null,1010]
[null,null,null,null,null,null,null,null,null,null,1011]
[null,null,null,null,null,null,null,null,null,null,1012]
[null,null,null,null,null,null,null,null,null,null,1013]
[null,null,null,null,null,null,null,null,null,null,1014]
[null,null,null,null,null,null,null,null,null,null,1015]
[null,null,null,null,null,null,null,null,null,null,1016]
[null,null,null,null,null,null,null,null,null,null,1017]
[null,null,null,null,null,null,null,null,null,null,1018]
[null,null,null,null,null,null,null,null,null,null,1019]
[null,null,null,null,null,null,null,null,null,null,1020]
[null,null,null,null,null,null,null,null,null,null,1021]
[null,null,null,null,null,null,null,null,null,null,1022]
[null,null,null,null,null,null,null,null,null,null,1023]
[null,null,null,null,null,null,null,null,null,null,1024]
[null,null,null,null,null,null,null,null,null,null,1025]
[null,null,null,null,null,null,null,null,null,null,1026]
[null,null,null,null,null,null,null,null,null,null,1027]
[null,null,null,null,null,null,null,null,null,null,1028]
[null,null,null,null,null,null,null,null,null,null,1029]
[null,null,null,null,null,null,null,null,null,null,1030]
[null,null,null,null,null,null,null,null,null,null,1031]
[null,null,null,null,null,null,null,null,null,null,1032]
[null,null,null,null,null,null,null,null,null,null,1033]
[null,null,null,null,null,null,null,null,null,null,1034]
[null,null,null,null,null,null,null,null,null,null,1035]
[null,null,null,null,null,null,null,null,null,null,1036]
[null,null,null,null,null,null,null,null,null,null,1037]
[null,null,null,null,null,null,null,null,null,null,1038]
[null,null,null,null,null,null,null,null,null,null,1039]
[null,null,null,null,null,null,null,null,null,null,1040]
[null,null,null,null,null,null,null,null,null,null,1041]
[null,null,null,null,null,null,null,null,null,null,1042]
[null,null,null,null,null,null,null,null,null,null,1043]
[null,null,null,null,null,null,null,null,null,null,1044]
[null,null,null,null,null,null,null,null,null,null,1045]
[null,null,null,null,null,null,null,null,null,null,1046]
[null,null,null,null,null,null,null,null,null,null,1047]
[null,null,null,null,null,null,null,null,null,null,1048]
[null,null,null,null,null,null,null,null,null,null,1049]
[null,null,null,null,null,null,null,null,null,null,1050]
[null,null,null,null,null,null,null,null,null,null,1051]
[null,null,null,null,null,null,null,null,null,null,1052]
[null,null,null,null,null,null,null,null,null,null,1053]
[null,null,null,null,null,null,null,null,null,null,1054]
[null,null,null,null,null,null,null,null,null,null,1055]
[null,null,null,null,null,null,null,null,null,null,1056]
[null,null,null,null,null,null,null,null,null,null,1057]
[null,null,null,null,null,null,null,null,null,null,1058]
[null,null,null,null,null,null,null,null,null,null,1059]
[null,null,null,null,null,null,null,null,null,null,1060]
[null,null,null,null,null,null,null,null,null,null,1061]
[null,null,null,null,null,null,null,null,null,null,1062]
[null,null,null,null,null,null,null,null,null,null,1063]
[null,null,null,null,null,null,null,null,null,null,1064]
[null,null,null,null,null,null,null,null,null,null,1065]
[null,null,null,null,null,null,null,null,null,null,1066]
[null,null,null,null,null,null,null,null,null,null,1067]
[null,null,null,null,null,null,null,null,null,null,1068]
[null,null,null,null,null,null,null,null,null,null,1069]
[null,null,null,null,null,null,null,null,null,null,1070]
[null,null,null,null,null,null,null,null,null,null,1071]
[null,null,null,null,null,null,null,null,null,null,1072]
[null,null,null,null,null,null,null,null,null,null,1073]
[null,null,null,null,null,null,null,null,null,null,1074]
[null,null,null,null,null,null,null,null,null,null,1075]
[null,null,null,null,null,null,null,null,null,null,1076]
[null,null,null,null,null,null,null,null,null,null,1077]
[null,null,null,null,null,null,null,null,null,null,1078]
[null,null,null,null,null,null,null,null,null,null,1079]
[null,null,null,null,null,null,null,null,null,null,1080]
[null,null,null,null,null,null,null,null,null,null,1081]
[null,null,null,null,null,null,null,null,null,null,1082]
[null,null,null,null,null,null,null,null,null,null,1083]
[null,null,null,null,null,null,null,null,null,null,1084]
[null,null,null,null,null,null,null,null,null,null,1085]
[null,null,null,null,null,null,null,null,null,null,1086]
[null,null,null,null,null,null,null,null,null,null,1087]
[null,null,null,null,null,null,null,null,null,null,1088]
[null,null,null,null,null,null,null,null,null,null,1089]
[null,null,null,null,null,null,null,null,null,null,1090]
[null,null,null,null,null,null,null,null,null,null,1091]
[null,null,null,null,null,null,null,null,null,null,1092]
[null,null,null,null,null,null,null,null,null,null,1093]
[null,null,null,null,null,null,null,null,null,null,1094]
[null,null,null,null,null,null,null,null,null,null,1095]
[null,null,null,null,null,null,null,null,null,null,1096]
[null,null,null,null,null,null,null,null,null,null,1097]
[null,null,null,null,null,null,null,null,null,null,1098]
[null,null,null,null,null,null,null,null,null,null,1099]
[null,null,null,null,null,null,null,null,null,null,1100]
[null,null,null,null,null,null,null,null,null,null,1101]
[null,null,null,null,null,null,null,null,null,null,1102]
[null,null,null,null,null,null,null,null,null,null,1103]
[null,null,null,null,null,null,null,null,null,null,1104]
[null,null,null,null,null,null,null,null,null,null,1105]
[null,null,null,null,null,null,null,null,null,null,1106]
[null,null,null,null,null,null,null,null,null,null,1107]
[null,null,null,null,null,null,null,null,null,null,1108]
[null,null,null,null,null,null,null,null,null,null,1109]
[null,null,null,null,null,null,null,null,null,null,1110]
[null,null,null,null,null,null,null,null,null,null,1111]
[null,null,null,null,null,null,null,null,null,null,1112]
[null,null,null,null,null,null,null,null,null,null,1113]
[null,null,null,null,null,null,null,null,null,null,1114]
[null,null,null,null,null,null,null,null,null,null,1115]
[null,null,null,null,null,null,null,null,null,null,1116]
[null,null,null,null,null,null,null,null,null,null,1117]
[null,null,null,null,null,null,null,null,null,null,1118]
[null,null,null,null,null,null,null,null,null,null,1119]
[null,null,null,null,null,null,null,null,null,null,1120]
[null,null,null,null,null,null,null,null,null,null,1121]
[null,null,null,null,null,null,null,null,null,null,1122]
[null,null,null,null,null,null,null,null,null,null,1123]
[null,null,null,null,null,null,null,null,null,null,1124]
[null,null,null,null,null,null,null,null,null,null,1125]
[null,null,null,null,null,null,null,null,null,null,1126]
[null,null,null,null,null,null,null,null,null,null,1127]
[null,null,null,null,null,null,null,null,null,null,1128]
[null,null,null,null,null,null,null,null,null,null,1129]
[null,null,null,null,null,null,null,null,null,null,1130]
[null,null,null,null,null,null,null,null,null,null,1131]
[null,null,null,null,null,null,null,null,null,null,1132]
[null,null,null,null,null,null,null,null,null,null,1133]
[null,null,null,null,null,null,null,null,null,null,1134]
[null,null,null,null,null,null,null,null,null,null,1135]
[null,null,null,null,null,null,null,null,null,null,1136]
[null,null,null,null,null,null,null,null,null,null,1137]
[null,null,null,null,null,null,null,null,null,null,1138]
[null,null,null,null,null,null,null,null,null,null,1139]
[null,null,null,null,null,null,null,null,null,null,1140]
[null,null,null,null,null,null,null,null,null,null,1141]
[null,null,null,null,null,null,null,null,null,null,1142]
[null,null,null,null,null,null,null,null,null,null,1143]
[null,null,null,null,null,null,null,null,null,null,1144]
[null,null,null,null,null,null,null,null,null,null,1145]
[null,null,null,null,null,null,null,null,null,null,1146]
[null,null,null,null,null,null,null,null,null,null,1147]
[null,null,null,null,null,null,null,null,null,null,1148]
[null,null,null,null,null,null,null,null,null,null,1149]
[null,null,null,null,null,null,null,null,null,null,1150]
[null,null,null,null,null,null,null,null,null,null,1151]
[null,null,null,null,null,null,null,null,null,null,1152]
[null,null,null,null,null,null,null,null,null,null,1153]
[null,null,null,null,null,null,null,null,null,null,1154]
[null,null,null,null,null,null,null,null,null,null,1155]
[null,null,null,null,null,null,null,null,null,null,1156]
[null,null,null,null,null,null,null,null,null,null,1157]
[null,null,null,null,null,null,null,null,null,null,1158]
[null,null,null,null,null,null,null,null,null,null,1159]
[null,null,null,null,null,null,null,null,null,null,1160]
[null,null,null,null,null,null,null,null,null,null,1161]
[null,null,null,null,null,null,null,null,null,null,1162]
[null,null,null,null,null,null,null,null,null,null,1163]
[null,null,null,null,null,null,null,null,null,null,1164]
[null,null,null,null,null,null,null,null,null,null,1165]
[null,null,null,null,null,null,null,null,null,null,1166]
[null,null,null,null,null,null,null,null,null,null,1167]
[null,null,null,null,null,null,null,null,null,null,1168]
[null,null,null,null,null,null,null,null,null,null,1169]
[null,null,null,null,null,null,null,null,null,null,1170]
[null,null,null,null,null,null,null,null,null,null,1171]
[null,null,null,null,null,null,null,null,null,null,1172]
[null,null,null,null,null,null,null,null,null,null,1173]
[null,null,null,null,null,null,null,null,null,null,1174]
[null,null,null,null,null,null,null,null,null,null,1175]
[null,null,null,null,null,null,null,null,null,null,1176]
[null,null,null,null,null,null,null,null,null,null,1177]
[null,null,null,null,null,null,null,null,null,null,1178]
[null,null,null,null,null,null,null,null,null,null,1179]
[null,null,null,null,null,null,null,null,null,null,1180]
[null,null,null,null,null,null,null,null,null,null,1181]
[null,null,null,null,null,null,null,null,null,null,1182]
[null,null,null,null,null,null,null,null,null,null,1183]
[null,null,null,null,null,null,null,null,null,null,1184]
[null,null,null,null,null,null,null,null,null,null,1185]
[null,null,null,null,null,null,null,null,null,null,1186]
[null,null,null,null,null,null,null,null,null,null,1187]
[null,null,null,null,null,null,null,null,null,null,1188]
[null,null,null,null,null,null,null,null,null,null,1189]
[null,null,null,null,null,null,null,null,null,null,1190]
[null,null,null,null,null,null,null,null,null,null,1191]
[null,null,null,null,null,null,null,null,null,null,1192]
[null,null,null,null,null,null,null,null,null,null,1193]
[null,null,null,null,null,null,null,null,null,null,1194]
[null,null,null,null,null,null,null,null,null,null,1195]
[null,null,null,null,null,null,null,null,null,null,1196]
[null,null,null,null,null,null,null,null,null,null,1197]
[null,null,null,null,null,null,null,null,null,null,1198]
[null,null,null,null,null,null,null,null,null,null,1199]
[null,null,null,null,null,null,null,null,null,null,1200]
[null,null,null,null,null,null,null,null,null,null,1201]
[null,null,null,null,null,null,null,null,null,null,1202]
[null,null,null,null,null,null,null,null,null,null,1203]
[null,null,null,null,null,null,null,null,null,null,1204]
[null,null,null,null,null,null,null,null,null,null,1205]
[null,null,null,null,null,null,null,null,null,null,1206]
[null,null,null,null,null,null,null,null,null,null,1207]
[null,null,null,null,null,null,null,null,null,null,1208]
[null,null,null,null,null,null,null,null,null,null,1209]
[null,null,null,null,null,null,null,null,null,null,1210]
[null,null,null,null,null,null,null,null,null,null,1211]
[null,null,null,null,null,null,null,null,null,null,1212]
[null,null,null,null,null,null,null,null,null,null,1213]
[null,null,null,null,null,null,null,null,null,null,1214]
[null,null,null,null,null,null,null,null,null,null,1215]
[null,null,null,null,null,null,null,null,null,null,1216]
[null,null,null,null,null,null,null,null,null,null,1217]
[null,null,null,null,null,null,null,null,null,null,1218]
[null,null,null,null,null,null,null,null,null,null,1219]
[null,null,null,null,null,null,null,null,null,null,1220]
[null,null,null,null,null,null,null,null,null,null,1221]
[null,null,null,null,null,null,null,null,null,null,1222]
[null,null,null,null,null,null,null,null,null,null,1223]
[null,null,null,null,null,null,null,null,null,null,1224]
[null,null,null,null,null,null,null,null,null,null,1225]
[null,null,null,null,null,null,null,null,null,null,1226]
[null,null,null,null,null,null,null,null,null,null,1227]
[null,null,null,null,null,null,null,null,null,null,1228]
[null,null,null,null,null,null,null,null,null,null,1229]
[null,null,null,null,null,null,null,null,null,null,1230]
[null,null,null,null,null,null,null,null,null,null,1231]
[null,null,null,null,null,null,null,null,null,null,1232]
[null,null,null,null,null,null,null,null,null,null,1233]
[null,null,null,null,null,null,null,null,null,null,1234]
[null,null,null,null,null,null,null,null,null,null,1235]
[null,null,null,null,null,null,null,null,null,null,1236]
[null,null,null,null,null,null,null,null,null,null,1237]
[null,null,null,null,null,null,null,null,null,null,1238]
[null,null,null,null,null,null,null,null,null,null,1239]
[null,null,null,null,null,null,null,null,null,null,1240]
[null,null,null,null,null,null,null,null,null,null,1241]
[null,null,null,null,null,null,null,null,null,null,1242]
[null,null,null,null,null,null,null,null,null,null,1243]
[null,null,null,null,null,null,null,null,null,null,1244]
[null,null,null,null,null,null,null,null,null,null,1245]
[null,null,null,null,null,null,null,null,null,null,1246]
[null,null,null,null,null,null,null,null,null,null,1247]
[null,null,null,null,null,null,null,null,null,null,1248]
[null,null,null,null,null,null,null,null,null,null,1249]
[null,null,null,null,null,null,null,null,null,null,1250]
[null,null,null,null,null,null,null,null,null,null,1251]
[null,null,null,null,null,null,null,null,null,null,1252]
[null,null,null,null,null,null,null,null,null,null,1253]
[null,null,null,null,null,null,null,null,null,null,1254]
[null,null,null,null,null,null,null,null,null,null,1255]
[null,null,null,null,null,null,null,null,null,null,1256]
[null,null,null,null,null,null,null,null,null,null,1257]
[null,null,null,null,null,null,null,null,null,null,1258]
[null,null,null,null,null,null,null,null,null,null,1259]
[null,null,null,null,null,null,null,null,null,null,1260]
[null,null,null,null,null,null,null,null,null,null,1261]
[null,null,null,null,null,null,null,null,null,null,1262]
[null,null,null,null,null,null,null,null,null,null,1263]
[null,null,null,null,null,null,null,null,null,null,1264]
[null,null,null,null,null,null,null,null,null,null,1265]
[null,null,null,null,null,null,null,null,null,null,1266]
[null,null,null,null,null,null,null,null,null,null,1267]
[null,null,null,null,null,null,null,null,null,null,1268]
[null,null,null,null,null,null,null,null,null,null,1269]
[null,null,null,null,null,null,null,null,null,null,1270]
[null,null,null,null,null,null,null,null,null,null,1271]
[null,null,null,null,null,null,null,null,null,null,1272]
[null,null,null,null,null,null,null,null,null,null,1273]
[null,null,null,null,null,null,null,null,null,null,1274]
[null,null,null,null,null,null,null,null,null,null,1275]
[null,null,null,null,null,null,null,null,null,null,1276]
[null,null,null,null,null,null,null,null,null,null,1277]
[null,null,null,null,null,null,null,null,null,null,1278]
[null,null,null,null,null,null,null,null,null,null,1279]
[null,null,null,null,null,null,null,null,null,null,1280]
[null,null,null,null,null,null,null,null,null,null,1281]
[null,null,null,null,null,null,null,null,null,null,1282]
[null,null,null,null,null,null,null,null,null,null,1283]
[null,null,null,null,null,null,null,null,null,null,1284]
[null,null,null,null,null,null,null,null,null,null,1285]
[null,null,null,null,null,null,null,null,null,null,1286]
[null,null,null,null,null,null,null,null,null,null,1287]
[null,null,null,null,null,null,null,null,null,null,1288]
[null,null,null,null,null,null,null,null,null,null,1289]
[null,null,null,null,null,null,null,null,null,null,1290]
[null,null,null,null,null,null,null,null,null,null,1291]
[null,null,null,null,null,null,null,null,null,null,1292]
[null,null,null,null,null,null,null,null,null,null,1293]
[null,null,null,null,null,null,null,null,null,null,1294]
[null,null,null,null,null,null,null,null,null,null,1295]
[null,null,null,null,null,null,null,null,null,null,1296]
[null,null,null,null,null,null,null,null,null,null,1297]
[null,null,null,null,null,null,null,null,null,null,1298]
[null,null,null,null,null,null,null,null,null,null,1299]
[null,null,null,null,null,null,null,null,null,null,1300]
[null,null,null,null,null,null,null,null,null,null,1301]
[null,null,null,null,null,null,null,null,null,null,1302]
[null,null,null,null,null,null,null,null,null,null,1303]
[null,null,null,null,null,null,null,null,null,null,1304]
[null,null,null,null,null,null,null,null,null,null,1305]
[null,null,null,null,null,null,null,null,null,null,1306]
[null,null,null,null,null,null,null,null,null,null,1307]
[null,null,null,null,null,null,null,null,null,null,1308]
[null,null,null,null,null,null,null,null,null,null,1309]
[null,null,null,null,null,null,null,null,null,null,1310]
[null,null,null,null,null,null,null,null,null,null,1311]
[null,null,null,null,null,null,null,null,null,null,1312]
[null,null,null,null,null,null,null,null,null,null,1313]
[null,null,null,null,null,null,null,null,null,null,1314]
[null,null,null,null,null,null,null,null,null,null,1315]
[null,null,null,null,null,null,null,null,null,null,1316]
[null,null,null,null,null,null,null,null,null,null,1317]
[null,null,null,null,null,null,null,null,null,null,1318]
[null,null,null,null,null,null,null,null,null,null,1319]
[null,null,null,null,null,null,null,null,null,null,1320]
[null,null,null,null,null,null,null,null,null,null,1321]
[null,null,null,null,null,null,null,null,null,null,1322]
[null,null,null,null,null,null,null,null,null,null,1323]
[null,null,null,null,null,null,null,null,null,null,1324]
[null,null,null,null,null,null,null,null,null,null,1325]
[null,null,null,null,null,null,null,null,null,null,1326]
[null,null,null,null,null,null,null,null,null,null,1327]
[null,null,null,null,null,null,null,null,null,null,1328]
[null,null,null,null,null,null,null,null,null,null,1329]
[null,null,null,null,null,null,null,null,null,null,1330]
[null,null,null,null,null,null,null,null,null,null,1331]
[null,null,null,null,null,null,null,null,null,null,1332]
[null,null,null,null,null,null,null,null,null,null,1333]
[null,null,null,null,null,null,null,null,null,null,1334]
[null,null,null,null,null,null,null,null,null,null,1335]
[null,null,null,null,null,null,null,null,null,null,1336]
[null,null,null,null,null,null,null,null,null,null,1337]
[null,null,null,null,null,null,null,null,null,null,1338]
[null,null,null,null,null,null,null,null,null,null,1339]
[null,null,null,null,null,null,null,null,null,null,1340]
[null,null,null,null,null,null,null,null,null,null,1341]
[null,null,null,null,null,null,null,null,null,null,1342]
[null,null,null,null,null,null,null,null,null,null,1343]
[null,null,null,null,null,null,null,null,null,null,1344]
[null,null,null,null,null,null,null,null,null,null,1345]
[null,null,null,null,null,null,null,null,null,null,1346]
[null,null,null,null,null,null,null,null,null,null,1347]
[null,null,null,null,null,null,null,null,null,null,1348]
[null,null,null,null,null,null,null,null,null,null,1349]
[null,null,null,null,null,null,null,null,null,null,1350]
[null,null,null,null,null,null,null,null,null,null,1351]
[null,null,null,null,null,null,null,null,null,null,1352]
[null,null,null,null,null,null,null,null,null,null,1353]
[null,null,null,null,null,null,null,null,null,null,1354]
[null,null,null,null,null,null,null,null,null,null,1355]
[null,null,null,null,null,null,null,null,null,null,1356]
[null,null,null,null,null,null,null,null,null,null,1357]
[null,null,null,null,null,null,null,null,null,null,1358]
[null,null,null,null,null,null,null,null,null,null,1359]
[null,null,null,null,null,null,null,null,null,null,1360]
[null,null,null,null,null,null,null,null,null,null,1361]
[null,null,null,null,null,null,null,null,null,null,1362]
[null,null,null,null,null,null,null,null,null,null,1363]
[null,null,null,null,null,null,null,null,null,null,1364]
[null,null,null,null,null,null,null,null,null,null,1365]
[null,null,null,null,null,null,null,null,null,null,1366]
[null,null,null,null,null,null,null,null,null,null,1367]
[null,null,null,null,null,null,null,null,null,null,1368]
[null,null,null,null,null,null,null,null,null,null,1369]
[null,null,null,null,null,null,null,null,null,null,1370]
[null,null,null,null,null,null,null,null,null,null,1371]
[null,null,null,null,null,null,null,null,null,null,1372]
[null,null,null,null,null,null,null,null,null,null,1373]
[null,null,null,null,null,null,null,null,null,null,1374]
[null,null,null,null,null,null,null,null,null,null,1375]
[null,null,null,null,null,null,null,null,null,null,1376]
[null,null,null,null,null,null,null,null,null,null,1377]
[null,null,null,null,null,null,null,null,null,null,1378]
[null,null,null,null,null,null,null,null,null,null,1379]
[null,null,null,null,null,null,null,null,null,null,1380]
[null,null,null,null,null,null,null,null,null,null,1381]
[null,null,null,null,null,null,null,null,null,null,1382]
[null,null,null,null,null,null,null,null,null,null,1383]
[null,null,null,null,null,null,null,null,null,null,1384]
[null,null,null,null,null,null,null,null,null,null,1385]
[null,null,null,null,null,null,null,null,null,null,1386]
[null,null,null,null,null,null,null,null,null,null,1387]
[null,null,null,null,null,null,null,null,null,null,1388]
[null,null,null,null,null,null,null,null,null,null,1389]
[null,null,null,null,null,null,null,null,null,null,1390]
[null,null,null,null,null,null,null,null,null,null,1391]
[null,null,null,null,null,null,null,null,null,null,1392]
[null,null,null,null,null,null,null,null,null,null,1393]
[null,null,null,null,null,null,null,null,null,null,1394]
[null,null,null,null,null,null,null,null,null,null,1395]
[null,null,null,null,null,null,null,null,null,null,1396]
[null,null,null,null,null,null,null,null,null,null,1397]
[null,null,null,null,null,null,null,null,null,null,1398]
[null,null,null,null,null,null,null,null,null,null,1399]
[null,null,null,null,null,null,null,null,null,null,1400]
[null,null,null,null,null,null,null,null,null,null,1401]
[null,null,null,null,null,null,null,null,null,null,1402]
[null,null,null,null,null,null,null,null,null,null,1403]
[null,null,null,null,null,null,null,null,null,null,1404]
[null,null,null,null,null,null,null,null,null,null,1405]
[null,null,null,null,null,null,null,null,null,null,1406]
[null,null,null,null,null,null,null,null,null,null,1407]
[null,null,null,null,null,null,null,null,null,null,1408]
[null,null,null,null,null,null,null,null,null,null,1409]
[null,null,null,null,null,null,null,null,null,null,1410]
[null,null,null,null,null,null,null,null,null,null,1411]
[null,null,null,null,null,null,null,null,null,null,1412]
[null,null,null,null,null,null,null,null,null,null,1413]
[null,null,null,null,null,null,null,null,null,null,1414]
[null,null,null,null,null,null,null,null,null,null,1415]
[null,null,null,null,null,null,null,null,null,null,1416]
[null,null,null,null,null,null,null,null,null,null,1417]
[null,null,null,null,null,null,null,null,null,null,1418]
[null,null,null,null,null,null,null,null,null,null,1419]
[null,null,null,null,null,null,null,null,null,null,1420]
[null,null,null,null,null,null,null,null,null,null,1421]
[null,null,null,null,null,null,null,null,null,null,1422]
[null,null,null,null,null,null,null,null,null,null,1423]
[null,null,null,null,null,null,null,null,null,null,1424]
[null,null,null,null,null,null,null,null,null,null,1425]
[null,null,null,null,null,null,null,null,null,null,1426]
[null,null,null,null,null,null,null,null,null,null,1427]
[null,null,null,null,null,null,null,null,null,null,1428]
[null,null,null,null,null,null,null,null,null,null,1429]
[null,null,null,null,null,null,null,null,null,null,1430]
[null,null,null,null,null,null,null,null,null,null,1431]
[null,null,null,null,null,null,null,null,null,null,1432]
[null,null,null,null,null,null,null,null,null,null,1433]
[null,null,null,null,null,null,null,null,null,null,1434]
[null,null,null,null,null,null,null,null,null,null,1435]
[null,null,null,null,null,null,null,null,null,null,1436]
[null,null,null,null,null,null,null,null,null,null,1437]
[null,null,null,null,null,null,null,null,null,null,1438]
[null,null,null,null,null,null,null,null,null,null,1439]
[null,null,null,null,null,null,null,null,null,null,1440]
[null,null,null,null,null,null,null,null,null,null,1441]
[null,null,null,null,null,null,null,null,null,null,1442]
[null,null,null,null,null,null,null,null,null,null,1443]
[null,null,null,null,null,null,null,null,null,null,1444]
[null,null,null,null,null,null,null,null,null,null,1445]
[null,null,null,null,null,null,null,null,null,null,1446]
[null,null,null,null,null,null,null,null,null,null,1447]
[null,null,null,null,null,null,null,null,null,null,1448]
[null,null,null,null,null,null,null,null,null,null,1449]
[null,null,null,null,null,null,null,null,null,null,1450]
[null,null,null,null,null,null,null,null,null,null,1451]
[null,null,null,null,null,null,null,null,null,null,1452]
[null,null,null,null,null,null,null,null,null,null,1453]
[null,null,null,null,null,null,null,null,null,null,1454]
[null,null,null,null,null,null,null,null,null,null,1455]
[null,null,null,null,null,null,null,null,null,null,1456]
[null,null,null,null,null,null,null,null,null,null,1457]
[null,null,null,null,null,null,null,null,null,null,1458]
[null,null,null,null,null,null,null,null,null,null,1459]
[null,null,null,null,null,null,null,null,null,null,1460]
[null,null,null,null,null,null,null,null,null,null,1461]
[null,null,null,null,null,null,null,null,null,null,1462]
[null,null,null,null,null,null,null,null,null,null,1463]
[null,null,null,null,null,null,null,null,null,null,1464]
[null,null,null,null,null,null,null,null,null,null,1465]
[null,null,null,null,null,null,null,null,null,null,1466]
[null,null,null,null,null,null,null,null,null,null,1467]
[null,null,null,null,null,null,null,null,null,null,1468]
[null,null,null,null,null,null,null,null,null,null,1469]
[null,null,null,null,null,null,null,null,null,null,1470]
[null,null,null,null,null,null,null,null,null,null,1471]
[null,null,null,null,null,null,null,null,null,null,1472]
[null,null,null,null,null,null,null,null,null,null,1473]
[null,null,null,null,null,null,null,null,null,null,1474]
[null,null,null,null,null,null,null,null,null,null,1475]
[null,null,null,null,null,null,null,null,null,null,1476]
[null,null,null,null,null,null,null,null,null,null,1477]
[null,null,null,null,null,null,null,null,null,null,1478]
[null,null,null,null,null,null,null,null,null,null,1479]
[null,null,null,null,null,null,null,null,null,null,1480]
[null,null,null,null,null,null,null,null,null,null,1481]
[null,null,null,null,null,null,null,null,null,null,1482]
[null,null,null,null,null,null,null,null,null,null,1483]
[null,null,null,null,null,null,null,null,null,null,1484]
[null,null,null,null,null,null,null,null,null,null,1485]
[null,null,null,null,null,null,null,null,null,null,1486]
[null,null,null,null,null,null,null,null,null,null,1487]
[null,null,null,null,null,null,null,null,null,null,1488]
[null,null,null,null,null,null,null,null,null,null,1489]
[null,null,null,null,null,null,null,null,null,null,1490]
[null,null,null,null,null,null,null,null,null,null,1491]
[null,null,null,null,null,null,null,null,null,null,1492]
[null,null,null,null,null,null,null,null,null,null,1493]
[null,null,null,null,null,null,null,null,null,null,1494]
[null,null,null,null,null,null,null,null,null,null,1495]
[null,null,null,null,null,null,null,null,null,null,1496]
[null,null,null,null,null,null,null,null,null,null,1497]
[null,null,null,null,null,null,null,null,null,null,1498]
[null,null,null,null,null,null,null,null,null,null,1499]
[null,null,null,null,null,null,null,null,null,null,1500]
[null,null,null,null,null,null,null,null,null,null,1501]
[null,null,null,null,null,null,null,null,null,null,1502]
[null,null,null,null,null,null,null,null,null,null,1503]
[null,null,null,null,null,null,null,null,null,null,1504]
[null,null,null,null,null,null,null,null,null,null,1505]
[null,null,null,null,null,null,null,null,null,null,1506]
[null,null,null,null,null,null,null,null,null,null,1507]
[null,null,null,null,null,null,null,null,null,null,1508]
[null,null,null,null,null,null,null,null,null,null,1509]
[null,null,null,null,null,null,null,null,null,null,1510]
[null,null,null,null,null,null,null,null,null,null,1511]
[null,null,null,null,null,null,null,null,null,null,1512]
[null,null,null,null,null,null,null,null,null,null,1513]
[null,null,null,null,null,null,null,null,null,null,1514]
[null,null,null,null,null,null,null,null,null,null,1515]
[null,null,null,null,null,null,null,null,null,null,1516]
[null,null,null,null,null,null,null,null,null,null,1517]
[null,null,null,null,null,null,null,null,null,null,1518]
[null,null,null,null,null,null,null,null,null,null,1519]
[null,null,null,null,null,null,null,null,null,null,1520]
[null,null,null,null,null,null,null,null,null,null,1521]
[null,null,null,null,null,null,null,null,null,null,1522]
[null,null,null,null,null,null,null,null,null,null,1523]
[null,null,null,null,null,null,null,null,null,null,1524]
[null,null,null,null,null,null,null,null,null,null,1525]
[null,null,null,null,null,null,null,null,null,null,1526]
[null,null,null,null,null,null,null,null,null,null,1527]
[null,null,null,null,null,null,null,null,null,null,1528]
[null,null,null,null,null,null,null,null,null,null,1529]
[null,null,null,null,null,null,null,null,null,null,1530]
[null,null,null,null,null,null,null,null,null,null,1531]
[null,null,null,null,null,null,null,null,null,null,1532]
[null,null,null,null,null,null,null,null,null,null,1533]
[null,null,null,null,null,null,null,null,null,null,1534]
[null,null,null,null,null,null,null,null,null,null,1535]
[null,null,null,null,null,null,null,null,null,null,1536]
[null,null,null,null,null,null,null,null,null,null,1537]
[null,null,null,null,null,null,null,null,null,null,1538]
[null,null,null,null,null,null,null,null,null,null,1539]
[null,null,null,null,null,null,null,null,null,null,1540]
[null,null,null,null,null,null,null,null,null,null,1541]
[null,null,null,null,null,null,null,null,null,null,1542]
[null,null,null,null,null,null,null,null,null,null,1543]
[null,null,null,null,null,null,null,null,null,null,1544]
[null,null,null,null,null,null,null,null,null,null,1545]
[null,null,null,null,null,null,null,null,null,null,1546]
[null,null,null,null,null,null,null,null,null,null,1547]
[null,null,null,null,null,null,null,null,null,null,1548]
[null,null,null,null,null,null,null,null,null,null,1549]
[null,null,null,null,null,null,null,null,null,null,1550]
[null,null,null,null,null,null,null,null,null,null,1551]
[null,null,null,null,null,null,null,null,null,null,1552]
[null,null,null,null,null,null,null,null,null,null,1553]
[null,null,null,null,null,null,null,null,null,null,1554]
[null,null,null,null,null,null,null,null,null,null,1555]
[null,null,null,null,null,null,null,null,null,null,1556]
[null,null,null,null,null,null,null,null,null,null,1557]
[null,null,null,null,null,null,null,null,null,null,1558]
[null,null,null,null,null,null,null,null,null,null,1559]
[null,null,null,null,null,null,null,null,null,null,1560]
[null,null,null,null,null,null,null,null,null,null,1561]
[null,null,null,null,null,null,null,null,null,null,1562]
[null,null,null,null,null,null,null,null,null,null,1563]
[null,null,null,null,null,null,null,null,null,null,1564]
[null,null,null,null,null,null,null,null,null,null,1565]
[null,null,null,null,null,null,null,null,null,null,1566]
[null,null,null,null,null,null,null,null,null,null,1567]
[null,null,null,null,null,null,null,null,null,null,1568]
[null,null,null,null,null,null,null,null,null,null,1569]
[null,null,null,null,null,null,null,null,null,null,1570]
[null,null,null,null,null,null,null,null,null,null,1571]
[null,null,null,null,null,null,null,null,null,null,1572]
[null,null,null,null,null,null,null,null,null,null,1573]
[null,null,null,null,null,null,null,null,null,null,1574]
[null,null,null,null,null,null,null,null,null,null,1575]
[null,null,null,null,null,null,null,null,null,null,1576]
[null,null,null,null,null,null,null,null,null,null,1577]
[null,null,null,null,null,null,null,null,null,null,1578]
[null,null,null,null,null,null,null,null,null,null,1579]
[null,null,null,null,null,null,null,null,null,null,1580]
[null,null,null,null,null,null,null,null,null,null,1581]
[null,null,null,null,null,null,null,null,null,null,1582]
[null,null,null,null,null,null,null,null,null,null,1583]
[null,null,null,null,null,null,null,null,null,null,1584]
[null,null,null,null,null,null,null,null,null,null,1585]
[null,null,null,null,null,null,null,null,null,null,1586]
[null,null,null,null,null,null,null,null,null,null,1587]
[null,null,null,null,null,null,null,null,null,null,1588]
[null,null,null,null,null,null,null,null,null,null,1589]
[null,null,null,null,null,null,null,null,null,null,1590]
[null,null,null,null,null,null,null,null,null,null,1591]
[null,null,null,null,null,null,null,null,null,null,1592]
[null,null,null,null,null,null,null,null,null,null,1593]
[null,null,null,null,null,null,null,null,null,null,1594]
[null,null,null,null,null,null,null,null,null,null,1595]
[null,null,null,null,null,null,null,null,null,null,1596]
[null,null,null,null,null,null,null,null,null,null,1597]
[null,null,null,null,null,null,null,null,null,null,1598]
[null,null,null,null,null,null,null,null,null,null,1599]
[null,null,null,null,null,null,null,null,null,null,1600]
[null,null,null,null,null,null,null,null,null,null,1601]
[null,null,null,null,null,null,null,null,null,null,1602]
[null,null,null,null,null,null,null,null,null,null,1603]
[null,null,null,null,null,null,null,null,null,null,1604]
[null,null,null,null,null,null,null,null,null,null,1605]
[null,null,null,null,null,null,null,null,null,null,1606]
[null,null,null,null,null,null,null,null,null,null,1607]
[null,null,null,null,null,null,null,null,null,null,1608]
[null,null,null,null,null,null,null,null,null,null,1609]
[null,null,null,null,null,null,null,null,null,null,1610]
[null,null,null,null,null,null,null,null,null,null,1611]
[null,null,null,null,null,null,null,null,null,null,1612]
[null,null,null,null,null,null,null,null,null,null,1613]
[null,null,null,null,null,null,null,null,null,null,1614]
[null,null,null,null,null,null,null,null,null,null,1615]
[null,null,null,null,null,null,null,null,null,null,1616]
[null,null,null,null,null,null,null,null,null,null,1617]
[null,null,null,null,null,null,null,null,null,null,1618]
[null,null,null,null,null,null,null,null,null,null,1619]
[null,null,null,null,null,null,null,null,null,null,1620]
[null,null,null,null,null,null,null,null,null,null,1621]
[null,null,null,null,null,null,null,null,null,null,1622]
[null,null,null,null,null,null,null,null,null,null,1623]
[null,null,null,null,null,null,null,null,null,null,1624]
[null,null,null,null,null,null,null,null,null,null,1625]
[null,null,null,null,null,null,null,null,null,null,1626]
[null,null,null,null,null,null,null,null,null,null,1627]
[null,null,null,null,null,null,null,null,null,null,1628]
[null,null,null,null,null,null,null,null,null,null,1629]
[null,null,null,null,null,null,null,null,null,null,1630]
[null,null,null,null,null,null,null,null,null,null,1631]
[null,null,null,null,null,null,null,null,null,null,1632]
[null,null,null,null,null,null,null,null,null,null,1633]
[null,null,null,null,null,null,null,null,null,null,1634]
[null,null,null,null,null,null,null,null,null,null,1635]
[null,null,null,null,null,null,null,null,null,null,1636]
[null,null,null,null,null,null,null,null,null,null,1637]
[null,null,null,null,null,null,null,null,null,null,1638]
[null,null,null,null,null,null,null,null,null,null,1639]
[null,null,null,null,null,null,null,null,null,null,1640]
[null,null,null,null,null,null,null,null,null,null,1641]
[null,null,null,null,null,null,null,null,null,null,1642]
[null,null,null,null,null,null,null,null,null,null,1643]
[null,null,null,null,null,null,null,null,null,null,1644]
[null,null,null,null,null,null,null,null,null,null,1645]
[null,null,null,null,null,null,null,null,null,null,1646]
[null,null,null,null,null,null,null,null,null,null,1647]
[null,null,null,null,null,null,null,null,null,null,1648]
[null,null,null,null,null,null,null,null,null,null,1649]
[null,null,null,null,null,null,null,null,null,null,1650]
[null,null,null,null,null,null,null,null,null,null,1651]
[null,null,null,null,null,null,null,null,null,null,1652]
[null,null,null,null,null,null,null,null,null,null,1653]
[null,null,null,null,null,null,null,null,null,null,1654]
[null,null,null,null,null,null,null,null,null,null,1655]
[null,null,null,null,null,null,null,null,null,null,1656]
[null,null,null,null,null,null,null,null,null,null,1657]
[null,null,null,null,null,null,null,null,null,null,1658]
[null,null,null,null,null,null,null,null,null,null,1659]
[null,null,null,null,null,null,null,null,null,null,1660]
[null,null,null,null,null,null,null,null,null,null,1661]
[null,null,null,null,null,null,null,null,null,null,1662]
[null,null,null,null,null,null,null,null,null,null,1663]
[null,null,null,null,null,null,null,null,null,null,1664]
[null,null,null,null,null,null,null,null,null,null,1665]
[null,null,null,null,null,null,null,null,null,null,1666]
[null,null,null,null,null,null,null,null,null,null,1667]
[null,null,null,null,null,null,null,null,null,null,1668]
[null,null,null,null,null,null,null,null,null,null,1669]
[null,null,null,null,null,null,null,null,null,null,1670]
[null,null,null,null,null,null,null,null,null,null,1671]
[null,null,null,null,null,null,null,null,null,null,1672]
[null,null,null,null,null,null,null,null,null,null,1673]
[null,null,null,null,null,null,null,null,null,null,1674]
[null,null,null,null,null,null,null,null,null,null,1675]
[null,null,null,null,null,null,null,null,null,null,1676]
[null,null,null,null,null,null,null,null,null,null,1677]
[null,null,null,null,null,null,null,null,null,null,1678]
[null,null,null,null,null,null,null,null,null,null,1679]
[null,null,null,null,null,null,null,null,null,null,1680]
[null,null,null,null,null,null,null,null,null,null,1681]
[null,null,null,null,null,null,null,null,null,null,1682]
[null,null,null,null,null,null,null,null,null,null,1683]
[null,null,null,null,null,null,null,null,null,null,1684]
[null,null,null,null,null,null,null,null,null,null,1685]
[null,null,null,null,null,null,null,null,null,null,1686]
[null,null,null,null,null,null,null,null,null,null,1687]
[null,null,null,null,null,null,null,null,null,null,1688]
[null,null,null,null,null,null,null,null,null,null,1689]
[null,null,null,null,null,null,null,null,null,null,1690]
[null,null,null,null,null,null,null,null,null,null,1691]
[null,null,null,null,null,null,null,null,null,null,1692]
[null,null,null,null,null,null,null,null,null,null,1693]
[null,null,null,null,null,null,null,null,null,null,1694]
[null,null,null,null,null,null,null,null,null,null,1695]
[null,null,null,null,null,null,null,null,null,null,1696]
[null,null,null,null,null,null,null,null,null,null,1697]
[null,null,null,null,null,null,null,null,null,null,1698]
[null,null,null,null,null,null,null,null,null,null,1699]
[null,null,null,null,null,null,null,null,null,null,1700]
[null,null,null,null,null,null,null,null,null,null,1701]
[null,null,null,null,null,null,null,null,null,null,1702]
[null,null,null,null,null,null,null,null,null,null,1703]
[null,null,null,null,null,null,null,null,null,null,1704]
[null,null,null,null,null,null,null,null,null,null,1705]
[null,null,null,null,null,null,null,null,null,null,1706]
[null,null,null,null,null,null,null,null,null,null,1707]
[null,null,null,null,null,null,null,null,null,null,1708]
[null,null,null,null,null,null,null,null,null,null,1709]
[null,null,null,null,null,null,null,null,null,null,1710]
[null,null,null,null,null,null,null,null,null,null,1711]
[null,null,null,null,null,null,null,null,null,null,1712]
[null,null,null,null,null,null,null,null,null,null,1713]
[null,null,null,null,null,null,null,null,null,null,1714]
[null,null,null,null,null,null,null,null,null,null,1715]
[null,null,null,null,null,null,null,null,null,null,1716]
[null,null,null,null,null,null,null,null,null,null,1717]
[null,null,null,null,null,null,null,null,null,null,1718]
[null,null,null,null,null,null,null,null,null,null,1719]
[null,null,null,null,null,null,null,null,null,null,1720]
[null,null,null,null,null,null,null,null,null,null,1721]
[null,null,null,null,null,null,null,null,null,null,1722]
[null,null,null,null,null,null,null,null,null,null,1723]
[null,null,null,null,null,null,null,null,null,null,1724]
[null,null,null,null,null,null,null,null,null,null,1725]
[null,null,null,null,null,null,null,null,null,null,1726]
[null,null,null,null,null,null,null,null,null,null,1727]
[null,null,null,null,null,null,null,null,null,null,1728]
[null,null,null,null,null,null,null,null,null,null,1729]
[null,null,null,null,null,null,null,null,null,null,1730]
[null,null,null,null,null,null,null,null,null,null,1731]
[null,null,null,null,null,null,null,null,null,null,1732]
[null,null,null,null,null,null,null,null,null,null,1733]
[null,null,null,null,null,null,null,null,null,null,1734]
[null,null,null,null,null,null,null,null,null,null,1735]
[null,null,null,null,null,null,null,null,null,null,1736]
[null,null,null,null,null,null,null,null,null,null,1737]
[null,null,null,null,null,null,null,null,null,null,1738]
[null,null,null,null,null,null,null,null,null,null,1739]
[null,null,null,null,null,null,null,null,null,null,1740]
[null,null,null,null,null,null,null,null,null,null,1741]
[null,null,null,null,null,null,null,null,null,null,1742]
[null,null,null,null,null,null,null,null,null,null,1743]
[null,null,null,null,null,null,null,null,null,null,1744]
[null,null,null,null,null,null,null,null,null,null,1745]
[null,null,null,null,null,null,null,null,null,null,1746]
[null,null,null,null,null,null,null,null,null,null,1747]
[null,null,null,null,null,null,null,null,null,null,1748]
[null,null,null,null,null,null,null,null,null,null,1749]
[null,null,null,null,null,null,null,null,null,null,1750]
[null,null,null,null,null,null,null,null,null,null,1751]
[null,null,null,null,null,null,null,null,null,null,1752]
[null,null,null,null,null,null,null,null,null,null,1753]
[null,null,null,null,null,null,null,null,null,null,1754]
[null,null,null,null,null,null,null,null,null,null,1755]
[null,null,null,null,null,null,null,null,null,null,1756]
[null,null,null,null,null,null,null,null,null,null,1757]
[null,null,null,null,null,null,null,null,null,null,1758]
[null,null,null,null,null,null,null,null,null,null,1759]
[null,null,null,null,null,null,null,null,null,null,1760]
[null,null,null,null,null,null,null,null,null,null,1761]
[null,null,null,null,null,null,null,null,null,null,1762]
[null,null,null,null,null,null,null,null,null,null,1763]
[null,null,null,null,null,null,null,null,null,null,1764]
[null,null,null,null,null,null,null,null,null,null,1765]
[null,null,null,null,null,null,null,null,null,null,1766]
[null,null,null,null,null,null,null,null,null,null,1767]
[null,null,null,null,null,null,null,null,null,null,1768]
[null,null,null,null,null,null,null,null,null,null,1769]
[null,null,null,null,null,null,null,null,null,null,1770]
[null,null,null,null,null,null,null,null,null,null,1771]
[null,null,null,null,null,null,null,null,null,null,1772]
[null,null,null,null,null,null,null,null,null,null,1773]
[null,null,null,null,null,null,null,null,null,null,1774]
[null,null,null,null,null,null,null,null,null,null,1775]
[null,null,null,null,null,null,null,null,null,null,1776]
[null,null,null,null,null,null,null,null,null,null,1777]
[null,null,null,null,null,null,null,null,null,null,1778]
[null,null,null,null,null,null,null,null,null,null,1779]
[null,null,null,null,null,null,null,null,null,null,1780]
[null,null,null,null,null,null,null,null,null,null,1781]
[null,null,null,null,null,null,null,null,null,null,1782]
[null,null,null,null,null,null,null,null,null,null,1783]
[null,null,null,null,null,null,null,null,null,null,1784]
[null,null,null,null,null,null,null,null,null,null,1785]
[null,null,null,null,null,null,null,null,null,null,1786]
[null,null,null,null,null,null,null,null,null,null,1787]
[null,null,null,null,null,null,null,null,null,null,1788]
[null,null,null,null,null,null,null,null,null,null,1789]
[null,null,null,null,null,null,null,null,null,null,1790]
[null,null,null,null,null,null,null,null,null,null,1791]
[null,null,null,null,null,null,null,null,null,null,1792]
[null,null,null,null,null,null,null,null,null,null,1793]
[null,null,null,null,null,null,null,null,null,null,1794]
[null,null,null,null,null,null,null,null,null,null,1795]
[null,null,null,null,null,null,null,null,null,null,1796]
[null,null,null,null,null,null,null,null,null,null,1797]
[null,null,null,null,null,null,null,null,null,null,1798]
[null,null,null,null,null,null,null,null,null,null,1799]
[null,null,null,null,null,null,null,null,null,null,1800]
[null,null,null,null,null,null,null,null,null,null,1801]
[null,null,null,null,null,null,null,null,null,null,1802]
[null,null,null,null,null,null,null,null,null,null,1803]
[null,null,null,null,null,null,null,null,null,null,1804]
[null,null,null,null,null,null,null,null,null,null,1805]
[null,null,null,null,null,null,null,null,null,null,1806]
[null,null,null,null,null,null,null,null,null,null,1807]
[null,null,null,null,null,null,null,null,null,null,1808]
[null,null,null,null,null,null,null,null,null,null,1809]
[null,null,null,null,null,null,null,null,null,null,1810]
[null,null,null,null,null,null,null,null,null,null,1811]
[null,null,null,null,null,null,null,null,null,null,1812]
[null,null,null,null,null,null,null,null,null,null,1813]
[null,null,null,null,null,null,null,null,null,null,1814]
[null,null,null,null,null,null,null,null,null,null,1815]
[null,null,null,null,null,null,null,null,null,null,1816]
[null,null,null,null,null,null,null,null,null,null,1817]
[null,null,null,null,null,null,null,null,null,null,1818]
[null,null,null,null,null,null,null,null,null,null,1819]
[null,null,null,null,null,null,null,null,null,null,1820]
[null,null,null,null,null,null,null,null,null,null,1821]
[null,null,null,null,null,null,null,null,null,null,1822]
[null,null,null,null,null,null,null,null,null,null,1823]
[null,null,null,null,null,null,null,null,null,null,1824]
[null,null,null,null,null,null,null,null,null,null,1825]
[null,null,null,null,null,null,null,null,null,null,1826]
[null,null,null,null,null,null,null,null,null,null,1827]
[null,null,null,null,null,null,null,null,null,null,1828]
[null,null,null,null,null,null,null,null,null,null,1829]
[null,null,null,null,null,null,null,null,null,null,1830]
[null,null,null,null,null,null,null,null,null,null,1831]
[null,null,null,null,null,null,null,null,null,null,1832]
[null,null,null,null,null,null,null,null,null,null,1833]
[null,null,null,null,null,null,null,null,null,null,1834]
[null,null,null,null,null,null,null,null,null,null,1835]
[null,null,null,null,null,null,null,null,null,null,1836]
[null,null,null,null,null,null,null,null,null,null,1837]
[null,null,null,null,null,null,null,null,null,null,1838]
[null,null,null,null,null,null,null,null,null,null,1839]
[null,null,null,null,null,null,null,null,null,null,1840]
[null,null,null,null,null,null,null,null,null,null,1841]
[null,null,null,null,null,null,null,null,null,null,1842]
[null,null,null,null,null,null,null,null,null,null,1843]
[null,null,null,null,null,null,null,null,null,null,1844]
[null,null,null,null,null,null,null,null,null,null,1845]
[null,null,null,null,null,null,null,null,null,null,1846]
[null,null,null,null,null,null,null,null,null,null,1847]
[null,null,null,null,null,null,null,null,null,null,1848]
[null,null,null,null,null,null,null,null,null,null,1849]
[null,null,null,null,null,null,null,null,null,null,1850]
[null,null,null,null,null,null,null,null,null,null,1851]
[null,null,null,null,null,null,null,null,null,null,1852]
[null,null,null,null,null,null,null,null,null,null,1853]
[null,null,null,null,null,null,null,null,null,null,1854]
[null,null,null,null,null,null,null,null,null,null,1855]
[null,null,null,null,null,null,null,null,null,null,1856]
[null,null,null,null,null,null,null,null,null,null,1857]
[null,null,null,null,null,null,null,null,null,null,1858]
[null,null,null,null,null,null,null,null,null,null,1859]
[null,null,null,null,null,null,null,null,null,null,1860]
[null,null,null,null,null,null,null,null,null,null,1861]
[null,null,null,null,null,null,null,null,null,null,1862]
[null,null,null,null,null,null,null,null,null,null,1863]
[null,null,null,null,null,null,null,null,null,null,1864]
[null,null,null,null,null,null,null,null,null,null,1865]
[null,null,null,null,null,null,null,null,null,null,1866]
[null,null,null,null,null,null,null,null,null,null,1867]
[null,null,null,null,null,null,null,null,null,null,1868]
[null,null,null,null,null,null,null,null,null,null,1869]
[null,null,null,null,null,null,null,null,null,null,1870]
[null,null,null,null,null,null,null,null,null,null,1871]
[null,null,null,null,null,null,null,null,null,null,1872]
[null,null,null,null,null,null,null,null,null,null,1873]
[null,null,null,null,null,null,null,null,null,null,1874]
[null,null,null,null,null,null,null,null,null,null,1875]
[null,null,null,null,null,null,null,null,null,null,1876]
[null,null,null,null,null,null,null,null,null,null,1877]
[null,null,null,null,null,null,null,null,null,null,1878]
[null,null,null,null,null,null,null,null,null,null,1879]
[null,null,null,null,null,null,null,null,null,null,1880]
[null,null,null,null,null,null,null,null,null,null,1881]
[null,null,null,null,null,null,null,null,null,null,1882]
[null,null,null,null,null,null,null,null,null,null,1883]
[null,null,null,null,null,null,null,null,null,null,1884]
[null,null,null,null,null,null,null,null,null,null,1885]
[null,null,null,null,null,null,null,null,null,null,1886]
[null,null,null,null,null,null,null,null,null,null,1887]
[null,null,null,null,null,null,null,null,null,null,1888]
[null,null,null,null,null,null,null,null,null,null,1889]
[null,null,null,null,null,null,null,null,null,null,1890]
[null,null,null,null,null,null,null,null,null,null,1891]
[null,null,null,null,null,null,null,null,null,null,1892]
[null,null,null,null,null,null,null,null,null,null,1893]
[null,null,null,null,null,null,null,null,null,null,1894]
[null,null,null,null,null,null,null,null,null,null,1895]
[null,null,null,null,null,null,null,null,null,null,1896]
[null,null,null,null,null,null,null,null,null,null,1897]
[null,null,null,null,null,null,null,null,null,null,1898]
[null,null,null,null,null,null,null,null,null,null,1899]
[null,null,null,null,null,null,null,null,null,null,1900]
[null,null,null,null,null,null,null,null,null,null,1901]
[null,null,null,null,null,null,null,null,null,null,1902]
[null,null,null,null,null,null,null,null,null,null,1903]
[null,null,null,null,null,null,null,null,null,null,1904]
[null,null,null,null,null,null,null,null,null,null,1905]
[null,null,null,null,null,null,null,null,null,null,1906]
[null,null,null,null,null,null,null,null,null,null,1907]
[null,null,null,null,null,null,null,null,null,null,1908]
[null,null,null,null,null,null,null,null,null,null,1909]
[null,null,null,null,null,null,null,null,null,null,1910]
[null,null,null,null,null,null,null,null,null,null,1911]
[null,null,null,null,null,null,null,null,null,null,1912]
[null,null,null,null,null,null,null,null,null,null,1913]
[null,null,null,null,null,null,null,null,null,null,1914]
[null,null,null,null,null,null,null,null,null,null,1915]
[null,null,null,null,null,null,null,null,null,null,1916]
[null,null,null,null,null,null,null,null,null,null,1917]
[null,null,null,null,null,null,null,null,null,null,1918]
[null,null,null,null,null,null,null,null,null,null,1919]
[null,null,null,null,null,null,null,null,null,null,1920]
[null,null,null,null,null,null,null,null,null,null,1921]
[null,null,null,null,null,null,null,null,null,null,1922]
[null,null,null,null,null,null,null,null,null,null,1923]
[null,null,null,null,null,null,null,null,null,null,1924]
[null,null,null,null,null,null,null,null,null,null,1925]
[null,null,null,null,null,null,null,null,null,null,1926]
[null,null,null,null,null,null,null,null,null,null,1927]
[null,null,null,null,null,null,null,null,null,null,1928]
[null,null,null,null,null,null,null,null,null,null,1929]
[null,null,null,null,null,null,null,null,null,null,1930]
[null,null,null,null,null,null,null,null,null,null,1931]
[null,null,null,null,null,null,null,null,null,null,1932]
[null,null,null,null,null,null,null,null,null,null,1933]
[null,null,null,null,null,null,null,null,null,null,1934]
[null,null,null,null,null,null,null,null,null,null,1935]
[null,null,null,null,null,null,null,null,null,null,1936]
[null,null,null,null,null,null,null,null,null,null,1937]
[null,null,null,null,null,null,null,null,null,null,1938]
[null,null,null,null,null,null,null,null,null,null,1939]
[null,null,null,null,null,null,null,null,null,null,1940]
[null,null,null,null,null,null,null,null,null,null,1941]
[null,null,null,null,null,null,null,null,null,null,1942]
[null,null,null,null,null,null,null,null,null,null,1943]
[null,null,null,null,null,null,null,null,null,null,1944]
[null,null,null,null,null,null,null,null,null,null,1945]
[null,null,null,null,null,null,null,null,null,null,1946]
[null,null,null,null,null,null,null,null,null,null,1947]
[null,null,null,null,null,null,null,null,null,null,1948]
[null,null,null,null,null,null,null,null,null,null,1949]
[null,null,null,null,null,null,null,null,null,null,1950]
[null,null,null,null,null,null,null,null,null,null,1951]
[null,null,null,null,null,null,null,null,null,null,1952]
[null,null,null,null,null,null,null,null,null,null,1953]
[null,null,null,null,null,null,null,null,null,null,1954]
[null,null,null,null,null,null,null,null,null,null,1955]
[null,null,null,null,null,null,null,null,null,null,1956]
[null,null,null,null,null,null,null,null,null,null,1957]
[null,null,null,null,null,null,null,null,null,null,1958]
[null,null,null,null,null,null,null,null,null,null,1959]
[null,null,null,null,null,null,null,null,null,null,1960]
[null,null,null,null,null,null,null,null,null,null,1961]
[null,null,null,null,null,null,null,null,null,null,1962]
[null,null,null,null,null,null,null,null,null,null,1963]
[null,null,null,null,null,null,null,null,null,null,1964]
[null,null,null,null,null,null,null,null,null,null,1965]
[null,null,null,null,null,null,null,null,null,null,1966]
[null,null,null,null,null,null,null,null,null,null,1967]
[null,null,null,null,null,null,null,null,null,null,1968]
[null,null,null,null,null,null,null,null,null,null,1969]
[null,null,null,null,null,null,null,null,null,null,1970]
[null,null,null,null,null,null,null,null,null,null,1971]
[null,null,null,null,null,null,null,null,null,null,1972]
[null,null,null,null,null,null,null,null,null,null,1973]
[null,null,null,null,null,null,null,null,null,null,1974]
[null,null,null,null,null,null,null,null,null,null,1975]
[null,null,null,null,null,null,null,null,null,null,1976]
[null,null,null,null,null,null,null,null,null,null,1977]
[null,null,null,null,null,null,null,null,null,null,1978]
[null,null,null,null,null,null,null,null,null,null,1979]
[null,null,null,null,null,null,null,null,null,null,1980]
[null,null,null,null,null,null,null,null,null,null,1981]
[null,null,null,null,null,null,null,null,null,null,1982]
[null,null,null,null,null,null,null,null,null,null,1983]
[null,null,null,null,null,null,null,null,null,null,1984]
[null,null,null,null,null,null,null,null,null,null,1992]
[null,null,null,null,null,null,null,null,null,null,2026]
[null,null,null,null,null,null,null,null,null,null,2075]
[null,null,null,null,null,null,null,null,null,null,2092]
[null,null,null,null,null,null,null,null,null,null,2115]
[null,null,null,null,null,null,null,null,null,null,2157]
[null,null,null,null,null,null,null,null,null,null,2206]
[null,null,null,null,null,null,null,null,null,null,2223]
[null,null,null,null,null,null,null,null,null,null,2269]
[null,null,null,null,null,null,null,null,null,null,2288]
[null,null,null,null,null,null,null,null,null,null,2305]
[null,null,null,null,null,null,null,null,null,null,2354]
[null,null,null,null,null,null,null,null,null,null,2388]
[null,null,null,null,null,null,null,null,null,null,2419]
[null,null,null,null,null,null,null,null,null,null,2436]
[null,null,null,null,null,null,null,null,null,null,2485]
[null,null,null,null,null,null,null,null,null,null,2511]
[null,null,null,null,null,null,null,null,null,null,2550]
[null,null,null,null,null,null,null,null,null,null,2567]
[null,null,null,null,null,null,null,null,null,null,2616]
[null,null,null,null,null,null,null,null,null,null,2630]
[null,null,null,null,null,null,null,null,null,null,2681]
[null,null,null,null,null,null,null,null,null,null,2698]
[null,null,null,null,null,null,null,null,null,null,2715]
[null,null,null,null,null,null,null,null,null,null,2753]
[null,null,null,null,null,null,null,null,null,null,2780]
[null,null,null,null,null,null,null,null,null,null,2829]
[null,null,null,null,null,null,null,null,null,null,2846]
[null,null,null,null,null,null,null,null,null,null,2903]
[null,null,null,null,null,null,null,null,null,null,2911]
[null,null,null,null,null,null,null,null,null,null,2960]
[null,null,null,null,null,null,null,null,null,null,2977]
[null,null,null,null,null,null,null,null,null,null,3026]
[null,null,null,null,null,null,null,null,null,null,3055]
[null,null,null,null,null,null,null,null,null,null,3091]
[null,null,null,null,null,null,null,null,null,null,3108]
[null,null,null,null,null,null,null,null,null,null,3157]
[null,null,null,null,null,null,null,null,null,null,3178]
[null,null,null,null,null,null,null,null,null,null,3222]
[null,null,null,null,null,null,null,null,null,null,3239]
[null,null,null,null,null,null,null,null,null,null,3256]
[null,null,null,null,null,null,null,null,null,null,3297]
[null,null,null,null,null,null,null,null,null,null,3321]
[null,null,null,null,null,null,null,null,null,null,3370]
[null,null,null,null,null,null,null,null,null,null,3387]
[null,null,null,null,null,null,null,null,null,null,3420]
[null,null,null,null,null,null,null,null,null,null,3452]
[null,null,null,null,null,null,null,null,null,null,3501]
[null,null,null,null,null,null,null,null,null,null,3518]
[null,null,null,null,null,null,null,null,null,null,3570]
[null,null,null,null,null,null,null,null,null,null,3583]
[null,null,null,null,null,null,null,null,null,null,3632]
[null,null,null,null,null,null,null,null,null,null,3649]
[null,null,null,null,null,null,null,null,null,null,3693]
[null,null,null,null,null,null,null,null,null,null,3714]
[null,null,null,null,null,null,null,null,null,null,3731]
[null,null,null,null,null,null,null,null,null,null,3780]
[null,null,null,null,null,null,null,null,null,null,3812]
[null,null,null,null,null,null,null,null,null,null,3845]
[null,null,null,null,null,null,null,null,null,null,3862]
[null,null,null,null,null,null,null,null,null,null,3911]
[null,null,null,null,null,null,null,null,null,null,3935]
[null,null,null,null,null,null,null,null,null,null,3976]
[null,null,null,null,null,null,null,null,null,null,3993]
[null,null,null,null,null,null,null,null,null,null,4042]
[null,null,null,null,null,null,null,null,null,null,4059]
[null,null,null,null,null,null,null,null,null,null,4087]
[null,null,null,null,null,null,null,null,null,null,4124]
[null,null,null,null,null,null,null,null,null,null,4173]
[null,null,null,null,null,null,null,null,null,null,4190]
[null,null,null,null,null,null,null,null,null,null,4237]
[null,null,null,null,null,null,null,null,null,null,4255]
[null,null,null,null,null,null,null,null,null,null,4272]
[null,null,null,null,null,null,null,null,null,null,4321]
[null,null,null,null,null,null,null,null,null,null,4360]
[null,null,null,null,null,null,null,null,null,null,4386]
[null,null,null,null,null,null,null,null,null,null,4403]
[null,null,null,null,null,null,null,null,null,null,4452]
[null,null,null,null,null,null,null,null,null,null,4479]
[null,null,null,null,null,null,null,null,null,null,4517]
[null,null,null,null,null,null,null,null,null,null,4534]
[null,null,null,null,null,null,null,null,null,null,4583]
[null,null,null,null,null,null,null,null,null,null,4602]
[null,null,null,null,null,null,null,null,null,null,4648]
[null,null,null,null,null,null,null,null,null,null,4665]
[null,null,null,null,null,null,null,null,null,null,4714]
[null,null,null,null,null,null,null,null,null,null,4721]
[null,null,null,null,null,null,null,null,null,null,4747]
[null,null,null,null,null,null,null,null,null,null,4796]
[null,null,null,null,null,null,null,null,null,null,4813]
[null,null,null,null,null,null,null,null,null,null,4844]
[null,null,null,null,null,null,null,null,null,null,4878]
[null,null,null,null,null,null,null,null,null,null,4927]
[null,null,null,null,null,null,null,null,null,null,4944]
[null,null,null,null,null,null,null,null,null,null,4993]
[null,null,null,null,null,null,null,null,null,null,5027]
[null,null,null,null,null,null,null,null,null,null,5058]
[null,null,null,null,null,null,null,null,null,null,5075]
[null,null,null,null,null,null,null,null,null,null,5124]
[null,null,null,null,null,null,null,null,null,null,5146]
[null,null,null,null,null,null,null,null,null,null,5189]
[null,null,null,null,null,null,null,null,null,null,5206]
[null,null,null,null,null,null,null,null,null,null,5255]
[null,null,null,null,null,null,null,null,null,null,5269]
[null,null,null,null,null,null,null,null,null,null,5288]
[null,null,null,null,null,null,null,null,null,null,5337]
[null,null,null,null,null,null,null,null,null,null,5354]
[null,null,null,null,null,null,null,null,null,null,5388]
[null,null,null,null,null,null,null,null,null,null,5419]
[null,null,null,null,null,null,null,null,null,null,5468]
[null,null,null,null,null,null,null,null,null,null,5485]
[null,null,null,null,null,null,null,null,null,null,5511]
[null,null,null,null,null,null,null,null,null,null,5550]
[null,null,null,null,null,null,null,null,null,null,5599]
[null,null,null,null,null,null,null,null,null,null,5616]
[null,null,null,null,null,null,null,null,null,null,5661]
[null,null,null,null,null,null,null,null,null,null,5681]
[null,null,null,null,null,null,null,null,null,null,5730]
[null,null,null,null,null,null,null,null,null,null,5747]
[null,null,null,null,null,null,null,null,null,null,5784]
[null,null,null,null,null,null,null,null,null,null,5812]
[null,null,null,null,null,null,null,null,null,null,5829]
[null,null,null,null,null,null,null,null,null,null,5878]
[null,null,null,null,null,null,null,null,null,null,5903]
[null,null,null,null,null,null,null,null,null,null,5943]
[null,null,null,null,null,null,null,null,null,null,5960]
[null,null,null,null,null,null,null,null,null,null,6009]
[null,null,null,null,null,null,null,null,null,null,6026]
[null,null,null,null,null,null,null,null,null,null,6055]
[null,null,null,null,null,null,null,null,null,null,6091]
[null,null,null,null,null,null,null,null,null,null,6140]
[null,null,null,null,null,null,null,null,null,null,6157]
[null,null,null,null,null,null,null,null,null,null,6178]
[null,null,null,null,null,null,null,null,null,null,6222]
[null,null,null,null,null,null,null,null,null,null,6271]
[null,null,null,null,null,null,null,null,null,null,6288]
[null,null,null,null,null,null,null,null,null,null,6328]
[null,null,null,null,null,null,null,null,null,null,6353]
[null,null,null,null,null,null,null,null,null,null,6370]
[null,null,null,null,null,null,null,null,null,null,6419]
[null,null,null,null,null,null,null,null,null,null,6451]
[null,null,null,null,null,null,null,null,null,null,6484]
[null,null,null,null,null,null,null,null,null,null,6501]
[null,null,null,null,null,null,null,null,null,null,6550]
[null,null,null,null,null,null,null,null,null,null,6574]
[null,null,null,null,null,null,null,null,null,null,6615]
[null,null,null,null,null,null,null,null,null,null,6632]
[null,null,null,null,null,null,null,null,null,null,6681]
[null,null,null,null,null,null,null,null,null,null,6693]
[null,null,null,null,null,null,null,null,null,null,6746]
[null,null,null,null,null,null,null,null,null,null,6763]
[null,null,null,null,null,null,null,null,null,null,6780]
[null,null,null,null,null,null,null,null,null,null,6816]
[null,null,null,null,null,null,null,null,null,null,6845]
[null,null,null,null,null,null,null,null,null,null,6894]
[null,null,null,null,null,null,null,null,null,null,6911]
[null,null,null,null,null,null,null,null,null,null,6960]
[null,null,null,null,null,null,null,null,null,null,6995]
[null,null,null,null,null,null,null,null,null,null,7025]
[null,null,null,null,null,null,null,null,null,null,7042]
[null,null,null,null,null,null,null,null,null,null,7091]
[null,null,null,null,null,null,null,null,null,null,7118]
[null,null,null,null,null,null,null,null,null,null,7156]
[null,null,null,null,null,null,null,null,null,null,7173]
[null,null,null,null,null,null,null,null,null,null,7222]
[null,null,null,null,null,null,null,null,null,null,7241]
[null,null,null,null,null,null,null,null,null,null,7287]
[null,null,null,null,null,null,null,null,null,null,7304]
[null,null,null,null,null,null,null,null,null,null,7321]
[null,null,null,null,null,null,null,null,null,null,7360]
[null,null,null,null,null,null,null,null,null,null,7386]
[null,null,null,null,null,null,null,null,null,null,7435]
[null,null,null,null,null,null,null,null,null,null,7452]
[null,null,null,null,null,null,null,null,null,null,7483]
[null,null,null,null,null,null,null,null,null,null,7517]
[null,null,null,null,null,null,null,null,null,null,7566]
[null,null,null,null,null,null,null,null,null,null,7583]
[null,null,null,null,null,null,null,null,null,null,7633]
[null,null,null,null,null,null,null,null,null,null,7648]
[null,null,null,null,null,null,null,null,null,null,7697]
[null,null,null,null,null,null,null,null,null,null,7714]
[null,null,null,null,null,null,null,null,null,null,7756]
[null,null,null,null,null,null,null,null,null,null,7779]
[null,null,null,null,null,null,null,null,null,null,7796]
[null,null,null,null,null,null,null,null,null,null,7845]
[null,null,null,null,null,null,null,null,null,null,7875]
[null,null,null,null,null,null,null,null,null,null,7910]
[null,null,null,null,null,null,null,null,null,null,7927]
[null,null,null,null,null,null,null,null,null,null,7976]
[null,null,null,null,null,null,null,null,null,null,7993]
[null,null,null,null,null,null,null,null,null,null,8027]
[null,null,null,null,null,null,null,null,null,null,8058]
[null,null,null,null,null,null,null,null,null,null,8107]
[null,null,null,null,null,null,null,null,null,null,8124]
[null,null,null,null,null,null,null,null,null,null,8150]
[null,null,null,null,null,null,null,null,null,null,8189]
[null,null,null,null,null,null,null,null,null,null,8238]
[null,null,null,null,null,null,null,null,null,null,8255]
[null,null,null,null,null,null,null,null,null,null,8300]
[null,null,null,null,null,null,null,null,null,null,8320]
[null,null,null,null,null,null,null,null,null,null,8337]
[null,null,null,null,null,null,null,null,null,null,8386]
[null,null,null,null,null,null,null,null,null,null,8423]
[null,null,null,null,null,null,null,null,null,null,8451]
[null,null,null,null,null,null,null,null,null,null,8468]
[null,null,null,null,null,null,null,null,null,null,8517]
[null,null,null,null,null,null,null,null,null,null,8542]
[null,null,null,null,null,null,null,null,null,null,8582]
[null,null,null,null,null,null,null,null,null,null,8599]
[null,null,null,null,null,null,null,null,null,null,8648]
[null,null,null,null,null,null,null,null,null,null,8665]
[null,null,null,null,null,null,null,null,null,null,8713]
[null,null,null,null,null,null,null,null,null,null,8730]
[null,null,null,null,null,null,null,null,null,null,8779]
[null,null,null,null,null,null,null,null,null,null,8784]
[null,null,null,null,null,null,null,null,null,null,8812]
[null,null,null,null,null,null,null,null,null,null,8861]
[null,null,null,null,null,null,null,null,null,null,8878]
[null,null,null,null,null,null,null,null,null,null,8927]
[null,null,null,null,null,null,null,null,null,null,8967]
[null,null,null,null,null,null,null,null,null,null,8992]
[null,null,null,null,null,null,null,null,null,null,9009]
[null,null,null,null,null,null,null,null,null,null,9058]
[null,null,null,null,null,null,null,null,null,null,9090]
[null,null,null,null,null,null,null,null,null,null,9123]
[null,null,null,null,null,null,null,null,null,null,9140]
[null,null,null,null,null,null,null,null,null,null,9189]
[null,null,null,null,null,null,null,null,null,null,9209]
[null,null,null,null,null,null,null,null,null,null,9254]
[null,null,null,null,null,null,null,null,null,null,9271]
[null,null,null,null,null,null,null,null,null,null,9320]
[null,null,null,null,null,null,null,null,null,null,9332]
[null,null,null,null,null,null,null,null,null,null,9353]
[null,null,null,null,null,null,null,null,null,null,9402]
[null,null,null,null,null,null,null,null,null,null,9419]
[null,null,null,null,null,null,null,null,null,null,9451]
[null,null,null,null,null,null,null,null,null,null,9484]
[null,null,null,null,null,null,null,null,null,null,9533]
[null,null,null,null,null,null,null,null,null,null,9550]
[null,null,null,null,null,null,null,null,null,null,9605]
[null,null,null,null,null,null,null,null,null,null,9615]
[null,null,null,null,null,null,null,null,null,null,9664]
[null,null,null,null,null,null,null,null,null,null,9681]
[null,null,null,null,null,null,null,null,null,null,9724]
[null,null,null,null,null,null,null,null,null,null,9746]
[null,null,null,null,null,null,null,null,null,null,9795]
[null,null,null,null,null,null,null,null,null,null,9812]
[null,null,null,null,null,null,null,null,null,null,9847]
[null,null,null,null,null,null,null,null,null,null,9877]
[null,null,null,null,null,null,null,null,null,null,9894]
[null,null,null,null,null,null,null,null,null,null,9943]
[null,null,null,null,null,null,null,null,null,null,9960]
[null,null,null,null,null,null,null,null,null,null,9999]
[null,null,null,null,null,null,null,null,null,null,10025]
[null,null,null,null,null,null,null,null,null,null,10074]
[null,null,null,null,null,null,null,null,null,null,10091]
[null,null,null,null,null,null,null,null,null,null,10118]
[null,null,null,null,null,null,null,null,null,null,10156]
[null,null,null,null,null,null,null,null,null,null,10205]
[null,null,null,null,null,null,null,null,null,null,10222]
[null,null,null,null,null,null,null,null,null,null,10272]
[null,null,null,null,null,null,null,null,null,null,10287]
[null,null,null,null,null,null,null,null,null,null,10336]
[null,null,null,null,null,null,null,null,null,null,10353]
[null,null,null,null,null,null,null,null,null,null,10391]
[null,null,null,null,null,null,null,null,null,null,10418]
[null,null,null,null,null,null,null,null,null,null,10435]
[null,null,null,null,null,null,null,null,null,null,10484]
[null,null,null,null,null,null,null,null,null,null,10514]
[null,null,null,null,null,null,null,null,null,null,10549]
[null,null,null,null,null,null,null,null,null,null,10566]
[null,null,null,null,null,null,null,null,null,null,10615]
[null,null,null,null,null,null,null,null,null,null,10633]
[null,null,null,null,null,null,null,null,null,null,10680]
[null,null,null,null,null,null,null,null,null,null,10697]
[null,null,null,null,null,null,null,null,null,null,10746]
[null,null,null,null,null,null,null,null,null,null,10756]
[null,null,null,null,null,null,null,null,null,null,10811]
[null,null,null,null,null,null,null,null,null,null,10828]
[null,null,null,null,null,null,null,null,null,null,10845]
[null,null,null,null,null,null,null,null,null,null,10906]
[null,null,null,null,null,null,null,null,null,null,10910]
[null,null,null,null,null,null,null,null,null,null,10959]
[null,null,null,null,null,null,null,null,null,null,10976]
[null,null,null,null,null,null,null,null,null,null,11025]
[null,null,null,null,null,null,null,null,null,null,11058]
[null,null,null,null,null,null,null,null,null,null,11090]
[null,null,null,null,null,null,null,null,null,null,11107]
[null,null,null,null,null,null,null,null,null,null,11156]
[null,null,null,null,null,null,null,null,null,null,11181]
[null,null,null,null,null,null,null,null,null,null,11221]
[null,null,null,null,null,null,null,null,null,null,11238]
[null,null,null,null,null,null,null,null,null,null,11287]
[null,null,null,null,null,null,null,null,null,null,11300]
[null,null,null,null,null,null,null,null,null,null,11352]
[null,null,null,null,null,null,null,null,null,null,11369]
[null,null,null,null,null,null,null,null,null,null,11386]
[null,null,null,null,null,null,null,null,null,null,11423]
[null,null,null,null,null,null,null,null,null,null,11451]
[null,null,null,null,null,null,null,null,null,null,11500]
[null,null,null,null,null,null,null,null,null,null,11517]
[null,null,null,null,null,null,null,null,null,null,11573]
[null,null,null,null,null,null,null,null,null,null,11582]
[null,null,null,null,null,null,null,null,null,null,11631]
[null,null,null,null,null,null,null,null,null,null,11648]
[null,null,null,null,null,null,null,null,null,null,11696]
[null,null,null,null,null,null,null,null,null,null,11713]
[null,null,null,null,null,null,null,null,null,null,11762]
[null,null,null,null,null,null,null,null,null,null,11779]
[null,null,null,null,null,null,null,null,null,null,11819]
[null,null,null,null,null,null,null,null,null,null,11844]
[null,null,null,null,null,null,null,null,null,null,11861]
[null,null,null,null,null,null,null,null,null,null,11910]
[null,null,null,null,null,null,null,null,null,null,11927]
[null,null,null,null,null,null,null,null,null,null,11967]
[null,null,null,null,null,null,null,null,null,null,11992]
[null,null,null,null,null,null,null,null,null,null,12041]
[null,null,null,null,null,null,null,null,null,null,12058]
[null,null,null,null,null,null,null,null,null,null,12090]
[null,null,null,null,null,null,null,null,null,null,12123]
[null,null,null,null,null,null,null,null,null,null,12172]
[null,null,null,null,null,null,null,null,null,null,12189]
[null,null,null,null,null,null,null,null,null,null,12240]
[null,null,null,null,null,null,null,null,null,null,12254]
[null,null,null,null,null,null,null,null,null,null,12303]
[null,null,null,null,null,null,null,null,null,null,12320]
[null,null,null,null,null,null,null,null,null,null,12363]
[null,null,null,null,null,null,null,null,null,null,12385]
[null,null,null,null,null,null,null,null,null,null,12402]
[null,null,null,null,null,null,null,null,null,null,12451]
[null,null,null,null,null,null,null,null,null,null,12486]
[null,null,null,null,null,null,null,null,null,null,12516]
[null,null,null,null,null,null,null,null,null,null,12533]
[null,null,null,null,null,null,null,null,null,null,12582]
[null,null,null,null,null,null,null,null,null,null,12605]
[null,null,null,null,null,null,null,null,null,null,12647]
[null,null,null,null,null,null,null,null,null,null,12664]
[null,null,null,null,null,null,null,null,null,null,12713]
[null,null,null,null,null,null,null,null,null,null,12728]
[null,null,null,null,null,null,null,null,null,null,12778]
[null,null,null,null,null,null,null,null,null,null,12795]
[null,null,null,null,null,null,null,null,null,null,12844]
[null,null,null,null,null,null,null,null,null,null,12847]
[null,null,null,null,null,null,null,null,null,null,12877]
[null,null,null,null,null,null,null,null,null,null,12926]
[null,null,null,null,null,null,null,null,null,null,12943]
[null,null,null,null,null,null,null,null,null,null,12992]
[null,null,null,null,null,null,null,null,null,null,13030]
[null,null,null,null,null,null,null,null,null,null,13057]
[null,null,null,null,null,null,null,null,null,null,13074]
[null,null,null,null,null,null,null,null,null,null,13123]
[null,null,null,null,null,null,null,null,null,null,13153]
[null,null,null,null,null,null,null,null,null,null,13188]
[null,null,null,null,null,null,null,null,null,null,13205]
[null,null,null,null,null,null,null,null,null,null,13254]
[null,null,null,null,null,null,null,null,null,null,13272]
[null,null,null,null,null,null,null,null,null,null,13319]
[null,null,null,null,null,null,null,null,null,null,13336]
[null,null,null,null,null,null,null,null,null,null,13385]
[null,null,null,null,null,null,null,null,null,null,13395]
[null,null,null,null,null,null,null,null,null,null,13418]
[null,null,null,null,null,null,null,null,null,null,13467]
[null,null,null,null,null,null,null,null,null,null,13484]
[null,null,null,null,null,null,null,null,null,null,13514]
[null,null,null,null,null,null,null,null,null,null,13549]
[null,null,null,null,null,null,null,null,null,null,13598]
[null,null,null,null,null,null,null,null,null,null,13615]
[null,null,null,null,null,null,null,null,null,null,13668]
[null,null,null,null,null,null,null,null,null,null,13680]
[null,null,null,null,null,null,null,null,null,null,13729]
[null,null,null,null,null,null,null,null,null,null,13746]
[null,null,null,null,null,null,null,null,null,null,13787]
[null,null,null,null,null,null,null,null,null,null,13811]
[null,null,null,null,null,null,null,null,null,null,13860]
[null,null,null,null,null,null,null,null,null,null,13877]
[null,null,null,null,null,null,null,null,null,null,13894]
[null,null,null,null,null,null,null,null,null,null,13939]
[null,null,null,null,null,null,null,null,null,null,13959]
[null,null,null,null,null,null,null,null,null,null,14008]
[null,null,null,null,null,null,null,null,null,null,14025]
[null,null,null,null,null,null,null,null,null,null,14062]
[null,null,null,null,null,null,null,null,null,null,14090]
[null,null,null,null,null,null,null,null,null,null,14139]
[null,null,null,null,null,null,null,null,null,null,14156]
[null,null,null,null,null,null,null,null,null,null,14181]
[null,null,null,null,null,null,null,null,null,null,14221]
[null,null,null,null,null,null,null,null,null,null,14270]
[null,null,null,null,null,null,null,null,null,null,14287]
[null,null,null,null,null,null,null,null,null,null,14335]
[null,null,null,null,null,null,null,null,null,null,14352]
[null,null,null,null,null,null,null,null,null,null,14401]
[null,null,null,null,null,null,null,null,null,null,14418]
[null,null,null,null,null,null,null,null,null,null,14454]
[null,null,null,null,null,null,null,null,null,null,14483]
[null,null,null,null,null,null,null,null,null,null,14500]
[null,null,null,null,null,null,null,null,null,null,14549]
[null,null,null,null,null,null,null,null,null,null,14577]
[null,null,null,null,null,null,null,null,null,null,14614]
[null,null,null,null,null,null,null,null,null,null,14631]
[null,null,null,null,null,null,null,null,null,null,14680]
[null,null,null,null,null,null,null,null,null,null,14696]
[null,null,null,null,null,null,null,null,null,null,14745]
[null,null,null,null,null,null,null,null,null,null,14762]
[null,null,null,null,null,null,null,null,null,null,14811]
[null,null,null,null,null,null,null,null,null,null,14819]
[null,null,null,null,null,null,null,null,null,null,14876]
[null,null,null,null,null,null,null,null,null,null,14893]
[null,null,null,null,null,null,null,null,null,null,14910]
[null,null,null,null,null,null,null,null,null,null,14959]
[null,null,null,null,null,null,null,null,null,null,15002]
[null,null,null,null,null,null,null,null,null,null,15024]
[null,null,null,null,null,null,null,null,null,null,15041]
[null,null,null,null,null,null,null,null,null,null,15090]
[null,null,null,null,null,null,null,null,null,null,15121]
[null,null,null,null,null,null,null,null,null,null,15155]
[null,null,null,null,null,null,null,null,null,null,15172]
[null,null,null,null,null,null,null,null,null,null,15221]
[null,null,null,null,null,null,null,null,null,null,15244]
[null,null,null,null,null,null,null,null,null,null,15286]
[null,null,null,null,null,null,null,null,null,null,15303]
[null,null,null,null,null,null,null,null,null,null,15352]
[null,null,null,null,null,null,null,null,null,null,15363]
[null,null,null,null,null,null,null,null,null,null,15417]
[null,null,null,null,null,null,null,null,null,null,15434]
[null,null,null,null,null,null,null,null,null,null,15451]
[null,null,null,null,null,null,null,null,null,null,15486]
[null,null,null,null,null,null,null,null,null,null,15516]
[null,null,null,null,null,null,null,null,null,null,15565]
[null,null,null,null,null,null,null,null,null,null,15582]
[null,null,null,null,null,null,null,null,null,null,15636]
[null,null,null,null,null,null,null,null,null,null,15647]
[null,null,null,null,null,null,null,null,null,null,15696]
[null,null,null,null,null,null,null,null,null,null,15713]
[null,null,null,null,null,null,null,null,null,null,15759]
[null,null,null,null,null,null,null,null,null,null,15778]
[null,null,null,null,null,null,null,null,null,null,15827]
[null,null,null,null,null,null,null,null,null,null,15844]
[null,null,null,null,null,null,null,null,null,null,15893]
[null,null,null,null,null,null,null,null,null,null,15911]
[null,null,null,null,null,null,null,null,null,null,15926]
[null,null,null,null,null,null,null,null,null,null,15975]
[null,null,null,null,null,null,null,null,null,null,15992]
[null,null,null,null,null,null,null,null,null,null,16030]
[null,null,null,null,null,null,null,null,null,null,16057]
[null,null,null,null,null,null,null,null,null,null,16106]
[null,null,null,null,null,null,null,null,null,null,16123]
[null,null,null,null,null,null,null,null,null,null,16153]
[null,null,null,null,null,null,null,null,null,null,16188]
[null,null,null,null,null,null,null,null,null,null,16237]
[null,null,null,null,null,null,null,null,null,null,16254]
[null,null,null,null,null,null,null,null,null,null,16303]
[null,null,null,null,null,null,null,null,null,null,16319]
[null,null,null,null,null,null,null,null,null,null,16368]
[null,null,null,null,null,null,null,null,null,null,16385]
[null,null,null,null,null,null,null,null,null,null,16426]
[null,null,null,null,null,null,null,null,null,null,16450]
[null,null,null,null,null,null,null,null,null,null,16467]
[null,null,null,null,null,null,null,null,null,null,16516]
[null,null,null,null,null,null,null,null,null,null,16545]
[null,null,null,null,null,null,null,null,null,null,16581]
[null,null,null,null,null,null,null,null,null,null,16598]
[null,null,null,null,null,null,null,null,null,null,16647]
[null,null,null,null,null,null,null,null,null,null,16668]
[null,null,null,null,null,null,null,null,null,null,16712]
[null,null,null,null,null,null,null,null,null,null,16729]
[null,null,null,null,null,null,null,null,null,null,16778]
[null,null,null,null,null,null,null,null,null,null,16787]
[null,null,null,null,null,null,null,null,null,null,16843]
[null,null,null,null,null,null,null,null,null,null,16860]
[null,null,null,null,null,null,null,null,null,null,16909]
[null,null,null,null,null,null,null,null,null,null,16926]
[null,null,null,null,null,null,null,null,null,null,16970]
[null,null,null,null,null,null,null,null,null,null,16991]
[null,null,null,null,null,null,null,null,null,null,17008]
[null,null,null,null,null,null,null,null,null,null,17057]
[null,null,null,null,null,null,null,null,null,null,17093]
[null,null,null,null,null,null,null,null,null,null,17122]
[null,null,null,null,null,null,null,null,null,null,17139]
[null,null,null,null,null,null,null,null,null,null,17188]
[null,null,null,null,null,null,null,null,null,null,17212]
[null,null,null,null,null,null,null,null,null,null,17253]
[null,null,null,null,null,null,null,null,null,null,17270]
[null,null,null,null,null,null,null,null,null,null,17319]
[null,null,null,null,null,null,null,null,null,null,17335]
[null,null,null,null,null,null,null,null,null,null,17384]
[null,null,null,null,null,null,null,null,null,null,17401]
[null,null,null,null,null,null,null,null,null,null,17450]
[null,null,null,null,null,null,null,null,null,null,17458]
[null,null,null,null,null,null,null,null,null,null,17483]
[null,null,null,null,null,null,null,null,null,null,17532]
[null,null,null,null,null,null,null,null,null,null,17549]
[null,null,null,null,null,null,null,null,null,null,17608]
[null,null,null,null,null,null,null,null,null,null,17614]
[null,null,null,null,null,null,null,null,null,null,17663]
[null,null,null,null,null,null,null,null,null,null,17680]
[null,null,null,null,null,null,null,null,null,null,17731]
[null,null,null,null,null,null,null,null,null,null,17745]
[null,null,null,null,null,null,null,null,null,null,17794]
[null,null,null,null,null,null,null,null,null,null,17811]
[null,null,null,null,null,null,null,null,null,null,17860]
[null,null,null,null,null,null,null,null,null,null,17879]
[null,null,null,null,null,null,null,null,null,null,17925]
[null,null,null,null,null,null,null,null,null,null,17942]
[null,null,null,null,null,null,null,null,null,null,17959]
[null,null,null,null,null,null,null,null,null,null,18002]
[null,null,null,null,null,null,null,null,null,null,18024]
[null,null,null,null,null,null,null,null,null,null,18073]
[null,null,null,null,null,null,null,null,null,null,18090]
[null,null,null,null,null,null,null,null,null,null,18125]
[null,null,null,null,null,null,null,null,null,null,18155]
[null,null,null,null,null,null,null,null,null,null,18204]
[null,null,null,null,null,null,null,null,null,null,18221]
[null,null,null,null,null,null,null,null,null,null,18275]
[null,null,null,null,null,null,null,null,null,null,18286]
[null,null,null,null,null,null,null,null,null,null,18335]
[null,null,null,null,null,null,null,null,null,null,18352]
[null,null,null,null,null,null,null,null,null,null,18398]
[null,null,null,null,null,null,null,null,null,null,18417]
[null,null,null,null,null,null,null,null,null,null,18466]
[null,null,null,null,null,null,null,null,null,null,18483]
[null,null,null,null,null,null,null,null,null,null,18517]
[null,null,null,null,null,null,null,null,null,null,18548]
[null,null,null,null,null,null,null,null,null,null,18565]
[null,null,null,null,null,null,null,null,null,null,18614]
[null,null,null,null,null,null,null,null,null,null,18640]
[null,null,null,null,null,null,null,null,null,null,18679]
[null,null,null,null,null,null,null,null,null,null,18696]
[null,null,null,null,null,null,null,null,null,null,18745]
[null,null,null,null,null,null,null,null,null,null,18759]
[null,null,null,null,null,null,null,null,null,null,18810]
[null,null,null,null,null,null,null,null,null,null,18827]
[null,null,null,null,null,null,null,null,null,null,18876]
[null,null,null,null,null,null,null,null,null,null,18893]
[null,null,null,null,null,null,null,null,null,null,18942]
[null,null,null,null,null,null,null,null,null,null,18958]
[null,null,null,null,null,null,null,null,null,null,18975]
[null,null,null,null,null,null,null,null,null,null,19024]
[null,null,null,null,null,null,null,null,null,null,19065]
[null,null,null,null,null,null,null,null,null,null,19089]
[null,null,null,null,null,null,null,null,null,null,19106]
[null,null,null,null,null,null,null,null,null,null,19155]
[null,null,null,null,null,null,null,null,null,null,19184]
[null,null,null,null,null,null,null,null,null,null,19220]
[null,null,null,null,null,null,null,null,null,null,19237]
[null,null,null,null,null,null,null,null,null,null,19286]
[null,null,null,null,null,null,null,null,null,null,19307]
[null,null,null,null,null,null,null,null,null,null,19351]
[null,null,null,null,null,null,null,null,null,null,19368]
[null,null,null,null,null,null,null,null,null,null,19417]
[null,null,null,null,null,null,null,null,null,null,19426]
[null,null,null,null,null,null,null,null,null,null,19482]
[null,null,null,null,null,null,null,null,null,null,19499]
[null,null,null,null,null,null,null,null,null,null,19516]
[null,null,null,null,null,null,null,null,null,null,19549]
[null,null,null,null,null,null,null,null,null,null,19581]
[null,null,null,null,null,null,null,null,null,null,19630]
[null,null,null,null,null,null,null,null,null,null,19647]
[null,null,null,null,null,null,null,null,null,null,19699]
[null,null,null,null,null,null,null,null,null,null,19712]
[null,null,null,null,null,null,null,null,null,null,19761]
[null,null,null,null,null,null,null,null,null,null,19778]
[null,null,null,null,null,null,null,null,null,null,19822]
[null,null,null,null,null,null,null,null,null,null,19843]
[null,null,null,null,null,null,null,null,null,null,19892]
[null,null,null,null,null,null,null,null,null,null,19909]
[null,null,null,null,null,null,null,null,null,null,19958]
[null,null,null,null,null,null,null,null,null,null,19974]
[null,null,null,null,null,null,null,null,null,null,19991]
[null,null,null,null,null,null,null,null,null,null,20040]
[null,null,null,null,null,null,null,null,null,null,20057]
[null,null,null,null,null,null,null,null,null,null,20093]
[null,null,null,null,null,null,null,null,null,null,20122]
[null,null,null,null,null,null,null,null,null,null,20171]
[null,null,null,null,null,null,null,null,null,null,20188]
[null,null,null,null,null,null,null,null,null,null,20216]
[null,null,null,null,null,null,null,null,null,null,20253]
[null,null,null,null,null,null,null,null,null,null,20302]
[null,null,null,null,null,null,null,null,null,null,20319]
[null,null,null,null,null,null,null,null,null,null,20366]
[null,null,null,null,null,null,null,null,null,null,20384]
[null,null,null,null,null,null,null,null,null,null,20433]
[null,null,null,null,null,null,null,null,null,null,20450]
[null,null,null,null,null,null,null,null,null,null,20489]
[null,null,null,null,null,null,null,null,null,null,20515]
[null,null,null,null,null,null,null,null,null,null,20532]
[null,null,null,null,null,null,null,null,null,null,20581]
[null,null,null,null,null,null,null,null,null,null,20608]
[null,null,null,null,null,null,null,null,null,null,20646]
[null,null,null,null,null,null,null,null,null,null,20663]
[null,null,null,null,null,null,null,null,null,null,20712]
[null,null,null,null,null,null,null,null,null,null,20731]
[null,null,null,null,null,null,null,null,null,null,20777]
[null,null,null,null,null,null,null,null,null,null,20794]
[null,null,null,null,null,null,null,null,null,null,20843]
[null,null,null,null,null,null,null,null,null,null,20860]
[null,null,null,null,null,null,null,null,null,null,20883]
[null,null,null,null,null,null,null,null,null,null,20925]
[null,null,null,null,null,null,null,null,null,null,20974]
[null,null,null,null,null,null,null,null,null,null,20991]
[null,null,null,null,null,null,null,null,null,null,21033]
[null,null,null,null,null,null,null,null,null,null,21056]
[null,null,null,null,null,null,null,null,null,null,21073]
[null,null,null,null,null,null,null,null,null,null,21122]
[null,null,null,null,null,null,null,null,null,null,21156]
[null,null,null,null,null,null,null,null,null,null,21187]
[null,null,null,null,null,null,null,null,null,null,21204]
[null,null,null,null,null,null,null,null,null,null,21253]
[null,null,null,null,null,null,null,null,null,null,21275]
[null,null,null,null,null,null,null,null,null,null,21318]
[null,null,null,null,null,null,null,null,null,null,21335]
[null,null,null,null,null,null,null,null,null,null,21384]
[null,null,null,null,null,null,null,null,null,null,21398]
[null,null,null,null,null,null,null,null,null,null,21449]
[null,null,null,null,null,null,null,null,null,null,21466]
[null,null,null,null,null,null,null,null,null,null,21515]
[null,null,null,null,null,null,null,null,null,null,21517]
[null,null,null,null,null,null,null,null,null,null,21548]
[null,null,null,null,null,null,null,null,null,null,21597]
[null,null,null,null,null,null,null,null,null,null,21614]
[null,null,null,null,null,null,null,null,null,null,21671]
[null,null,null,null,null,null,null,null,null,null,21679]
[null,null,null,null,null,null,null,null,null,null,21728]
[null,null,null,null,null,null,null,null,null,null,21745]
[null,null,null,null,null,null,null,null,null,null,21790]
[null,null,null,null,null,null,null,null,null,null,21810]
[null,null,null,null,null,null,null,null,null,null,21859]
[null,null,null,null,null,null,null,null,null,null,21876]
[null,null,null,null,null,null,null,null,null,null,21925]
[null,null,null,null,null,null,null,null,null,null,21942]
[null,null,null,null,null,null,null,null,null,null,21990]
[null,null,null,null,null,null,null,null,null,null,22007]
[null,null,null,null,null,null,null,null,null,null,22024]
[null,null,null,null,null,null,null,null,null,null,22065]
[null,null,null,null,null,null,null,null,null,null,22089]
[null,null,null,null,null,null,null,null,null,null,22138]
[null,null,null,null,null,null,null,null,null,null,22155]
[null,null,null,null,null,null,null,null,null,null,22184]
[null,null,null,null,null,null,null,null,null,null,22220]
[null,null,null,null,null,null,null,null,null,null,22269]
[null,null,null,null,null,null,null,null,null,null,22286]
[null,null,null,null,null,null,null,null,null,null,22338]
[null,null,null,null,null,null,null,null,null,null,22351]
[null,null,null,null,null,null,null,null,null,null,22400]
[null,null,null,null,null,null,null,null,null,null,22417]
[null,null,null,null,null,null,null,null,null,null,22457]
[null,null,null,null,null,null,null,null,null,null,22482]
[null,null,null,null,null,null,null,null,null,null,22531]
[null,null,null,null,null,null,null,null,null,null,22548]
[null,null,null,null,null,null,null,null,null,null,22580]
[null,null,null,null,null,null,null,null,null,null,22613]
[null,null,null,null,null,null,null,null,null,null,22630]
[null,null,null,null,null,null,null,null,null,null,22679]
[null,null,null,null,null,null,null,null,null,null,22703]
[null,null,null,null,null,null,null,null,null,null,22744]
[null,null,null,null,null,null,null,null,null,null,22761]
[null,null,null,null,null,null,null,null,null,null,22810]
[null,null,null,null,null,null,null,null,null,null,22827]
[null,null,null,null,null,null,null,null,null,null,22851]
[null,null,null,null,null,null,null,null,null,null,22892]
[null,null,null,null,null,null,null,null,null,null,22941]
[null,null,null,null,null,null,null,null,null,null,22958]
[null,null,null,null,null,null,null,null,null,null,23005]
[null,null,null,null,null,null,null,null,null,null,23023]
[null,null,null,null,null,null,null,null,null,null,23040]
[null,null,null,null,null,null,null,null,null,null,23089]
[null,null,null,null,null,null,null,null,null,null,23128]
[null,null,null,null,null,null,null,null,null,null,23154]
[null,null,null,null,null,null,null,null,null,null,23171]
[null,null,null,null,null,null,null,null,null,null,23220]
[null,null,null,null,null,null,null,null,null,null,23247]
[null,null,null,null,null,null,null,null,null,null,23285]
[null,null,null,null,null,null,null,null,null,null,23302]
[null,null,null,null,null,null,null,null,null,null,23351]
[null,null,null,null,null,null,null,null,null,null,23370]
[null,null,null,null,null,null,null,null,null,null,23416]
[null,null,null,null,null,null,null,null,null,null,23433]
[null,null,null,null,null,null,null,null,null,null,23482]
[null,null,null,null,null,null,null,null,null,null,23489]
[null,null,null,null,null,null,null,null,null,null,23547]
[null,null,null,null,null,null,null,null,null,null,23564]
[null,null,null,null,null,null,null,null,null,null,23581]
[null,null,null,null,null,null,null,null,null,null,23612]
[null,null,null,null,null,null,null,null,null,null,23646]
[null,null,null,null,null,null,null,null,null,null,23695]
[null,null,null,null,null,null,null,null,null,null,23712]
[null,null,null,null,null,null,null,null,null,null,23762]
[null,null,null,null,null,null,null,null,null,null,23777]
[null,null,null,null,null,null,null,null,null,null,23826]
[null,null,null,null,null,null,null,null,null,null,23843]
[null,null,null,null,null,null,null,null,null,null,23892]
[null,null,null,null,null,null,null,null,null,null,23914]
[null,null,null,null,null,null,null,null,null,null,23957]
[null,null,null,null,null,null,null,null,null,null,23974]
[null,null,null,null,null,null,null,null,null,null,24023]
[null,null,null,null,null,null,null,null,null,null,24037]
[null,null,null,null,null,null,null,null,null,null,24056]
[null,null,null,null,null,null,null,null,null,null,24105]
[null,null,null,null,null,null,null,null,null,null,24122]
[null,null,null,null,null,null,null,null,null,null,24156]
[null,null,null,null,null,null,null,null,null,null,24187]
[null,null,null,null,null,null,null,null,null,null,24236]
[null,null,null,null,null,null,null,null,null,null,24253]
[null,null,null,null,null,null,null,null,null,null,24279]
[null,null,null,null,null,null,null,null,null,null,24318]
[null,null,null,null,null,null,null,null,null,null,24367]
[null,null,null,null,null,null,null,null,null,null,24384]
[null,null,null,null,null,null,null,null,null,null,24429]
[null,null,null,null,null,null,null,null,null,null,24449]
[null,null,null,null,null,null,null,null,null,null,24498]
[null,null,null,null,null,null,null,null,null,null,24515]
[null,null,null,null,null,null,null,null,null,null,24552]
[null,null,null,null,null,null,null,null,null,null,24580]
[null,null,null,null,null,null,null,null,null,null,24597]
[null,null,null,null,null,null,null,null,null,null,24646]
[null,null,null,null,null,null,null,null,null,null,24671]
[null,null,null,null,null,null,null,null,null,null,24711]
[null,null,null,null,null,null,null,null,null,null,24728]
[null,null,null,null,null,null,null,null,null,null,24777]
[null,null,null,null,null,null,null,null,null,null,24794]
[null,null,null,null,null,null,null,null,null,null,24823]
[null,null,null,null,null,null,null,null,null,null,24859]
[null,null,null,null,null,null,null,null,null,null,24908]
[null,null,null,null,null,null,null,null,null,null,24925]
[null,null,null,null,null,null,null,null,null,null,24946]
[null,null,null,null,null,null,null,null,null,null,24990]
[null,null,null,null,null,null,null,null,null,null,25039]
[null,null,null,null,null,null,null,null,null,null,25056]
[null,null,null,null,null,null,null,null,null,null,25096]
[null,null,null,null,null,null,null,null,null,null,25121]
[null,null,null,null,null,null,null,null,null,null,25138]
[null,null,null,null,null,null,null,null,null,null,25187]
[null,null,null,null,null,null,null,null,null,null,25219]
[null,null,null,null,null,null,null,null,null,null,25252]
[null,null,null,null,null,null,null,null,null,null,25269]
[null,null,null,null,null,null,null,null,null,null,25318]
[null,null,null,null,null,null,null,null,null,null,25338]
[null,null,null,null,null,null,null,null,null,null,25383]
[null,null,null,null,null,null,null,null,null,null,25400]
[null,null,null,null,null,null,null,null,null,null,25449]
[null,null,null,null,null,null,null,null,null,null,25461]
[null,null,null,null,null,null,null,null,null,null,25514]
[null,null,null,null,null,null,null,null,null,null,25531]
[null,null,null,null,null,null,null,null,null,null,25580]
[null,null,null,null,null,null,null,null,null,null,25611]
[null,null,null,null,null,null,null,null,null,null,25613]
[null,null,null,null,null,null,null,null,null,null,25662]
[null,null,null,null,null,null,null,null,null,null,25679]
[null,null,null,null,null,null,null,null,null,null,25734]
[null,null,null,null,null,null,null,null,null,null,25744]
[null,null,null,null,null,null,null,null,null,null,25793]
[null,null,null,null,null,null,null,null,null,null,25810]
[null,null,null,null,null,null,null,null,null,null,25859]
[null,null,null,null,null,null,null,null,null,null,25886]
[null,null,null,null,null,null,null,null,null,null,25924]
[null,null,null,null,null,null,null,null,null,null,25941]
[null,null,null,null,null,null,null,null,null,null,25990]
[null,null,null,null,null,null,null,null,null,null,26005]
[null,null,null,null,null,null,null,null,null,null,26055]
[null,null,null,null,null,null,null,null,null,null,26072]
[null,null,null,null,null,null,null,null,null,null,26089]
[null,null,null,null,null,null,null,null,null,null,26128]
[null,null,null,null,null,null,null,null,null,null,26154]
[null,null,null,null,null,null,null,null,null,null,26203]
[null,null,null,null,null,null,null,null,null,null,26220]
[null,null,null,null,null,null,null,null,null,null,26278]
[null,null,null,null,null,null,null,null,null,null,26285]
[null,null,null,null,null,null,null,null,null,null,26334]
[null,null,null,null,null,null,null,null,null,null,26351]
[null,null,null,null,null,null,null,null,null,null,26401]
[null,null,null,null,null,null,null,null,null,null,26416]
[null,null,null,null,null,null,null,null,null,null,26465]
[null,null,null,null,null,null,null,null,null,null,26482]
[null,null,null,null,null,null,null,null,null,null,26520]
[null,null,null,null,null,null,null,null,null,null,26547]
[null,null,null,null,null,null,null,null,null,null,26596]
[null,null,null,null,null,null,null,null,null,null,26613]
[null,null,null,null,null,null,null,null,null,null,26643]
[null,null,null,null,null,null,null,null,null,null,26678]
[null,null,null,null,null,null,null,null,null,null,26695]
[null,null,null,null,null,null,null,null,null,null,26744]
[null,null,null,null,null,null,null,null,null,null,26762]
[null,null,null,null,null,null,null,null,null,null,26809]
[null,null,null,null,null,null,null,null,null,null,26826]
[null,null,null,null,null,null,null,null,null,null,26875]
[null,null,null,null,null,null,null,null,null,null,26892]
[null,null,null,null,null,null,null,null,null,null,26945]
[null,null,null,null,null,null,null,null,null,null,26957]
[null,null,null,null,null,null,null,null,null,null,27006]
[null,null,null,null,null,null,null,null,null,null,27023]
[null,null,null,null,null,null,null,null,null,null,27068]
[null,null,null,null,null,null,null,null,null,null,27088]
[null,null,null,null,null,null,null,null,null,null,27105]
[null,null,null,null,null,null,null,null,null,null,27154]
[null,null,null,null,null,null,null,null,null,null,27187]
[null,null,null,null,null,null,null,null,null,null,27219]
[null,null,null,null,null,null,null,null,null,null,27236]
[null,null,null,null,null,null,null,null,null,null,27285]
[null,null,null,null,null,null,null,null,null,null,27310]
[null,null,null,null,null,null,null,null,null,null,27350]
[null,null,null,null,null,null,null,null,null,null,27367]
[null,null,null,null,null,null,null,null,null,null,27416]
[null,null,null,null,null,null,null,null,null,null,27429]
[null,null,null,null,null,null,null,null,null,null,27481]
[null,null,null,null,null,null,null,null,null,null,27498]
[null,null,null,null,null,null,null,null,null,null,27547]
[null,null,null,null,null,null,null,null,null,null,27552]
[null,null,null,null,null,null,null,null,null,null,27612]
[null,null,null,null,null,null,null,null,null,null,27629]
[null,null,null,null,null,null,null,null,null,null,27646]
[null,null,null,null,null,null,null,null,null,null,27706]
[null,null,null,null,null,null,null,null,null,null,27711]
[null,null,null,null,null,null,null,null,null,null,27760]
[null,null,null,null,null,null,null,null,null,null,27777]
[null,null,null,null,null,null,null,null,null,null,27826]
[null,null,null,null,null,null,null,null,null,null,27854]
[null,null,null,null,null,null,null,null,null,null,27891]
[null,null,null,null,null,null,null,null,null,null,27908]
[null,null,null,null,null,null,null,null,null,null,27957]
[null,null,null,null,null,null,null,null,null,null,27977]
[null,null,null,null,null,null,null,null,null,null,28022]
[null,null,null,null,null,null,null,null,null,null,28039]
[null,null,null,null,null,null,null,null,null,null,28088]
[null,null,null,null,null,null,null,null,null,null,28096]
[null,null,null,null,null,null,null,null,null,null,28121]
[null,null,null,null,null,null,null,null,null,null,28170]
[null,null,null,null,null,null,null,null,null,null,28187]
[null,null,null,null,null,null,null,null,null,null,28219]
[null,null,null,null,null,null,null,null,null,null,28252]
[null,null,null,null,null,null,null,null,null,null,28301]
[null,null,null,null,null,null,null,null,null,null,28318]
[null,null,null,null,null,null,null,null,null,null,28373]
[null,null,null,null,null,null,null,null,null,null,28383]
[null,null,null,null,null,null,null,null,null,null,28432]
[null,null,null,null,null,null,null,null,null,null,28449]
[null,null,null,null,null,null,null,null,null,null,28492]
[null,null,null,null,null,null,null,null,null,null,28514]
[null,null,null,null,null,null,null,null,null,null,28563]
[null,null,null,null,null,null,null,null,null,null,28580]
[null,null,null,null,null,null,null,null,null,null,28615]
[null,null,null,null,null,null,null,null,null,null,28645]
[null,null,null,null,null,null,null,null,null,null,28662]
[null,null,null,null,null,null,null,null,null,null,28711]
[null,null,null,null,null,null,null,null,null,null,28734]
[null,null,null,null,null,null,null,null,null,null,28776]
[null,null,null,null,null,null,null,null,null,null,28793]
[null,null,null,null,null,null,null,null,null,null,28842]
[null,null,null,null,null,null,null,null,null,null,28859]
[null,null,null,null,null,null,null,null,null,null,28886]
[null,null,null,null,null,null,null,null,null,null,28924]
[null,null,null,null,null,null,null,null,null,null,28973]
[null,null,null,null,null,null,null,null,null,null,28990]
[null,null,null,null,null,null,null,null,null,null,29040]
[null,null,null,null,null,null,null,null,null,null,29055]
[null,null,null,null,null,null,null,null,null,null,29104]
[null,null,null,null,null,null,null,null,null,null,29121]
[null,null,null,null,null,null,null,null,null,null,29159]
[null,null,null,null,null,null,null,null,null,null,29186]
[null,null,null,null,null,null,null,null,null,null,29203]
[null,null,null,null,null,null,null,null,null,null,29252]
[null,null,null,null,null,null,null,null,null,null,29282]
[null,null,null,null,null,null,null,null,null,null,29317]
[null,null,null,null,null,null,null,null,null,null,29334]
[null,null,null,null,null,null,null,null,null,null,29383]
[null,null,null,null,null,null,null,null,null,null,29401]
[null,null,null,null,null,null,null,null,null,null,29448]
[null,null,null,null,null,null,null,null,null,null,29465]
[null,null,null,null,null,null,null,null,null,null,29514]
[null,null,null,null,null,null,null,null,null,null,29524]
[null,null,null,null,null,null,null,null,null,null,29579]
[null,null,null,null,null,null,null,null,null,null,29596]
[null,null,null,null,null,null,null,null,null,null,29645]
[null,null,null,null,null,null,null,null,null,null,29674]
[null,null,null,null,null,null,null,null,null,null,29678]
[null,null,null,null,null,null,null,null,null,null,29727]
[null,null,null,null,null,null,null,null,null,null,29744]
[null,null,null,null,null,null,null,null,null,null,29793]
[null,null,null,null,null,null,null,null,null,null,29826]
[null,null,null,null,null,null,null,null,null,null,29858]
[null,null,null,null,null,null,null,null,null,null,29875]
[null,null,null,null,null,null,null,null,null,null,29924]
[null,null,null,null,null,null,null,null,null,null,29949]
[null,null,null,null,null,null,null,null,null,null,29989]
[null,null,null,null,null,null,null,null,null,null,30006]
[null,null,null,null,null,null,null,null,null,null,30055]
[null,null,null,null,null,null,null,null,null,null,30068]
[null,null,null,null,null,null,null,null,null,null,30120]
[null,null,null,null,null,null,null,null,null,null,30137]
[null,null,null,null,null,null,null,null,null,null,30154]
[null,null,null,null,null,null,null,null,null,null,30191]
[null,null,null,null,null,null,null,null,null,null,30219]
[null,null,null,null,null,null,null,null,null,null,30268]
[null,null,null,null,null,null,null,null,null,null,30285]
[null,null,null,null,null,null,null,null,null,null,30341]
[null,null,null,null,null,null,null,null,null,null,30350]
[null,null,null,null,null,null,null,null,null,null,30399]
[null,null,null,null,null,null,null,null,null,null,30416]
[null,null,null,null,null,null,null,null,null,null,30464]
[null,null,null,null,null,null,null,null,null,null,30481]
[null,null,null,null,null,null,null,null,null,null,30530]
[null,null,null,null,null,null,null,null,null,null,30547]
[null,null,null,null,null,null,null,null,null,null,30583]
[null,null,null,null,null,null,null,null,null,null,30612]
[null,null,null,null,null,null,null,null,null,null,30661]
[null,null,null,null,null,null,null,null,null,null,30678]
[null,null,null,null,null,null,null,null,null,null,30706]
[null,null,null,null,null,null,null,null,null,null,30743]
[null,null,null,null,null,null,null,null,null,null,30760]
[null,null,null,null,null,null,null,null,null,null,30809]
[null,null,null,null,null,null,null,null,null,null,30826]
[null,null,null,null,null,null,null,null,null,null,30858]
[null,null,null,null,null,null,null,null,null,null,30891]
[null,null,null,null,null,null,null,null,null,null,30940]
[null,null,null,null,null,null,null,null,null,null,30957]
[null,null,null,null,null,null,null,null,null,null,31008]
[null,null,null,null,null,null,null,null,null,null,31022]
[null,null,null,null,null,null,null,null,null,null,31071]
[null,null,null,null,null,null,null,null,null,null,31088]
[null,null,null,null,null,null,null,null,null,null,31131]
[null,null,null,null,null,null,null,null,null,null,31153]
[null,null,null,null,null,null,null,null,null,null,31170]
[null,null,null,null,null,null,null,null,null,null,31219]
[null,null,null,null,null,null,null,null,null,null,31250]
[null,null,null,null,null,null,null,null,null,null,31284]
[null,null,null,null,null,null,null,null,null,null,31301]
[null,null,null,null,null,null,null,null,null,null,31350]
[null,null,null,null,null,null,null,null,null,null,31373]
[null,null,null,null,null,null,null,null,null,null,31415]
[null,null,null,null,null,null,null,null,null,null,31432]
[null,null,null,null,null,null,null,null,null,null,31481]
[null,null,null,null,null,null,null,null,null,null,31492]
[null,null,null,null,null,null,null,null,null,null,31546]
[null,null,null,null,null,null,null,null,null,null,31563]
[null,null,null,null,null,null,null,null,null,null,31612]
[null,null,null,null,null,null,null,null,null,null,31615]
[null,null,null,null,null,null,null,null,null,null,31677]
[null,null,null,null,null,null,null,null,null,null,31694]
[null,null,null,null,null,null,null,null,null,null,31711]
[null,null,null,null,null,null,null,null,null,null,31760]
[null,null,null,null,null,null,null,null,null,null,31798]
[null,null,null,null,null,null,null,null,null,null,31825]
[null,null,null,null,null,null,null,null,null,null,31842]
[null,null,null,null,null,null,null,null,null,null,31891]
[null,null,null,null,null,null,null,null,null,null,31917]
[null,null,null,null,null,null,null,null,null,null,31956]
[null,null,null,null,null,null,null,null,null,null,31973]
[null,null,null,null,null,null,null,null,null,null,32022]
[null,null,null,null,null,null,null,null,null,null,32040]
[null,null,null,null,null,null,null,null,null,null,32087]
[null,null,null,null,null,null,null,null,null,null,32104]
[null,null,null,null,null,null,null,null,null,null,32153]
[null,null,null,null,null,null,null,null,null,null,32159]
[null,null,null,null,null,null,null,null,null,null,32186]
[null,null,null,null,null,null,null,null,null,null,32235]
[null,null,null,null,null,null,null,null,null,null,32252]
[null,null,null,null,null,null,null,null,null,null,32282]
[null,null,null,null,null,null,null,null,null,null,32317]
[null,null,null,null,null,null,null,null,null,null,32366]
[null,null,null,null,null,null,null,null,null,null,32383]
[null,null,null,null,null,null,null,null,null,null,32432]
[null,null,null,null,null,null,null,null,null,null,32448]
[null,null,null,null,null,null,null,null,null,null,32497]
[null,null,null,null,null,null,null,null,null,null,32514]
[null,null,null,null,null,null,null,null,null,null,32555]
[null,null,null,null,null,null,null,null,null,null,32579]
[null,null,null,null,null,null,null,null,null,null,32628]
[null,null,null,null,null,null,null,null,null,null,32645]
[null,null,null,null,null,null,null,null,null,null,32674]
[null,null,null,null,null,null,null,null,null,null,32710]
[null,null,null,null,null,null,null,null,null,null,32727]
[null,null,null,null,null,null,null,null,null,null,32776]
[null,null,null,null,null,null,null,null,null,null,32793]
[null,null,null,null,null,null,null,null,null,null,32826]
[null,null,null,null,null,null,null,null,null,null,32858]
[null,null,null,null,null,null,null,null,null,null,32907]
[null,null,null,null,null,null,null,null,null,null,32924]
[null,null,null,null,null,null,null,null,null,null,32949]
[null,null,null,null,null,null,null,null,null,null,32989]
[null,null,null,null,null,null,null,null,null,null,33038]
[null,null,null,null,null,null,null,null,null,null,33055]
[null,null,null,null,null,null,null,null,null,null,33099]
[null,null,null,null,null,null,null,null,null,null,33120]
[null,null,null,null,null,null,null,null,null,null,33169]
[null,null,null,null,null,null,null,null,null,null,33186]
[null,null,null,null,null,null,null,null,null,null,33222]
[null,null,null,null,null,null,null,null,null,null,33251]
[null,null,null,null,null,null,null,null,null,null,33268]
[null,null,null,null,null,null,null,null,null,null,33317]
[null,null,null,null,null,null,null,null,null,null,33345]
[null,null,null,null,null,null,null,null,null,null,33382]
[null,null,null,null,null,null,null,null,null,null,33399]
[null,null,null,null,null,null,null,null,null,null,33448]
[null,null,null,null,null,null,null,null,null,null,33464]
[null,null,null,null,null,null,null,null,null,null,33513]
[null,null,null,null,null,null,null,null,null,null,33530]
[null,null,null,null,null,null,null,null,null,null,33579]
[null,null,null,null,null,null,null,null,null,null,33587]
[null,null,null,null,null,null,null,null,null,null,33644]
[null,null,null,null,null,null,null,null,null,null,33661]
[null,null,null,null,null,null,null,null,null,null,33710]
[null,null,null,null,null,null,null,null,null,null,33727]
[null,null,null,null,null,null,null,null,null,null,33766]
[null,null,null,null,null,null,null,null,null,null,33792]
[null,null,null,null,null,null,null,null,null,null,33809]
[null,null,null,null,null,null,null,null,null,null,33858]
[null,null,null,null,null,null,null,null,null,null,33889]
[null,null,null,null,null,null,null,null,null,null,33923]
[null,null,null,null,null,null,null,null,null,null,33940]
[null,null,null,null,null,null,null,null,null,null,33989]
[null,null,null,null,null,null,null,null,null,null,34012]
[null,null,null,null,null,null,null,null,null,null,34054]
[null,null,null,null,null,null,null,null,null,null,34071]
[null,null,null,null,null,null,null,null,null,null,34120]
[null,null,null,null,null,null,null,null,null,null,34131]
[null,null,null,null,null,null,null,null,null,null,34185]
[null,null,null,null,null,null,null,null,null,null,34202]
[null,null,null,null,null,null,null,null,null,null,34219]
[null,null,null,null,null,null,null,null,null,null,34254]
[null,null,null,null,null,null,null,null,null,null,34284]
[null,null,null,null,null,null,null,null,null,null,34333]
[null,null,null,null,null,null,null,null,null,null,34350]
[null,null,null,null,null,null,null,null,null,null,34404]
[null,null,null,null,null,null,null,null,null,null,34415]
[null,null,null,null,null,null,null,null,null,null,34464]
[null,null,null,null,null,null,null,null,null,null,34481]
[null,null,null,null,null,null,null,null,null,null,34527]
[null,null,null,null,null,null,null,null,null,null,34546]
[null,null,null,null,null,null,null,null,null,null,34595]
[null,null,null,null,null,null,null,null,null,null,34612]
[null,null,null,null,null,null,null,null,null,null,34646]
[null,null,null,null,null,null,null,null,null,null,34677]
[null,null,null,null,null,null,null,null,null,null,34726]
[null,null,null,null,null,null,null,null,null,null,34743]
[null,null,null,null,null,null,null,null,null,null,34760]
[null,null,null,null,null,null,null,null,null,null,34798]
[null,null,null,null,null,null,null,null,null,null,34825]
[null,null,null,null,null,null,null,null,null,null,34874]
[null,null,null,null,null,null,null,null,null,null,34891]
[null,null,null,null,null,null,null,null,null,null,34921]
[null,null,null,null,null,null,null,null,null,null,34956]
[null,null,null,null,null,null,null,null,null,null,35005]
[null,null,null,null,null,null,null,null,null,null,35022]
[null,null,null,null,null,null,null,null,null,null,35071]
[null,null,null,null,null,null,null,null,null,null,35087]
[null,null,null,null,null,null,null,null,null,null,35136]
[null,null,null,null,null,null,null,null,null,null,35153]
[null,null,null,null,null,null,null,null,null,null,35194]
[null,null,null,null,null,null,null,null,null,null,35218]
[null,null,null,null,null,null,null,null,null,null,35235]
[null,null,null,null,null,null,null,null,null,null,35284]
[null,null,null,null,null,null,null,null,null,null,35313]
[null,null,null,null,null,null,null,null,null,null,35349]
[null,null,null,null,null,null,null,null,null,null,35366]
[null,null,null,null,null,null,null,null,null,null,35415]
[null,null,null,null,null,null,null,null,null,null,35436]
[null,null,null,null,null,null,null,null,null,null,35480]
[null,null,null,null,null,null,null,null,null,null,35497]
[null,null,null,null,null,null,null,null,null,null,35546]
[null,null,null,null,null,null,null,null,null,null,35555]
[null,null,null,null,null,null,null,null,null,null,35611]
[null,null,null,null,null,null,null,null,null,null,35628]
[null,null,null,null,null,null,null,null,null,null,35677]
[null,null,null,null,null,null,null,null,null,null,35709]
[null,null,null,null,null,null,null,null,null,null,35742]
[null,null,null,null,null,null,null,null,null,null,35759]
[null,null,null,null,null,null,null,null,null,null,35776]
[null,null,null,null,null,null,null,null,null,null,35825]
[null,null,null,null,null,null,null,null,null,null,35861]
[null,null,null,null,null,null,null,null,null,null,35890]
[null,null,null,null,null,null,null,null,null,null,35907]
[null,null,null,null,null,null,null,null,null,null,35956]
[null,null,null,null,null,null,null,null,null,null,35980]
[null,null,null,null,null,null,null,null,null,null,36021]
[null,null,null,null,null,null,null,null,null,null,36038]
[null,null,null,null,null,null,null,null,null,null,36087]
[null,null,null,null,null,null,null,null,null,null,36103]
[null,null,null,null,null,null,null,null,null,null,36152]
[null,null,null,null,null,null,null,null,null,null,36169]
[null,null,null,null,null,null,null,null,null,null,36218]
[null,null,null,null,null,null,null,null,null,null,36222]
[null,null,null,null,null,null,null,null,null,null,36251]
[null,null,null,null,null,null,null,null,null,null,36300]
[null,null,null,null,null,null,null,null,null,null,36317]
[null,null,null,null,null,null,null,null,null,null,36376]
[null,null,null,null,null,null,null,null,null,null,36382]
[null,null,null,null,null,null,null,null,null,null,36431]
[null,null,null,null,null,null,null,null,null,null,36448]
[null,null,null,null,null,null,null,null,null,null,36495]
[null,null,null,null,null,null,null,null,null,null,36513]
[null,null,null,null,null,null,null,null,null,null,36562]
[null,null,null,null,null,null,null,null,null,null,36579]
[null,null,null,null,null,null,null,null,null,null,36618]
[null,null,null,null,null,null,null,null,null,null,36644]
[null,null,null,null,null,null,null,null,null,null,36693]
[null,null,null,null,null,null,null,null,null,null,36710]
[null,null,null,null,null,null,null,null,null,null,36759]
[null,null,null,null,null,null,null,null,null,null,36770]
[null,null,null,null,null,null,null,null,null,null,36792]
[null,null,null,null,null,null,null,null,null,null,36841]
[null,null,null,null,null,null,null,null,null,null,36858]
[null,null,null,null,null,null,null,null,null,null,36889]
[null,null,null,null,null,null,null,null,null,null,36923]
[null,null,null,null,null,null,null,null,null,null,36972]
[null,null,null,null,null,null,null,null,null,null,36989]
[null,null,null,null,null,null,null,null,null,null,37043]
[null,null,null,null,null,null,null,null,null,null,37054]
[null,null,null,null,null,null,null,null,null,null,37103]
[null,null,null,null,null,null,null,null,null,null,37120]
[null,null,null,null,null,null,null,null,null,null,37162]
[null,null,null,null,null,null,null,null,null,null,37185]
[null,null,null,null,null,null,null,null,null,null,37234]
[null,null,null,null,null,null,null,null,null,null,37251]
[null,null,null,null,null,null,null,null,null,null,37285]
[null,null,null,null,null,null,null,null,null,null,37316]
[null,null,null,null,null,null,null,null,null,null,37333]
[null,null,null,null,null,null,null,null,null,null,37382]
[null,null,null,null,null,null,null,null,null,null,37404]
[null,null,null,null,null,null,null,null,null,null,37447]
[null,null,null,null,null,null,null,null,null,null,37464]
[null,null,null,null,null,null,null,null,null,null,37513]
[null,null,null,null,null,null,null,null,null,null,37527]
[null,null,null,null,null,null,null,null,null,null,37578]
[null,null,null,null,null,null,null,null,null,null,37595]
[null,null,null,null,null,null,null,null,null,null,37644]
[null,null,null,null,null,null,null,null,null,null,37677]
[null,null,null,null,null,null,null,null,null,null,37709]
[null,null,null,null,null,null,null,null,null,null,37726]
[null,null,null,null,null,null,null,null,null,null,37775]
[null,null,null,null,null,null,null,null,null,null,37792]
[null,null,null,null,null,null,null,null,null,null,37829]
[null,null,null,null,null,null,null,null,null,null,37857]
[null,null,null,null,null,null,null,null,null,null,37874]
[null,null,null,null,null,null,null,null,null,null,37923]
[null,null,null,null,null,null,null,null,null,null,37952]
[null,null,null,null,null,null,null,null,null,null,37988]
[null,null,null,null,null,null,null,null,null,null,38005]
[null,null,null,null,null,null,null,null,null,null,38054]
[null,null,null,null,null,null,null,null,null,null,38071]
[null,null,null,null,null,null,null,null,null,null,38119]
[null,null,null,null,null,null,null,null,null,null,38136]
[null,null,null,null,null,null,null,null,null,null,38185]
[null,null,null,null,null,null,null,null,null,null,38194]
[null,null,null,null,null,null,null,null,null,null,38250]
[null,null,null,null,null,null,null,null,null,null,38267]
[null,null,null,null,null,null,null,null,null,null,38284]
[null,null,null,null,null,null,null,null,null,null,38344]
[null,null,null,null,null,null,null,null,null,null,38349]
[null,null,null,null,null,null,null,null,null,null,38398]
[null,null,null,null,null,null,null,null,null,null,38415]
[null,null,null,null,null,null,null,null,null,null,38467]
[null,null,null,null,null,null,null,null,null,null,38480]
[null,null,null,null,null,null,null,null,null,null,38529]
[null,null,null,null,null,null,null,null,null,null,38546]
[null,null,null,null,null,null,null,null,null,null,38590]
[null,null,null,null,null,null,null,null,null,null,38611]
[null,null,null,null,null,null,null,null,null,null,38660]
[null,null,null,null,null,null,null,null,null,null,38677]
[null,null,null,null,null,null,null,null,null,null,38726]
[null,null,null,null,null,null,null,null,null,null,38738]
[null,null,null,null,null,null,null,null,null,null,38791]
[null,null,null,null,null,null,null,null,null,null,38808]
[null,null,null,null,null,null,null,null,null,null,38825]
[null,null,null,null,null,null,null,null,null,null,38861]
[null,null,null,null,null,null,null,null,null,null,38890]
[null,null,null,null,null,null,null,null,null,null,38939]
[null,null,null,null,null,null,null,null,null,null,38956]
[null,null,null,null,null,null,null,null,null,null,39011]
[null,null,null,null,null,null,null,null,null,null,39021]
[null,null,null,null,null,null,null,null,null,null,39070]
[null,null,null,null,null,null,null,null,null,null,39087]
[null,null,null,null,null,null,null,null,null,null,39134]
[null,null,null,null,null,null,null,null,null,null,39152]
[null,null,null,null,null,null,null,null,null,null,39201]
[null,null,null,null,null,null,null,null,null,null,39218]
[null,null,null,null,null,null,null,null,null,null,39257]
[null,null,null,null,null,null,null,null,null,null,39283]
[null,null,null,null,null,null,null,null,null,null,39300]
[null,null,null,null,null,null,null,null,null,null,39349]
[null,null,null,null,null,null,null,null,null,null,39376]
[null,null,null,null,null,null,null,null,null,null,39414]
[null,null,null,null,null,null,null,null,null,null,39431]
[null,null,null,null,null,null,null,null,null,null,39480]
[null,null,null,null,null,null,null,null,null,null,39499]
[null,null,null,null,null,null,null,null,null,null,39545]
[null,null,null,null,null,null,null,null,null,null,39562]
[null,null,null,null,null,null,null,null,null,null,39611]
[null,null,null,null,null,null,null,null,null,null,39618]
[null,null,null,null,null,null,null,null,null,null,39676]
[null,null,null,null,null,null,null,null,null,null,39693]
[null,null,null,null,null,null,null,null,null,null,39742]
[null,null,null,null,null,null,null,null,null,null,39759]
[null,null,null,null,null,null,null,null,null,null,39801]
[null,null,null,null,null,null,null,null,null,null,39824]
[null,null,null,null,null,null,null,null,null,null,39841]
[null,null,null,null,null,null,null,null,null,null,39890]
[null,null,null,null,null,null,null,null,null,null,39924]
[null,null,null,null,null,null,null,null,null,null,39955]
[null,null,null,null,null,null,null,null,null,null,39972]
[null,null,null,null,null,null,null,null,null,null,40021]
[null,null,null,null,null,null,null,null,null,null,40043]
[null,null,null,null,null,null,null,null,null,null,40086]
[null,null,null,null,null,null,null,null,null,null,40103]
[null,null,null,null,null,null,null,null,null,null,40152]
[null,null,null,null,null,null,null,null,null,null,40166]
[null,null,null,null,null,null,null,null,null,null,40217]
[null,null,null,null,null,null,null,null,null,null,40234]
[null,null,null,null,null,null,null,null,null,null,40283]
[null,null,null,null,null,null,null,null,null,null,40285]
[null,null,null,null,null,null,null,null,null,null,40316]
[null,null,null,null,null,null,null,null,null,null,40365]
[null,null,null,null,null,null,null,null,null,null,40382]
[null,null,null,null,null,null,null,null,null,null,40439]
[null,null,null,null,null,null,null,null,null,null,40447]
[null,null,null,null,null,null,null,null,null,null,40496]
[null,null,null,null,null,null,null,null,null,null,40513]
[null,null,null,null,null,null,null,null,null,null,40558]
[null,null,null,null,null,null,null,null,null,null,40578]
[null,null,null,null,null,null,null,null,null,null,40627]
[null,null,null,null,null,null,null,null,null,null,40644]
[null,null,null,null,null,null,null,null,null,null,40693]
[null,null,null,null,null,null,null,null,null,null,40710]
[null,null,null,null,null,null,null,null,null,null,40758]
[null,null,null,null,null,null,null,null,null,null,40775]
[null,null,null,null,null,null,null,null,null,null,40824]
[null,null,null,null,null,null,null,null,null,null,40833]
[null,null,null,null,null,null,null,null,null,null,40857]
[null,null,null,null,null,null,null,null,null,null,40906]
[null,null,null,null,null,null,null,null,null,null,40923]
[null,null,null,null,null,null,null,null,null,null,40952]
[null,null,null,null,null,null,null,null,null,null,40988]
[null,null,null,null,null,null,null,null,null,null,41037]
[null,null,null,null,null,null,null,null,null,null,41054]
[null,null,null,null,null,null,null,null,null,null,41106]
[null,null,null,null,null,null,null,null,null,null,41119]
[null,null,null,null,null,null,null,null,null,null,41168]
[null,null,null,null,null,null,null,null,null,null,41185]
[null,null,null,null,null,null,null,null,null,null,41225]
[null,null,null,null,null,null,null,null,null,null,41250]
[null,null,null,null,null,null,null,null,null,null,41299]
[null,null,null,null,null,null,null,null,null,null,41316]
[null,null,null,null,null,null,null,null,null,null,41348]
[null,null,null,null,null,null,null,null,null,null,41381]
[null,null,null,null,null,null,null,null,null,null,41398]
[null,null,null,null,null,null,null,null,null,null,41447]
[null,null,null,null,null,null,null,null,null,null,41467]
[null,null,null,null,null,null,null,null,null,null,41512]
[null,null,null,null,null,null,null,null,null,null,41529]
[null,null,null,null,null,null,null,null,null,null,41578]
[null,null,null,null,null,null,null,null,null,null,41590]
[null,null,null,null,null,null,null,null,null,null,41643]
[null,null,null,null,null,null,null,null,null,null,41660]
[null,null,null,null,null,null,null,null,null,null,41709]
[null,null,null,null,null,null,null,null,null,null,41726]
[null,null,null,null,null,null,null,null,null,null,41773]
[null,null,null,null,null,null,null,null,null,null,41791]
[null,null,null,null,null,null,null,null,null,null,41840]
[null,null,null,null,null,null,null,null,null,null,41857]
[null,null,null,null,null,null,null,null,null,null,41892]
[null,null,null,null,null,null,null,null,null,null,41922]
[null,null,null,null,null,null,null,null,null,null,41939]
[null,null,null,null,null,null,null,null,null,null,41988]
[null,null,null,null,null,null,null,null,null,null,42015]
[null,null,null,null,null,null,null,null,null,null,42053]
[null,null,null,null,null,null,null,null,null,null,42070]
[null,null,null,null,null,null,null,null,null,null,42119]
[null,null,null,null,null,null,null,null,null,null,42134]
[null,null,null,null,null,null,null,null,null,null,42184]
[null,null,null,null,null,null,null,null,null,null,42201]
[null,null,null,null,null,null,null,null,null,null,42250]
[null,null,null,null,null,null,null,null,null,null,42257]
[null,null,null,null,null,null,null,null,null,null,42315]
[null,null,null,null,null,null,null,null,null,null,42332]
[null,null,null,null,null,null,null,null,null,null,42349]
[null,null,null,null,null,null,null,null,null,null,42407]
[null,null,null,null,null,null,null,null,null,null,42414]
[null,null,null,null,null,null,null,null,null,null,42463]
[null,null,null,null,null,null,null,null,null,null,42480]
[null,null,null,null,null,null,null,null,null,null,42530]
[null,null,null,null,null,null,null,null,null,null,42545]
[null,null,null,null,null,null,null,null,null,null,42594]
[null,null,null,null,null,null,null,null,null,null,42611]
[null,null,null,null,null,null,null,null,null,null,42649]
[null,null,null,null,null,null,null,null,null,null,42676]
[null,null,null,null,null,null,null,null,null,null,42725]
[null,null,null,null,null,null,null,null,null,null,42742]
[null,null,null,null,null,null,null,null,null,null,42791]
[null,null,null,null,null,null,null,null,null,null,42801]
[null,null,null,null,null,null,null,null,null,null,42856]
[null,null,null,null,null,null,null,null,null,null,42873]
[null,null,null,null,null,null,null,null,null,null,42890]
[null,null,null,null,null,null,null,null,null,null,42924]
[null,null,null,null,null,null,null,null,null,null,42955]
[null,null,null,null,null,null,null,null,null,null,43004]
[null,null,null,null,null,null,null,null,null,null,43021]
[null,null,null,null,null,null,null,null,null,null,43074]
[null,null,null,null,null,null,null,null,null,null,43086]
[null,null,null,null,null,null,null,null,null,null,43135]
[null,null,null,null,null,null,null,null,null,null,43152]
[null,null,null,null,null,null,null,null,null,null,43197]
[null,null,null,null,null,null,null,null,null,null,43217]
[null,null,null,null,null,null,null,null,null,null,43266]
[null,null,null,null,null,null,null,null,null,null,43283]
[null,null,null,null,null,null,null,null,null,null,43316]
[null,null,null,null,null,null,null,null,null,null,43348]
[null,null,null,null,null,null,null,null,null,null,43365]
[null,null,null,null,null,null,null,null,null,null,43414]
[null,null,null,null,null,null,null,null,null,null,43439]
[null,null,null,null,null,null,null,null,null,null,43479]
[null,null,null,null,null,null,null,null,null,null,43496]
[null,null,null,null,null,null,null,null,null,null,43545]
[null,null,null,null,null,null,null,null,null,null,43558]
[null,null,null,null,null,null,null,null,null,null,43610]
[null,null,null,null,null,null,null,null,null,null,43627]
[null,null,null,null,null,null,null,null,null,null,43676]
[null,null,null,null,null,null,null,null,null,null,43693]
[null,null,null,null,null,null,null,null,null,null,43741]
[null,null,null,null,null,null,null,null,null,null,43758]
[null,null,null,null,null,null,null,null,null,null,43807]
[null,null,null,null,null,null,null,null,null,null,43824]
[null,null,null,null,null,null,null,null,null,null,43864]
[null,null,null,null,null,null,null,null,null,null,43889]
[null,null,null,null,null,null,null,null,null,null,43906]
[null,null,null,null,null,null,null,null,null,null,43955]
[null,null,null,null,null,null,null,null,null,null,43983]
[null,null,null,null,null,null,null,null,null,null,44020]
[null,null,null,null,null,null,null,null,null,null,44037]
[null,null,null,null,null,null,null,null,null,null,44086]
[null,null,null,null,null,null,null,null,null,null,44106]
[null,null,null,null,null,null,null,null,null,null,44151]
[null,null,null,null,null,null,null,null,null,null,44168]
[null,null,null,null,null,null,null,null,null,null,44217]
[null,null,null,null,null,null,null,null,null,null,44229]
[null,null,null,null,null,null,null,null,null,null,44282]
[null,null,null,null,null,null,null,null,null,null,44299]
[null,null,null,null,null,null,null,null,null,null,44348]
[null,null,null,null,null,null,null,null,null,null,44379]
[null,null,null,null,null,null,null,null,null,null,44381]
[null,null,null,null,null,null,null,null,null,null,44430]
[null,null,null,null,null,null,null,null,null,null,44447]
[null,null,null,null,null,null,null,null,null,null,44502]
[null,null,null,null,null,null,null,null,null,null,44512]
[null,null,null,null,null,null,null,null,null,null,44561]
[null,null,null,null,null,null,null,null,null,null,44578]
[null,null,null,null,null,null,null,null,null,null,44621]
[null,null,null,null,null,null,null,null,null,null,44643]
[null,null,null,null,null,null,null,null,null,null,44692]
[null,null,null,null,null,null,null,null,null,null,44709]
[null,null,null,null,null,null,null,null,null,null,44758]
[null,null,null,null,null,null,null,null,null,null,44773]
[null,null,null,null,null,null,null,null,null,null,44823]
[null,null,null,null,null,null,null,null,null,null,44840]
[null,null,null,null,null,null,null,null,null,null,44889]
[null,null,null,null,null,null,null,null,null,null,44896]
[null,null,null,null,null,null,null,null,null,null,44922]
[null,null,null,null,null,null,null,null,null,null,44971]
[null,null,null,null,null,null,null,null,null,null,44988]
[null,null,null,null,null,null,null,null,null,null,45046]
[null,null,null,null,null,null,null,null,null,null,45053]
[null,null,null,null,null,null,null,null,null,null,45102]
[null,null,null,null,null,null,null,null,null,null,45119]
[null,null,null,null,null,null,null,null,null,null,45169]
[null,null,null,null,null,null,null,null,null,null,45184]
[null,null,null,null,null,null,null,null,null,null,45233]
[null,null,null,null,null,null,null,null,null,null,45250]
[null,null,null,null,null,null,null,null,null,null,45288]
[null,null,null,null,null,null,null,null,null,null,45315]
[null,null,null,null,null,null,null,null,null,null,45364]
[null,null,null,null,null,null,null,null,null,null,45381]
[null,null,null,null,null,null,null,null,null,null,45411]
[null,null,null,null,null,null,null,null,null,null,45446]
[null,null,null,null,null,null,null,null,null,null,45463]
[null,null,null,null,null,null,null,null,null,null,45512]
[null,null,null,null,null,null,null,null,null,null,45530]
[null,null,null,null,null,null,null,null,null,null,45577]
[null,null,null,null,null,null,null,null,null,null,45594]
[null,null,null,null,null,null,null,null,null,null,45643]
[null,null,null,null,null,null,null,null,null,null,45660]
[null,null,null,null,null,null,null,null,null,null,45713]
[null,null,null,null,null,null,null,null,null,null,45725]
[null,null,null,null,null,null,null,null,null,null,45774]
[null,null,null,null,null,null,null,null,null,null,45791]
[null,null,null,null,null,null,null,null,null,null,45836]
[null,null,null,null,null,null,null,null,null,null,45856]
[null,null,null,null,null,null,null,null,null,null,45905]
[null,null,null,null,null,null,null,null,null,null,45922]
[null,null,null,null,null,null,null,null,null,null,45955]
[null,null,null,null,null,null,null,null,null,null,45987]
[null,null,null,null,null,null,null,null,null,null,46004]
[null,null,null,null,null,null,null,null,null,null,46053]
[null,null,null,null,null,null,null,null,null,null,46078]
[null,null,null,null,null,null,null,null,null,null,46118]
[null,null,null,null,null,null,null,null,null,null,46135]
[null,null,null,null,null,null,null,null,null,null,46184]
[null,null,null,null,null,null,null,null,null,null,46197]
[null,null,null,null,null,null,null,null,null,null,46249]
[null,null,null,null,null,null,null,null,null,null,46266]
[null,null,null,null,null,null,null,null,null,null,46315]
[null,null,null,null,null,null,null,null,null,null,46320]
[null,null,null,null,null,null,null,null,null,null,46380]
[null,null,null,null,null,null,null,null,null,null,46397]
[null,null,null,null,null,null,null,null,null,null,46414]
[null,null,null,null,null,null,null,null,null,null,46470]
[null,null,null,null,null,null,null,null,null,null,46479]
[null,null,null,null,null,null,null,null,null,null,46528]
[null,null,null,null,null,null,null,null,null,null,46545]
[null,null,null,null,null,null,null,null,null,null,46593]
[null,null,null,null,null,null,null,null,null,null,46610]
[null,null,null,null,null,null,null,null,null,null,46659]
[null,null,null,null,null,null,null,null,null,null,46676]
[null,null,null,null,null,null,null,null,null,null,46725]
[null,null,null,null,null,null,null,null,null,null,46745]
[null,null,null,null,null,null,null,null,null,null,46790]
[null,null,null,null,null,null,null,null,null,null,46807]
[null,null,null,null,null,null,null,null,null,null,46856]
[null,null,null,null,null,null,null,null,null,null,46864]
[null,null,null,null,null,null,null,null,null,null,46921]
[null,null,null,null,null,null,null,null,null,null,46938]
[null,null,null,null,null,null,null,null,null,null,46955]
[null,null,null,null,null,null,null,null,null,null,46987]
[null,null,null,null,null,null,null,null,null,null,47020]
[null,null,null,null,null,null,null,null,null,null,47069]
[null,null,null,null,null,null,null,null,null,null,47086]
[null,null,null,null,null,null,null,null,null,null,47137]
[null,null,null,null,null,null,null,null,null,null,47151]
[null,null,null,null,null,null,null,null,null,null,47200]
[null,null,null,null,null,null,null,null,null,null,47217]
[null,null,null,null,null,null,null,null,null,null,47260]
[null,null,null,null,null,null,null,null,null,null,47282]
[null,null,null,null,null,null,null,null,null,null,47331]
[null,null,null,null,null,null,null,null,null,null,47348]
[null,null,null,null,null,null,null,null,null,null,47379]
[null,null,null,null,null,null,null,null,null,null,47413]
[null,null,null,null,null,null,null,null,null,null,47430]
[null,null,null,null,null,null,null,null,null,null,47479]
[null,null,null,null,null,null,null,null,null,null,47502]
[null,null,null,null,null,null,null,null,null,null,47544]
[null,null,null,null,null,null,null,null,null,null,47561]
[null,null,null,null,null,null,null,null,null,null,47610]
[null,null,null,null,null,null,null,null,null,null,47627]
[null,null,null,null,null,null,null,null,null,null,47654]
[null,null,null,null,null,null,null,null,null,null,47692]
[null,null,null,null,null,null,null,null,null,null,47741]
[null,null,null,null,null,null,null,null,null,null,47758]
[null,null,null,null,null,null,null,null,null,null,47804]
[null,null,null,null,null,null,null,null,null,null,47823]
[null,null,null,null,null,null,null,null,null,null,47872]
[null,null,null,null,null,null,null,null,null,null,47889]
[null,null,null,null,null,null,null,null,null,null,47927]
[null,null,null,null,null,null,null,null,null,null,47954]
[null,null,null,null,null,null,null,null,null,null,47971]
[null,null,null,null,null,null,null,null,null,null,48020]
[null,null,null,null,null,null,null,null,null,null,48046]
[null,null,null,null,null,null,null,null,null,null,48085]
[null,null,null,null,null,null,null,null,null,null,48102]
[null,null,null,null,null,null,null,null,null,null,48151]
[null,null,null,null,null,null,null,null,null,null,48169]
[null,null,null,null,null,null,null,null,null,null,48216]
[null,null,null,null,null,null,null,null,null,null,48233]
[null,null,null,null,null,null,null,null,null,null,48282]
[null,null,null,null,null,null,null,null,null,null,48288]
[null,null,null,null,null,null,null,null,null,null,48347]
[null,null,null,null,null,null,null,null,null,null,48364]
[null,null,null,null,null,null,null,null,null,null,48413]
[null,null,null,null,null,null,null,null,null,null,48442]
[null,null,null,null,null,null,null,null,null,null,48446]
[null,null,null,null,null,null,null,null,null,null,48495]
[null,null,null,null,null,null,null,null,null,null,48512]
[null,null,null,null,null,null,null,null,null,null,48561]
[null,null,null,null,null,null,null,null,null,null,48577]
[null,null,null,null,null,null,null,null,null,null,48626]
[null,null,null,null,null,null,null,null,null,null,48643]
[null,null,null,null,null,null,null,null,null,null,48692]
[null,null,null,null,null,null,null,null,null,null,48713]
[null,null,null,null,null,null,null,null,null,null,48757]
[null,null,null,null,null,null,null,null,null,null,48774]
[null,null,null,null,null,null,null,null,null,null,48823]
[null,null,null,null,null,null,null,null,null,null,48836]
[null,null,null,null,null,null,null,null,null,null,48888]
[null,null,null,null,null,null,null,null,null,null,48905]
[null,null,null,null,null,null,null,null,null,null,48954]
[null,null,null,null,null,null,null,null,null,null,48955]
[null,null,null,null,null,null,null,null,null,null,48987]
[null,null,null,null,null,null,null,null,null,null,49036]
[null,null,null,null,null,null,null,null,null,null,49053]
[null,null,null,null,null,null,null,null,null,null,49109]
[null,null,null,null,null,null,null,null,null,null,49118]
[null,null,null,null,null,null,null,null,null,null,49167]
[null,null,null,null,null,null,null,null,null,null,49184]
[null,null,null,null,null,null,null,null,null,null,49228]
[null,null,null,null,null,null,null,null,null,null,49249]
[null,null,null,null,null,null,null,null,null,null,49298]
[null,null,null,null,null,null,null,null,null,null,49315]
[null,null,null,null,null,null,null,null,null,null,49351]
[null,null,null,null,null,null,null,null,null,null,49380]
[null,null,null,null,null,null,null,null,null,null,49429]
[null,null,null,null,null,null,null,null,null,null,49446]
[null,null,null,null,null,null,null,null,null,null,49474]
[null,null,null,null,null,null,null,null,null,null,49511]
[null,null,null,null,null,null,null,null,null,null,49528]
[null,null,null,null,null,null,null,null,null,null,49577]
[null,null,null,null,null,null,null,null,null,null,49594]
[null,null,null,null,null,null,null,null,null,null,49622]
[null,null,null,null,null,null,null,null,null,null,49659]
[null,null,null,null,null,null,null,null,null,null,49708]
[null,null,null,null,null,null,null,null,null,null,49725]
[null,null,null,null,null,null,null,null,null,null,49776]
[null,null,null,null,null,null,null,null,null,null,49790]
[null,null,null,null,null,null,null,null,null,null,49839]
[null,null,null,null,null,null,null,null,null,null,49856]
[null,null,null,null,null,null,null,null,null,null,49899]
[null,null,null,null,null,null,null,null,null,null,49921]
[null,null,null,null,null,null,null,null,null,null,49970]
[null,null,null,null,null,null,null,null,null,null,49987]
[null,null,null,null,null,null,null,null,null,null,50018]
[null,null,null,null,null,null,null,null,null,null,50052]
[null,null,null,null,null,null,null,null,null,null,50069]
[null,null,null,null,null,null,null,null,null,null,50118]
[null,null,null,null,null,null,null,null,null,null,50141]
[null,null,null,null,null,null,null,null,null,null,50183]
[null,null,null,null,null,null,null,null,null,null,50200]
[null,null,null,null,null,null,null,null,null,null,50249]
[null,null,null,null,null,null,null,null,null,null,50260]
[null,null,null,null,null,null,null,null,null,null,50314]
[null,null,null,null,null,null,null,null,null,null,50331]
[null,null,null,null,null,null,null,null,null,null,50380]
[null,null,null,null,null,null,null,null,null,null,50414]
[null,null,null,null,null,null,null,null,null,null,50445]
[null,null,null,null,null,null,null,null,null,null,50462]
[null,null,null,null,null,null,null,null,null,null,50479]
[null,null,null,null,null,null,null,null,null,null,50533]
[null,null,null,null,null,null,null,null,null,null,50544]
[null,null,null,null,null,null,null,null,null,null,50593]
[null,null,null,null,null,null,null,null,null,null,50610]
[null,null,null,null,null,null,null,null,null,null,50659]
[null,null,null,null,null,null,null,null,null,null,50685]
[null,null,null,null,null,null,null,null,null,null,50724]
[null,null,null,null,null,null,null,null,null,null,50741]
[null,null,null,null,null,null,null,null,null,null,50790]
[null,null,null,null,null,null,null,null,null,null,50808]
[null,null,null,null,null,null,null,null,null,null,50855]
[null,null,null,null,null,null,null,null,null,null,50872]
[null,null,null,null,null,null,null,null,null,null,50921]
[null,null,null,null,null,null,null,null,null,null,50927]
[null,null,null,null,null,null,null,null,null,null,50986]
[null,null,null,null,null,null,null,null,null,null,51003]
[null,null,null,null,null,null,null,null,null,null,51020]
[null,null,null,null,null,null,null,null,null,null,51081]
[null,null,null,null,null,null,null,null,null,null,51085]
[null,null,null,null,null,null,null,null,null,null,51134]
[null,null,null,null,null,null,null,null,null,null,51151]
[null,null,null,null,null,null,null,null,null,null,51200]
[null,null,null,null,null,null,null,null,null,null,51216]
[null,null,null,null,null,null,null,null,null,null,51265]
[null,null,null,null,null,null,null,null,null,null,51282]
[null,null,null,null,null,null,null,null,null,null,51323]
[null,null,null,null,null,null,null,null,null,null,51347]
[null,null,null,null,null,null,null,null,null,null,51396]
[null,null,null,null,null,null,null,null,null,null,51413]
[null,null,null,null,null,null,null,null,null,null,51442]
[null,null,null,null,null,null,null,null,null,null,51478]
[null,null,null,null,null,null,null,null,null,null,51495]
[null,null,null,null,null,null,null,null,null,null,51544]
[null,null,null,null,null,null,null,null,null,null,51565]
[null,null,null,null,null,null,null,null,null,null,51609]
[null,null,null,null,null,null,null,null,null,null,51626]
[null,null,null,null,null,null,null,null,null,null,51675]
[null,null,null,null,null,null,null,null,null,null,51692]
[null,null,null,null,null,null,null,null,null,null,51748]
[null,null,null,null,null,null,null,null,null,null,51757]
[null,null,null,null,null,null,null,null,null,null,51806]
[null,null,null,null,null,null,null,null,null,null,51823]
[null,null,null,null,null,null,null,null,null,null,51867]
[null,null,null,null,null,null,null,null,null,null,51888]
[null,null,null,null,null,null,null,null,null,null,51937]
[null,null,null,null,null,null,null,null,null,null,51954]
[null,null,null,null,null,null,null,null,null,null,51990]
[null,null,null,null,null,null,null,null,null,null,52019]
[null,null,null,null,null,null,null,null,null,null,52036]
[null,null,null,null,null,null,null,null,null,null,52085]
[null,null,null,null,null,null,null,null,null,null,52109]
[null,null,null,null,null,null,null,null,null,null,52150]
[null,null,null,null,null,null,null,null,null,null,52167]
[null,null,null,null,null,null,null,null,null,null,52216]
[null,null,null,null,null,null,null,null,null,null,52232]
[null,null,null,null,null,null,null,null,null,null,52281]
[null,null,null,null,null,null,null,null,null,null,52298]
[null,null,null,null,null,null,null,null,null,null,52347]
[null,null,null,null,null,null,null,null,null,null,52382]
[null,null,null,null,null,null,null,null,null,null,52412]
[null,null,null,null,null,null,null,null,null,null,52429]
[null,null,null,null,null,null,null,null,null,null,52478]
[null,null,null,null,null,null,null,null,null,null,52505]
[null,null,null,null,null,null,null,null,null,null,52511]
[null,null,null,null,null,null,null,null,null,null,52560]
[null,null,null,null,null,null,null,null,null,null,52577]
[null,null,null,null,null,null,null,null,null,null,52626]
[null,null,null,null,null,null,null,null,null,null,52657]
[null,null,null,null,null,null,null,null,null,null,52691]
[null,null,null,null,null,null,null,null,null,null,52708]
[null,null,null,null,null,null,null,null,null,null,52757]
[null,null,null,null,null,null,null,null,null,null,52776]
[null,null,null,null,null,null,null,null,null,null,52822]
[null,null,null,null,null,null,null,null,null,null,52839]
[null,null,null,null,null,null,null,null,null,null,52888]
[null,null,null,null,null,null,null,null,null,null,52899]
[null,null,null,null,null,null,null,null,null,null,52953]
[null,null,null,null,null,null,null,null,null,null,52970]
[null,null,null,null,null,null,null,null,null,null,53019]
[null,null,null,null,null,null,null,null,null,null,53049]
[null,null,null,null,null,null,null,null,null,null,53052]
[null,null,null,null,null,null,null,null,null,null,53101]
[null,null,null,null,null,null,null,null,null,null,53118]
[null,null,null,null,null,null,null,null,null,null,53172]
[null,null,null,null,null,null,null,null,null,null,53183]
[null,null,null,null,null,null,null,null,null,null,53232]
[null,null,null,null,null,null,null,null,null,null,53249]
[null,null,null,null,null,null,null,null,null,null,53291]
[null,null,null,null,null,null,null,null,null,null,53314]
[null,null,null,null,null,null,null,null,null,null,53363]
[null,null,null,null,null,null,null,null,null,null,53380]
[null,null,null,null,null,null,null,null,null,null,53414]
[null,null,null,null,null,null,null,null,null,null,53445]
[null,null,null,null,null,null,null,null,null,null,53494]
[null,null,null,null,null,null,null,null,null,null,53511]
[null,null,null,null,null,null,null,null,null,null,53533]
[null,null,null,null,null,null,null,null,null,null,53576]
[null,null,null,null,null,null,null,null,null,null,53593]
[null,null,null,null,null,null,null,null,null,null,53642]
[null,null,null,null,null,null,null,null,null,null,53659]
[null,null,null,null,null,null,null,null,null,null,53716]
[null,null,null,null,null,null,null,null,null,null,53724]
[null,null,null,null,null,null,null,null,null,null,53773]
[null,null,null,null,null,null,null,null,null,null,53790]
[null,null,null,null,null,null,null,null,null,null,53839]
[null,null,null,null,null,null,null,null,null,null,53855]
[null,null,null,null,null,null,null,null,null,null,53904]
[null,null,null,null,null,null,null,null,null,null,53921]
[null,null,null,null,null,null,null,null,null,null,53958]
[null,null,null,null,null,null,null,null,null,null,53986]
[null,null,null,null,null,null,null,null,null,null,54035]
[null,null,null,null,null,null,null,null,null,null,54052]
[null,null,null,null,null,null,null,null,null,null,54081]
[null,null,null,null,null,null,null,null,null,null,54117]
[null,null,null,null,null,null,null,null,null,null,54134]
[null,null,null,null,null,null,null,null,null,null,54183]
[null,null,null,null,null,null,null,null,null,null,54200]
[null,null,null,null,null,null,null,null,null,null,54248]
[null,null,null,null,null,null,null,null,null,null,54265]
[null,null,null,null,null,null,null,null,null,null,54314]
[null,null,null,null,null,null,null,null,null,null,54323]
[null,null,null,null,null,null,null,null,null,null,54379]
[null,null,null,null,null,null,null,null,null,null,54396]
[null,null,null,null,null,null,null,null,null,null,54445]
[null,null,null,null,null,null,null,null,null,null,54477]
[null,null,null,null,null,null,null,null,null,null,54510]
[null,null,null,null,null,null,null,null,null,null,54527]
[null,null,null,null,null,null,null,null,null,null,54544]
[null,null,null,null,null,null,null,null,null,null,54593]
[null,null,null,null,null,null,null,null,null,null,54625]
[null,null,null,null,null,null,null,null,null,null,54658]
[null,null,null,null,null,null,null,null,null,null,54675]
[null,null,null,null,null,null,null,null,null,null,54724]
[null,null,null,null,null,null,null,null,null,null,54748]
[null,null,null,null,null,null,null,null,null,null,54789]
[null,null,null,null,null,null,null,null,null,null,54806]
[null,null,null,null,null,null,null,null,null,null,54855]
[null,null,null,null,null,null,null,null,null,null,54867]
[null,null,null,null,null,null,null,null,null,null,54920]
[null,null,null,null,null,null,null,null,null,null,54937]
[null,null,null,null,null,null,null,null,null,null,54986]
[null,null,null,null,null,null,null,null,null,null,54990]
[null,null,null,null,null,null,null,null,null,null,55051]
[null,null,null,null,null,null,null,null,null,null,55068]
[null,null,null,null,null,null,null,null,null,null,55085]
[null,null,null,null,null,null,null,null,null,null,55144]
[null,null,null,null,null,null,null,null,null,null,55150]
[null,null,null,null,null,null,null,null,null,null,55199]
[null,null,null,null,null,null,null,null,null,null,55216]
[null,null,null,null,null,null,null,null,null,null,55263]
[null,null,null,null,null,null,null,null,null,null,55281]
[null,null,null,null,null,null,null,null,null,null,55330]
[null,null,null,null,null,null,null,null,null,null,55347]
[null,null,null,null,null,null,null,null,null,null,55386]
[null,null,null,null,null,null,null,null,null,null,55412]
[null,null,null,null,null,null,null,null,null,null,55461]
[null,null,null,null,null,null,null,null,null,null,55478]
[null,null,null,null,null,null,null,null,null,null,55505]
[null,null,null,null,null,null,null,null,null,null,55543]
[null,null,null,null,null,null,null,null,null,null,55560]
[null,null,null,null,null,null,null,null,null,null,55609]
[null,null,null,null,null,null,null,null,null,null,55626]
[null,null,null,null,null,null,null,null,null,null,55657]
[null,null,null,null,null,null,null,null,null,null,55691]
[null,null,null,null,null,null,null,null,null,null,55740]
[null,null,null,null,null,null,null,null,null,null,55757]
[null,null,null,null,null,null,null,null,null,null,55811]
[null,null,null,null,null,null,null,null,null,null,55822]
[null,null,null,null,null,null,null,null,null,null,55871]
[null,null,null,null,null,null,null,null,null,null,55888]
[null,null,null,null,null,null,null,null,null,null,55930]
[null,null,null,null,null,null,null,null,null,null,55953]
[null,null,null,null,null,null,null,null,null,null,56002]
[null,null,null,null,null,null,null,null,null,null,56019]
[null,null,null,null,null,null,null,null,null,null,56053]
[null,null,null,null,null,null,null,null,null,null,56084]
[null,null,null,null,null,null,null,null,null,null,56101]
[null,null,null,null,null,null,null,null,null,null,56150]
[null,null,null,null,null,null,null,null,null,null,56172]
[null,null,null,null,null,null,null,null,null,null,56215]
[null,null,null,null,null,null,null,null,null,null,56232]
[null,null,null,null,null,null,null,null,null,null,56281]
[null,null,null,null,null,null,null,null,null,null,56295]
[null,null,null,null,null,null,null,null,null,null,56346]
[null,null,null,null,null,null,null,null,null,null,56363]
[null,null,null,null,null,null,null,null,null,null,56412]
[null,null,null,null,null,null,null,null,null,null,56445]
[null,null,null,null,null,null,null,null,null,null,56477]
[null,null,null,null,null,null,null,null,null,null,56494]
[null,null,null,null,null,null,null,null,null,null,56543]
[null,null,null,null,null,null,null,null,null,null,56560]
[null,null,null,null,null,null,null,null,null,null,56597]
[null,null,null,null,null,null,null,null,null,null,56625]
[null,null,null,null,null,null,null,null,null,null,56642]
[null,null,null,null,null,null,null,null,null,null,56691]
[null,null,null,null,null,null,null,null,null,null,56720]
[null,null,null,null,null,null,null,null,null,null,56756]
[null,null,null,null,null,null,null,null,null,null,56773]
[null,null,null,null,null,null,null,null,null,null,56822]
[null,null,null,null,null,null,null,null,null,null,56839]
[null,null,null,null,null,null,null,null,null,null,56887]
[null,null,null,null,null,null,null,null,null,null,56904]
[null,null,null,null,null,null,null,null,null,null,56953]
[null,null,null,null,null,null,null,null,null,null,56962]
[null,null,null,null,null,null,null,null,null,null,57018]
[null,null,null,null,null,null,null,null,null,null,57035]
[null,null,null,null,null,null,null,null,null,null,57084]
[null,null,null,null,null,null,null,null,null,null,57112]
[null,null,null,null,null,null,null,null,null,null,57117]
[null,null,null,null,null,null,null,null,null,null,57166]
[null,null,null,null,null,null,null,null,null,null,57183]
[null,null,null,null,null,null,null,null,null,null,57235]
[null,null,null,null,null,null,null,null,null,null,57248]
[null,null,null,null,null,null,null,null,null,null,57297]
[null,null,null,null,null,null,null,null,null,null,57314]
[null,null,null,null,null,null,null,null,null,null,57354]
[null,null,null,null,null,null,null,null,null,null,57379]
[null,null,null,null,null,null,null,null,null,null,57428]
[null,null,null,null,null,null,null,null,null,null,57445]
[null,null,null,null,null,null,null,null,null,null,57477]
[null,null,null,null,null,null,null,null,null,null,57510]
[null,null,null,null,null,null,null,null,null,null,57559]
[null,null,null,null,null,null,null,null,null,null,57576]
[null,null,null,null,null,null,null,null,null,null,57593]
[null,null,null,null,null,null,null,null,null,null,57629]
[null,null,null,null,null,null,null,null,null,null,57658]
[null,null,null,null,null,null,null,null,null,null,57707]
[null,null,null,null,null,null,null,null,null,null,57724]
[null,null,null,null,null,null,null,null,null,null,57779]
[null,null,null,null,null,null,null,null,null,null,57789]
[null,null,null,null,null,null,null,null,null,null,57838]
[null,null,null,null,null,null,null,null,null,null,57855]
[null,null,null,null,null,null,null,null,null,null,57902]
[null,null,null,null,null,null,null,null,null,null,57920]
[null,null,null,null,null,null,null,null,null,null,57969]
[null,null,null,null,null,null,null,null,null,null,57986]
[null,null,null,null,null,null,null,null,null,null,58021]
[null,null,null,null,null,null,null,null,null,null,58051]
[null,null,null,null,null,null,null,null,null,null,58100]
[null,null,null,null,null,null,null,null,null,null,58117]
[null,null,null,null,null,null,null,null,null,null,58144]
[null,null,null,null,null,null,null,null,null,null,58182]
[null,null,null,null,null,null,null,null,null,null,58199]
[null,null,null,null,null,null,null,null,null,null,58248]
[null,null,null,null,null,null,null,null,null,null,58263]
[null,null,null,null,null,null,null,null,null,null,58313]
[null,null,null,null,null,null,null,null,null,null,58330]
[null,null,null,null,null,null,null,null,null,null,58379]
[null,null,null,null,null,null,null,null,null,null,58417]
[null,null,null,null,null,null,null,null,null,null,58444]
[null,null,null,null,null,null,null,null,null,null,58461]
[null,null,null,null,null,null,null,null,null,null,58510]
[null,null,null,null,null,null,null,null,null,null,58536]
[null,null,null,null,null,null,null,null,null,null,58575]
[null,null,null,null,null,null,null,null,null,null,58592]
[null,null,null,null,null,null,null,null,null,null,58609]
[null,null,null,null,null,null,null,null,null,null,58658]
[null,null,null,null,null,null,null,null,null,null,58688]
[null,null,null,null,null,null,null,null,null,null,58723]
[null,null,null,null,null,null,null,null,null,null,58740]
[null,null,null,null,null,null,null,null,null,null,58789]
[null,null,null,null,null,null,null,null,null,null,58811]
[null,null,null,null,null,null,null,null,null,null,58854]
[null,null,null,null,null,null,null,null,null,null,58871]
[null,null,null,null,null,null,null,null,null,null,58920]
[null,null,null,null,null,null,null,null,null,null,58930]
[null,null,null,null,null,null,null,null,null,null,58985]
[null,null,null,null,null,null,null,null,null,null,59002]
[null,null,null,null,null,null,null,null,null,null,59051]
[null,null,null,null,null,null,null,null,null,null,59084]
[null,null,null,null,null,null,null,null,null,null,59116]
[null,null,null,null,null,null,null,null,null,null,59133]
[null,null,null,null,null,null,null,null,null,null,59150]
[null,null,null,null,null,null,null,null,null,null,59203]
[null,null,null,null,null,null,null,null,null,null,59215]
[null,null,null,null,null,null,null,null,null,null,59264]
[null,null,null,null,null,null,null,null,null,null,59281]
[null,null,null,null,null,null,null,null,null,null,59326]
[null,null,null,null,null,null,null,null,null,null,59346]
[null,null,null,null,null,null,null,null,null,null,59395]
[null,null,null,null,null,null,null,null,null,null,59412]
[null,null,null,null,null,null,null,null,null,null,59445]
[null,null,null,null,null,null,null,null,null,null,59477]
[null,null,null,null,null,null,null,null,null,null,59526]
[null,null,null,null,null,null,null,null,null,null,59543]
[null,null,null,null,null,null,null,null,null,null,59592]
[null,null,null,null,null,null,null,null,null,null,59597]
[null,null,null,null,null,null,null,null,null,null,59625]
[null,null,null,null,null,null,null,null,null,null,59674]
[null,null,null,null,null,null,null,null,null,null,59691]
[null,null,null,null,null,null,null,null,null,null,59751]
[null,null,null,null,null,null,null,null,null,null,59756]
[null,null,null,null,null,null,null,null,null,null,59805]
[null,null,null,null,null,null,null,null,null,null,59822]
[null,null,null,null,null,null,null,null,null,null,59870]
[null,null,null,null,null,null,null,null,null,null,59887]
[null,null,null,null,null,null,null,null,null,null,59936]
[null,null,null,null,null,null,null,null,null,null,59953]
[null,null,null,null,null,null,null,null,null,null,59993]
[null,null,null,null,null,null,null,null,null,null,60018]
[null,null,null,null,null,null,null,null,null,null,60067]
[null,null,null,null,null,null,null,null,null,null,60084]
[null,null,null,null,null,null,null,null,null,null,60112]
[null,null,null,null,null,null,null,null,null,null,60149]
[null,null,null,null,null,null,null,null,null,null,60166]
[null,null,null,null,null,null,null,null,null,null,60215]
[null,null,null,null,null,null,null,null,null,null,60235]
[null,null,null,null,null,null,null,null,null,null,60280]
[null,null,null,null,null,null,null,null,null,null,60297]
[null,null,null,null,null,null,null,null,null,null,60346]
[null,null,null,null,null,null,null,null,null,null,60358]
[null,null,null,null,null,null,null,null,null,null,60411]
[null,null,null,null,null,null,null,null,null,null,60428]
[null,null,null,null,null,null,null,null,null,null,60477]
[null,null,null,null,null,null,null,null,null,null,60508]
[null,null,null,null,null,null,null,null,null,null,60542]
[null,null,null,null,null,null,null,null,null,null,60559]
[null,null,null,null,null,null,null,null,null,null,60608]
[null,null,null,null,null,null,null,null,null,null,60625]
[null,null,null,null,null,null,null,null,null,null,60660]
[null,null,null,null,null,null,null,null,null,null,60690]
[null,null,null,null,null,null,null,null,null,null,60707]
[null,null,null,null,null,null,null,null,null,null,60756]
[null,null,null,null,null,null,null,null,null,null,60783]
[null,null,null,null,null,null,null,null,null,null,60821]
[null,null,null,null,null,null,null,null,null,null,60838]
[null,null,null,null,null,null,null,null,null,null,60887]
[null,null,null,null,null,null,null,null,null,null,60902]
[null,null,null,null,null,null,null,null,null,null,60952]
[null,null,null,null,null,null,null,null,null,null,60969]
[null,null,null,null,null,null,null,null,null,null,61018]
[null,null,null,null,null,null,null,null,null,null,61025]
[null,null,null,null,null,null,null,null,null,null,61083]
[null,null,null,null,null,null,null,null,null,null,61100]
[null,null,null,null,null,null,null,null,null,null,61149]
[null,null,null,null,null,null,null,null,null,null,61175]
[null,null,null,null,null,null,null,null,null,null,61182]
[null,null,null,null,null,null,null,null,null,null,61231]
[null,null,null,null,null,null,null,null,null,null,61248]
[null,null,null,null,null,null,null,null,null,null,61298]
[null,null,null,null,null,null,null,null,null,null,61313]
[null,null,null,null,null,null,null,null,null,null,61362]
[null,null,null,null,null,null,null,null,null,null,61379]
[null,null,null,null,null,null,null,null,null,null,61417]
[null,null,null,null,null,null,null,null,null,null,61444]
[null,null,null,null,null,null,null,null,null,null,61493]
[null,null,null,null,null,null,null,null,null,null,61510]
[null,null,null,null,null,null,null,null,null,null,61559]
[null,null,null,null,null,null,null,null,null,null,61569]
[null,null,null,null,null,null,null,null,null,null,61624]
[null,null,null,null,null,null,null,null,null,null,61641]
[null,null,null,null,null,null,null,null,null,null,61658]
[null,null,null,null,null,null,null,null,null,null,61692]
[null,null,null,null,null,null,null,null,null,null,61723]
[null,null,null,null,null,null,null,null,null,null,61772]
[null,null,null,null,null,null,null,null,null,null,61789]
[null,null,null,null,null,null,null,null,null,null,61842]
[null,null,null,null,null,null,null,null,null,null,61854]
[null,null,null,null,null,null,null,null,null,null,61903]
[null,null,null,null,null,null,null,null,null,null,61920]
[null,null,null,null,null,null,null,null,null,null,61965]
[null,null,null,null,null,null,null,null,null,null,61985]
[null,null,null,null,null,null,null,null,null,null,62034]
[null,null,null,null,null,null,null,null,null,null,62051]
[null,null,null,null,null,null,null,null,null,null,62084]
[null,null,null,null,null,null,null,null,null,null,62116]
[null,null,null,null,null,null,null,null,null,null,62165]
[null,null,null,null,null,null,null,null,null,null,62182]
[null,null,null,null,null,null,null,null,null,null,62207]
[null,null,null,null,null,null,null,null,null,null,62247]
[null,null,null,null,null,null,null,null,null,null,62264]
[null,null,null,null,null,null,null,null,null,null,62313]
[null,null,null,null,null,null,null,null,null,null,62326]
[null,null,null,null,null,null,null,null,null,null,62378]
[null,null,null,null,null,null,null,null,null,null,62395]
[null,null,null,null,null,null,null,null,null,null,62444]
[null,null,null,null,null,null,null,null,null,null,62480]
[null,null,null,null,null,null,null,null,null,null,62509]
[null,null,null,null,null,null,null,null,null,null,62526]
[null,null,null,null,null,null,null,null,null,null,62575]
[null,null,null,null,null,null,null,null,null,null,62592]
[null,null,null,null,null,null,null,null,null,null,62632]
[null,null,null,null,null,null,null,null,null,null,62657]
[null,null,null,null,null,null,null,null,null,null,62674]
[null,null,null,null,null,null,null,null,null,null,62723]
[null,null,null,null,null,null,null,null,null,null,62751]
[null,null,null,null,null,null,null,null,null,null,62788]
[null,null,null,null,null,null,null,null,null,null,62805]
[null,null,null,null,null,null,null,null,null,null,62854]
[null,null,null,null,null,null,null,null,null,null,62874]
[null,null,null,null,null,null,null,null,null,null,62919]
[null,null,null,null,null,null,null,null,null,null,62936]
[null,null,null,null,null,null,null,null,null,null,62985]
[null,null,null,null,null,null,null,null,null,null,62993]
[null,null,null,null,null,null,null,null,null,null,63050]
[null,null,null,null,null,null,null,null,null,null,63067]
[null,null,null,null,null,null,null,null,null,null,63116]
[null,null,null,null,null,null,null,null,null,null,63147]
[null,null,null,null,null,null,null,null,null,null,63181]
[null,null,null,null,null,null,null,null,null,null,63198]
[null,null,null,null,null,null,null,null,null,null,63215]
[null,null,null,null,null,null,null,null,null,null,63266]
[null,null,null,null,null,null,null,null,null,null,63280]
[null,null,null,null,null,null,null,null,null,null,63329]
[null,null,null,null,null,null,null,null,null,null,63346]
[null,null,null,null,null,null,null,null,null,null,63389]
[null,null,null,null,null,null,null,null,null,null,63411]
[null,null,null,null,null,null,null,null,null,null,63460]
[null,null,null,null,null,null,null,null,null,null,63477]
[null,null,null,null,null,null,null,null,null,null,63526]
[null,null,null,null,null,null,null,null,null,null,63541]
[null,null,null,null,null,null,null,null,null,null,63591]
[null,null,null,null,null,null,null,null,null,null,63608]
[null,null,null,null,null,null,null,null,null,null,63657]
[null,null,null,null,null,null,null,null,null,null,63660]
[null,null,null,null,null,null,null,null,null,null,63690]
[null,null,null,null,null,null,null,null,null,null,63739]
[null,null,null,null,null,null,null,null,null,null,63756]
[null,null,null,null,null,null,null,null,null,null,63814]
[null,null,null,null,null,null,null,null,null,null,63821]
[null,null,null,null,null,null,null,null,null,null,63870]
[null,null,null,null,null,null,null,null,null,null,63887]
[null,null,null,null,null,null,null,null,null,null,63933]
[null,null,null,null,null,null,null,null,null,null,63952]
[null,null,null,null,null,null,null,null,null,null,64001]
[null,null,null,null,null,null,null,null,null,null,64018]
[null,null,null,null,null,null,null,null,null,null,64056]
[null,null,null,null,null,null,null,null,null,null,64083]
[null,null,null,null,null,null,null,null,null,null,64132]
[null,null,null,null,null,null,null,null,null,null,64149]
[null,null,null,null,null,null,null,null,null,null,64175]
[null,null,null,null,null,null,null,null,null,null,64214]
[null,null,null,null,null,null,null,null,null,null,64231]
[null,null,null,null,null,null,null,null,null,null,64280]
[null,null,null,null,null,null,null,null,null,null,64298]
[null,null,null,null,null,null,null,null,null,null,64345]
[null,null,null,null,null,null,null,null,null,null,64362]
[null,null,null,null,null,null,null,null,null,null,64411]
[null,null,null,null,null,null,null,null,null,null,64448]
[null,null,null,null,null,null,null,null,null,null,64476]
[null,null,null,null,null,null,null,null,null,null,64493]
[null,null,null,null,null,null,null,null,null,null,64542]
[null,null,null,null,null,null,null,null,null,null,64559]
[null,null,null,null,null,null,null,null,null,null,64600]
[null,null,null,null,null,null,null,null,null,null,64624]
[null,null,null,null,null,null,null,null,null,null,64673]
[null,null,null,null,null,null,null,null,null,null,64690]
[null,null,null,null,null,null,null,null,null,null,64723]
[null,null,null,null,null,null,null,null,null,null,64755]
[null,null,null,null,null,null,null,null,null,null,64772]
[null,null,null,null,null,null,null,null,null,null,64821]
[null,null,null,null,null,null,null,null,null,null,64842]
[null,null,null,null,null,null,null,null,null,null,64886]
[null,null,null,null,null,null,null,null,null,null,64903]
[null,null,null,null,null,null,null,null,null,null,64952]
[null,null,null,null,null,null,null,null,null,null,64965]
[null,null,null,null,null,null,null,null,null,null,65017]
[null,null,null,null,null,null,null,null,null,null,65034]
[null,null,null,null,null,null,null,null,null,null,65083]
[null,null,null,null,null,null,null,null,null,null,65115]
[null,null,null,null,null,null,null,null,null,null,65148]
[null,null,null,null,null,null,null,null,null,null,65165]
[null,null,null,null,null,null,null,null,null,null,65214]
[null,null,null,null,null,null,null,null,null,null,65238]
[null,null,null,null,null,null,null,null,null,null,65247]
[null,null,null,null,null,null,null,null,null,null,65296]
[null,null,null,null,null,null,null,null,null,null,65313]
[null,null,null,null,null,null,null,null,null,null,65361]
[null,null,null,null,null,null,null,null,null,null,65378]
[null,null,null,null,null,null,null,null,null,null,65427]
[null,null,null,null,null,null,null,null,null,null,65444]
[null,null,null,null,null,null,null,null,null,null,65493]
[null,null,null,null,null,null,null,null,null,null,65501]
[null,null,null,null,null,null,null,null,null,null,65502]
[null,null,null,null,null,null,null,null,null,null,65503]
[null,null,null,null,null,null,null,null,null,null,65504]
[null,null,null,null,null,null,null,null,null,null,65505]
[null,null,null,null,null,null,null,null,null,null,65506]
[null,null,null,null,null,null,null,null,null,null,65507]
[null,null,null,null,null,null,null,null,null,null,65508]
[null,null,null,null,null,null,null,null,null,null,65509]
[null,null,null,null,null,null,null,null,null,null,65510]
[null,null,null,null,null,null,null,null,null,null,65511]
[null,null,null,null,null,null,null,null,null,null,65512]
[null,null,null,null,null,null,null,null,null,null,65513]
[null,null,null,null,null,null,null,null,null,null,65514]
[null,null,null,null,null,null,null,null,null,null,65515]
[null,null,null,null,null,null,null,null,null,null,65516]
[null,null,null,null,null,null,null,null,null,null,65517]
[null,null,null,null,null,null,null,null,null,null,65518]
[null,null,null,null,null,null,null,null,null,null,65519]
[null,null,null,null,null,null,null,null,null,null,65520]
[null,null,null,null,null,null,null,null,null,null,65521]
[null,null,null,null,null,null,null,null,null,null,65522]
[null,null,null,null,null,null,null,null,null,null,65523]
[null,null,null,null,null,null,null,null,null,null,65524]
[null,null,null,null,null,null,null,null,null,null,65525]
[null,null,null,null,null,null,null,null,null,null,65526]
[null,null,null,null,null,null,null,null,null,null,65527]
[null,null,null,null,null,null,null,null,null,null,65528]
[null,null,null,null,null,null,null,null,null,null,65529]
[null,null,null,null,null,null,null,null,null,null,65530]
[null,null,null,null,null,null,null,null,null,null,65531]
[null,null,null,null,null,null,null,null,null,null,65532]
[null,null,null,null,null,null,null,null,null,null,65533]
[null,null,null,null,null,null,null,null,null,null,65534]
[null,null,null,null,null,null,null,null,null,null,65535]
[null,null,null,null,null,null,null,null,null,null,65536]
[null,null,null,null,null,null,null,null,null,null,65537]
[null,null,null,null,null,null,null,null,null,null,65538]
[null,null,null,null,null,null,null,null,null,null,65539]
[null,null,null,null,null,null,null,null,null,null,65540]
[null,null,null,null,null,null,null,null,null,null,65541]
[null,null,null,null,null,null,null,null,null,null,65542]
[null,null,null,null,null,null,null,null,null,null,65543]
[null,null,null,null,null,null,null,null,null,null,65544]
[null,null,null,null,null,null,null,null,null,null,65545]
[null,null,null,null,null,null,null,null,null,null,65546]
[null,null,null,null,null,null,null,null,null,null,65547]
[null,null,null,null,null,null,null,null,null,null,65548]
[null,null,null,null,null,null,null,null,null,null,65549]
[null,null,null,null,null,null,null,null,null,null,65550]
[null,null,null,null,null,null,null,null,null,null,65551]
[null,null,null,null,null,null,null,null,null,null,65552]
[null,null,null,null,null,null,null,null,null,null,65553]
[null,null,null,null,null,null,null,null,null,null,65554]
[null,null,null,null,null,null,null,null,null,null,65555]
[null,null,null,null,null,null,null,null,null,null,65556]
[null,null,null,null,null,null,null,null,null,null,65557]
[null,null,null,null,null,null,null,null,null,null,65558]
[null,null,null,null,null,null,null,null,null,null,65559]
[null,null,null,null,null,null,null,null,null,null,65560]
[null,null,null,null,null,null,null,null,null,null,65561]
[null,null,null,null,null,null,null,null,null,null,65562]
[null,null,null,null,null,null,null,null,null,null,65563]
[null,null,null,null,null,null,null,null,null,null,65564]
[null,null,null,null,null,null,null,null,null,null,65565]
[null,null,null,null,null,null,null,null,null,null,65566]
[null,null,null,null,null,null,null,null,null,null,65567]
[null,null,null,null,null,null,null,null,null,null,65568]
[null,null,null,null,null,null,null,null,null,null,65569]
[null,null,null,null,null,null,null,null,null,null,65570]
[null,null,null,null,null,null,null,null,null,null,65571]
[null,null,null,null,null,null,null,null,null,null,65572]
[null,null,null,null,null,null,null,null,null,null,65573]
[null,null,null,null,null,null,null,null,null,null,65574]
[null,null,null,null,null,null,null,null,null,null,65575]
[null,null,null,null,null,null,null,null,null,null,65576]
[null,null,null,null,null,null,null,null,null,null,65577]
[null,null,null,null,null,null,null,null,null,null,65578]
[null,null,null,null,null,null,null,null,null,null,65579]
[null,null,null,null,null,null,null,null,null,null,65580]
[null,null,null,null,null,null,null,null,null,null,65581]
[null,null,null,null,null,null,null,null,null,null,65582]
[null,null,null,null,null,null,null,null,null,null,65583]
[null,null,null,null,null,null,null,null,null,null,65584]
[null,null,null,null,null,null,null,null,null,null,65585]
[null,null,null,null,null,null,null,null,null,null,65586]
[null,null,null,null,null,null,null,null,null,null,65587]
[null,null,null,null,null,null,null,null,null,null,65588]
[null,null,null,null,null,null,null,null,null,null,65589]
[null,null,null,null,null,null,null,null,null,null,65590]
[null,null,null,null,null,null,null,null,null,null,65591]
[null,null,null,null,null,null,null,null,null,null,65592]
[null,null,null,null,null,null,null,null,null,null,65593]
[null,null,null,null,null,null,null,null,null,null,65594]
[null,null,null,null,null,null,null,null,null,null,65595]
[null,null,null,null,null,null,null,null,null,null,65596]
[null,null,null,null,null,null,null,null,null,null,65597]
[null,null,null,null,null,null,null,null,null,null,65598]
[null,null,null,null,null,null,null,null,null,null,65599]
[null,null,null,null,null,null,null,null,null,null,65600]
[null,null,null,null,null,null,null,null,null,null,65601]
[null,null,null,null,null,null,null,null,null,null,65602]
[null,null,null,null,null,null,null,null,null,null,65603]
[null,null,null,null,null,null,null,null,null,null,65604]
[null,null,null,null,null,null,null,null,null,null,65605]
[null,null,null,null,null,null,null,null,null,null,65606]
[null,null,null,null,null,null,null,null,null,null,65607]
[null,null,null,null,null,null,null,null,null,null,65608]
[null,null,null,null,null,null,null,null,null,null,65609]
[null,null,null,null,null,null,null,null,null,null,65610]
[null,null,null,null,null,null,null,null,null,null,65611]
[null,null,null,null,null,null,null,null,null,null,65612]
[null,null,null,null,null,null,null,null,null,null,65613]
[null,null,null,null,null,null,null,null,null,null,65614]
[null,null,null,null,null,null,null,null,null,null,65615]
[null,null,null,null,null,null,null,null,null,null,65616]
[null,null,null,null,null,null,null,null,null,null,65617]
[null,null,null,null,null,null,null,null,null,null,65618]
[null,null,null,null,null,null,null,null,null,null,65619]
[null,null,null,null,null,null,null,null,null,null,65620]
[null,null,null,null,null,null,null,null,null,null,65621]
[null,null,null,null,null,null,null,null,null,null,65622]
[null,null,null,null,null,null,null,null,null,null,65623]
[null,null,null,null,null,null,null,null,null,null,65624]
[null,null,null,null,null,null,null,null,null,null,65625]
[null,null,null,null,null,null,null,null,null,null,65626]
[null,null,null,null,null,null,null,null,null,null,65627]
[null,null,null,null,null,null,null,null,null,null,65628]
[null,null,null,null,null,null,null,null,null,null,65629]
[null,null,null,null,null,null,null,null,null,null,65630]
[null,null,null,null,null,null,null,null,null,null,65631]
[null,null,null,null,null,null,null,null,null,null,65632]
[null,null,null,null,null,null,null,null,null,null,65633]
[null,null,null,null,null,null,null,null,null,null,65634]
[null,null,null,null,null,null,null,null,null,null,65635]
[null,null,null,null,null,null,null,null,null,null,65636]
[null,null,null,null,null,null,null,null,null,null,65637]
[null,null,null,null,null,null,null,null,null,null,65638]
[null,null,null,null,null,null,null,null,null,null,65639]
[null,null,null,null,null,null,null,null,null,null,65640]
[null,null,null,null,null,null,null,null,null,null,65641]
[null,null,null,null,null,null,null,null,null,null,65642]
[null,null,null,null,null,null,null,null,null,null,65643]
[null,null,null,null,null,null,null,null,null,null,65644]
[null,null,null,null,null,null,null,null,null,null,65645]
[null,null,null,null,null,null,null,null,null,null,65646]
[null,null,null,null,null,null,null,null,null,null,65647]
[null,null,null,null,null,null,null,null,null,null,65648]
[null,null,null,null,null,null,null,null,null,null,65649]
[null,null,null,null,null,null,null,null,null,null,65650]
[null,null,null,null,null,null,null,null,null,null,65651]
[null,null,null,null,null,null,null,null,null,null,65652]
[null,null,null,null,null,null,null,null,null,null,65653]
[null,null,null,null,null,null,null,null,null,null,65654]
[null,null,null,null,null,null,null,null,null,null,65655]
[null,null,null,null,null,null,null,null,null,null,65656]
[null,null,null,null,null,null,null,null,null,null,65657]
[null,null,null,null,null,null,null,null,null,null,65658]
[null,null,null,null,null,null,null,null,null,null,65659]
[null,null,null,null,null,null,null,null,null,null,65660]
[null,null,null,null,null,null,null,null,null,null,65661]
[null,null,null,null,null,null,null,null,null,null,65662]
[null,null,null,null,null,null,null,null,null,null,65663]
[null,null,null,null,null,null,null,null,null,null,65664]
[null,null,null,null,null,null,null,null,null,null,65665]
[null,null,null,null,null,null,null,null,null,null,65666]
[null,null,null,null,null,null,null,null,null,null,65667]
[null,null,null,null,null,null,null,null,null,null,65668]
[null,null,null,null,null,null,null,null,null,null,65669]
[null,null,null,null,null,null,null,null,null,null,65670]
[null,null,null,null,null,null,null,null,null,null,65671]
[null,null,null,null,null,null,null,null,null,null,65672]
[null,null,null,null,null,null,null,null,null,null,65673]
[null,null,null,null,null,null,null,null,null,null,65674]
[null,null,null,null,null,null,null,null,null,null,65675]
[null,null,null,null,null,null,null,null,null,null,65676]
[null,null,null,null,null,null,null,null,null,null,65677]
[null,null,null,null,null,null,null,null,null,null,65678]
[null,null,null,null,null,null,null,null,null,null,65679]
[null,null,null,null,null,null,null,null,null,null,65680]
[null,null,null,null,null,null,null,null,null,null,65681]
[null,null,null,null,null,null,null,null,null,null,65682]
[null,null,null,null,null,null,null,null,null,null,65683]
[null,null,null,null,null,null,null,null,null,null,65684]
[null,null,null,null,null,null,null,null,null,null,65685]
[null,null,null,null,null,null,null,null,null,null,65686]
[null,null,null,null,null,null,null,null,null,null,65687]
[null,null,null,null,null,null,null,null,null,null,65688]
[null,null,null,null,null,null,null,null,null,null,65689]
[null,null,null,null,null,null,null,null,null,null,65690]
[null,null,null,null,null,null,null,null,null,null,65691]
[null,null,null,null,null,null,null,null,null,null,65692]
[null,null,null,null,null,null,null,null,null,null,65693]
[null,null,null,null,null,null,null,null,null,null,65694]
[null,null,null,null,null,null,null,null,null,null,65695]
[null,null,null,null,null,null,null,null,null,null,65696]
[null,null,null,null,null,null,null,null,null,null,65697]
[null,null,null,null,null,null,null,null,null,null,65698]
[null,null,null,null,null,null,null,null,null,null,65699]
[null,null,null,null,null,null,null,null,null,null,65700]
[null,null,null,null,null,null,null,null,null,null,65701]
[null,null,null,null,null,null,null,null,null,null,65702]
[null,null,null,null,null,null,null,null,null,null,65703]
[null,null,null,null,null,null,null,null,null,null,65704]
[null,null,null,null,null,null,null,null,null,null,65705]
[null,null,null,null,null,null,null,null,null,null,65706]
[null,null,null,null,null,null,null,null,null,null,65707]
[null,null,null,null,null,null,null,null,null,null,65708]
[null,null,null,null,null,null,null,null,null,null,65709]
[null,null,null,null,null,null,null,null,null,null,65710]
[null,null,null,null,null,null,null,null,null,null,65711]
[null,null,null,null,null,null,null,null,null,null,65712]
[null,null,null,null,null,null,null,null,null,null,65713]
[null,null,null,null,null,null,null,null,null,null,65714]
[null,null,null,null,null,null,null,null,null,null,65715]
[null,null,null,null,null,null,null,null,null,null,65716]
[null,null,null,null,null,null,null,null,null,null,65717]
[null,null,null,null,null,null,null,null,null,null,65718]
[null,null,null,null,null,null,null,null,null,null,65719]
[null,null,null,null,null,null,null,null,null,null,65720]
[null,null,null,null,null,null,null,null,null,null,65721]
[null,null,null,null,null,null,null,null,null,null,65722]
[null,null,null,null,null,null,null,null,null,null,65723]
[null,null,null,null,null,null,null,null,null,null,65724]
[null,null,null,null,null,null,null,null,null,null,65725]
[null,null,null,null,null,null,null,null,null,null,65726]
[null,null,null,null,null,null,null,null,null,null,65727]
[null,null,null,null,null,null,null,null,null,null,65728]
[null,null,null,null,null,null,null,null,null,null,65729]
[null,null,null,null,null,null,null,null,null,null,65730]
[null,null,null,null,null,null,null,null,null,null,65731]
[null,null,null,null,null,null,null,null,null,null,65732]
[null,null,null,null,null,null,null,null,null,null,65733]
[null,null,null,null,null,null,null,null,null,null,65734]
[null,null,null,null,null,null,null,null,null,null,65735]
[null,null,null,null,null,null,null,null,null,null,65736]
[null,null,null,null,null,null,null,null,null,null,65737]
[null,null,null,null,null,null,null,null,null,null,65738]
[null,null,null,null,null,null,null,null,null,null,65739]
[null,null,null,null,null,null,null,null,null,null,65740]
[null,null,null,null,null,null,null,null,null,null,65741]
[null,null,null,null,null,null,null,null,null,null,65742]
[null,null,null,null,null,null,null,null,null,null,65743]
[null,null,null,null,null,null,null,null,null,null,65744]
[null,null,null,null,null,null,null,null,null,null,65745]
[null,null,null,null,null,null,null,null,null,null,65746]
[null,null,null,null,null,null,null,null,null,null,65747]
[null,null,null,null,null,null,null,null,null,null,65748]
[null,null,null,null,null,null,null,null,null,null,65749]
[null,null,null,null,null,null,null,null,null,null,65750]
[null,null,null,null,null,null,null,null,null,null,65751]
[null,null,null,null,null,null,null,null,null,null,65752]
[null,null,null,null,null,null,null,null,null,null,65753]
[null,null,null,null,null,null,null,null,null,null,65754]
[null,null,null,null,null,null,null,null,null,null,65755]
[null,null,null,null,null,null,null,null,null,null,65756]
[null,null,null,null,null,null,null,null,null,null,65757]
[null,null,null,null,null,null,null,null,null,null,65758]
[null,null,null,null,null,null,null,null,null,null,65759]
[null,null,null,null,null,null,null,null,null,null,65760]
[null,null,null,null,null,null,null,null,null,null,65761]
[null,null,null,null,null,null,null,null,null,null,65762]
[null,null,null,null,null,null,null,null,null,null,65763]
[null,null,null,null,null,null,null,null,null,null,65764]
[null,null,null,null,null,null,null,null,null,null,65765]
[null,null,null,null,null,null,null,null,null,null,65766]
[null,null,null,null,null,null,null,null,null,null,65767]
[null,null,null,null,null,null,null,null,null,null,65768]
[null,null,null,null,null,null,null,null,null,null,65769]
[null,null,null,null,null,null,null,null,null,null,65770]
[null,null,null,null,null,null,null,null,null,null,65771]
[null,null,null,null,null,null,null,null,null,null,65772]
[null,null,null,null,null,null,null,null,null,null,65773]
[null,null,null,null,null,null,null,null,null,null,65774]
[null,null,null,null,null,null,null,null,null,null,65775]
[null,null,null,null,null,null,null,null,null,null,65776]
[null,null,null,null,null,null,null,null,null,null,65777]
[null,null,null,null,null,null,null,null,null,null,65778]
[null,null,null,null,null,null,null,null,null,null,65779]
[null,null,null,null,null,null,null,null,null,null,65780]
[null,null,null,null,null,null,null,null,null,null,65781]
[null,null,null,null,null,null,null,null,null,null,65782]
[null,null,null,null,null,null,null,null,null,null,65783]
[null,null,null,null,null,null,null,null,null,null,65784]
[null,null,null,null,null,null,null,null,null,null,65785]
[null,null,null,null,null,null,null,null,null,null,65786]
[null,null,null,null,null,null,null,null,null,null,65787]
[null,null,null,null,null,null,null,null,null,null,65788]
[null,null,null,null,null,null,null,null,null,null,65789]
[null,null,null,null,null,null,null,null,null,null,65790]
[null,null,null,null,null,null,null,null,null,null,65791]
[null,null,null,null,null,null,null,null,null,null,65792]
[null,null,null,null,null,null,null,null,null,null,65793]
[null,null,null,null,null,null,null,null,null,null,65794]
[null,null,null,null,null,null,null,null,null,null,65795]
[null,null,null,null,null,null,null,null,null,null,65796]
[null,null,null,null,null,null,null,null,null,null,65797]
[null,null,null,null,null,null,null,null,null,null,65798]
[null,null,null,null,null,null,null,null,null,null,65799]
[null,null,null,null,null,null,null,null,null,null,65800]
[null,null,null,null,null,null,null,null,null,null,65801]
[null,null,null,null,null,null,null,null,null,null,65802]
[null,null,null,null,null,null,null,null,null,null,65803]
[null,null,null,null,null,null,null,null,null,null,65804]
[null,null,null,null,null,null,null,null,null,null,65805]
[null,null,null,null,null,null,null,null,null,null,65806]
[null,null,null,null,null,null,null,null,null,null,65807]
[null,null,null,null,null,null,null,null,null,null,65808]
[null,null,null,null,null,null,null,null,null,null,65809]
[null,null,null,null,null,null,null,null,null,null,65810]
[null,null,null,null,null,null,null,null,null,null,65811]
[null,null,null,null,null,null,null,null,null,null,65812]
[null,null,null,null,null,null,null,null,null,null,65813]
[null,null,null,null,null,null,null,null,null,null,65814]
[null,null,null,null,null,null,null,null,null,null,65815]
[null,null,null,null,null,null,null,null,null,null,65816]
[null,null,null,null,null,null,null,null,null,null,65817]
[null,null,null,null,null,null,null,null,null,null,65818]
[null,null,null,null,null,null,null,null,null,null,65819]
[null,null,null,null,null,null,null,null,null,null,65820]
[null,null,null,null,null,null,null,null,null,null,65821]
[null,null,null,null,null,null,null,null,null,null,65822]
[null,null,null,null,null,null,null,null,null,null,65823]
[null,null,null,null,null,null,null,null,null,null,65824]
[null,null,null,null,null,null,null,null,null,null,65825]
[null,null,null,null,null,null,null,null,null,null,65826]
[null,null,null,null,null,null,null,null,null,null,65827]
[null,null,null,null,null,null,null,null,null,null,65828]
[null,null,null,null,null,null,null,null,null,null,65829]
[null,null,null,null,null,null,null,null,null,null,65830]
[null,null,null,null,null,null,null,null,null,null,65831]
[null,null,null,null,null,null,null,null,null,null,65832]
[null,null,null,null,null,null,null,null,null,null,65833]
[null,null,null,null,null,null,null,null,null,null,65834]
[null,null,null,null,null,null,null,null,null,null,65835]
[null,null,null,null,null,null,null,null,null,null,65836]
[null,null,null,null,null,null,null,null,null,null,65837]
[null,null,null,null,null,null,null,null,null,null,65838]
[null,null,null,null,null,null,null,null,null,null,65839]
[null,null,null,null,null,null,null,null,null,null,65840]
[null,null,null,null,null,null,null,null,null,null,65841]
[null,null,null,null,null,null,null,null,null,null,65842]
[null,null,null,null,null,null,null,null,null,null,65843]
[null,null,null,null,null,null,null,null,null,null,65844]
[null,null,null,null,null,null,null,null,null,null,65845]
[null,null,null,null,null,null,null,null,null,null,65846]
[null,null,null,null,null,null,null,null,null,null,65847]
[null,null,null,null,null,null,null,null,null,null,65848]
[null,null,null,null,null,null,null,null,null,null,65849]
[null,null,null,null,null,null,null,null,null,null,65850]
[null,null,null,null,null,null,null,null,null,null,65851]
[null,null,null,null,null,null,null,null,null,null,65852]
[null,null,null,null,null,null,null,null,null,null,65853]
[null,null,null,null,null,null,null,null,null,null,65854]
[null,null,null,null,null,null,null,null,null,null,65855]
[null,null,null,null,null,null,null,null,null,null,65856]
[null,null,null,null,null,null,null,null,null,null,65857]
[null,null,null,null,null,null,null,null,null,null,65858]
[null,null,null,null,null,null,null,null,null,null,65859]
[null,null,null,null,null,null,null,null,null,null,65860]
[null,null,null,null,null,null,null,null,null,null,65861]
[null,null,null,null,null,null,null,null,null,null,65862]
[null,null,null,null,null,null,null,null,null,null,65863]
[null,null,null,null,null,null,null,null,null,null,65864]
[null,null,null,null,null,null,null,null,null,null,65865]
[null,null,null,null,null,null,null,null,null,null,65866]
[null,null,null,null,null,null,null,null,null,null,65867]
[null,null,null,null,null,null,null,null,null,null,65868]
[null,null,null,null,null,null,null,null,null,null,65869]
[null,null,null,null,null,null,null,null,null,null,65870]
[null,null,null,null,null,null,null,null,null,null,65871]
[null,null,null,null,null,null,null,null,null,null,65872]
[null,null,null,null,null,null,null,null,null,null,65873]
[null,null,null,null,null,null,null,null,null,null,65874]
[null,null,null,null,null,null,null,null,null,null,65875]
[null,null,null,null,null,null,null,null,null,null,65876]
[null,null,null,null,null,null,null,null,null,null,65877]
[null,null,null,null,null,null,null,null,null,null,65878]
[null,null,null,null,null,null,null,null,null,null,65879]
[null,null,null,null,null,null,null,null,null,null,65880]
[null,null,null,null,null,null,null,null,null,null,65881]
[null,null,null,null,null,null,null,null,null,null,65882]
[null,null,null,null,null,null,null,null,null,null,65883]
[null,null,null,null,null,null,null,null,null,null,65884]
[null,null,null,null,null,null,null,null,null,null,65885]
[null,null,null,null,null,null,null,null,null,null,65886]
[null,null,null,null,null,null,null,null,null,null,65887]
[null,null,null,null,null,null,null,null,null,null,65888]
[null,null,null,null,null,null,null,null,null,null,65889]
[null,null,null,null,null,null,null,null,null,null,65890]
[null,null,null,null,null,null,null,null,null,null,65891]
[null,null,null,null,null,null,null,null,null,null,65892]
[null,null,null,null,null,null,null,null,null,null,65893]
[null,null,null,null,null,null,null,null,null,null,65894]
[null,null,null,null,null,null,null,null,null,null,65895]
[null,null,null,null,null,null,null,null,null,null,65896]
[null,null,null,null,null,null,null,null,null,null,65897]
[null,null,null,null,null,null,null,null,null,null,65898]
[null,null,null,null,null,null,null,null,null,null,65899]
[null,null,null,null,null,null,null,null,null,null,65900]
[null,null,null,null,null,null,null,null,null,null,65901]
[null,null,null,null,null,null,null,null,null,null,65902]
[null,null,null,null,null,null,null,null,null,null,65903]
[null,null,null,null,null,null,null,null,null,null,65904]
[null,null,null,null,null,null,null,null,null,null,65905]
[null,null,null,null,null,null,null,null,null,null,65906]
[null,null,null,null,null,null,null,null,null,null,65907]
[null,null,null,null,null,null,null,null,null,null,65908]
[null,null,null,null,null,null,null,null,null,null,65909]
[null,null,null,null,null,null,null,null,null,null,65910]
[null,null,null,null,null,null,null,null,null,null,65911]
[null,null,null,null,null,null,null,null,null,null,65912]
[null,null,null,null,null,null,null,null,null,null,65913]
[null,null,null,null,null,null,null,null,null,null,65914]
[null,null,null,null,null,null,null,null,null,null,65915]
[null,null,null,null,null,null,null,null,null,null,65916]
[null,null,null,null,null,null,null,null,null,null,65917]
[null,null,null,null,null,null,null,null,null,null,65918]
[null,null,null,null,null,null,null,null,null,null,65919]
[null,null,null,null,null,null,null,null,null,null,65920]
[null,null,null,null,null,null,null,null,null,null,65921]
[null,null,null,null,null,null,null,null,null,null,65922]
[null,null,null,null,null,null,null,null,null,null,65923]
[null,null,null,null,null,null,null,null,null,null,65924]
[null,null,null,null,null,null,null,null,null,null,65925]
[null,null,null,null,null,null,null,null,null,null,65926]
[null,null,null,null,null,null,null,null,null,null,65927]
[null,null,null,null,null,null,null,null,null,null,65928]
[null,null,null,null,null,null,null,null,null,null,65929]
[null,null,null,null,null,null,null,null,null,null,65930]
[null,null,null,null,null,null,null,null,null,null,65931]
[null,null,null,null,null,null,null,null,null,null,65932]
[null,null,null,null,null,null,null,null,null,null,65933]
[null,null,null,null,null,null,null,null,null,null,65934]
[null,null,null,null,null,null,null,null,null,null,65935]
[null,null,null,null,null,null,null,null,null,null,65936]
[null,null,null,null,null,null,null,null,null,null,65937]
[null,null,null,null,null,null,null,null,null,null,65938]
[null,null,null,null,null,null,null,null,null,null,65939]
[null,null,null,null,null,null,null,null,null,null,65940]
[null,null,null,null,null,null,null,null,null,null,65941]
[null,null,null,null,null,null,null,null,null,null,65942]
[null,null,null,null,null,null,null,null,null,null,65943]
[null,null,null,null,null,null,null,null,null,null,65944]
[null,null,null,null,null,null,null,null,null,null,65945]
[null,null,null,null,null,null,null,null,null,null,65946]
[null,null,null,null,null,null,null,null,null,null,65947]
[null,null,null,null,null,null,null,null,null,null,65948]
[null,null,null,null,null,null,null,null,null,null,65949]
[null,null,null,null,null,null,null,null,null,null,65950]
[null,null,null,null,null,null,null,null,null,null,65951]
[null,null,null,null,null,null,null,null,null,null,65952]
[null,null,null,null,null,null,null,null,null,null,65953]
[null,null,null,null,null,null,null,null,null,null,65954]
[null,null,null,null,null,null,null,null,null,null,65955]
[null,null,null,null,null,null,null,null,null,null,65956]
[null,null,null,null,null,null,null,null,null,null,65957]
[null,null,null,null,null,null,null,null,null,null,65958]
[null,null,null,null,null,null,null,null,null,null,65959]
[null,null,null,null,null,null,null,null,null,null,65960]
[null,null,null,null,null,null,null,null,null,null,65961]
[null,null,null,null,null,null,null,null,null,null,65962]
[null,null,null,null,null,null,null,null,null,null,65963]
[null,null,null,null,null,null,null,null,null,null,65964]
[null,null,null,null,null,null,null,null,null,null,65965]
[null,null,null,null,null,null,null,null,null,null,65966]
[null,null,null,null,null,null,null,null,null,null,65967]
[null,null,null,null,null,null,null,null,null,null,65968]
[null,null,null,null,null,null,null,null,null,null,65969]
[null,null,null,null,null,null,null,null,null,null,65970]
[null,null,null,null,null,null,null,null,null,null,65971]
[null,null,null,null,null,null,null,null,null,null,65972]
[null,null,null,null,null,null,null,null,null,null,65973]
[null,null,null,null,null,null,null,null,null,null,65974]
[null,null,null,null,null,null,null,null,null,null,65975]
[null,null,null,null,null,null,null,null,null,null,65976]
[null,null,null,null,null,null,null,null,null,null,65977]
[null,null,null,null,null,null,null,null,null,null,65978]
[null,null,null,null,null,null,null,null,null,null,65979]
[null,null,null,null,null,null,null,null,null,null,65980]
[null,null,null,null,null,null,null,null,null,null,65981]
[null,null,null,null,null,null,null,null,null,null,65982]
[null,null,null,null,null,null,null,null,null,null,65983]
[null,null,null,null,null,null,null,null,null,null,65984]
[null,null,null,null,null,null,null,null,null,null,65985]
[null,null,null,null,null,null,null,null,null,null,65986]
[null,null,null,null,null,null,null,null,null,null,65987]
[null,null,null,null,null,null,null,null,null,null,65988]
[null,null,null,null,null,null,null,null,null,null,65989]
[null,null,null,null,null,null,null,null,null,null,65990]
[null,null,null,null,null,null,null,null,null,null,65991]
[null,null,null,null,null,null,null,null,null,null,65992]
[null,null,null,null,null,null,null,null,null,null,65993]
[null,null,null,null,null,null,null,null,null,null,65994]
[null,null,null,null,null,null,null,null,null,null,65995]
[null,null,null,null,null,null,null,null,null,null,65996]
[null,null,null,null,null,null,null,null,null,null,65997]
[null,null,null,null,null,null,null,null,null,null,65998]
[null,null,null,null,null,null,null,null,null,null,65999]
[null,null,null,null,null,null,null,null,null,null,66000]

{"sheet":"SE Obr4","index":50,"n_rows":1516,"n_cols":27,"rows_kept":1516,"cut":false,"hidden":false,"merged":[[12,7,12,9],[12,11,12,13],[12,15,12,17],[12,19,12,21],[12,23,12,25],[2,1,2,25],[9,1,9,24],[5,3,5,19],[6,3,6,19],[8,1,8,24],[14,7,14,9],[14,11,14,13],[14,15,14,17],[14,19,14,21],[14,23,14,25],[13,7,13,9],[13,11,13,13],[13,15,13,17],[13,19,13,21],[13,23,13,25],[24,4,24,5],[24,13,24,16],[16,7,16,9],[16,11,16,13],[16,15,16,17],[21,7,21,9],[21,11,21,13],[21,15,21,17],[18,7,18,9],[18,11,18,13],[18,15,18,17],[21,19,21,21],[21,23,21,25],[22,7,22,9],[22,11,22,13],[22,15,22,17],[22,19,22,21],[22,23,22,25],[15,23,15,25],[17,7,17,9],[17,11,17,13],[17,15,17,17],[17,19,17,21],[17,23,17,25],[16,19,16,21],[16,23,16,25],[15,7,15,9],[15,11,15,13],[15,15,15,17],[15,19,15,21],[18,19,18,21],[18,23,18,25],[19,7,19,9],[19,11,19,13],[19,15,19,17],[19,19,19,21],[19,23,19,25]]}
[]
[null,"Child Support Guidelines Calculator - Schedule B - Self Employment Income Entry"]
[]
[]
[]
[null,{"$f":"NameScr!$B$7","v":"Obligor:"},null,{"$f":"HomeScr!$C$5","v":" "}]
[null,{"$f":"NameScr!$B$13","v":"Obligee:"},null,{"$f":"HomeScr!$C$6","v":" "}]
[null,null,"Activity number:  4  for   ",null,null,{"$f":"NameScr!C7","v":0},null,"(enter up to 2 lines for business description below)   "]
[]
[]
[null,"                                                                                "]
[null,"Tax Year . . . . . . . . . . . . . . . . . . . . . . . . . . . . . . . . . . . . . . . . . . . . . . "]
[null,null,"Total income . . . . . . . . . . . . . . . . . . . . . . . . . . . . . . . . . . . . . . . . ",null,null,null,null,null,null,null,{"$f":"VALUE(H13)","v":0},null,null,null,{"$f":"VALUE(L13)","v":0},null,null,null,{"$f":"VALUE(P13)","v":0},null,null,null,{"$f":"VALUE(T13)","v":0},null,null,null,{"$f":"VALUE(X13)","v":0}]
[null,null,"Income that is not the obligor's . . . . . . . . . . . . . . . . . . . . . . . . .",null,null,null,null,null,null,null,{"$f":"VALUE(H14)","v":0},null,null,null,{"$f":"VALUE(L14)","v":0},null,null,null,{"$f":"VALUE(P14)","v":0},null,null,null,{"$f":"VALUE(T14)","v":0},null,null,null,{"$f":"VALUE(X14)","v":0}]
[null,null,"Income that is not from self employment . . . . . . . . . . . . . . . . . ",null,null,null,null,null,null,null,0,null,null,null,0,null,null,null,0,null,null,null,0,null,null,null,0]
[null,null,"Undistributed partnership\\S-corp income . . . . . . . . . . . . . . . .",null,null,null,null,null,null,null,0,null,null,null,0,null,null,null,0,null,null,null,0,null,null,null,0]
[null,null,"Benefits\\pension\\profit sharing income . . . . . . . . . . . . . . . . . . ",null,null,null,null,null,null,null,0,null,null,null,0,null,null,null,0,null,null,null,0,null,null,null,0]
[null,null,"Payments to household member over fair market value  . . . . ",null,null,null,null,null,null,null,0,null,null,null,0,null,null,null,0,null,null,null,0,null,null,null,0]
[null,null,"C-corp taxable income . . . . . . . . . . . . . . . . . . . . . . . . . . . . . . . .",null,null,null,null,null,null,null,0,null,null,null,0,null,null,null,0,null,null,null,0,null,null,null,0]
[null,null,"C-corp federal income tax . . . . . . . . . . . . . . . . . . . . . . . . . . . . . ",null,null,null,null,null,null,null,0,null,null,null,0,null,null,null,0,null,null,null,0,null,null,null,0]
[null,null,"Obligor's ownership interest in C-corp (percentage) . . . . . . .",null,null,null,null,null,null,null,{"$f":"VALUE(I21)","v":0},null,null,null,{"$f":"VALUE(M21)","v":0},null,null,null,{"$f":"VALUE(Q21)","v":0},null,null,null,{"$f":"VALUE(U21)","v":0},null,null,null,{"$f":"VALUE(Y21)","v":0}]
[null,"Total additions . . . . . . . . . . . . . . . . . . . . . . . . . . . . . . . . . . . . . . . . . .",null,null,null,null,null,{"$f":"(K19-K20)*ROUND(((I21)/100*0.7),2)","v":0},null,null,null,{"$f":"(O19-O20)*ROUND(((M21)/100*0.7),2)","v":0},null,null,null,{"$f":"(S19-S20)*ROUND(((Q21)/100*0.7),2)","v":0},null,null,null,{"$f":"(W19-W20)*ROUND(((U21)/100*0.7),2)","v":0},null,null,null,{"$f":"(AA19-AA20)*ROUND(((Y21)/100*0.7),2)","v":0}]
[null,"Total annual net income from self-employment  . . . . . . . . . . . . . . . ",null,null,null,null,null,{"$f":"H13-(H14+H15+H16)+(H17+H18+H22)","v":0},null,null,null,{"$f":"L13-(L14+L15+L16)+(L17+L18+L22)","v":0},null,null,null,{"$f":"P13-(P14+P15+P16)+(P17+P18+P22)","v":0},null,null,null,{"$f":"T13-(T14+T15+T16)+(T17+T18+T22)","v":0},null,null,null,{"$f":"X13-(X14+X15+X16)+(X17+X18+X22)","v":0}]
[null,"                                                                                ",null,null,null,null,"Total years for average:",null,null,null,null,null,null,null,null,null,{"$f":"IF(M12=0,1,IF(Q12=0,2,IF(U12=0,3,IF(Y12=0,4,5))))","v":1}]
[null,"Total net income:",null,null,{"$f":"H23+L23+P23+T23+X23","v":0},null,"Average annual income:",null,null,null,null,null,null,{"$f":"ROUND(E25/Q24,0)","v":0}]
[null,4,"R",null,null,null,null,null,null,null,null,null,null,null,null,null,null,null,null,null,null,null,null,null,null,{"$f":"IF(N25<0,\"Y\",\"\")","v":""}]
[]
[]
[]
[]
[]
[]
[]
[]
[]
[]
[]
[]
[]
[null,null,null,null,null,null,null,null,null,null,24]
[null,null,null,null,null,null,null,null,null,null,25]
[null,null,null,null,null,null,null,null,null,null,26]
[null,null,null,null,null,null,null,null,null,null,27]
[null,null,null,null,null,null,null,null,null,null,28]
[null,null,null,null,null,null,null,null,null,null,29]
[null,null,null,null,null,null,null,null,null,null,30]
[null,null,null,null,null,null,null,null,null,null,31]
[null,null,null,null,null,null,null,null,null,null,32]
[null,null,null,null,null,null,null,null,null,null,33]
[null,null,null,null,null,null,null,null,null,null,34]
[null,null,null,null,null,null,null,null,null,null,35]
[null,null,null,null,null,null,null,null,null,null,36]
[null,null,null,null,null,null,null,null,null,null,37]
[null,null,null,null,null,null,null,null,null,null,38]
[null,null,null,null,null,null,null,null,null,null,39]
[null,null,null,null,null,null,null,null,null,null,40]
[null,null,null,null,null,null,null,null,null,null,41]
[null,null,null,null,null,null,null,null,null,null,42]
[null,null,null,null,null,null,null,null,null,null,43]
[null,null,null,null,null,null,null,null,null,null,44]
[null,null,null,null,null,null,null,null,null,null,45]
[null,null,null,null,null,null,null,null,null,null,46]
[null,null,null,null,null,null,null,null,null,null,47]
[null,null,null,null,null,null,null,null,null,null,48]
[null,null,null,null,null,null,null,null,null,null,49]
[null,null,null,null,null,null,null,null,null,null,50]
[null,null,null,null,null,null,null,null,null,null,51]
[null,null,null,null,null,null,null,null,null,null,52]
[null,null,null,null,null,null,null,null,null,null,53]
[null,null,null,null,null,null,null,null,null,null,54]
[null,null,null,null,null,null,null,null,null,null,55]
[null,null,null,null,null,null,null,null,null,null,56]
[null,null,null,null,null,null,null,null,null,null,57]
[null,null,null,null,null,null,null,null,null,null,58]
[null,null,null,null,null,null,null,null,null,null,59]
[null,null,null,null,null,null,null,null,null,null,60]
[null,null,null,null,null,null,null,null,null,null,61]
[null,null,null,null,null,null,null,null,null,null,62]
[null,null,null,null,null,null,null,null,null,null,63]
[null,null,null,null,null,null,null,null,null,null,64]
[null,null,null,null,null,null,null,null,null,null,65]
[null,null,null,null,null,null,null,null,null,null,66]
[null,null,null,null,null,null,null,null,null,null,67]
[null,null,null,null,null,null,null,null,null,null,68]
[null,null,null,null,null,null,null,null,null,null,69]
[null,null,null,null,null,null,null,null,null,null,70]
[null,null,null,null,null,null,null,null,null,null,71]
[null,null,null,null,null,null,null,null,null,null,72]
[null,null,null,null,null,null,null,null,null,null,73]
[null,null,null,null,null,null,null,null,null,null,74]
[null,null,null,null,null,null,null,null,null,null,75]
[null,null,null,null,null,null,null,null,null,null,76]
[null,null,null,null,null,null,null,null,null,null,77]
[null,null,null,null,null,null,null,null,null,null,78]
[null,null,null,null,null,null,null,null,null,null,79]
[null,null,null,null,null,null,null,null,null,null,80]
[null,null,null,null,null,null,null,null,null,null,81]
[null,null,null,null,null,null,null,null,null,null,82]
[null,null,null,null,null,null,null,null,null,null,83]
[null,null,null,null,null,null,null,null,null,null,84]
[null,null,null,null,null,null,null,null,null,null,85]
[null,null,null,null,null,null,null,null,null,null,86]
[null,null,null,null,null,null,null,null,null,null,87]
[null,null,null,null,null,null,null,null,null,null,88]
[null,null,null,null,null,null,null,null,null,null,89]
[null,null,null,null,null,null,null,null,null,null,90]
[null,null,null,null,null,null,null,null,null,null,91]
[null,null,null,null,null,null,null,null,null,null,92]
[null,null,null,null,null,null,null,null,null,null,93]
[null,null,null,null,null,null,null,null,null,null,94]
[null,null,null,null,null,null,null,null,null,null,95]
[null,null,null,null,null,null,null,null,null,null,96]
[null,null,null,null,null,null,null,null,null,null,97]
[null,null,null,null,null,null,null,null,null,null,98]
[null,null,null,null,null,null,null,null,null,null,99]
[null,null,null,null,null,null,null,null,null,null,100]
[null,null,null,null,null,null,null,null,null,null,101]
[null,null,null,null,null,null,null,null,null,null,102]
[null,null,null,null,null,null,null,null,null,null,103]
[null,null,null,null,null,null,null,null,null,null,104]
[null,null,null,null,null,null,null,null,null,null,105]
[null,null,null,null,null,null,null,null,null,null,106]
[null,null,null,null,null,null,null,null,null,null,107]
[null,null,null,null,null,null,null,null,null,null,108]
[null,null,null,null,null,null,null,null,null,null,109]
[null,null,null,null,null,null,null,null,null,null,110]
[null,null,null,null,null,null,null,null,null,null,111]
[null,null,null,null,null,null,null,null,null,null,112]
[null,null,null,null,null,null,null,null,null,null,113]
[null,null,null,null,null,null,null,null,null,null,114]
[null,null,null,null,null,null,null,null,null,null,115]
[null,null,null,null,null,null,null,null,null,null,116]
[null,null,null,null,null,null,null,null,null,null,117]
[null,null,null,null,null,null,null,null,null,null,118]
[null,null,null,null,null,null,null,null,null,null,119]
[null,null,null,null,null,null,null,null,null,null,120]
[null,null,null,null,null,null,null,null,null,null,121]
[null,null,null,null,null,null,null,null,null,null,122]
[null,null,null,null,null,null,null,null,null,null,123]
[null,null,null,null,null,null,null,null,null,null,124]
[null,null,null,null,null,null,null,null,null,null,125]
[null,null,null,null,null,null,null,null,null,null,126]
[null,null,null,null,null,null,null,null,null,null,127]
[null,null,null,null,null,null,null,null,null,null,128]
[null,null,null,null,null,null,null,null,null,null,129]
[null,null,null,null,null,null,null,null,null,null,130]
[null,null,null,null,null,null,null,null,null,null,131]
[null,null,null,null,null,null,null,null,null,null,132]
[null,null,null,null,null,null,null,null,null,null,133]
[null,null,null,null,null,null,null,null,null,null,134]
[null,null,null,null,null,null,null,null,null,null,135]
[null,null,null,null,null,null,null,null,null,null,136]
[null,null,null,null,null,null,null,null,null,null,137]
[null,null,null,null,null,null,null,null,null,null,138]
[null,null,null,null,null,null,null,null,null,null,139]
[null,null,null,null,null,null,null,null,null,null,140]
[null,null,null,null,null,null,null,null,null,null,141]
[null,null,null,null,null,null,null,null,null,null,142]
[null,null,null,null,null,null,null,null,null,null,143]
[null,null,null,null,null,null,null,null,null,null,144]
[null,null,null,null,null,null,null,null,null,null,145]
[null,null,null,null,null,null,null,null,null,null,146]
[null,null,null,null,null,null,null,null,null,null,147]
[null,null,null,null,null,null,null,null,null,null,148]
[null,null,null,null,null,null,null,null,null,null,149]
[null,null,null,null,null,null,null,null,null,null,150]
[null,null,null,null,null,null,null,null,null,null,151]
[null,null,null,null,null,null,null,null,null,null,152]
[null,null,null,null,null,null,null,null,null,null,153]
[null,null,null,null,null,null,null,null,null,null,154]
[null,null,null,null,null,null,null,null,null,null,155]
[null,null,null,null,null,null,null,null,null,null,156]
[null,null,null,null,null,null,null,null,null,null,157]
[null,null,null,null,null,null,null,null,null,null,158]
[null,null,null,null,null,null,null,null,null,null,159]
[null,null,null,null,null,null,null,null,null,null,160]
[null,null,null,null,null,null,null,null,null,null,161]
[null,null,null,null,null,null,null,null,null,null,162]
[null,null,null,null,null,null,null,null,null,null,163]
[null,null,null,null,null,null,null,null,null,null,164]
[null,null,null,null,null,null,null,null,null,null,165]
[null,null,null,null,null,null,null,null,null,null,166]
[null,null,null,null,null,null,null,null,null,null,167]
[null,null,null,null,null,null,null,null,null,null,168]
[null,null,null,null,null,null,null,null,null,null,169]
[null,null,null,null,null,null,null,null,null,null,170]
[null,null,null,null,null,null,null,null,null,null,171]
[null,null,null,null,null,null,null,null,null,null,172]
[null,null,null,null,null,null,null,null,null,null,173]
[null,null,null,null,null,null,null,null,null,null,174]
[null,null,null,null,null,null,null,null,null,null,175]
[null,null,null,null,null,null,null,null,null,null,176]
[null,null,null,null,null,null,null,null,null,null,177]
[null,null,null,null,null,null,null,null,null,null,178]
[null,null,null,null,null,null,null,null,null,null,179]
[null,null,null,null,null,null,null,null,null,null,180]
[null,null,null,null,null,null,null,null,null,null,181]
[null,null,null,null,null,null,null,null,null,null,182]
[null,null,null,null,null,null,null,null,null,null,183]
[null,null,null,null,null,null,null,null,null,null,184]
[null,null,null,null,null,null,null,null,null,null,185]
[null,null,null,null,null,null,null,null,null,null,186]
[null,null,null,null,null,null,null,null,null,null,187]
[null,null,null,null,null,null,null,null,null,null,188]
[null,null,null,null,null,null,null,null,null,null,189]
[null,null,null,null,null,null,null,null,null,null,190]
[null,null,null,null,null,null,null,null,null,null,191]
[null,null,null,null,null,null,null,null,null,null,192]
[null,null,null,null,null,null,null,null,null,null,193]
[null,null,null,null,null,null,null,null,null,null,194]
[null,null,null,null,null,null,null,null,null,null,195]
[null,null,null,null,null,null,null,null,null,null,196]
[null,null,null,null,null,null,null,null,null,null,197]
[null,null,null,null,null,null,null,null,null,null,198]
[null,null,null,null,null,null,null,null,null,null,199]
[null,null,null,null,null,null,null,null,null,null,200]
[null,null,null,null,null,null,null,null,null,null,201]
[null,null,null,null,null,null,null,null,null,null,202]
[null,null,null,null,null,null,null,null,null,null,203]
[null,null,null,null,null,null,null,null,null,null,204]
[null,null,null,null,null,null,null,null,null,null,205]
[null,null,null,null,null,null,null,null,null,null,206]
[null,null,null,null,null,null,null,null,null,null,207]
[null,null,null,null,null,null,null,null,null,null,208]
[null,null,null,null,null,null,null,null,null,null,209]
[null,null,null,null,null,null,null,null,null,null,210]
[null,null,null,null,null,null,null,null,null,null,211]
[null,null,null,null,null,null,null,null,null,null,212]
[null,null,null,null,null,null,null,null,null,null,213]
[null,null,null,null,null,null,null,null,null,null,214]
[null,null,null,null,null,null,null,null,null,null,215]
[null,null,null,null,null,null,null,null,null,null,216]
[null,null,null,null,null,null,null,null,null,null,217]
[null,null,null,null,null,null,null,null,null,null,218]
[null,null,null,null,null,null,null,null,null,null,219]
[null,null,null,null,null,null,null,null,null,null,220]
[null,null,null,null,null,null,null,null,null,null,221]
[null,null,null,null,null,null,null,null,null,null,222]
[null,null,null,null,null,null,null,null,null,null,223]
[null,null,null,null,null,null,null,null,null,null,224]
[null,null,null,null,null,null,null,null,null,null,225]
[null,null,null,null,null,null,null,null,null,null,226]
[null,null,null,null,null,null,null,null,null,null,227]
[null,null,null,null,null,null,null,null,null,null,228]
[null,null,null,null,null,null,null,null,null,null,229]
[null,null,null,null,null,null,null,null,null,null,230]
[null,null,null,null,null,null,null,null,null,null,231]
[null,null,null,null,null,null,null,null,null,null,232]
[null,null,null,null,null,null,null,null,null,null,233]
[null,null,null,null,null,null,null,null,null,null,234]
[null,null,null,null,null,null,null,null,null,null,235]
[null,null,null,null,null,null,null,null,null,null,236]
[null,null,null,null,null,null,null,null,null,null,237]
[null,null,null,null,null,null,null,null,null,null,238]
[null,null,null,null,null,null,null,null,null,null,239]
[null,null,null,null,null,null,null,null,null,null,240]
[null,null,null,null,null,null,null,null,null,null,241]
[null,null,null,null,null,null,null,null,null,null,242]
[null,null,null,null,null,null,null,null,null,null,243]
[null,null,null,null,null,null,null,null,null,null,244]
[null,null,null,null,null,null,null,null,null,null,245]
[null,null,null,null,null,null,null,null,null,null,246]
[null,null,null,null,null,null,null,null,null,null,247]
[null,null,null,null,null,null,null,null,null,null,248]
[null,null,null,null,null,null,null,null,null,null,249]
[null,null,null,null,null,null,null,null,null,null,250]
[null,null,null,null,null,null,null,null,null,null,251]
[null,null,null,null,null,null,null,null,null,null,252]
[null,null,null,null,null,null,null,null,null,null,253]
[null,null,null,null,null,null,null,null,null,null,254]
[null,null,null,null,null,null,null,null,null,null,255]
[null,null,null,null,null,null,null,null,null,null,256]
[null,null,null,null,null,null,null,null,null,null,257]
[null,null,null,null,null,null,null,null,null,null,258]
[null,null,null,null,null,null,null,null,null,null,259]
[null,null,null,null,null,null,null,null,null,null,260]
[null,null,null,null,null,null,null,null,null,null,261]
[null,null,null,null,null,null,null,null,null,null,262]
[null,null,null,null,null,null,null,null,null,null,263]
[null,null,null,null,null,null,null,null,null,null,264]
[null,null,null,null,null,null,null,null,null,null,265]
[null,null,null,null,null,null,null,null,null,null,266]
[null,null,null,null,null,null,null,null,null,null,267]
[null,null,null,null,null,null,null,null,null,null,268]
[null,null,null,null,null,null,null,null,null,null,269]
[null,null,null,null,null,null,null,null,null,null,270]
[null,null,null,null,null,null,null,null,null,null,271]
[null,null,null,null,null,null,null,null,null,null,272]
[null,null,null,null,null,null,null,null,null,null,273]
[null,null,null,null,null,null,null,null,null,null,274]
[null,null,null,null,null,null,null,null,null,null,275]
[null,null,null,null,null,null,null,null,null,null,276]
[null,null,null,null,null,null,null,null,null,null,277]
[null,null,null,null,null,null,null,null,null,null,278]
[null,null,null,null,null,null,null,null,null,null,279]
[null,null,null,null,null,null,null,null,null,null,280]
[null,null,null,null,null,null,null,null,null,null,281]
[null,null,null,null,null,null,null,null,null,null,282]
[null,null,null,null,null,null,null,null,null,null,283]
[null,null,null,null,null,null,null,null,null,null,284]
[null,null,null,null,null,null,null,null,null,null,285]
[null,null,null,null,null,null,null,null,null,null,286]
[null,null,null,null,null,null,null,null,null,null,287]
[null,null,null,null,null,null,null,null,null,null,288]
[null,null,null,null,null,null,null,null,null,null,289]
[null,null,null,null,null,null,null,null,null,null,290]
[null,null,null,null,null,null,null,null,null,null,291]
[null,null,null,null,null,null,null,null,null,null,292]
[null,null,null,null,null,null,null,null,null,null,293]
[null,null,null,null,null,null,null,null,null,null,294]
[null,null,null,null,null,null,null,null,null,null,295]
[null,null,null,null,null,null,null,null,null,null,296]
[null,null,null,null,null,null,null,null,null,null,297]
[null,null,null,null,null,null,null,null,null,null,298]
[null,null,null,null,null,null,null,null,null,null,299]
[null,null,null,null,null,null,null,null,null,null,300]
[null,null,null,null,null,null,null,null,null,null,301]
[null,null,null,null,null,null,null,null,null,null,302]
[null,null,null,null,null,null,null,null,null,null,303]
[null,null,null,null,null,null,null,null,null,null,304]
[null,null,null,null,null,null,null,null,null,null,305]
[null,null,null,null,null,null,null,null,null,null,306]
[null,null,null,null,null,null,null,null,null,null,307]
[null,null,null,null,null,null,null,null,null,null,308]
[null,null,null,null,null,null,null,null,null,null,309]
[null,null,null,null,null,null,null,null,null,null,310]
[null,null,null,null,null,null,null,null,null,null,311]
[null,null,null,null,null,null,null,null,null,null,312]
[null,null,null,null,null,null,null,null,null,null,313]
[null,null,null,null,null,null,null,null,null,null,314]
[null,null,null,null,null,null,null,null,null,null,315]
[null,null,null,null,null,null,null,null,null,null,316]
[null,null,null,null,null,null,null,null,null,null,317]
[null,null,null,null,null,null,null,null,null,null,318]
[null,null,null,null,null,null,null,null,null,null,319]
[null,null,null,null,null,null,null,null,null,null,320]
[null,null,null,null,null,null,null,null,null,null,321]
[null,null,null,null,null,null,null,null,null,null,322]
[null,null,null,null,null,null,null,null,null,null,323]
[null,null,null,null,null,null,null,null,null,null,324]
[null,null,null,null,null,null,null,null,null,null,325]
[null,null,null,null,null,null,null,null,null,null,326]
[null,null,null,null,null,null,null,null,null,null,327]
[null,null,null,null,null,null,null,null,null,null,328]
[null,null,null,null,null,null,null,null,null,null,329]
[null,null,null,null,null,null,null,null,null,null,330]
[null,null,null,null,null,null,null,null,null,null,331]
[null,null,null,null,null,null,null,null,null,null,332]
[null,null,null,null,null,null,null,null,null,null,333]
[null,null,null,null,null,null,null,null,null,null,334]
[null,null,null,null,null,null,null,null,null,null,335]
[null,null,null,null,null,null,null,null,null,null,336]
[null,null,null,null,null,null,null,null,null,null,337]
[null,null,null,null,null,null,null,null,null,null,338]
[null,null,null,null,null,null,null,null,null,null,339]
[null,null,null,null,null,null,null,null,null,null,340]
[null,null,null,null,null,null,null,null,null,null,341]
[null,null,null,null,null,null,null,null,null,null,342]
[null,null,null,null,null,null,null,null,null,null,343]
[null,null,null,null,null,null,null,null,null,null,344]
[null,null,null,null,null,null,null,null,null,null,345]
[null,null,null,null,null,null,null,null,null,null,346]
[null,null,null,null,null,null,null,null,null,null,347]
[null,null,null,null,null,null,null,null,null,null,348]
[null,null,null,null,null,null,null,null,null,null,349]
[null,null,null,null,null,null,null,null,null,null,350]
[null,null,null,null,null,null,null,null,null,null,351]
[null,null,null,null,null,null,null,null,null,null,352]
[null,null,null,null,null,null,null,null,null,null,353]
[null,null,null,null,null,null,null,null,null,null,354]
[null,null,null,null,null,null,null,null,null,null,355]
[null,null,null,null,null,null,null,null,null,null,356]
[null,null,null,null,null,null,null,null,null,null,357]
[null,null,null,null,null,null,null,null,null,null,358]
[null,null,null,null,null,null,null,null,null,null,359]
[null,null,null,null,null,null,null,null,null,null,360]
[null,null,null,null,null,null,null,null,null,null,361]
[null,null,null,null,null,null,null,null,null,null,362]
[null,null,null,null,null,null,null,null,null,null,363]
[null,null,null,null,null,null,null,null,null,null,364]
[null,null,null,null,null,null,null,null,null,null,365]
[null,null,null,null,null,null,null,null,null,null,366]
[null,null,null,null,null,null,null,null,null,null,367]
[null,null,null,null,null,null,null,null,null,null,368]
[null,null,null,null,null,null,null,null,null,null,369]
[null,null,null,null,null,null,null,null,null,null,370]
[null,null,null,null,null,null,null,null,null,null,371]
[null,null,null,null,null,null,null,null,null,null,372]
[null,null,null,null,null,null,null,null,null,null,373]
[null,null,null,null,null,null,null,null,null,null,374]
[null,null,null,null,null,null,null,null,null,null,375]
[null,null,null,null,null,null,null,null,null,null,376]
[null,null,null,null,null,null,null,null,null,null,377]
[null,null,null,null,null,null,null,null,null,null,378]
[null,null,null,null,null,null,null,null,null,null,379]
[null,null,null,null,null,null,null,null,null,null,380]
[null,null,null,null,null,null,null,null,null,null,381]
[null,null,null,null,null,null,null,null,null,null,382]
[null,null,null,null,null,null,null,null,null,null,383]
[null,null,null,null,null,null,null,null,null,null,384]
[null,null,null,null,null,null,null,null,null,null,385]
[null,null,null,null,null,null,null,null,null,null,386]
[null,null,null,null,null,null,null,null,null,null,387]
[null,null,null,null,null,null,null,null,null,null,388]
[null,null,null,null,null,null,null,null,null,null,389]
[null,null,null,null,null,null,null,null,null,null,390]
[null,null,null,null,null,null,null,null,null,null,391]
[null,null,null,null,null,null,null,null,null,null,392]
[null,null,null,null,null,null,null,null,null,null,393]
[null,null,null,null,null,null,null,null,null,null,394]
[null,null,null,null,null,null,null,null,null,null,395]
[null,null,null,null,null,null,null,null,null,null,396]
[null,null,null,null,null,null,null,null,null,null,397]
[null,null,null,null,null,null,null,null,null,null,398]
[null,null,null,null,null,null,null,null,null,null,399]
[null,null,null,null,null,null,null,null,null,null,400]
[null,null,null,null,null,null,null,null,null,null,401]
[null,null,null,null,null,null,null,null,null,null,402]
[null,null,null,null,null,null,null,null,null,null,403]
[null,null,null,null,null,null,null,null,null,null,404]
[null,null,null,null,null,null,null,null,null,null,405]
[null,null,null,null,null,null,null,null,null,null,406]
[null,null,null,null,null,null,null,null,null,null,407]
[null,null,null,null,null,null,null,null,null,null,408]
[null,null,null,null,null,null,null,null,null,null,409]
[null,null,null,null,null,null,null,null,null,null,410]
[null,null,null,null,null,null,null,null,null,null,411]
[null,null,null,null,null,null,null,null,null,null,412]
[null,null,null,null,null,null,null,null,null,null,413]
[null,null,null,null,null,null,null,null,null,null,414]
[null,null,null,null,null,null,null,null,null,null,415]
[null,null,null,null,null,null,null,null,null,null,416]
[null,null,null,null,null,null,null,null,null,null,417]
[null,null,null,null,null,null,null,null,null,null,418]
[null,null,null,null,null,null,null,null,null,null,419]
[null,null,null,null,null,null,null,null,null,null,420]
[null,null,null,null,null,null,null,null,null,null,421]
[null,null,null,null,null,null,null,null,null,null,422]
[null,null,null,null,null,null,null,null,null,null,423]
[null,null,null,null,null,null,null,null,null,null,424]
[null,null,null,null,null,null,null,null,null,null,425]
[null,null,null,null,null,null,null,null,null,null,426]
[null,null,null,null,null,null,null,null,null,null,427]
[null,null,null,null,null,null,null,null,null,null,428]
[null,null,null,null,null,null,null,null,null,null,429]
[null,null,null,null,null,null,null,null,null,null,430]
[null,null,null,null,null,null,null,null,null,null,431]
[null,null,null,null,null,null,null,null,null,null,432]
[null,null,null,null,null,null,null,null,null,null,433]
[null,null,null,null,null,null,null,null,null,null,434]
[null,null,null,null,null,null,null,null,null,null,435]
[null,null,null,null,null,null,null,null,null,null,436]
[null,null,null,null,null,null,null,null,null,null,437]
[null,null,null,null,null,null,null,null,null,null,438]
[null,null,null,null,null,null,null,null,null,null,439]
[null,null,null,null,null,null,null,null,null,null,440]
[null,null,null,null,null,null,null,null,null,null,441]
[null,null,null,null,null,null,null,null,null,null,442]
[null,null,null,null,null,null,null,null,null,null,443]
[null,null,null,null,null,null,null,null,null,null,444]
[null,null,null,null,null,null,null,null,null,null,445]
[null,null,null,null,null,null,null,null,null,null,446]
[null,null,null,null,null,null,null,null,null,null,447]
[null,null,null,null,null,null,null,null,null,null,448]
[null,null,null,null,null,null,null,null,null,null,449]
[null,null,null,null,null,null,null,null,null,null,450]
[null,null,null,null,null,null,null,null,null,null,451]
[null,null,null,null,null,null,null,null,null,null,452]
[null,null,null,null,null,null,null,null,null,null,453]
[null,null,null,null,null,null,null,null,null,null,454]
[null,null,null,null,null,null,null,null,null,null,455]
[null,null,null,null,null,null,null,null,null,null,456]
[null,null,null,null,null,null,null,null,null,null,457]
[null,null,null,null,null,null,null,null,null,null,458]
[null,null,null,null,null,null,null,null,null,null,459]
[null,null,null,null,null,null,null,null,null,null,460]
[null,null,null,null,null,null,null,null,null,null,461]
[null,null,null,null,null,null,null,null,null,null,462]
[null,null,null,null,null,null,null,null,null,null,463]
[null,null,null,null,null,null,null,null,null,null,464]
[null,null,null,null,null,null,null,null,null,null,465]
[null,null,null,null,null,null,null,null,null,null,466]
[null,null,null,null,null,null,null,null,null,null,467]
[null,null,null,null,null,null,null,null,null,null,468]
[null,null,null,null,null,null,null,null,null,null,469]
[null,null,null,null,null,null,null,null,null,null,470]
[null,null,null,null,null,null,null,null,null,null,471]
[null,null,null,null,null,null,null,null,null,null,472]
[null,null,null,null,null,null,null,null,null,null,473]
[null,null,null,null,null,null,null,null,null,null,474]
[null,null,null,null,null,null,null,null,null,null,475]
[null,null,null,null,null,null,null,null,null,null,476]
[null,null,null,null,null,null,null,null,null,null,477]
[null,null,null,null,null,null,null,null,null,null,478]
[null,null,null,null,null,null,null,null,null,null,479]
[null,null,null,null,null,null,null,null,null,null,480]
[null,null,null,null,null,null,null,null,null,null,481]
[null,null,null,null,null,null,null,null,null,null,482]
[null,null,null,null,null,null,null,null,null,null,483]
[null,null,null,null,null,null,null,null,null,null,484]
[null,null,null,null,null,null,null,null,null,null,485]
[null,null,null,null,null,null,null,null,null,null,486]
[null,null,null,null,null,null,null,null,null,null,487]
[null,null,null,null,null,null,null,null,null,null,488]
[null,null,null,null,null,null,null,null,null,null,489]
[null,null,null,null,null,null,null,null,null,null,490]
[null,null,null,null,null,null,null,null,null,null,491]
[null,null,null,null,null,null,null,null,null,null,492]
[null,null,null,null,null,null,null,null,null,null,493]
[null,null,null,null,null,null,null,null,null,null,494]
[null,null,null,null,null,null,null,null,null,null,495]
[null,null,null,null,null,null,null,null,null,null,496]
[null,null,null,null,null,null,null,null,null,null,497]
[null,null,null,null,null,null,null,null,null,null,498]
[null,null,null,null,null,null,null,null,null,null,499]
[null,null,null,null,null,null,null,null,null,null,500]
[null,null,null,null,null,null,null,null,null,null,501]
[null,null,null,null,null,null,null,null,null,null,502]
[null,null,null,null,null,null,null,null,null,null,503]
[null,null,null,null,null,null,null,null,null,null,504]
[null,null,null,null,null,null,null,null,null,null,505]
[null,null,null,null,null,null,null,null,null,null,506]
[null,null,null,null,null,null,null,null,null,null,507]
[null,null,null,null,null,null,null,null,null,null,508]
[null,null,null,null,null,null,null,null,null,null,509]
[null,null,null,null,null,null,null,null,null,null,510]
[null,null,null,null,null,null,null,null,null,null,511]
[null,null,null,null,null,null,null,null,null,null,512]
[null,null,null,null,null,null,null,null,null,null,513]
[null,null,null,null,null,null,null,null,null,null,514]
[null,null,null,null,null,null,null,null,null,null,515]
[null,null,null,null,null,null,null,null,null,null,516]
[null,null,null,null,null,null,null,null,null,null,517]
[null,null,null,null,null,null,null,null,null,null,518]
[null,null,null,null,null,null,null,null,null,null,519]
[null,null,null,null,null,null,null,null,null,null,520]
[null,null,null,null,null,null,null,null,null,null,521]
[null,null,null,null,null,null,null,null,null,null,522]
[null,null,null,null,null,null,null,null,null,null,523]
[null,null,null,null,null,null,null,null,null,null,524]
[null,null,null,null,null,null,null,null,null,null,525]
[null,null,null,null,null,null,null,null,null,null,526]
[null,null,null,null,null,null,null,null,null,null,527]
[null,null,null,null,null,null,null,null,null,null,528]
[null,null,null,null,null,null,null,null,null,null,529]
[null,null,null,null,null,null,null,null,null,null,530]
[null,null,null,null,null,null,null,null,null,null,531]
[null,null,null,null,null,null,null,null,null,null,532]
[null,null,null,null,null,null,null,null,null,null,533]
[null,null,null,null,null,null,null,null,null,null,534]
[null,null,null,null,null,null,null,null,null,null,535]
[null,null,null,null,null,null,null,null,null,null,536]
[null,null,null,null,null,null,null,null,null,null,537]
[null,null,null,null,null,null,null,null,null,null,538]
[null,null,null,null,null,null,null,null,null,null,539]
[null,null,null,null,null,null,null,null,null,null,540]
[null,null,null,null,null,null,null,null,null,null,541]
[null,null,null,null,null,null,null,null,null,null,542]
[null,null,null,null,null,null,null,null,null,null,543]
[null,null,null,null,null,null,null,null,null,null,544]
[null,null,null,null,null,null,null,null,null,null,545]
[null,null,null,null,null,null,null,null,null,null,546]
[null,null,null,null,null,null,null,null,null,null,547]
[null,null,null,null,null,null,null,null,null,null,548]
[null,null,null,null,null,null,null,null,null,null,549]
[null,null,null,null,null,null,null,null,null,null,550]
[null,null,null,null,null,null,null,null,null,null,551]
[null,null,null,null,null,null,null,null,null,null,552]
[null,null,null,null,null,null,null,null,null,null,553]
[null,null,null,null,null,null,null,null,null,null,554]
[null,null,null,null,null,null,null,null,null,null,555]
[null,null,null,null,null,null,null,null,null,null,556]
[null,null,null,null,null,null,null,null,null,null,557]
[null,null,null,null,null,null,null,null,null,null,558]
[null,null,null,null,null,null,null,null,null,null,559]
[null,null,null,null,null,null,null,null,null,null,560]
[null,null,null,null,null,null,null,null,null,null,561]
[null,null,null,null,null,null,null,null,null,null,562]
[null,null,null,null,null,null,null,null,null,null,563]
[null,null,null,null,null,null,null,null,null,null,564]
[null,null,null,null,null,null,null,null,null,null,565]
[null,null,null,null,null,null,null,null,null,null,566]
[null,null,null,null,null,null,null,null,null,null,567]
[null,null,null,null,null,null,null,null,null,null,568]
[null,null,null,null,null,null,null,null,null,null,569]
[null,null,null,null,null,null,null,null,null,null,570]
[null,null,null,null,null,null,null,null,null,null,571]
[null,null,null,null,null,null,null,null,null,null,572]
[null,null,null,null,null,null,null,null,null,null,573]
[null,null,null,null,null,null,null,null,null,null,574]
[null,null,null,null,null,null,null,null,null,null,575]
[null,null,null,null,null,null,null,null,null,null,576]
[null,null,null,null,null,null,null,null,null,null,577]
[null,null,null,null,null,null,null,null,null,null,578]
[null,null,null,null,null,null,null,null,null,null,579]
[null,null,null,null,null,null,null,null,null,null,580]
[null,null,null,null,null,null,null,null,null,null,581]
[null,null,null,null,null,null,null,null,null,null,582]
[null,null,null,null,null,null,null,null,null,null,583]
[null,null,null,null,null,null,null,null,null,null,584]
[null,null,null,null,null,null,null,null,null,null,585]
[null,null,null,null,null,null,null,null,null,null,586]
[null,null,null,null,null,null,null,null,null,null,587]
[null,null,null,null,null,null,null,null,null,null,588]
[null,null,null,null,null,null,null,null,null,null,589]
[null,null,null,null,null,null,null,null,null,null,590]
[null,null,null,null,null,null,null,null,null,null,591]
[null,null,null,null,null,null,null,null,null,null,592]
[null,null,null,null,null,null,null,null,null,null,593]
[null,null,null,null,null,null,null,null,null,null,594]
[null,null,null,null,null,null,null,null,null,null,595]
[null,null,null,null,null,null,null,null,null,null,596]
[null,null,null,null,null,null,null,null,null,null,597]
[null,null,null,null,null,null,null,null,null,null,598]
[null,null,null,null,null,null,null,null,null,null,599]
[null,null,null,null,null,null,null,null,null,null,600]
[null,null,null,null,null,null,null,null,null,null,601]
[null,null,null,null,null,null,null,null,null,null,602]
[null,null,null,null,null,null,null,null,null,null,603]
[null,null,null,null,null,null,null,null,null,null,604]
[null,null,null,null,null,null,null,null,null,null,605]
[null,null,null,null,null,null,null,null,null,null,606]
[null,null,null,null,null,null,null,null,null,null,607]
[null,null,null,null,null,null,null,null,null,null,608]
[null,null,null,null,null,null,null,null,null,null,609]
[null,null,null,null,null,null,null,null,null,null,610]
[null,null,null,null,null,null,null,null,null,null,611]
[null,null,null,null,null,null,null,null,null,null,612]
[null,null,null,null,null,null,null,null,null,null,613]
[null,null,null,null,null,null,null,null,null,null,614]
[null,null,null,null,null,null,null,null,null,null,615]
[null,null,null,null,null,null,null,null,null,null,616]
[null,null,null,null,null,null,null,null,null,null,617]
[null,null,null,null,null,null,null,null,null,null,618]
[null,null,null,null,null,null,null,null,null,null,619]
[null,null,null,null,null,null,null,null,null,null,620]
[null,null,null,null,null,null,null,null,null,null,621]
[null,null,null,null,null,null,null,null,null,null,622]
[null,null,null,null,null,null,null,null,null,null,623]
[null,null,null,null,null,null,null,null,null,null,624]
[null,null,null,null,null,null,null,null,null,null,625]
[null,null,null,null,null,null,null,null,null,null,626]
[null,null,null,null,null,null,null,null,null,null,627]
[null,null,null,null,null,null,null,null,null,null,628]
[null,null,null,null,null,null,null,null,null,null,629]
[null,null,null,null,null,null,null,null,null,null,630]
[null,null,null,null,null,null,null,null,null,null,631]
[null,null,null,null,null,null,null,null,null,null,632]
[null,null,null,null,null,null,null,null,null,null,633]
[null,null,null,null,null,null,null,null,null,null,634]
[null,null,null,null,null,null,null,null,null,null,635]
[null,null,null,null,null,null,null,null,null,null,636]
[null,null,null,null,null,null,null,null,null,null,637]
[null,null,null,null,null,null,null,null,null,null,638]
[null,null,null,null,null,null,null,null,null,null,639]
[null,null,null,null,null,null,null,null,null,null,640]
[null,null,null,null,null,null,null,null,null,null,641]
[null,null,null,null,null,null,null,null,null,null,642]
[null,null,null,null,null,null,null,null,null,null,643]
[null,null,null,null,null,null,null,null,null,null,644]
[null,null,null,null,null,null,null,null,null,null,645]
[null,null,null,null,null,null,null,null,null,null,646]
[null,null,null,null,null,null,null,null,null,null,647]
[null,null,null,null,null,null,null,null,null,null,648]
[null,null,null,null,null,null,null,null,null,null,649]
[null,null,null,null,null,null,null,null,null,null,650]
[null,null,null,null,null,null,null,null,null,null,651]
[null,null,null,null,null,null,null,null,null,null,652]
[null,null,null,null,null,null,null,null,null,null,653]
[null,null,null,null,null,null,null,null,null,null,654]
[null,null,null,null,null,null,null,null,null,null,655]
[null,null,null,null,null,null,null,null,null,null,656]
[null,null,null,null,null,null,null,null,null,null,657]
[null,null,null,null,null,null,null,null,null,null,658]
[null,null,null,null,null,null,null,null,null,null,659]
[null,null,null,null,null,null,null,null,null,null,660]
[null,null,null,null,null,null,null,null,null,null,661]
[null,null,null,null,null,null,null,null,null,null,662]
[null,null,null,null,null,null,null,null,null,null,663]
[null,null,null,null,null,null,null,null,null,null,664]
[null,null,null,null,null,null,null,null,null,null,665]
[null,null,null,null,null,null,null,null,null,null,666]
[null,null,null,null,null,null,null,null,null,null,667]
[null,null,null,null,null,null,null,null,null,null,668]
[null,null,null,null,null,null,null,null,null,null,669]
[null,null,null,null,null,null,null,null,null,null,670]
[null,null,null,null,null,null,null,null,null,null,671]
[null,null,null,null,null,null,null,null,null,null,672]
[null,null,null,null,null,null,null,null,null,null,673]
[null,null,null,null,null,null,null,null,null,null,674]
[null,null,null,null,null,null,null,null,null,null,675]
[null,null,null,null,null,null,null,null,null,null,676]
[null,null,null,null,null,null,null,null,null,null,677]
[null,null,null,null,null,null,null,null,null,null,678]
[null,null,null,null,null,null,null,null,null,null,679]
[null,null,null,null,null,null,null,null,null,null,680]
[null,null,null,null,null,null,null,null,null,null,681]
[null,null,null,null,null,null,null,null,null,null,682]
[null,null,null,null,null,null,null,null,null,null,683]
[null,null,null,null,null,null,null,null,null,null,684]
[null,null,null,null,null,null,null,null,null,null,685]
[null,null,null,null,null,null,null,null,null,null,686]
[null,null,null,null,null,null,null,null,null,null,687]
[null,null,null,null,null,null,null,null,null,null,688]
[null,null,null,null,null,null,null,null,null,null,689]
[null,null,null,null,null,null,null,null,null,null,690]
[null,null,null,null,null,null,null,null,null,null,691]
[null,null,null,null,null,null,null,null,null,null,692]
[null,null,null,null,null,null,null,null,null,null,693]
[null,null,null,null,null,null,null,null,null,null,694]
[null,null,null,null,null,null,null,null,null,null,695]
[null,null,null,null,null,null,null,null,null,null,696]
[null,null,null,null,null,null,null,null,null,null,697]
[null,null,null,null,null,null,null,null,null,null,698]
[null,null,null,null,null,null,null,null,null,null,699]
[null,null,null,null,null,null,null,null,null,null,700]
[null,null,null,null,null,null,null,null,null,null,701]
[null,null,null,null,null,null,null,null,null,null,702]
[null,null,null,null,null,null,null,null,null,null,703]
[null,null,null,null,null,null,null,null,null,null,704]
[null,null,null,null,null,null,null,null,null,null,705]
[null,null,null,null,null,null,null,null,null,null,706]
[null,null,null,null,null,null,null,null,null,null,707]
[null,null,null,null,null,null,null,null,null,null,708]
[null,null,null,null,null,null,null,null,null,null,709]
[null,null,null,null,null,null,null,null,null,null,710]
[null,null,null,null,null,null,null,null,null,null,711]
[null,null,null,null,null,null,null,null,null,null,712]
[null,null,null,null,null,null,null,null,null,null,713]
[null,null,null,null,null,null,null,null,null,null,714]
[null,null,null,null,null,null,null,null,null,null,715]
[null,null,null,null,null,null,null,null,null,null,716]
[null,null,null,null,null,null,null,null,null,null,717]
[null,null,null,null,null,null,null,null,null,null,718]
[null,null,null,null,null,null,null,null,null,null,719]
[null,null,null,null,null,null,null,null,null,null,720]
[null,null,null,null,null,null,null,null,null,null,721]
[null,null,null,null,null,null,null,null,null,null,722]
[null,null,null,null,null,null,null,null,null,null,723]
[null,null,null,null,null,null,null,null,null,null,724]
[null,null,null,null,null,null,null,null,null,null,725]
[null,null,null,null,null,null,null,null,null,null,726]
[null,null,null,null,null,null,null,null,null,null,727]
[null,null,null,null,null,null,null,null,null,null,728]
[null,null,null,null,null,null,null,null,null,null,729]
[null,null,null,null,null,null,null,null,null,null,730]
[null,null,null,null,null,null,null,null,null,null,731]
[null,null,null,null,null,null,null,null,null,null,732]
[null,null,null,null,null,null,null,null,null,null,733]
[null,null,null,null,null,null,null,null,null,null,734]
[null,null,null,null,null,null,null,null,null,null,735]
[null,null,null,null,null,null,null,null,null,null,736]
[null,null,null,null,null,null,null,null,null,null,737]
[null,null,null,null,null,null,null,null,null,null,738]
[null,null,null,null,null,null,null,null,null,null,739]
[null,null,null,null,null,null,null,null,null,null,740]
[null,null,null,null,null,null,null,null,null,null,741]
[null,null,null,null,null,null,null,null,null,null,742]
[null,null,null,null,null,null,null,null,null,null,743]
[null,null,null,null,null,null,null,null,null,null,744]
[null,null,null,null,null,null,null,null,null,null,745]
[null,null,null,null,null,null,null,null,null,null,746]
[null,null,null,null,null,null,null,null,null,null,747]
[null,null,null,null,null,null,null,null,null,null,748]
[null,null,null,null,null,null,null,null,null,null,749]
[null,null,null,null,null,null,null,null,null,null,750]
[null,null,null,null,null,null,null,null,null,null,751]
[null,null,null,null,null,null,null,null,null,null,752]
[null,null,null,null,null,null,null,null,null,null,753]
[null,null,null,null,null,null,null,null,null,null,754]
[null,null,null,null,null,null,null,null,null,null,755]
[null,null,null,null,null,null,null,null,null,null,756]
[null,null,null,null,null,null,null,null,null,null,757]
[null,null,null,null,null,null,null,null,null,null,758]
[null,null,null,null,null,null,null,null,null,null,759]
[null,null,null,null,null,null,null,null,null,null,760]
[null,null,null,null,null,null,null,null,null,null,761]
[null,null,null,null,null,null,null,null,null,null,762]
[null,null,null,null,null,null,null,null,null,null,763]
[null,null,null,null,null,null,null,null,null,null,764]
[null,null,null,null,null,null,null,null,null,null,765]
[null,null,null,null,null,null,null,null,null,null,766]
[null,null,null,null,null,null,null,null,null,null,767]
[null,null,null,null,null,null,null,null,null,null,768]
[null,null,null,null,null,null,null,null,null,null,769]
[null,null,null,null,null,null,null,null,null,null,770]
[null,null,null,null,null,null,null,null,null,null,771]
[null,null,null,null,null,null,null,null,null,null,772]
[null,null,null,null,null,null,null,null,null,null,773]
[null,null,null,null,null,null,null,null,null,null,774]
[null,null,null,null,null,null,null,null,null,null,775]
[null,null,null,null,null,null,null,null,null,null,776]
[null,null,null,null,null,null,null,null,null,null,777]
[null,null,null,null,null,null,null,null,null,null,778]
[null,null,null,null,null,null,null,null,null,null,779]
[null,null,null,null,null,null,null,null,null,null,780]
[null,null,null,null,null,null,null,null,null,null,781]
[null,null,null,null,null,null,null,null,null,null,782]
[null,null,null,null,null,null,null,null,null,null,783]
[null,null,null,null,null,null,null,null,null,null,784]
[null,null,null,null,null,null,null,null,null,null,785]
[null,null,null,null,null,null,null,null,null,null,786]
[null,null,null,null,null,null,null,null,null,null,787]
[null,null,null,null,null,null,null,null,null,null,788]
[null,null,null,null,null,null,null,null,null,null,789]
[null,null,null,null,null,null,null,null,null,null,790]
[null,null,null,null,null,null,null,null,null,null,791]
[null,null,null,null,null,null,null,null,null,null,792]
[null,null,null,null,null,null,null,null,null,null,793]
[null,null,null,null,null,null,null,null,null,null,794]
[null,null,null,null,null,null,null,null,null,null,795]
[null,null,null,null,null,null,null,null,null,null,796]
[null,null,null,null,null,null,null,null,null,null,797]
[null,null,null,null,null,null,null,null,null,null,798]
[null,null,null,null,null,null,null,null,null,null,799]
[null,null,null,null,null,null,null,null,null,null,800]
[null,null,null,null,null,null,null,null,null,null,801]
[null,null,null,null,null,null,null,null,null,null,802]
[null,null,null,null,null,null,null,null,null,null,803]
[null,null,null,null,null,null,null,null,null,null,804]
[null,null,null,null,null,null,null,null,null,null,805]
[null,null,null,null,null,null,null,null,null,null,806]
[null,null,null,null,null,null,null,null,null,null,807]
[null,null,null,null,null,null,null,null,null,null,808]
[null,null,null,null,null,null,null,null,null,null,809]
[null,null,null,null,null,null,null,null,null,null,810]
[null,null,null,null,null,null,null,null,null,null,811]
[null,null,null,null,null,null,null,null,null,null,812]
[null,null,null,null,null,null,null,null,null,null,813]
[null,null,null,null,null,null,null,null,null,null,814]
[null,null,null,null,null,null,null,null,null,null,815]
[null,null,null,null,null,null,null,null,null,null,816]
[null,null,null,null,null,null,null,null,null,null,817]
[null,null,null,null,null,null,null,null,null,null,818]
[null,null,null,null,null,null,null,null,null,null,819]
[null,null,null,null,null,null,null,null,null,null,820]
[null,null,null,null,null,null,null,null,null,null,821]
[null,null,null,null,null,null,null,null,null,null,822]
[null,null,null,null,null,null,null,null,null,null,823]
[null,null,null,null,null,null,null,null,null,null,824]
[null,null,null,null,null,null,null,null,null,null,825]
[null,null,null,null,null,null,null,null,null,null,826]
[null,null,null,null,null,null,null,null,null,null,827]
[null,null,null,null,null,null,null,null,null,null,828]
[null,null,null,null,null,null,null,null,null,null,829]
[null,null,null,null,null,null,null,null,null,null,830]
[null,null,null,null,null,null,null,null,null,null,831]
[null,null,null,null,null,null,null,null,null,null,832]
[null,null,null,null,null,null,null,null,null,null,833]
[null,null,null,null,null,null,null,null,null,null,834]
[null,null,null,null,null,null,null,null,null,null,835]
[null,null,null,null,null,null,null,null,null,null,836]
[null,null,null,null,null,null,null,null,null,null,837]
[null,null,null,null,null,null,null,null,null,null,838]
[null,null,null,null,null,null,null,null,null,null,839]
[null,null,null,null,null,null,null,null,null,null,840]
[null,null,null,null,null,null,null,null,null,null,841]
[null,null,null,null,null,null,null,null,null,null,842]
[null,null,null,null,null,null,null,null,null,null,843]
[null,null,null,null,null,null,null,null,null,null,844]
[null,null,null,null,null,null,null,null,null,null,845]
[null,null,null,null,null,null,null,null,null,null,846]
[null,null,null,null,null,null,null,null,null,null,847]
[null,null,null,null,null,null,null,null,null,null,848]
[null,null,null,null,null,null,null,null,null,null,849]
[null,null,null,null,null,null,null,null,null,null,850]
[null,null,null,null,null,null,null,null,null,null,851]
[null,null,null,null,null,null,null,null,null,null,852]
[null,null,null,null,null,null,null,null,null,null,853]
[null,null,null,null,null,null,null,null,null,null,854]
[null,null,null,null,null,null,null,null,null,null,855]
[null,null,null,null,null,null,null,null,null,null,856]
[null,null,null,null,null,null,null,null,null,null,857]
[null,null,null,null,null,null,null,null,null,null,858]
[null,null,null,null,null,null,null,null,null,null,859]
[null,null,null,null,null,null,null,null,null,null,860]
[null,null,null,null,null,null,null,null,null,null,861]
[null,null,null,null,null,null,null,null,null,null,862]
[null,null,null,null,null,null,null,null,null,null,863]
[null,null,null,null,null,null,null,null,null,null,864]
[null,null,null,null,null,null,null,null,null,null,865]
[null,null,null,null,null,null,null,null,null,null,866]
[null,null,null,null,null,null,null,null,null,null,867]
[null,null,null,null,null,null,null,null,null,null,868]
[null,null,null,null,null,null,null,null,null,null,869]
[null,null,null,null,null,null,null,null,null,null,870]
[null,null,null,null,null,null,null,null,null,null,871]
[null,null,null,null,null,null,null,null,null,null,872]
[null,null,null,null,null,null,null,null,null,null,873]
[null,null,null,null,null,null,null,null,null,null,874]
[null,null,null,null,null,null,null,null,null,null,875]
[null,null,null,null,null,null,null,null,null,null,876]
[null,null,null,null,null,null,null,null,null,null,877]
[null,null,null,null,null,null,null,null,null,null,878]
[null,null,null,null,null,null,null,null,null,null,879]
[null,null,null,null,null,null,null,null,null,null,880]
[null,null,null,null,null,null,null,null,null,null,881]
[null,null,null,null,null,null,null,null,null,null,882]
[null,null,null,null,null,null,null,null,null,null,883]
[null,null,null,null,null,null,null,null,null,null,884]
[null,null,null,null,null,null,null,null,null,null,885]
[null,null,null,null,null,null,null,null,null,null,886]
[null,null,null,null,null,null,null,null,null,null,887]
[null,null,null,null,null,null,null,null,null,null,888]
[null,null,null,null,null,null,null,null,null,null,889]
[null,null,null,null,null,null,null,null,null,null,890]
[null,null,null,null,null,null,null,null,null,null,891]
[null,null,null,null,null,null,null,null,null,null,892]
[null,null,null,null,null,null,null,null,null,null,893]
[null,null,null,null,null,null,null,null,null,null,894]
[null,null,null,null,null,null,null,null,null,null,895]
[null,null,null,null,null,null,null,null,null,null,896]
[null,null,null,null,null,null,null,null,null,null,897]
[null,null,null,null,null,null,null,null,null,null,898]
[null,null,null,null,null,null,null,null,null,null,899]
[null,null,null,null,null,null,null,null,null,null,900]
[null,null,null,null,null,null,null,null,null,null,901]
[null,null,null,null,null,null,null,null,null,null,902]
[null,null,null,null,null,null,null,null,null,null,903]
[null,null,null,null,null,null,null,null,null,null,904]
[null,null,null,null,null,null,null,null,null,null,905]
[null,null,null,null,null,null,null,null,null,null,906]
[null,null,null,null,null,null,null,null,null,null,907]
[null,null,null,null,null,null,null,null,null,null,908]
[null,null,null,null,null,null,null,null,null,null,909]
[null,null,null,null,null,null,null,null,null,null,910]
[null,null,null,null,null,null,null,null,null,null,911]
[null,null,null,null,null,null,null,null,null,null,912]
[null,null,null,null,null,null,null,null,null,null,913]
[null,null,null,null,null,null,null,null,null,null,914]
[null,null,null,null,null,null,null,null,null,null,915]
[null,null,null,null,null,null,null,null,null,null,916]
[null,null,null,null,null,null,null,null,null,null,917]
[null,null,null,null,null,null,null,null,null,null,918]
[null,null,null,null,null,null,null,null,null,null,919]
[null,null,null,null,null,null,null,null,null,null,920]
[null,null,null,null,null,null,null,null,null,null,921]
[null,null,null,null,null,null,null,null,null,null,922]
[null,null,null,null,null,null,null,null,null,null,923]
[null,null,null,null,null,null,null,null,null,null,924]
[null,null,null,null,null,null,null,null,null,null,925]
[null,null,null,null,null,null,null,null,null,null,926]
[null,null,null,null,null,null,null,null,null,null,927]
[null,null,null,null,null,null,null,null,null,null,928]
[null,null,null,null,null,null,null,null,null,null,929]
[null,null,null,null,null,null,null,null,null,null,930]
[null,null,null,null,null,null,null,null,null,null,931]
[null,null,null,null,null,null,null,null,null,null,932]
[null,null,null,null,null,null,null,null,null,null,933]
[null,null,null,null,null,null,null,null,null,null,934]
[null,null,null,null,null,null,null,null,null,null,935]
[null,null,null,null,null,null,null,null,null,null,936]
[null,null,null,null,null,null,null,null,null,null,937]
[null,null,null,null,null,null,null,null,null,null,938]
[null,null,null,null,null,null,null,null,null,null,939]
[null,null,null,null,null,null,null,null,null,null,940]
[null,null,null,null,null,null,null,null,null,null,941]
[null,null,null,null,null,null,null,null,null,null,942]
[null,null,null,null,null,null,null,null,null,null,943]
[null,null,null,null,null,null,null,null,null,null,944]
[null,null,null,null,null,null,null,null,null,null,945]
[null,null,null,null,null,null,null,null,null,null,946]
[null,null,null,null,null,null,null,null,null,null,947]
[null,null,null,null,null,null,null,null,null,null,948]
[null,null,null,null,null,null,null,null,null,null,949]
[null,null,null,null,null,null,null,null,null,null,950]
[null,null,null,null,null,null,null,null,null,null,951]
[null,null,null,null,null,null,null,null,null,null,952]
[null,null,null,null,null,null,null,null,null,null,953]
[null,null,null,null,null,null,null,null,null,null,954]
[null,null,null,null,null,null,null,null,null,null,955]
[null,null,null,null,null,null,null,null,null,null,956]
[null,null,null,null,null,null,null,null,null,null,957]
[null,null,null,null,null,null,null,null,null,null,958]
[null,null,null,null,null,null,null,null,null,null,959]
[null,null,null,null,null,null,null,null,null,null,960]
[null,null,null,null,null,null,null,null,null,null,961]
[null,null,null,null,null,null,null,null,null,null,962]
[null,null,null,null,null,null,null,null,null,null,963]
[null,null,null,null,null,null,null,null,null,null,964]
[null,null,null,null,null,null,null,null,null,null,965]
[null,null,null,null,null,null,null,null,null,null,966]
[null,null,null,null,null,null,null,null,null,null,967]
[null,null,null,null,null,null,null,null,null,null,968]
[null,null,null,null,null,null,null,null,null,null,969]
[null,null,null,null,null,null,null,null,null,null,970]
[null,null,null,null,null,null,null,null,null,null,971]
[null,null,null,null,null,null,null,null,null,null,972]
[null,null,null,null,null,null,null,null,null,null,973]
[null,null,null,null,null,null,null,null,null,null,974]
[null,null,null,null,null,null,null,null,null,null,975]
[null,null,null,null,null,null,null,null,null,null,976]
[null,null,null,null,null,null,null,null,null,null,977]
[null,null,null,null,null,null,null,null,null,null,978]
[null,null,null,null,null,null,null,null,null,null,979]
[null,null,null,null,null,null,null,null,null,null,980]
[null,null,null,null,null,null,null,null,null,null,981]
[null,null,null,null,null,null,null,null,null,null,982]
[null,null,null,null,null,null,null,null,null,null,983]
[null,null,null,null,null,null,null,null,null,null,984]
[null,null,null,null,null,null,null,null,null,null,985]
[null,null,null,null,null,null,null,null,null,null,986]
[null,null,null,null,null,null,null,null,null,null,987]
[null,null,null,null,null,null,null,null,null,null,988]
[null,null,null,null,null,null,null,null,null,null,989]
[null,null,null,null,null,null,null,null,null,null,990]
[null,null,null,null,null,null,null,null,null,null,991]
[null,null,null,null,null,null,null,null,null,null,992]
[null,null,null,null,null,null,null,null,null,null,993]
[null,null,null,null,null,null,null,null,null,null,994]
[null,null,null,null,null,null,null,null,null,null,995]
[null,null,null,null,null,null,null,null,null,null,996]
[null,null,null,null,null,null,null,null,null,null,997]
[null,null,null,null,null,null,null,null,null,null,998]
[null,null,null,null,null,null,null,null,null,null,999]
[null,null,null,null,null,null,null,null,null,null,1000]
[null,null,null,null,null,null,null,null,null,null,1001]
[null,null,null,null,null,null,null,null,null,null,1002]
[null,null,null,null,null,null,null,null,null,null,1003]
[null,null,null,null,null,null,null,null,null,null,1004]
[null,null,null,null,null,null,null,null,null,null,1005]
[null,null,null,null,null,null,null,null,null,null,1006]
[null,null,null,null,null,null,null,null,null,null,1007]
[null,null,null,null,null,null,null,null,null,null,1008]
[null,null,null,null,null,null,null,null,null,null,1009]
[null,null,null,null,null,null,null,null,null,null,1010]
[null,null,null,null,null,null,null,null,null,null,1011]
[null,null,null,null,null,null,null,null,null,null,1012]
[null,null,null,null,null,null,null,null,null,null,1013]
[null,null,null,null,null,null,null,null,null,null,1014]
[null,null,null,null,null,null,null,null,null,null,1015]
[null,null,null,null,null,null,null,null,null,null,1016]
[null,null,null,null,null,null,null,null,null,null,1017]
[null,null,null,null,null,null,null,null,null,null,1018]
[null,null,null,null,null,null,null,null,null,null,1019]
[null,null,null,null,null,null,null,null,null,null,1020]
[null,null,null,null,null,null,null,null,null,null,1021]
[null,null,null,null,null,null,null,null,null,null,1022]
[null,null,null,null,null,null,null,null,null,null,1023]
[null,null,null,null,null,null,null,null,null,null,1024]
[null,null,null,null,null,null,null,null,null,null,1025]
[null,null,null,null,null,null,null,null,null,null,1026]
[null,null,null,null,null,null,null,null,null,null,1027]
[null,null,null,null,null,null,null,null,null,null,1028]
[null,null,null,null,null,null,null,null,null,null,1029]
[null,null,null,null,null,null,null,null,null,null,1030]
[null,null,null,null,null,null,null,null,null,null,1031]
[null,null,null,null,null,null,null,null,null,null,1032]
[null,null,null,null,null,null,null,null,null,null,1033]
[null,null,null,null,null,null,null,null,null,null,1034]
[null,null,null,null,null,null,null,null,null,null,1035]
[null,null,null,null,null,null,null,null,null,null,1036]
[null,null,null,null,null,null,null,null,null,null,1037]
[null,null,null,null,null,null,null,null,null,null,1038]
[null,null,null,null,null,null,null,null,null,null,1039]
[null,null,null,null,null,null,null,null,null,null,1040]
[null,null,null,null,null,null,null,null,null,null,1041]
[null,null,null,null,null,null,null,null,null,null,1042]
[null,null,null,null,null,null,null,null,null,null,1043]
[null,null,null,null,null,null,null,null,null,null,1044]
[null,null,null,null,null,null,null,null,null,null,1045]
[null,null,null,null,null,null,null,null,null,null,1046]
[null,null,null,null,null,null,null,null,null,null,1047]
[null,null,null,null,null,null,null,null,null,null,1048]
[null,null,null,null,null,null,null,null,null,null,1049]
[null,null,null,null,null,null,null,null,null,null,1050]
[null,null,null,null,null,null,null,null,null,null,1051]
[null,null,null,null,null,null,null,null,null,null,1052]
[null,null,null,null,null,null,null,null,null,null,1053]
[null,null,null,null,null,null,null,null,null,null,1054]
[null,null,null,null,null,null,null,null,null,null,1055]
[null,null,null,null,null,null,null,null,null,null,1056]
[null,null,null,null,null,null,null,null,null,null,1057]
[null,null,null,null,null,null,null,null,null,null,1058]
[null,null,null,null,null,null,null,null,null,null,1059]
[null,null,null,null,null,null,null,null,null,null,1060]
[null,null,null,null,null,null,null,null,null,null,1061]
[null,null,null,null,null,null,null,null,null,null,1062]
[null,null,null,null,null,null,null,null,null,null,1063]
[null,null,null,null,null,null,null,null,null,null,1064]
[null,null,null,null,null,null,null,null,null,null,1065]
[null,null,null,null,null,null,null,null,null,null,1066]
[null,null,null,null,null,null,null,null,null,null,1067]
[null,null,null,null,null,null,null,null,null,null,1068]
[null,null,null,null,null,null,null,null,null,null,1069]
[null,null,null,null,null,null,null,null,null,null,1070]
[null,null,null,null,null,null,null,null,null,null,1071]
[null,null,null,null,null,null,null,null,null,null,1072]
[null,null,null,null,null,null,null,null,null,null,1073]
[null,null,null,null,null,null,null,null,null,null,1074]
[null,null,null,null,null,null,null,null,null,null,1075]
[null,null,null,null,null,null,null,null,null,null,1076]
[null,null,null,null,null,null,null,null,null,null,1077]
[null,null,null,null,null,null,null,null,null,null,1078]
[null,null,null,null,null,null,null,null,null,null,1079]
[null,null,null,null,null,null,null,null,null,null,1080]
[null,null,null,null,null,null,null,null,null,null,1081]
[null,null,null,null,null,null,null,null,null,null,1082]
[null,null,null,null,null,null,null,null,null,null,1083]
[null,null,null,null,null,null,null,null,null,null,1084]
[null,null,null,null,null,null,null,null,null,null,1085]
[null,null,null,null,null,null,null,null,null,null,1086]
[null,null,null,null,null,null,null,null,null,null,1087]
[null,null,null,null,null,null,null,null,null,null,1088]
[null,null,null,null,null,null,null,null,null,null,1089]
[null,null,null,null,null,null,null,null,null,null,1090]
[null,null,null,null,null,null,null,null,null,null,1091]
[null,null,null,null,null,null,null,null,null,null,1092]
[null,null,null,null,null,null,null,null,null,null,1093]
[null,null,null,null,null,null,null,null,null,null,1094]
[null,null,null,null,null,null,null,null,null,null,1095]
[null,null,null,null,null,null,null,null,null,null,1096]
[null,null,null,null,null,null,null,null,null,null,1097]
[null,null,null,null,null,null,null,null,null,null,1098]
[null,null,null,null,null,null,null,null,null,null,1099]
[null,null,null,null,null,null,null,null,null,null,1100]
[null,null,null,null,null,null,null,null,null,null,1101]
[null,null,null,null,null,null,null,null,null,null,1102]
[null,null,null,null,null,null,null,null,null,null,1103]
[null,null,null,null,null,null,null,null,null,null,1104]
[null,null,null,null,null,null,null,null,null,null,1105]
[null,null,null,null,null,null,null,null,null,null,1106]
[null,null,null,null,null,null,null,null,null,null,1107]
[null,null,null,null,null,null,null,null,null,null,1108]
[null,null,null,null,null,null,null,null,null,null,1109]
[null,null,null,null,null,null,null,null,null,null,1110]
[null,null,null,null,null,null,null,null,null,null,1111]
[null,null,null,null,null,null,null,null,null,null,1112]
[null,null,null,null,null,null,null,null,null,null,1113]
[null,null,null,null,null,null,null,null,null,null,1114]
[null,null,null,null,null,null,null,null,null,null,1115]
[null,null,null,null,null,null,null,null,null,null,1116]
[null,null,null,null,null,null,null,null,null,null,1117]
[null,null,null,null,null,null,null,null,null,null,1118]
[null,null,null,null,null,null,null,null,null,null,1119]
[null,null,null,null,null,null,null,null,null,null,1120]
[null,null,null,null,null,null,null,null,null,null,1121]
[null,null,null,null,null,null,null,null,null,null,1122]
[null,null,null,null,null,null,null,null,null,null,1123]
[null,null,null,null,null,null,null,null,null,null,1124]
[null,null,null,null,null,null,null,null,null,null,1125]
[null,null,null,null,null,null,null,null,null,null,1126]
[null,null,null,null,null,null,null,null,null,null,1127]
[null,null,null,null,null,null,null,null,null,null,1128]
[null,null,null,null,null,null,null,null,null,null,1129]
[null,null,null,null,null,null,null,null,null,null,1130]
[null,null,null,null,null,null,null,null,null,null,1131]
[null,null,null,null,null,null,null,null,null,null,1132]
[null,null,null,null,null,null,null,null,null,null,1133]
[null,null,null,null,null,null,null,null,null,null,1134]
[null,null,null,null,null,null,null,null,null,null,1135]
[null,null,null,null,null,null,null,null,null,null,1136]
[null,null,null,null,null,null,null,null,null,null,1137]
[null,null,null,null,null,null,null,null,null,null,1138]
[null,null,null,null,null,null,null,null,null,null,1139]
[null,null,null,null,null,null,null,null,null,null,1140]
[null,null,null,null,null,null,null,null,null,null,1141]
[null,null,null,null,null,null,null,null,null,null,1142]
[null,null,null,null,null,null,null,null,null,null,1143]
[null,null,null,null,null,null,null,null,null,null,1144]
[null,null,null,null,null,null,null,null,null,null,1145]
[null,null,null,null,null,null,null,null,null,null,1146]
[null,null,null,null,null,null,null,null,null,null,1147]
[null,null,null,null,null,null,null,null,null,null,1148]
[null,null,null,null,null,null,null,null,null,null,1149]
[null,null,null,null,null,null,null,null,null,null,1150]
[null,null,null,null,null,null,null,null,null,null,1151]
[null,null,null,null,null,null,null,null,null,null,1152]
[null,null,null,null,null,null,null,null,null,null,1153]
[null,null,null,null,null,null,null,null,null,null,1154]
[null,null,null,null,null,null,null,null,null,null,1155]
[null,null,null,null,null,null,null,null,null,null,1156]
[null,null,null,null,null,null,null,null,null,null,1157]
[null,null,null,null,null,null,null,null,null,null,1158]
[null,null,null,null,null,null,null,null,null,null,1159]
[null,null,null,null,null,null,null,null,null,null,1160]
[null,null,null,null,null,null,null,null,null,null,1161]
[null,null,null,null,null,null,null,null,null,null,1162]
[null,null,null,null,null,null,null,null,null,null,1163]
[null,null,null,null,null,null,null,null,null,null,1164]
[null,null,null,null,null,null,null,null,null,null,1165]
[null,null,null,null,null,null,null,null,null,null,1166]
[null,null,null,null,null,null,null,null,null,null,1167]
[null,null,null,null,null,null,null,null,null,null,1168]
[null,null,null,null,null,null,null,null,null,null,1169]
[null,null,null,null,null,null,null,null,null,null,1170]
[null,null,null,null,null,null,null,null,null,null,1171]
[null,null,null,null,null,null,null,null,null,null,1172]
[null,null,null,null,null,null,null,null,null,null,1173]
[null,null,null,null,null,null,null,null,null,null,1174]
[null,null,null,null,null,null,null,null,null,null,1175]
[null,null,null,null,null,null,null,null,null,null,1176]
[null,null,null,null,null,null,null,null,null,null,1177]
[null,null,null,null,null,null,null,null,null,null,1178]
[null,null,null,null,null,null,null,null,null,null,1179]
[null,null,null,null,null,null,null,null,null,null,1180]
[null,null,null,null,null,null,null,null,null,null,1181]
[null,null,null,null,null,null,null,null,null,null,1182]
[null,null,null,null,null,null,null,null,null,null,1183]
[null,null,null,null,null,null,null,null,null,null,1184]
[null,null,null,null,null,null,null,null,null,null,1185]
[null,null,null,null,null,null,null,null,null,null,1186]
[null,null,null,null,null,null,null,null,null,null,1187]
[null,null,null,null,null,null,null,null,null,null,1188]
[null,null,null,null,null,null,null,null,null,null,1189]
[null,null,null,null,null,null,null,null,null,null,1190]
[null,null,null,null,null,null,null,null,null,null,1191]
[null,null,null,null,null,null,null,null,null,null,1192]
[null,null,null,null,null,null,null,null,null,null,1193]
[null,null,null,null,null,null,null,null,null,null,1194]
[null,null,null,null,null,null,null,null,null,null,1195]
[null,null,null,null,null,null,null,null,null,null,1196]
[null,null,null,null,null,null,null,null,null,null,1197]
[null,null,null,null,null,null,null,null,null,null,1198]
[null,null,null,null,null,null,null,null,null,null,1199]
[null,null,null,null,null,null,null,null,null,null,1200]
[null,null,null,null,null,null,null,null,null,null,1201]
[null,null,null,null,null,null,null,null,null,null,1202]
[null,null,null,null,null,null,null,null,null,null,1203]
[null,null,null,null,null,null,null,null,null,null,1204]
[null,null,null,null,null,null,null,null,null,null,1205]
[null,null,null,null,null,null,null,null,null,null,1206]
[null,null,null,null,null,null,null,null,null,null,1207]
[null,null,null,null,null,null,null,null,null,null,1208]
[null,null,null,null,null,null,null,null,null,null,1209]
[null,null,null,null,null,null,null,null,null,null,1210]
[null,null,null,null,null,null,null,null,null,null,1211]
[null,null,null,null,null,null,null,null,null,null,1212]
[null,null,null,null,null,null,null,null,null,null,1213]
[null,null,null,null,null,null,null,null,null,null,1214]
[null,null,null,null,null,null,null,null,null,null,1215]
[null,null,null,null,null,null,null,null,null,null,1216]
[null,null,null,null,null,null,null,null,null,null,1217]
[null,null,null,null,null,null,null,null,null,null,1218]
[null,null,null,null,null,null,null,null,null,null,1219]
[null,null,null,null,null,null,null,null,null,null,1220]
[null,null,null,null,null,null,null,null,null,null,1221]
[null,null,null,null,null,null,null,null,null,null,1222]
[null,null,null,null,null,null,null,null,null,null,1223]
[null,null,null,null,null,null,null,null,null,null,1224]
[null,null,null,null,null,null,null,null,null,null,1225]
[null,null,null,null,null,null,null,null,null,null,1226]
[null,null,null,null,null,null,null,null,null,null,1227]
[null,null,null,null,null,null,null,null,null,null,1228]
[null,null,null,null,null,null,null,null,null,null,1229]
[null,null,null,null,null,null,null,null,null,null,1230]
[null,null,null,null,null,null,null,null,null,null,1231]
[null,null,null,null,null,null,null,null,null,null,1232]
[null,null,null,null,null,null,null,null,null,null,1233]
[null,null,null,null,null,null,null,null,null,null,1234]
[null,null,null,null,null,null,null,null,null,null,1235]
[null,null,null,null,null,null,null,null,null,null,1236]
[null,null,null,null,null,null,null,null,null,null,1237]
[null,null,null,null,null,null,null,null,null,null,1238]
[null,null,null,null,null,null,null,null,null,null,1239]
[null,null,null,null,null,null,null,null,null,null,1240]
[null,null,null,null,null,null,null,null,null,null,1241]
[null,null,null,null,null,null,null,null,null,null,1242]
[null,null,null,null,null,null,null,null,null,null,1243]
[null,null,null,null,null,null,null,null,null,null,1244]
[null,null,null,null,null,null,null,null,null,null,1245]
[null,null,null,null,null,null,null,null,null,null,1246]
[null,null,null,null,null,null,null,null,null,null,1247]
[null,null,null,null,null,null,null,null,null,null,1248]
[null,null,null,null,null,null,null,null,null,null,1249]
[null,null,null,null,null,null,null,null,null,null,1250]
[null,null,null,null,null,null,null,null,null,null,1251]
[null,null,null,null,null,null,null,null,null,null,1252]
[null,null,null,null,null,null,null,null,null,null,1253]
[null,null,null,null,null,null,null,null,null,null,1254]
[null,null,null,null,null,null,null,null,null,null,1255]
[null,null,null,null,null,null,null,null,null,null,1256]
[null,null,null,null,null,null,null,null,null,null,1257]
[null,null,null,null,null,null,null,null,null,null,1258]
[null,null,null,null,null,null,null,null,null,null,1259]
[null,null,null,null,null,null,null,null,null,null,1260]
[null,null,null,null,null,null,null,null,null,null,1261]
[null,null,null,null,null,null,null,null,null,null,1262]
[null,null,null,null,null,null,null,null,null,null,1263]
[null,null,null,null,null,null,null,null,null,null,1264]
[null,null,null,null,null,null,null,null,null,null,1265]
[null,null,null,null,null,null,null,null,null,null,1266]
[null,null,null,null,null,null,null,null,null,null,1267]
[null,null,null,null,null,null,null,null,null,null,1268]
[null,null,null,null,null,null,null,null,null,null,1269]
[null,null,null,null,null,null,null,null,null,null,1270]
[null,null,null,null,null,null,null,null,null,null,1271]
[null,null,null,null,null,null,null,null,null,null,1272]
[null,null,null,null,null,null,null,null,null,null,1273]
[null,null,null,null,null,null,null,null,null,null,1274]
[null,null,null,null,null,null,null,null,null,null,1275]
[null,null,null,null,null,null,null,null,null,null,1276]
[null,null,null,null,null,null,null,null,null,null,1277]
[null,null,null,null,null,null,null,null,null,null,1278]
[null,null,null,null,null,null,null,null,null,null,1279]
[null,null,null,null,null,null,null,null,null,null,1280]
[null,null,null,null,null,null,null,null,null,null,1281]
[null,null,null,null,null,null,null,null,null,null,1282]
[null,null,null,null,null,null,null,null,null,null,1283]
[null,null,null,null,null,null,null,null,null,null,1284]
[null,null,null,null,null,null,null,null,null,null,1285]
[null,null,null,null,null,null,null,null,null,null,1286]
[null,null,null,null,null,null,null,null,null,null,1287]
[null,null,null,null,null,null,null,null,null,null,1288]
[null,null,null,null,null,null,null,null,null,null,1289]
[null,null,null,null,null,null,null,null,null,null,1290]
[null,null,null,null,null,null,null,null,null,null,1291]
[null,null,null,null,null,null,null,null,null,null,1292]
[null,null,null,null,null,null,null,null,null,null,1293]
[null,null,null,null,null,null,null,null,null,null,1294]
[null,null,null,null,null,null,null,null,null,null,1295]
[null,null,null,null,null,null,null,null,null,null,1296]
[null,null,null,null,null,null,null,null,null,null,1297]
[null,null,null,null,null,null,null,null,null,null,1298]
[null,null,null,null,null,null,null,null,null,null,1299]
[null,null,null,null,null,null,null,null,null,null,1300]
[null,null,null,null,null,null,null,null,null,null,1301]
[null,null,null,null,null,null,null,null,null,null,1302]
[null,null,null,null,null,null,null,null,null,null,1303]
[null,null,null,null,null,null,null,null,null,null,1304]
[null,null,null,null,null,null,null,null,null,null,1305]
[null,null,null,null,null,null,null,null,null,null,1306]
[null,null,null,null,null,null,null,null,null,null,1307]
[null,null,null,null,null,null,null,null,null,null,1308]
[null,null,null,null,null,null,null,null,null,null,1309]
[null,null,null,null,null,null,null,null,null,null,1310]
[null,null,null,null,null,null,null,null,null,null,1311]
[null,null,null,null,null,null,null,null,null,null,1312]
[null,null,null,null,null,null,null,null,null,null,1313]
[null,null,null,null,null,null,null,null,null,null,1314]
[null,null,null,null,null,null,null,null,null,null,1315]
[null,null,null,null,null,null,null,null,null,null,1316]
[null,null,null,null,null,null,null,null,null,null,1317]
[null,null,null,null,null,null,null,null,null,null,1318]
[null,null,null,null,null,null,null,null,null,null,1319]
[null,null,null,null,null,null,null,null,null,null,1320]
[null,null,null,null,null,null,null,null,null,null,1321]
[null,null,null,null,null,null,null,null,null,null,1322]
[null,null,null,null,null,null,null,null,null,null,1323]
[null,null,null,null,null,null,null,null,null,null,1324]
[null,null,null,null,null,null,null,null,null,null,1325]
[null,null,null,null,null,null,null,null,null,null,1326]
[null,null,null,null,null,null,null,null,null,null,1327]
[null,null,null,null,null,null,null,null,null,null,1328]
[null,null,null,null,null,null,null,null,null,null,1329]
[null,null,null,null,null,null,null,null,null,null,1330]
[null,null,null,null,null,null,null,null,null,null,1331]
[null,null,null,null,null,null,null,null,null,null,1332]
[null,null,null,null,null,null,null,null,null,null,1333]
[null,null,null,null,null,null,null,null,null,null,1334]
[null,null,null,null,null,null,null,null,null,null,1335]
[null,null,null,null,null,null,null,null,null,null,1336]
[null,null,null,null,null,null,null,null,null,null,1337]
[null,null,null,null,null,null,null,null,null,null,1338]
[null,null,null,null,null,null,null,null,null,null,1339]
[null,null,null,null,null,null,null,null,null,null,1340]
[null,null,null,null,null,null,null,null,null,null,1341]
[null,null,null,null,null,null,null,null,null,null,1342]
[null,null,null,null,null,null,null,null,null,null,1343]
[null,null,null,null,null,null,null,null,null,null,1344]
[null,null,null,null,null,null,null,null,null,null,1345]
[null,null,null,null,null,null,null,null,null,null,1346]
[null,null,null,null,null,null,null,null,null,null,1347]
[null,null,null,null,null,null,null,null,null,null,1348]
[null,null,null,null,null,null,null,null,null,null,1349]
[null,null,null,null,null,null,null,null,null,null,1350]
[null,null,null,null,null,null,null,null,null,null,1351]
[null,null,null,null,null,null,null,null,null,null,1352]
[null,null,null,null,null,null,null,null,null,null,1353]
[null,null,null,null,null,null,null,null,null,null,1354]
[null,null,null,null,null,null,null,null,null,null,1355]
[null,null,null,null,null,null,null,null,null,null,1356]
[null,null,null,null,null,null,null,null,null,null,1357]
[null,null,null,null,null,null,null,null,null,null,1358]
[null,null,null,null,null,null,null,null,null,null,1359]
[null,null,null,null,null,null,null,null,null,null,1360]
[null,null,null,null,null,null,null,null,null,null,1361]
[null,null,null,null,null,null,null,null,null,null,1362]
[null,null,null,null,null,null,null,null,null,null,1363]
[null,null,null,null,null,null,null,null,null,null,1364]
[null,null,null,null,null,null,null,null,null,null,1365]
[null,null,null,null,null,null,null,null,null,null,1366]
[null,null,null,null,null,null,null,null,null,null,1367]
[null,null,null,null,null,null,null,null,null,null,1368]
[null,null,null,null,null,null,null,null,null,null,1369]
[null,null,null,null,null,null,null,null,null,null,1370]
[null,null,null,null,null,null,null,null,null,null,1371]
[null,null,null,null,null,null,null,null,null,null,1372]
[null,null,null,null,null,null,null,null,null,null,1373]
[null,null,null,null,null,null,null,null,null,null,1374]
[null,null,null,null,null,null,null,null,null,null,1375]
[null,null,null,null,null,null,null,null,null,null,1376]
[null,null,null,null,null,null,null,null,null,null,1377]
[null,null,null,null,null,null,null,null,null,null,1378]
[null,null,null,null,null,null,null,null,null,null,1379]
[null,null,null,null,null,null,null,null,null,null,1380]
[null,null,null,null,null,null,null,null,null,null,1381]
[null,null,null,null,null,null,null,null,null,null,1382]
[null,null,null,null,null,null,null,null,null,null,1383]
[null,null,null,null,null,null,null,null,null,null,1384]
[null,null,null,null,null,null,null,null,null,null,1385]
[null,null,null,null,null,null,null,null,null,null,1386]
[null,null,null,null,null,null,null,null,null,null,1387]
[null,null,null,null,null,null,null,null,null,null,1388]
[null,null,null,null,null,null,null,null,null,null,1389]
[null,null,null,null,null,null,null,null,null,null,1390]
[null,null,null,null,null,null,null,null,null,null,1391]
[null,null,null,null,null,null,null,null,null,null,1392]
[null,null,null,null,null,null,null,null,null,null,1393]
[null,null,null,null,null,null,null,null,null,null,1394]
[null,null,null,null,null,null,null,null,null,null,1395]
[null,null,null,null,null,null,null,null,null,null,1396]
[null,null,null,null,null,null,null,null,null,null,1397]
[null,null,null,null,null,null,null,null,null,null,1398]
[null,null,null,null,null,null,null,null,null,null,1399]
[null,null,null,null,null,null,null,null,null,null,1400]
[null,null,null,null,null,null,null,null,null,null,1401]
[null,null,null,null,null,null,null,null,null,null,1402]
[null,null,null,null,null,null,null,null,null,null,1403]
[null,null,null,null,null,null,null,null,null,null,1404]
[null,null,null,null,null,null,null,null,null,null,1405]
[null,null,null,null,null,null,null,null,null,null,1406]
[null,null,null,null,null,null,null,null,null,null,1407]
[null,null,null,null,null,null,null,null,null,null,1408]
[null,null,null,null,null,null,null,null,null,null,1409]
[null,null,null,null,null,null,null,null,null,null,1410]
[null,null,null,null,null,null,null,null,null,null,1411]
[null,null,null,null,null,null,null,null,null,null,1412]
[null,null,null,null,null,null,null,null,null,null,1413]
[null,null,null,null,null,null,null,null,null,null,1414]
[null,null,null,null,null,null,null,null,null,null,1415]
[null,null,null,null,null,null,null,null,null,null,1416]
[null,null,null,null,null,null,null,null,null,null,1417]
[null,null,null,null,null,null,null,null,null,null,1418]
[null,null,null,null,null,null,null,null,null,null,1419]
[null,null,null,null,null,null,null,null,null,null,1420]
[null,null,null,null,null,null,null,null,null,null,1421]
[null,null,null,null,null,null,null,null,null,null,1422]
[null,null,null,null,null,null,null,null,null,null,1423]
[null,null,null,null,null,null,null,null,null,null,1424]
[null,null,null,null,null,null,null,null,null,null,1425]
[null,null,null,null,null,null,null,null,null,null,1426]
[null,null,null,null,null,null,null,null,null,null,1427]
[null,null,null,null,null,null,null,null,null,null,1428]
[null,null,null,null,null,null,null,null,null,null,1429]
[null,null,null,null,null,null,null,null,null,null,1430]
[null,null,null,null,null,null,null,null,null,null,1431]
[null,null,null,null,null,null,null,null,null,null,1432]
[null,null,null,null,null,null,null,null,null,null,1433]
[null,null,null,null,null,null,null,null,null,null,1434]
[null,null,null,null,null,null,null,null,null,null,1435]
[null,null,null,null,null,null,null,null,null,null,1436]
[null,null,null,null,null,null,null,null,null,null,1437]
[null,null,null,null,null,null,null,null,null,null,1438]
[null,null,null,null,null,null,null,null,null,null,1439]
[null,null,null,null,null,null,null,null,null,null,1440]
[null,null,null,null,null,null,null,null,null,null,1441]
[null,null,null,null,null,null,null,null,null,null,1442]
[null,null,null,null,null,null,null,null,null,null,1443]
[null,null,null,null,null,null,null,null,null,null,1444]
[null,null,null,null,null,null,null,null,null,null,1445]
[null,null,null,null,null,null,null,null,null,null,1446]
[null,null,null,null,null,null,null,null,null,null,1447]
[null,null,null,null,null,null,null,null,null,null,1448]
[null,null,null,null,null,null,null,null,null,null,1449]
[null,null,null,null,null,null,null,null,null,null,1450]
[null,null,null,null,null,null,null,null,null,null,1451]
[null,null,null,null,null,null,null,null,null,null,1452]
[null,null,null,null,null,null,null,null,null,null,1453]
[null,null,null,null,null,null,null,null,null,null,1454]
[null,null,null,null,null,null,null,null,null,null,1455]
[null,null,null,null,null,null,null,null,null,null,1456]
[null,null,null,null,null,null,null,null,null,null,1457]
[null,null,null,null,null,null,null,null,null,null,1458]
[null,null,null,null,null,null,null,null,null,null,1459]
[null,null,null,null,null,null,null,null,null,null,1460]
[null,null,null,null,null,null,null,null,null,null,1461]
[null,null,null,null,null,null,null,null,null,null,1462]
[null,null,null,null,null,null,null,null,null,null,1463]
[null,null,null,null,null,null,null,null,null,null,1464]
[null,null,null,null,null,null,null,null,null,null,1465]
[null,null,null,null,null,null,null,null,null,null,1466]
[null,null,null,null,null,null,null,null,null,null,1467]
[null,null,null,null,null,null,null,null,null,null,1468]
[null,null,null,null,null,null,null,null,null,null,1469]
[null,null,null,null,null,null,null,null,null,null,1470]
[null,null,null,null,null,null,null,null,null,null,1471]
[null,null,null,null,null,null,null,null,null,null,1472]
[null,null,null,null,null,null,null,null,null,null,1473]
[null,null,null,null,null,null,null,null,null,null,1474]
[null,null,null,null,null,null,null,null,null,null,1475]
[null,null,null,null,null,null,null,null,null,null,1476]
[null,null,null,null,null,null,null,null,null,null,1477]
[null,null,null,null,null,null,null,null,null,null,1478]
[null,null,null,null,null,null,null,null,null,null,1479]
[null,null,null,null,null,null,null,null,null,null,1480]
[null,null,null,null,null,null,null,null,null,null,1481]
[null,null,null,null,null,null,null,null,null,null,1482]
[null,null,null,null,null,null,null,null,null,null,1483]
[null,null,null,null,null,null,null,null,null,null,1484]
[null,null,null,null,null,null,null,null,null,null,1485]
[null,null,null,null,null,null,null,null,null,null,1486]
[null,null,null,null,null,null,null,null,null,null,1487]
[null,null,null,null,null,null,null,null,null,null,1488]
[null,null,null,null,null,null,null,null,null,null,1489]
[null,null,null,null,null,null,null,null,null,null,1490]
[null,null,null,null,null,null,null,null,null,null,1491]
[null,null,null,null,null,null,null,null,null,null,1492]
[null,null,null,null,null,null,null,null,null,null,1493]
[null,null,null,null,null,null,null,null,null,null,1494]
[null,null,null,null,null,null,null,null,null,null,1495]
[null,null,null,null,null,null,null,null,null,null,1496]
[null,null,null,null,null,null,null,null,null,null,1497]
[null,null,null,null,null,null,null,null,null,null,1498]
[null,null,null,null,null,null,null,null,null,null,1499]
[null,null,null,null,null,null,null,null,null,null,1500]

{"sheet":"SE Obr5","index":51,"n_rows":26,"n_cols":27,"rows_kept":26,"cut":false,"hidden":false,"merged":[[12,7,12,9],[12,11,12,13],[12,15,12,17],[12,19,12,21],[12,23,12,25],[2,1,2,25],[9,1,9,24],[5,3,5,19],[6,3,6,19],[8,1,8,24],[14,7,14,9],[14,11,14,13],[14,15,14,17],[14,19,14,21],[14,23,14,25],[13,7,13,9],[13,11,13,13],[13,15,13,17],[13,19,13,21],[13,23,13,25],[24,4,24,5],[24,13,24,16],[16,7,16,9],[16,11,16,13],[16,15,16,17],[21,7,21,9],[21,11,21,13],[21,15,21,17],[18,7,18,9],[18,11,18,13],[18,15,18,17],[21,19,21,21],[21,23,21,25],[22,7,22,9],[22,11,22,13],[22,15,22,17],[22,19,22,21],[22,23,22,25],[15,23,15,25],[17,7,17,9],[17,11,17,13],[17,15,17,17],[17,19,17,21],[17,23,17,25],[16,19,16,21],[16,23,16,25],[15,7,15,9],[15,11,15,13],[15,15,15,17],[15,19,15,21],[18,19,18,21],[18,23,18,25],[19,7,19,9],[19,11,19,13],[19,15,19,17],[19,19,19,21],[19,23,19,25]]}
[]
[null,"Child Support Guidelines Calculator - Schedule B - Self Employment Income Entry"]
[]
[]
[]
[null,{"$f":"NameScr!$B$7","v":"Obligor:"},null,{"$f":"HomeScr!$C$5","v":" "}]
[null,{"$f":"NameScr!$B$13","v":"Obligee:"},null,{"$f":"HomeScr!$C$6","v":" "}]
[null,null,"Activity number:  5  for",null,null,{"$f":"NameScr!C7","v":0},null,"(enter up to 2 lines for business description below)   "]
[]
[]
[null,"                                                                                "]
[null,"Tax Year . . . . . . . . . . . . . . . . . . . . . . . . . . . . . . . . . . . . . . . . . . . . . . "]
[null,null,"Total income . . . . . . . . . . . . . . . . . . . . . . . . . . . . . . . . . . . . . . . . ",null,null,null,null,null,null,null,{"$f":"VALUE(H13)","v":0},null,null,null,{"$f":"VALUE(L13)","v":0},null,null,null,{"$f":"VALUE(P13)","v":0},null,null,null,{"$f":"VALUE(T13)","v":0},null,null,null,{"$f":"VALUE(X13)","v":0}]
[null,null,"Income that is not the obligor's . . . . . . . . . . . . . . . . . . . . . . . . .",null,null,null,null,null,null,null,{"$f":"VALUE(H14)","v":0},null,null,null,{"$f":"VALUE(L14)","v":0},null,null,null,{"$f":"VALUE(P14)","v":0},null,null,null,{"$f":"VALUE(T14)","v":0},null,null,null,{"$f":"VALUE(X14)","v":0}]
[null,null,"Income that is not from self employment . . . . . . . . . . . . . . . . . ",null,null,null,null,null,null,null,0,null,null,null,0,null,null,null,0,null,null,null,0,null,null,null,0]
[null,null,"Undistributed partnership\\S-corp income . . . . . . . . . . . . . . . .",null,null,null,null,null,null,null,0,null,null,null,0,null,null,null,0,null,null,null,0,null,null,null,0]
[null,null,"Benefits\\pension\\profit sharing income . . . . . . . . . . . . . . . . . . ",null,null,null,null,null,null,null,0,null,null,null,0,null,null,null,0,null,null,null,0,null,null,null,0]
[null,null,"Payments to household member over fair market value  . . . . ",null,null,null,null,null,null,null,0,null,null,null,0,null,null,null,0,null,null,null,0,null,null,null,0]
[null,null,"C-corp taxable income . . . . . . . . . . . . . . . . . . . . . . . . . . . . . . . .",null,null,null,null,null,null,null,0,null,null,null,0,null,null,null,0,null,null,null,0,null,null,null,0]
[null,null,"C-corp federal income tax . . . . . . . . . . . . . . . . . . . . . . . . . . . . . ",null,null,null,null,null,null,null,0,null,null,null,0,null,null,null,0,null,null,null,0,null,null,null,0]
[null,null,"Obligor's ownership interest in C-corp (percentage) . . . . . . .",null,null,null,null,null,null,null,{"$f":"VALUE(I21)","v":0},null,null,null,{"$f":"VALUE(M21)","v":0},null,null,null,{"$f":"VALUE(Q21)","v":0},null,null,null,{"$f":"VALUE(U21)","v":0},null,null,null,{"$f":"VALUE(Y21)","v":0}]
[null,"Total additions . . . . . . . . . . . . . . . . . . . . . . . . . . . . . . . . . . . . . . . . . .",null,null,null,null,null,{"$f":"(K19-K20)*ROUND(((I21)/100*0.7),2)","v":0},null,null,null,{"$f":"(O19-O20)*ROUND(((M21)/100*0.7),2)","v":0},null,null,null,{"$f":"(S19-S20)*ROUND(((Q21)/100*0.7),2)","v":0},null,null,null,{"$f":"(W19-W20)*ROUND(((U21)/100*0.7),2)","v":0},null,null,null,{"$f":"(AA19-AA20)*ROUND(((Y21)/100*0.7),2)","v":0}]
[null,"Total annual net income from self-employment  . . . . . . . . . . . . . . . ",null,null,null,null,null,{"$f":"H13-(H14+H15+H16)+(H17+H18+H22)","v":0},null,null,null,{"$f":"L13-(L14+L15+L16)+(L17+L18+L22)","v":0},null,null,null,{"$f":"P13-(P14+P15+P16)+(P17+P18+P22)","v":0},null,null,null,{"$f":"T13-(T14+T15+T16)+(T17+T18+T22)","v":0},null,null,null,{"$f":"X13-(X14+X15+X16)+(X17+X18+X22)","v":0}]
[null,"                                                                                ",null,null,null,null,"Total years for average:",null,null,null,null,null,null,null,null,null,{"$f":"IF(M12=0,1,IF(Q12=0,2,IF(U12=0,3,IF(Y12=0,4,5))))","v":1}]
[null,"Total net income:",null,null,{"$f":"H23+L23+P23+T23+X23","v":0},null,"Average annual income:",null,null,null,null,null,null,{"$f":"ROUND(E25/Q24,0)","v":0}]
[null,5,"R",null,null,null,null,null,null,null,null,null,null,null,null,null,null,null,null,null,null,null,null,null,null,{"$f":"IF(N25<0,\"Y\",\"\")","v":""}]

{"sheet":"SE Obr6","index":52,"n_rows":26,"n_cols":27,"rows_kept":26,"cut":false,"hidden":false,"merged":[[12,7,12,9],[12,11,12,13],[12,15,12,17],[12,19,12,21],[12,23,12,25],[2,1,2,25],[9,1,9,24],[5,3,5,19],[6,3,6,19],[8,1,8,24],[14,7,14,9],[14,11,14,13],[14,15,14,17],[14,19,14,21],[14,23,14,25],[13,7,13,9],[13,11,13,13],[13,15,13,17],[13,19,13,21],[13,23,13,25],[24,4,24,5],[24,13,24,16],[16,7,16,9],[16,11,16,13],[16,15,16,17],[21,7,21,9],[21,11,21,13],[21,15,21,17],[18,7,18,9],[18,11,18,13],[18,15,18,17],[21,19,21,21],[21,23,21,25],[22,7,22,9],[22,11,22,13],[22,15,22,17],[22,19,22,21],[22,23,22,25],[15,23,15,25],[17,7,17,9],[17,11,17,13],[17,15,17,17],[17,19,17,21],[17,23,17,25],[16,19,16,21],[16,23,16,25],[15,7,15,9],[15,11,15,13],[15,15,15,17],[15,19,15,21],[18,19,18,21],[18,23,18,25],[19,7,19,9],[19,11,19,13],[19,15,19,17],[19,19,19,21],[19,23,19,25]]}
[]
[null,"Child Support Guidelines Calculator - Schedule B - Self Employment Income Entry"]
[]
[]
[]
[null,{"$f":"NameScr!$B$7","v":"Obligor:"},null,{"$f":"HomeScr!$C$5","v":" "}]
[null,{"$f":"NameScr!$B$13","v":"Obligee:"},null,{"$f":"HomeScr!$C$6","v":" "}]
[null,null,"Activity number:  6  for",null,null,{"$f":"NameScr!C7","v":0},null,"(enter up to 2 lines for business description below)   "]
[]
[]
[null,"                                                                                "]
[null,"Tax Year . . . . . . . . . . . . . . . . . . . . . . . . . . . . . . . . . . . . . . . . . . . . . . "]
[null,null,"Total income . . . . . . . . . . . . . . . . . . . . . . . . . . . . . . . . . . . . . . . . ",null,null,null,null,null,null,null,{"$f":"VALUE(H13)","v":0},null,null,null,{"$f":"VALUE(L13)","v":0},null,null,null,{"$f":"VALUE(P13)","v":0},null,null,null,{"$f":"VALUE(T13)","v":0},null,null,null,{"$f":"VALUE(X13)","v":0}]
[null,null,"Income that is not the obligor's . . . . . . . . . . . . . . . . . . . . . . . . .",null,null,null,null,null,null,null,{"$f":"VALUE(H14)","v":0},null,null,null,{"$f":"VALUE(L14)","v":0},null,null,null,{"$f":"VALUE(P14)","v":0},null,null,null,{"$f":"VALUE(T14)","v":0},null,null,null,{"$f":"VALUE(X14)","v":0}]
[null,null,"Income that is not from self employment . . . . . . . . . . . . . . . . . ",null,null,null,null,null,null,null,0,null,null,null,0,null,null,null,0,null,null,null,0,null,null,null,0]
[null,null,"Undistributed partnership\\S-corp income . . . . . . . . . . . . . . . .",null,null,null,null,null,null,null,0,null,null,null,0,null,null,null,0,null,null,null,0,null,null,null,0]
[null,null,"Benefits\\pension\\profit sharing income . . . . . . . . . . . . . . . . . . ",null,null,null,null,null,null,null,0,null,null,null,0,null,null,null,0,null,null,null,0,null,null,null,0]
[null,null,"Payments to household member over fair market value  . . . . ",null,null,null,null,null,null,null,0,null,null,null,0,null,null,null,0,null,null,null,0,null,null,null,0]
[null,null,"C-corp taxable income . . . . . . . . . . . . . . . . . . . . . . . . . . . . . . . .",null,null,null,null,null,null,null,0,null,null,null,0,null,null,null,0,null,null,null,0,null,null,null,0]
[null,null,"C-corp federal income tax . . . . . . . . . . . . . . . . . . . . . . . . . . . . . ",null,null,null,null,null,null,null,0,null,null,null,0,null,null,null,0,null,null,null,0,null,null,null,0]
[null,null,"Obligor's ownership interest in C-corp (percentage) . . . . . . .",null,null,null,null,null,null,null,{"$f":"VALUE(I21)","v":0},null,null,null,{"$f":"VALUE(M21)","v":0},null,null,null,{"$f":"VALUE(Q21)","v":0},null,null,null,{"$f":"VALUE(U21)","v":0},null,null,null,{"$f":"VALUE(Y21)","v":0}]
[null,"Total additions . . . . . . . . . . . . . . . . . . . . . . . . . . . . . . . . . . . . . . . . . .",null,null,null,null,null,{"$f":"(K19-K20)*ROUND(((I21)/100*0.7),2)","v":0},null,null,null,{"$f":"(O19-O20)*ROUND(((M21)/100*0.7),2)","v":0},null,null,null,{"$f":"(S19-S20)*ROUND(((Q21)/100*0.7),2)","v":0},null,null,null,{"$f":"(W19-W20)*ROUND(((U21)/100*0.7),2)","v":0},null,null,null,{"$f":"(AA19-AA20)*ROUND(((Y21)/100*0.7),2)","v":0}]
[null,"Total annual net income from self-employment  . . . . . . . . . . . . . . . ",null,null,null,null,null,{"$f":"H13-(H14+H15+H16)+(H17+H18+H22)","v":0},null,null,null,{"$f":"L13-(L14+L15+L16)+(L17+L18+L22)","v":0},null,null,null,{"$f":"P13-(P14+P15+P16)+(P17+P18+P22)","v":0},null,null,null,{"$f":"T13-(T14+T15+T16)+(T17+T18+T22)","v":0},null,null,null,{"$f":"X13-(X14+X15+X16)+(X17+X18+X22)","v":0}]
[null,"                                                                                ",null,null,null,null,"Total years for average:",null,null,null,null,null,null,null,null,null,{"$f":"IF(M12=0,1,IF(Q12=0,2,IF(U12=0,3,IF(Y12=0,4,5))))","v":1}]
[null,"Total net income:",null,null,{"$f":"H23+L23+P23+T23+X23","v":0},null,"Average annual income:",null,null,null,null,null,null,{"$f":"ROUND(E25/Q24,0)","v":0}]
[null,6,"R",null,null,null,null,null,null,null,null,null,null,null,null,null,null,null,null,null,null,null,null,null,null,{"$f":"IF(N25<0,\"Y\",\"\")","v":""}]

{"sheet":"SE Obr7","index":53,"n_rows":26,"n_cols":27,"rows_kept":26,"cut":false,"hidden":false,"merged":[[12,7,12,9],[12,11,12,13],[12,15,12,17],[12,19,12,21],[12,23,12,25],[2,1,2,25],[9,1,9,24],[5,3,5,19],[6,3,6,19],[8,1,8,24],[14,7,14,9],[14,11,14,13],[14,15,14,17],[14,19,14,21],[14,23,14,25],[13,7,13,9],[13,11,13,13],[13,15,13,17],[13,19,13,21],[13,23,13,25],[24,4,24,5],[24,13,24,16],[16,7,16,9],[16,11,16,13],[16,15,16,17],[21,7,21,9],[21,11,21,13],[21,15,21,17],[18,7,18,9],[18,11,18,13],[18,15,18,17],[21,19,21,21],[21,23,21,25],[22,7,22,9],[22,11,22,13],[22,15,22,17],[22,19,22,21],[22,23,22,25],[15,23,15,25],[17,7,17,9],[17,11,17,13],[17,15,17,17],[17,19,17,21],[17,23,17,25],[16,19,16,21],[16,23,16,25],[15,7,15,9],[15,11,15,13],[15,15,15,17],[15,19,15,21],[18,19,18,21],[18,23,18,25],[19,7,19,9],[19,11,19,13],[19,15,19,17],[19,19,19,21],[19,23,19,25]]}
[]
[null,"Child Support Guidelines Calculator - Schedule B - Self Employment Income Entry"]
[]
[]
[]
[null,{"$f":"NameScr!$B$7","v":"Obligor:"},null,{"$f":"HomeScr!$C$5","v":" "}]
[null,{"$f":"NameScr!$B$13","v":"Obligee:"},null,{"$f":"HomeScr!$C$6","v":" "}]
[null,null,"Activity number:  7  for",null,null,{"$f":"NameScr!C7","v":0},null,"(enter up to 2 lines for business description below)   "]
[]
[]
[null,"                                                                                "]
[null,"Tax Year . . . . . . . . . . . . . . . . . . . . . . . . . . . . . . . . . . . . . . . . . . . . . . "]
[null,null,"Total income . . . . . . . . . . . . . . . . . . . . . . . . . . . . . . . . . . . . . . . . ",null,null,null,null,null,null,null,{"$f":"VALUE(H13)","v":0},null,null,null,{"$f":"VALUE(L13)","v":0},null,null,null,{"$f":"VALUE(P13)","v":0},null,null,null,{"$f":"VALUE(T13)","v":0},null,null,null,{"$f":"VALUE(X13)","v":0}]
[null,null,"Income that is not the obligor's . . . . . . . . . . . . . . . . . . . . . . . . .",null,null,null,null,null,null,null,{"$f":"VALUE(H14)","v":0},null,null,null,{"$f":"VALUE(L14)","v":0},null,null,null,{"$f":"VALUE(P14)","v":0},null,null,null,{"$f":"VALUE(T14)","v":0},null,null,null,{"$f":"VALUE(X14)","v":0}]
[null,null,"Income that is not from self employment . . . . . . . . . . . . . . . . . ",null,null,null,null,null,null,null,0,null,null,null,0,null,null,null,0,null,null,null,0,null,null,null,0]
[null,null,"Undistributed partnership\\S-corp income . . . . . . . . . . . . . . . .",null,null,null,null,null,null,null,0,null,null,null,0,null,null,null,0,null,null,null,0,null,null,null,0]
[null,null,"Benefits\\pension\\profit sharing income . . . . . . . . . . . . . . . . . . ",null,null,null,null,null,null,null,0,null,null,null,0,null,null,null,0,null,null,null,0,null,null,null,0]
[null,null,"Payments to household member over fair market value  . . . . ",null,null,null,null,null,null,null,0,null,null,null,0,null,null,null,0,null,null,null,0,null,null,null,0]
[null,null,"C-corp taxable income . . . . . . . . . . . . . . . . . . . . . . . . . . . . . . . .",null,null,null,null,null,null,null,0,null,null,null,0,null,null,null,0,null,null,null,0,null,null,null,0]
[null,null,"C-corp federal income tax . . . . . . . . . . . . . . . . . . . . . . . . . . . . . ",null,null,null,null,null,null,null,0,null,null,null,0,null,null,null,0,null,null,null,0,null,null,null,0]
[null,null,"Obligor's ownership interest in C-corp (percentage) . . . . . . .",null,null,null,null,null,null,null,{"$f":"VALUE(I21)","v":0},null,null,null,{"$f":"VALUE(M21)","v":0},null,null,null,{"$f":"VALUE(Q21)","v":0},null,null,null,{"$f":"VALUE(U21)","v":0},null,null,null,{"$f":"VALUE(Y21)","v":0}]
[null,"Total additions . . . . . . . . . . . . . . . . . . . . . . . . . . . . . . . . . . . . . . . . . .",null,null,null,null,null,{"$f":"(K19-K20)*ROUND(((I21)/100*0.7),2)","v":0},null,null,null,{"$f":"(O19-O20)*ROUND(((M21)/100*0.7),2)","v":0},null,null,null,{"$f":"(S19-S20)*ROUND(((Q21)/100*0.7),2)","v":0},null,null,null,{"$f":"(W19-W20)*ROUND(((U21)/100*0.7),2)","v":0},null,null,null,{"$f":"(AA19-AA20)*ROUND(((Y21)/100*0.7),2)","v":0}]
[null,"Total annual net income from self-employment  . . . . . . . . . . . . . . . ",null,null,null,null,null,{"$f":"H13-(H14+H15+H16)+(H17+H18+H22)","v":0},null,null,null,{"$f":"L13-(L14+L15+L16)+(L17+L18+L22)","v":0},null,null,null,{"$f":"P13-(P14+P15+P16)+(P17+P18+P22)","v":0},null,null,null,{"$f":"T13-(T14+T15+T16)+(T17+T18+T22)","v":0},null,null,null,{"$f":"X13-(X14+X15+X16)+(X17+X18+X22)","v":0}]
[null,"                                                                                ",null,null,null,null,"Total years for average:",null,null,null,null,null,null,null,null,null,{"$f":"IF(M12=0,1,IF(Q12=0,2,IF(U12=0,3,IF(Y12=0,4,5))))","v":1}]
[null,"Total net income:",null,null,{"$f":"H23+L23+P23+T23+X23","v":0},null,"Average annual income:",null,null,null,null,null,null,{"$f":"ROUND(E25/Q24,0)","v":0}]
[null,7,"R",null,null,null,null,null,null,null,null,null,null,null,null,null,null,null,null,null,null,null,null,null,null,{"$f":"IF(N25<0,\"Y\",\"\")","v":""}]

{"sheet":"SE Obr8","index":54,"n_rows":26,"n_cols":27,"rows_kept":26,"cut":false,"hidden":false,"merged":[[12,7,12,9],[12,11,12,13],[12,15,12,17],[12,19,12,21],[12,23,12,25],[2,1,2,25],[9,1,9,24],[5,3,5,19],[6,3,6,19],[8,1,8,24],[14,7,14,9],[14,11,14,13],[14,15,14,17],[14,19,14,21],[14,23,14,25],[13,7,13,9],[13,11,13,13],[13,15,13,17],[13,19,13,21],[13,23,13,25],[24,4,24,5],[24,13,24,16],[16,7,16,9],[16,11,16,13],[16,15,16,17],[21,7,21,9],[21,11,21,13],[21,15,21,17],[18,7,18,9],[18,11,18,13],[18,15,18,17],[21,19,21,21],[21,23,21,25],[22,7,22,9],[22,11,22,13],[22,15,22,17],[22,19,22,21],[22,23,22,25],[15,23,15,25],[17,7,17,9],[17,11,17,13],[17,15,17,17],[17,19,17,21],[17,23,17,25],[16,19,16,21],[16,23,16,25],[15,7,15,9],[15,11,15,13],[15,15,15,17],[15,19,15,21],[18,19,18,21],[18,23,18,25],[19,7,19,9],[19,11,19,13],[19,15,19,17],[19,19,19,21],[19,23,19,25]]}
[]
[null,"Child Support Guidelines Calculator - Schedule B - Self Employment Income Entry"]
[]
[]
[]
[null,{"$f":"NameScr!$B$7","v":"Obligor:"},null,{"$f":"HomeScr!$C$5","v":" "}]
[null,{"$f":"NameScr!$B$13","v":"Obligee:"},null,{"$f":"HomeScr!$C$6","v":" "}]
[null,null,"Activity number:  8  for",null,null,{"$f":"NameScr!C7","v":0},null,"(enter up to 2 lines for business description below)   "]
[]
[]
[null,"                                                                                "]
[null,"Tax Year . . . . . . . . . . . . . . . . . . . . . . . . . . . . . . . . . . . . . . . . . . . . . . "]
[null,null,"Total income . . . . . . . . . . . . . . . . . . . . . . . . . . . . . . . . . . . . . . . . ",null,null,null,null,null,null,null,{"$f":"VALUE(H13)","v":0},null,null,null,{"$f":"VALUE(L13)","v":0},null,null,null,{"$f":"VALUE(P13)","v":0},null,null,null,{"$f":"VALUE(T13)","v":0},null,null,null,{"$f":"VALUE(X13)","v":0}]
[null,null,"Income that is not the obligor's . . . . . . . . . . . . . . . . . . . . . . . . .",null,null,null,null,null,null,null,{"$f":"VALUE(H14)","v":0},null,null,null,{"$f":"VALUE(L14)","v":0},null,null,null,{"$f":"VALUE(P14)","v":0},null,null,null,{"$f":"VALUE(T14)","v":0},null,null,null,{"$f":"VALUE(X14)","v":0}]
[null,null,"Income that is not from self employment . . . . . . . . . . . . . . . . . ",null,null,null,null,null,null,null,0,null,null,null,0,null,null,null,0,null,null,null,0,null,null,null,0]
[null,null,"Undistributed partnership\\S-corp income . . . . . . . . . . . . . . . .",null,null,null,null,null,null,null,0,null,null,null,0,null,null,null,0,null,null,null,0,null,null,null,0]
[null,null,"Benefits\\pension\\profit sharing income . . . . . . . . . . . . . . . . . . ",null,null,null,null,null,null,null,0,null,null,null,0,null,null,null,0,null,null,null,0,null,null,null,0]
[null,null,"Payments to household member over fair market value  . . . . ",null,null,null,null,null,null,null,0,null,null,null,0,null,null,null,0,null,null,null,0,null,null,null,0]
[null,null,"C-corp taxable income . . . . . . . . . . . . . . . . . . . . . . . . . . . . . . . .",null,null,null,null,null,null,null,0,null,null,null,0,null,null,null,0,null,null,null,0,null,null,null,0]
[null,null,"C-corp federal income tax . . . . . . . . . . . . . . . . . . . . . . . . . . . . . ",null,null,null,null,null,null,null,0,null,null,null,0,null,null,null,0,null,null,null,0,null,null,null,0]
[null,null,"Obligor's ownership interest in C-corp (percentage) . . . . . . .",null,null,null,null,null,null,null,{"$f":"VALUE(I21)","v":0},null,null,null,{"$f":"VALUE(M21)","v":0},null,null,null,{"$f":"VALUE(Q21)","v":0},null,null,null,{"$f":"VALUE(U21)","v":0},null,null,null,{"$f":"VALUE(Y21)","v":0}]
[null,"Total additions . . . . . . . . . . . . . . . . . . . . . . . . . . . . . . . . . . . . . . . . . .",null,null,null,null,null,{"$f":"(K19-K20)*ROUND(((I21)/100*0.7),2)","v":0},null,null,null,{"$f":"(O19-O20)*ROUND(((M21)/100*0.7),2)","v":0},null,null,null,{"$f":"(S19-S20)*ROUND(((Q21)/100*0.7),2)","v":0},null,null,null,{"$f":"(W19-W20)*ROUND(((U21)/100*0.7),2)","v":0},null,null,null,{"$f":"(AA19-AA20)*ROUND(((Y21)/100*0.7),2)","v":0}]
[null,"Total annual net income from self-employment  . . . . . . . . . . . . . . . ",null,null,null,null,null,{"$f":"H13-(H14+H15+H16)+(H17+H18+H22)","v":0},null,null,null,{"$f":"L13-(L14+L15+L16)+(L17+L18+L22)","v":0},null,null,null,{"$f":"P13-(P14+P15+P16)+(P17+P18+P22)","v":0},null,null,null,{"$f":"T13-(T14+T15+T16)+(T17+T18+T22)","v":0},null,null,null,{"$f":"X13-(X14+X15+X16)+(X17+X18+X22)","v":0}]
[null,"                                                                                ",null,null,null,null,"Total years for average:",null,null,null,null,null,null,null,null,null,{"$f":"IF(M12=0,1,IF(Q12=0,2,IF(U12=0,3,IF(Y12=0,4,5))))","v":1}]
[null,"Total net income:",null,null,{"$f":"H23+L23+P23+T23+X23","v":0},null,"Average annual income:",null,null,null,null,null,null,{"$f":"ROUND(E25/Q24,0)","v":0}]
[null,8,"R",null,null,null,null,null,null,null,null,null,null,null,null,null,null,null,null,null,null,null,null,null,null,{"$f":"IF(N25<0,\"Y\",\"\")","v":""}]

{"sheet":"SE Obr9","index":55,"n_rows":26,"n_cols":27,"rows_kept":26,"cut":false,"hidden":false,"merged":[[12,7,12,9],[12,11,12,13],[12,15,12,17],[12,19,12,21],[12,23,12,25],[2,1,2,25],[9,1,9,24],[5,3,5,19],[6,3,6,19],[8,1,8,24],[14,7,14,9],[14,11,14,13],[14,15,14,17],[14,19,14,21],[14,23,14,25],[13,7,13,9],[13,11,13,13],[13,15,13,17],[13,19,13,21],[13,23,13,25],[24,4,24,5],[24,13,24,16],[16,7,16,9],[16,11,16,13],[16,15,16,17],[21,7,21,9],[21,11,21,13],[21,15,21,17],[18,7,18,9],[18,11,18,13],[18,15,18,17],[21,19,21,21],[21,23,21,25],[22,7,22,9],[22,11,22,13],[22,15,22,17],[22,19,22,21],[22,23,22,25],[15,23,15,25],[17,7,17,9],[17,11,17,13],[17,15,17,17],[17,19,17,21],[17,23,17,25],[16,19,16,21],[16,23,16,25],[15,7,15,9],[15,11,15,13],[15,15,15,17],[15,19,15,21],[18,19,18,21],[18,23,18,25],[19,7,19,9],[19,11,19,13],[19,15,19,17],[19,19,19,21],[19,23,19,25]]}
[]
[null,"Child Support Guidelines Calculator - Schedule B - Self Employment Income Entry"]
[]
[]
[]
[null,{"$f":"NameScr!$B$7","v":"Obligor:"},null,{"$f":"HomeScr!$C$5","v":" "}]
[null,{"$f":"NameScr!$B$13","v":"Obligee:"},null,{"$f":"HomeScr!$C$6","v":" "}]
[null,null,"Activity number:  9  for",null,null,{"$f":"NameScr!C7","v":0},null,"(enter up to 2 lines for business description below)   "]
[]
[]
[null,"                                                                                "]
[null,"Tax Year . . . . . . . . . . . . . . . . . . . . . . . . . . . . . . . . . . . . . . . . . . . . . . "]
[null,null,"Total income . . . . . . . . . . . . . . . . . . . . . . . . . . . . . . . . . . . . . . . . ",null,null,null,null,null,null,null,{"$f":"VALUE(H13)","v":0},null,null,null,{"$f":"VALUE(L13)","v":0},null,null,null,{"$f":"VALUE(P13)","v":0},null,null,null,{"$f":"VALUE(T13)","v":0},null,null,null,{"$f":"VALUE(X13)","v":0}]
[null,null,"Income that is not the obligor's . . . . . . . . . . . . . . . . . . . . . . . . .",null,null,null,null,null,null,null,{"$f":"VALUE(H14)","v":0},null,null,null,{"$f":"VALUE(L14)","v":0},null,null,null,{"$f":"VALUE(P14)","v":0},null,null,null,{"$f":"VALUE(T14)","v":0},null,null,null,{"$f":"VALUE(X14)","v":0}]
[null,null,"Income that is not from self employment . . . . . . . . . . . . . . . . . ",null,null,null,null,null,null,null,0,null,null,null,0,null,null,null,0,null,null,null,0,null,null,null,0]
[null,null,"Undistributed partnership\\S-corp income . . . . . . . . . . . . . . . .",null,null,null,null,null,null,null,0,null,null,null,0,null,null,null,0,null,null,null,0,null,null,null,0]
[null,null,"Benefits\\pension\\profit sharing income . . . . . . . . . . . . . . . . . . ",null,null,null,null,null,null,null,0,null,null,null,0,null,null,null,0,null,null,null,0,null,null,null,0]
[null,null,"Payments to household member over fair market value  . . . . ",null,null,null,null,null,null,null,0,null,null,null,0,null,null,null,0,null,null,null,0,null,null,null,0]
[null,null,"C-corp taxable income . . . . . . . . . . . . . . . . . . . . . . . . . . . . . . . .",null,null,null,null,null,null,null,0,null,null,null,0,null,null,null,0,null,null,null,0,null,null,null,0]
[null,null,"C-corp federal income tax . . . . . . . . . . . . . . . . . . . . . . . . . . . . . ",null,null,null,null,null,null,null,0,null,null,null,0,null,null,null,0,null,null,null,0,null,null,null,0]
[null,null,"Obligor's ownership interest in C-corp (percentage) . . . . . . .",null,null,null,null,null,null,null,{"$f":"VALUE(I21)","v":0},null,null,null,{"$f":"VALUE(M21)","v":0},null,null,null,{"$f":"VALUE(Q21)","v":0},null,null,null,{"$f":"VALUE(U21)","v":0},null,null,null,{"$f":"VALUE(Y21)","v":0}]
[null,"Total additions . . . . . . . . . . . . . . . . . . . . . . . . . . . . . . . . . . . . . . . . . .",null,null,null,null,null,{"$f":"(K19-K20)*ROUND(((I21)/100*0.7),2)","v":0},null,null,null,{"$f":"(O19-O20)*ROUND(((M21)/100*0.7),2)","v":0},null,null,null,{"$f":"(S19-S20)*ROUND(((Q21)/100*0.7),2)","v":0},null,null,null,{"$f":"(W19-W20)*ROUND(((U21)/100*0.7),2)","v":0},null,null,null,{"$f":"(AA19-AA20)*ROUND(((Y21)/100*0.7),2)","v":0}]
[null,"Total annual net income from self-employment  . . . . . . . . . . . . . . . ",null,null,null,null,null,{"$f":"H13-(H14+H15+H16)+(H17+H18+H22)","v":0},null,null,null,{"$f":"L13-(L14+L15+L16)+(L17+L18+L22)","v":0},null,null,null,{"$f":"P13-(P14+P15+P16)+(P17+P18+P22)","v":0},null,null,null,{"$f":"T13-(T14+T15+T16)+(T17+T18+T22)","v":0},null,null,null,{"$f":"X13-(X14+X15+X16)+(X17+X18+X22)","v":0}]
[null,"                                                                                ",null,null,null,null,"Total years for average:",null,null,null,null,null,null,null,null,null,{"$f":"IF(M12=0,1,IF(Q12=0,2,IF(U12=0,3,IF(Y12=0,4,5))))","v":1}]
[null,"Total net income:",null,null,{"$f":"H23+L23+P23+T23+X23","v":0},null,"Average annual income:",null,null,null,null,null,null,{"$f":"ROUND(E25/Q24,0)","v":0}]
[null,9,"R",null,null,null,null,null,null,null,null,null,null,null,null,null,null,null,null,null,null,null,null,null,null,{"$f":"IF(N25<0,\"Y\",\"\")","v":""}]

{"sheet":"SE Loss-Obr","index":56,"n_rows":27,"n_cols":21,"rows_kept":27,"cut":false,"hidden":false,"merged":[[17,15,17,17],[12,7,12,9],[12,15,12,17],[2,1,2,25],[13,7,13,9],[13,15,13,17],[10,7,10,9],[10,15,10,17],[10,19,10,22],[11,19,11,22],[12,19,12,22],[13,19,13,22],[5,3,5,16],[6,3,6,16],[23,9,23,12],[22,9,22,12],[21,9,21,12],[11,7,11,9],[11,15,11,17],[14,7,14,9],[14,15,14,17],[15,7,15,9],[15,15,15,17],[19,7,19,9],[19,15,19,17],[16,7,16,9],[16,15,16,17],[18,7,18,9],[18,15,18,17],[17,7,17,9],[19,19,19,22],[14,19,14,22],[15,19,15,22],[16,19,16,22],[17,19,17,22],[18,19,18,22]]}
[]
[null,"Child Support Guidelines Calculator - Schedule B - Self Employment Summary/Loss Entry"]
[]
[]
[]
[null,{"$f":"NameScr!$B$7","v":"Obligor:"},null,{"$f":"HomeScr!$C$5","v":" "}]
[null,{"$f":"NameScr!$B$13","v":"Obligee:"},null,{"$f":"HomeScr!$C$6","v":" "}]
[null,"Self Employment for: ",null,null,{"$f":"NameScr!C7","v":0}]
[null,null,null,null,null,null,null,null,"Average annual",null,null,null,"Use loss",null,null,null,"Exclude ",null,null,null,"Amount transferred"]
[null,"Activity and description",null,null,null,null,null,null,"income",null,null,null,"analysis",null,null,null,"amount",null,null,null,"to worksheet"]
[null,1,{"$f":"'SchB1 Obgr'!$A$18","v":0},null,null,null,null,{"$f":"'SE Obr1'!$N$25","v":0},null,null,null,null,{"$f":"IF(H11>=0,\"\",\"Y\")","v":""},null,null,{"$f":"IF(H11<0,IF(M11=\"N\",0,IF(M11=\"Z\",H11,IF(M11=\"Y\",IF('SchB1 Obgr'!$S$158=0,H11,0),0))),0)","v":0},null,null,null,{"$f":"H11-P11","v":0}]
[null,2,{"$f":"'SchB2 Obgr'!$A$17","v":0},null,null,null,null,{"$f":"'SE Obr2'!$N$25","v":0},null,null,null,null,{"$f":"IF(H12>=0,\"\",\"Y\")","v":""},null,null,{"$f":"IF(H12<0,IF(M12=\"N\",0,IF(M12=\"Z\",H12,IF(M12=\"Y\",IF('SchB2 Obgr'!$S$157=0,H12,0),0))),0)","v":0},null,null,null,{"$f":"H12-P12","v":0}]
[null,3,{"$f":"'SchB3 Obgr'!$A$17","v":0},null,null,null,null,{"$f":"'SE Obr3'!$N$25","v":0},null,null,null,null,"",null,null,{"$f":"IF(H13<0,IF(M13=\"N\",0,IF(M13=\"Z\",H13,IF(M13=\"Y\",IF('SchB3 Obgr'!$S$157=0,H13,0),0))),0)","v":0},null,null,null,{"$f":"H13-P13","v":0}]
[null,4,{"$f":"'SchB4 Obgr'!$A$17","v":0},null,null,null,null,{"$f":"'SE Obr4'!$N$25","v":0},null,null,null,null,"",null,null,{"$f":"IF(H14<0,IF(M14=\"N\",0,IF(M14=\"Z\",H14,IF(M14=\"Y\",IF('SchB4 Obgr'!$S$157=0,H14,0),0))),0)","v":0},null,null,null,0]
[null,5,{"$f":"'SchB5 Obgr'!$A$17","v":0},null,null,null,null,{"$f":"'SE Obr5'!$N$25","v":0},null,null,null,null,"",null,null,{"$f":"IF(H15<0,IF(M15=\"N\",0,IF(M15=\"Z\",H15,IF(M15=\"Y\",IF('SchB5 Obgr'!$S$157=0,H15,0),0))),0)","v":0},null,null,null,0]
[null,6,{"$f":"'SchB6 Obgr'!$A$17","v":0},null,null,null,null,{"$f":"'SE Obr6'!$N$25","v":0},null,null,null,null,"",null,null,{"$f":"IF(H16<0,IF(M16=\"N\",0,IF(M16=\"Z\",H16,IF(M16=\"Y\",IF('SchB6 Obgr'!$S$157=0,H16,0),0))),0)","v":0},null,null,null,0]
[null,7,{"$f":"'SchB7 Obgr'!$A$17","v":0},null,null,null,null,{"$f":"'SE Obr7'!$N$25","v":0},null,null,null,null,"",null,null,{"$f":"IF(H17<0,IF(M17=\"N\",0,IF(M17=\"Z\",H17,IF(M17=\"Y\",IF('SchB7 Obgr'!$S$157=0,H17,0),0))),0)","v":0},null,null,null,0]
[null,8,{"$f":"'SchB8 Obgr'!$A$17","v":0},null,null,null,null,{"$f":"'SE Obr8'!$N$25","v":0},null,null,null,null,"",null,null,{"$f":"IF(H18<0,IF(M18=\"N\",0,IF(M18=\"Z\",H18,IF(M18=\"Y\",IF('SchB8 Obgr'!$S$157=0,H18,0),0))),0)","v":0},null,null,null,0]
[null,9,{"$f":"'SchB9 Obgr'!$A$17","v":0},null,null,null,null,{"$f":"'SE Obr9'!$N$25","v":0},null,null,null,null,"",null,null,{"$f":"IF(H19<0,IF(M19=\"N\",0,IF(M19=\"Z\",H19,IF(M19=\"Y\",IF('SchB9 Obgr'!$S$157=0,H19,0),0))),0)","v":0},null,null,null,0]
[null,null,"Total for all activities",null,null,null,null,{"$f":"SUM(H11:H19)","v":0},null,null,null,null,null,null,null,{"$f":"SUM(P11:P19)","v":0},null,null,null,{"$f":"SUM(T11:T19)","v":0}]
[]
[null,"Monthly gross income . . . . . . . . . . . . . . . . . . . . . . . . . . . . ",null,null,null,null,null,null,null,null,null,null,null,{"$f":"VALUE(J22)","v":0}]
[null,"Statewide average earnings  . . . . . . . . . . . . . . . . . . . . . . ",null,null,null,null,null,null,null,null,null,null,null,{"$f":"VALUE(J23)","v":0}]
[null,"Greatest twelve month average monthly earnings . . . . . ",null,null,null,null,null,null,null,null,null,null,null,0]
[]
[null,null,"R"]
[null,null,"L"]

{"sheet":"SE Obe1","index":57,"n_rows":38,"n_cols":27,"rows_kept":38,"cut":false,"hidden":false,"merged":[[21,19,21,21],[21,23,21,25],[22,7,22,9],[22,11,22,13],[22,15,22,17],[22,19,22,21],[22,23,22,25],[12,7,12,9],[12,11,12,13],[12,15,12,17],[12,19,12,21],[12,23,12,25],[2,1,2,25],[9,1,9,24],[5,3,5,19],[6,3,6,19],[8,1,8,24],[14,7,14,9],[14,11,14,13],[14,15,14,17],[14,19,14,21],[14,23,14,25],[13,7,13,9],[13,11,13,13],[13,15,13,17],[13,19,13,21],[13,23,13,25],[24,4,24,5],[24,13,24,16],[16,7,16,9],[16,11,16,13],[16,15,16,17],[21,7,21,9],[21,11,21,13],[21,15,21,17],[18,7,18,9],[18,11,18,13],[18,15,18,17],[15,23,15,25],[17,7,17,9],[17,11,17,13],[17,15,17,17],[17,19,17,21],[17,23,17,25],[16,19,16,21],[16,23,16,25],[15,7,15,9],[15,11,15,13],[15,15,15,17],[15,19,15,21],[18,19,18,21],[18,23,18,25],[19,7,19,9],[19,11,19,13],[19,15,19,17],[19,19,19,21],[19,23,19,25]]}
[]
[null,"Child Support Guidelines Calculator - Schedule B - Self Employment Income Entry"]
[]
[]
[]
[null,{"$f":"NameScr!$B$7","v":"Obligor:"},null,{"$f":"HomeScr!$C$5","v":" "}]
[null,{"$f":"NameScr!$B$13","v":"Obligee:"},null,{"$f":"HomeScr!$C$6","v":" "}]
[null,null,"Activity number:  1  for   ",null,null,{"$f":"NameScr!C13","v":0},null,"(enter up to 2 lines for business description below)   "]
[]
[]
[null,"                                                                                "]
[null,"Tax Year . . . . . . . . . . . . . . . . . . . . . . . . . . . . . . . . . . . . . . . . . . . . . . "]
[null,null,"Total income . . . . . . . . . . . . . . . . . . . . . . . . . . . . . . . . . . . . . . . . ",null,null,null,null,null,null,null,{"$f":"VALUE(H13)","v":0},null,null,null,{"$f":"VALUE(L13)","v":0},null,null,null,{"$f":"VALUE(P13)","v":0},null,null,null,{"$f":"VALUE(T13)","v":0},null,null,null,{"$f":"VALUE(X13)","v":0}]
[null,null,"Income that is not this obligor's . . . . . . . . . . . . . . . . . . . . . . . . .",null,null,null,null,null,null,null,{"$f":"VALUE(H14)","v":0},null,null,null,{"$f":"VALUE(L14)","v":0},null,null,null,{"$f":"VALUE(P14)","v":0},null,null,null,{"$f":"VALUE(T14)","v":0},null,null,null,{"$f":"VALUE(X14)","v":0}]
[null,null,"Income that is not from self employment . . . . . . . . . . . . . . . . . ",null,null,null,null,null,null,null,0,null,null,null,0,null,null,null,0,null,null,null,0,null,null,null,0]
[null,null,"Undistributed partnership\\S-corp income . . . . . . . . . . . . . . . .",null,null,null,null,null,null,null,0,null,null,null,0,null,null,null,0,null,null,null,0,null,null,null,0]
[null,null,"Benefits\\pension\\profit sharing income . . . . . . . . . . . . . . . . . . ",null,null,null,null,null,null,null,0,null,null,null,0,null,null,null,0,null,null,null,0,null,null,null,0]
[null,null,"Payments to household member over fair market value  . . . . ",null,null,null,null,null,null,null,0,null,null,null,0,null,null,null,0,null,null,null,0,null,null,null,0]
[null,null,"C-corp taxable income . . . . . . . . . . . . . . . . . . . . . . . . . . . . . . . .",null,null,null,null,null,null,null,0,null,null,null,0,null,null,null,0,null,null,null,0,null,null,null,0]
[null,null,"C-corp federal income tax . . . . . . . . . . . . . . . . . . . . . . . . . . . . . ",null,null,null,null,null,null,null,0,null,null,null,0,null,null,null,0,null,null,null,0,null,null,null,0]
[null,null,"Obligor's ownership interest in C-corp (percentage) . . . . . . .",null,null,null,null,null,null,null,{"$f":"VALUE(I21)","v":0},null,null,null,{"$f":"VALUE(M21)","v":0},null,null,null,{"$f":"VALUE(Q21)","v":0},null,null,null,{"$f":"VALUE(U21)","v":0},null,null,null,{"$f":"VALUE(Y21)","v":0}]
[null,"Total additions . . . . . . . . . . . . . . . . . . . . . . . . . . . . . . . . . . . . . . . . . .",null,null,null,null,null,{"$f":"(K19-K20)*ROUND(((I21)/100*0.7),2)","v":0},null,null,null,{"$f":"(O19-O20)*ROUND(((M21)/100*0.7),2)","v":0},null,null,null,{"$f":"(S19-S20)*ROUND(((Q21)/100*0.7),2)","v":0},null,null,null,{"$f":"(W19-W20)*ROUND(((U21)/100*0.7),2)","v":0},null,null,null,{"$f":"(AA19-AA20)*ROUND(((Y21)/100*0.7),2)","v":0}]
[null,"Total annual net income from self-employment  . . . . . . . . . . . . . . . ",null,null,null,null,null,{"$f":"H13-(H14+H15+H16)+(H17+H18+H22)","v":0},null,null,null,{"$f":"L13-(L14+L15+L16)+(L17+L18+L22)","v":0},null,null,null,{"$f":"P13-(P14+P15+P16)+(P17+P18+P22)","v":0},null,null,null,{"$f":"T13-(T14+T15+T16)+(T17+T18+T22)","v":0},null,null,null,{"$f":"X13-(X14+X15+X16)+(X17+X18+X22)","v":0}]
[null,"                                                                                ",null,null,null,null,"Total years for average:",null,null,null,null,null,null,null,null,null,{"$f":"IF(M12=0,1,IF(Q12=0,2,IF(U12=0,3,IF(Y12=0,4,5))))","v":1}]
[null,"Total net income:",null,null,{"$f":"H23+L23+P23+T23+X23","v":0},null,"Average annual income:",null,null,null,null,null,null,{"$f":"ROUND(E25/Q24,0)","v":0}]
[null,1,"E",null,null,null,null,null,null,null,null,null,null,null,null,null,null,null,null,null,null,null,null,null,null,{"$f":"IF(N25<0,\"Y\",\"\")","v":""}]
[null,null,null,null,null,null,null,null,null,null,11]
[null,null,null,null,null,null,null,null,null,null,12]
[null,null,null,null,null,null,null,null,null,null,13]
[null,null,null,null,null,null,null,null,null,null,14]
[null,null,null,null,null,null,null,null,null,null,15]
[null,null,null,null,null,null,null,null,null,null,16]
[null,null,null,null,null,null,null,null,null,null,17]
[null,null,null,null,null,null,null,null,null,null,18]
[null,null,null,null,null,null,null,null,null,null,19]
[null,null,null,null,null,null,null,null,null,null,20]
[null,null,null,null,null,null,null,null,null,null,21]
[null,null,null,null,null,null,null,null,null,null,22]

{"sheet":"SE Obe2","index":58,"n_rows":38,"n_cols":27,"rows_kept":38,"cut":false,"hidden":false,"merged":[[21,19,21,21],[21,23,21,25],[22,7,22,9],[22,11,22,13],[22,15,22,17],[22,19,22,21],[22,23,22,25],[12,7,12,9],[12,11,12,13],[12,15,12,17],[12,19,12,21],[12,23,12,25],[2,1,2,25],[9,1,9,24],[5,3,5,19],[6,3,6,19],[8,1,8,24],[14,7,14,9],[14,11,14,13],[14,15,14,17],[14,19,14,21],[14,23,14,25],[13,7,13,9],[13,11,13,13],[13,15,13,17],[13,19,13,21],[13,23,13,25],[24,4,24,5],[24,13,24,16],[16,7,16,9],[16,11,16,13],[16,15,16,17],[21,7,21,9],[21,11,21,13],[21,15,21,17],[18,7,18,9],[18,11,18,13],[18,15,18,17],[15,23,15,25],[17,7,17,9],[17,11,17,13],[17,15,17,17],[17,19,17,21],[17,23,17,25],[16,19,16,21],[16,23,16,25],[15,7,15,9],[15,11,15,13],[15,15,15,17],[15,19,15,21],[18,19,18,21],[18,23,18,25],[19,7,19,9],[19,11,19,13],[19,15,19,17],[19,19,19,21],[19,23,19,25]]}
[]
[null,"Child Support Guidelines Calculator - Schedule B - Self Employment Income Entry"]
[]
[]
[]
[null,{"$f":"NameScr!$B$7","v":"Obligor:"},null,{"$f":"HomeScr!$C$5","v":" "}]
[null,{"$f":"NameScr!$B$13","v":"Obligee:"},null,{"$f":"HomeScr!$C$6","v":" "}]
[null,null,"Activity number:  2  for   ",null,null,{"$f":"NameScr!C13","v":0},null,"(enter up to 2 lines for business description below)   "]
[]
[]
[null,"                                                                                "]
[null,"Tax Year . . . . . . . . . . . . . . . . . . . . . . . . . . . . . . . . . . . . . . . . . . . . . . "]
[null,null,"Total income . . . . . . . . . . . . . . . . . . . . . . . . . . . . . . . . . . . . . . . . ",null,null,null,null,null,null,null,{"$f":"VALUE(H13)","v":0},null,null,null,{"$f":"VALUE(L13)","v":0},null,null,null,{"$f":"VALUE(P13)","v":0},null,null,null,{"$f":"VALUE(T13)","v":0},null,null,null,{"$f":"VALUE(X13)","v":0}]
[null,null,"Income that is not this obligor's . . . . . . . . . . . . . . . . . . . . . . . . .",null,null,null,null,null,null,null,{"$f":"VALUE(H14)","v":0},null,null,null,{"$f":"VALUE(L14)","v":0},null,null,null,{"$f":"VALUE(P14)","v":0},null,null,null,{"$f":"VALUE(T14)","v":0},null,null,null,{"$f":"VALUE(X14)","v":0}]
[null,null,"Income that is not from self employment . . . . . . . . . . . . . . . . . ",null,null,null,null,null,null,null,0,null,null,null,0,null,null,null,0,null,null,null,0,null,null,null,0]
[null,null,"Undistributed partnership\\S-corp income . . . . . . . . . . . . . . . .",null,null,null,null,null,null,null,0,null,null,null,0,null,null,null,0,null,null,null,0,null,null,null,0]
[null,null,"Benefits\\pension\\profit sharing income . . . . . . . . . . . . . . . . . . ",null,null,null,null,null,null,null,0,null,null,null,0,null,null,null,0,null,null,null,0,null,null,null,0]
[null,null,"Payments to household member over fair market value  . . . . ",null,null,null,null,null,null,null,0,null,null,null,0,null,null,null,0,null,null,null,0,null,null,null,0]
[null,null,"C-corp taxable income . . . . . . . . . . . . . . . . . . . . . . . . . . . . . . . .",null,null,null,null,null,null,null,0,null,null,null,0,null,null,null,0,null,null,null,0,null,null,null,0]
[null,null,"C-corp federal income tax . . . . . . . . . . . . . . . . . . . . . . . . . . . . . ",null,null,null,null,null,null,null,0,null,null,null,0,null,null,null,0,null,null,null,0,null,null,null,0]
[null,null,"Obligor's ownership interest in C-corp (percentage) . . . . . . .",null,null,null,null,null,null,null,{"$f":"VALUE(I21)","v":0},null,null,null,{"$f":"VALUE(M21)","v":0},null,null,null,{"$f":"VALUE(Q21)","v":0},null,null,null,{"$f":"VALUE(U21)","v":0},null,null,null,{"$f":"VALUE(Y21)","v":0}]
[null,"Total additions . . . . . . . . . . . . . . . . . . . . . . . . . . . . . . . . . . . . . . . . . .",null,null,null,null,null,{"$f":"(K19-K20)*ROUND(((I21)/100*0.7),2)","v":0},null,null,null,{"$f":"(O19-O20)*ROUND(((M21)/100*0.7),2)","v":0},null,null,null,{"$f":"(S19-S20)*ROUND(((Q21)/100*0.7),2)","v":0},null,null,null,{"$f":"(W19-W20)*ROUND(((U21)/100*0.7),2)","v":0},null,null,null,{"$f":"(AA19-AA20)*ROUND(((Y21)/100*0.7),2)","v":0}]
[null,"Total annual net income from self-employment  . . . . . . . . . . . . . . . ",null,null,null,null,null,{"$f":"H13-(H14+H15+H16)+(H17+H18+H22)","v":0},null,null,null,{"$f":"L13-(L14+L15+L16)+(L17+L18+L22)","v":0},null,null,null,{"$f":"P13-(P14+P15+P16)+(P17+P18+P22)","v":0},null,null,null,{"$f":"T13-(T14+T15+T16)+(T17+T18+T22)","v":0},null,null,null,{"$f":"X13-(X14+X15+X16)+(X17+X18+X22)","v":0}]
[null,"                                                                                ",null,null,null,null,"Total years for average:",null,null,null,null,null,null,null,null,null,{"$f":"IF(M12=0,1,IF(Q12=0,2,IF(U12=0,3,IF(Y12=0,4,5))))","v":1}]
[null,"Total net income:",null,null,{"$f":"H23+L23+P23+T23+X23","v":0},null,"Average annual income:",null,null,null,null,null,null,{"$f":"ROUND(E25/Q24,0)","v":0}]
[null,2,"E",null,null,null,null,null,null,null,null,null,null,null,null,null,null,null,null,null,null,null,null,null,null,{"$f":"IF(N25<0,\"Y\",\"\")","v":""}]
[null,null,null,null,null,null,null,null,null,null,11]
[null,null,null,null,null,null,null,null,null,null,12]
[null,null,null,null,null,null,null,null,null,null,13]
[null,null,null,null,null,null,null,null,null,null,14]
[null,null,null,null,null,null,null,null,null,null,15]
[null,null,null,null,null,null,null,null,null,null,16]
[null,null,null,null,null,null,null,null,null,null,17]
[null,null,null,null,null,null,null,null,null,null,18]
[null,null,null,null,null,null,null,null,null,null,19]
[null,null,null,null,null,null,null,null,null,null,20]
[null,null,null,null,null,null,null,null,null,null,21]
[null,null,null,null,null,null,null,null,null,null,22]

{"sheet":"SE Obe3","index":59,"n_rows":38,"n_cols":27,"rows_kept":38,"cut":false,"hidden":false,"merged":[[21,19,21,21],[21,23,21,25],[22,7,22,9],[22,11,22,13],[22,15,22,17],[22,19,22,21],[22,23,22,25],[12,7,12,9],[12,11,12,13],[12,15,12,17],[12,19,12,21],[12,23,12,25],[2,1,2,25],[9,1,9,24],[5,3,5,19],[6,3,6,19],[8,1,8,24],[14,7,14,9],[14,11,14,13],[14,15,14,17],[14,19,14,21],[14,23,14,25],[13,7,13,9],[13,11,13,13],[13,15,13,17],[13,19,13,21],[13,23,13,25],[24,4,24,5],[24,13,24,16],[16,7,16,9],[16,11,16,13],[16,15,16,17],[21,7,21,9],[21,11,21,13],[21,15,21,17],[18,7,18,9],[18,11,18,13],[18,15,18,17],[15,23,15,25],[17,7,17,9],[17,11,17,13],[17,15,17,17],[17,19,17,21],[17,23,17,25],[16,19,16,21],[16,23,16,25],[15,7,15,9],[15,11,15,13],[15,15,15,17],[15,19,15,21],[18,19,18,21],[18,23,18,25],[19,7,19,9],[19,11,19,13],[19,15,19,17],[19,19,19,21],[19,23,19,25]]}
[]
[null,"Child Support Guidelines Calculator - Schedule B - Self Employment Income Entry"]
[]
[]
[]
[null,{"$f":"NameScr!$B$7","v":"Obligor:"},null,{"$f":"HomeScr!$C$5","v":" "}]
[null,{"$f":"NameScr!$B$13","v":"Obligee:"},null,{"$f":"HomeScr!$C$6","v":" "}]
[null,null,"Activity number:  3  for   ",null,null,{"$f":"NameScr!C13","v":0},null,"(enter up to 2 lines for business description below)   "]
[]
[]
[null,"                                                                                "]
[null,"Tax Year . . . . . . . . . . . . . . . . . . . . . . . . . . . . . . . . . . . . . . . . . . . . . . "]
[null,null,"Total income . . . . . . . . . . . . . . . . . . . . . . . . . . . . . . . . . . . . . . . . ",null,null,null,null,null,null,null,{"$f":"VALUE(H13)","v":0},null,null,null,{"$f":"VALUE(L13)","v":0},null,null,null,{"$f":"VALUE(P13)","v":0},null,null,null,{"$f":"VALUE(T13)","v":0},null,null,null,{"$f":"VALUE(X13)","v":0}]
[null,null,"Income that is not this obligor's . . . . . . . . . . . . . . . . . . . . . . . . .",null,null,null,null,null,null,null,{"$f":"VALUE(H14)","v":0},null,null,null,{"$f":"VALUE(L14)","v":0},null,null,null,{"$f":"VALUE(P14)","v":0},null,null,null,{"$f":"VALUE(T14)","v":0},null,null,null,{"$f":"VALUE(X14)","v":0}]
[null,null,"Income that is not from self employment . . . . . . . . . . . . . . . . . ",null,null,null,null,null,null,null,0,null,null,null,0,null,null,null,0,null,null,null,0,null,null,null,0]
[null,null,"Undistributed partnership\\S-corp income . . . . . . . . . . . . . . . .",null,null,null,null,null,null,null,0,null,null,null,0,null,null,null,0,null,null,null,0,null,null,null,0]
[null,null,"Benefits\\pension\\profit sharing income . . . . . . . . . . . . . . . . . . ",null,null,null,null,null,null,null,0,null,null,null,0,null,null,null,0,null,null,null,0,null,null,null,0]
[null,null,"Payments to household member over fair market value  . . . . ",null,null,null,null,null,null,null,0,null,null,null,0,null,null,null,0,null,null,null,0,null,null,null,0]
[null,null,"C-corp taxable income . . . . . . . . . . . . . . . . . . . . . . . . . . . . . . . .",null,null,null,null,null,null,null,0,null,null,null,0,null,null,null,0,null,null,null,0,null,null,null,0]
[null,null,"C-corp federal income tax . . . . . . . . . . . . . . . . . . . . . . . . . . . . . ",null,null,null,null,null,null,null,0,null,null,null,0,null,null,null,0,null,null,null,0,null,null,null,0]
[null,null,"Obligor's ownership interest in C-corp (percentage) . . . . . . .",null,null,null,null,null,null,null,{"$f":"VALUE(I21)","v":0},null,null,null,{"$f":"VALUE(M21)","v":0},null,null,null,{"$f":"VALUE(Q21)","v":0},null,null,null,{"$f":"VALUE(U21)","v":0},null,null,null,{"$f":"VALUE(Y21)","v":0}]
[null,"Total additions . . . . . . . . . . . . . . . . . . . . . . . . . . . . . . . . . . . . . . . . . .",null,null,null,null,null,{"$f":"(K19-K20)*ROUND(((I21)/100*0.7),2)","v":0},null,null,null,{"$f":"(O19-O20)*ROUND(((M21)/100*0.7),2)","v":0},null,null,null,{"$f":"(S19-S20)*ROUND(((Q21)/100*0.7),2)","v":0},null,null,null,{"$f":"(W19-W20)*ROUND(((U21)/100*0.7),2)","v":0},null,null,null,{"$f":"(AA19-AA20)*ROUND(((Y21)/100*0.7),2)","v":0}]
[null,"Total annual net income from self-employment  . . . . . . . . . . . . . . . ",null,null,null,null,null,{"$f":"H13-(H14+H15+H16)+(H17+H18+H22)","v":0},null,null,null,{"$f":"L13-(L14+L15+L16)+(L17+L18+L22)","v":0},null,null,null,{"$f":"P13-(P14+P15+P16)+(P17+P18+P22)","v":0},null,null,null,{"$f":"T13-(T14+T15+T16)+(T17+T18+T22)","v":0},null,null,null,{"$f":"X13-(X14+X15+X16)+(X17+X18+X22)","v":0}]
[null,"                                                                                ",null,null,null,null,"Total years for average:",null,null,null,null,null,null,null,null,null,{"$f":"IF(M12=0,1,IF(Q12=0,2,IF(U12=0,3,IF(Y12=0,4,5))))","v":1}]
[null,"Total net income:",null,null,{"$f":"H23+L23+P23+T23+X23","v":0},null,"Average annual income:",null,null,null,null,null,null,{"$f":"ROUND(E25/Q24,0)","v":0}]
[null,3,"E",null,null,null,null,null,null,null,null,null,null,null,null,null,null,null,null,null,null,null,null,null,null,{"$f":"IF(N25<0,\"Y\",\"\")","v":""}]
[null,null,null,null,null,null,null,null,null,null,11]
[null,null,null,null,null,null,null,null,null,null,12]
[null,null,null,null,null,null,null,null,null,null,13]
[null,null,null,null,null,null,null,null,null,null,14]
[null,null,null,null,null,null,null,null,null,null,15]
[null,null,null,null,null,null,null,null,null,null,16]
[null,null,null,null,null,null,null,null,null,null,17]
[null,null,null,null,null,null,null,null,null,null,18]
[null,null,null,null,null,null,null,null,null,null,19]
[null,null,null,null,null,null,null,null,null,null,20]
[null,null,null,null,null,null,null,null,null,null,21]
[null,null,null,null,null,null,null,null,null,null,22]

{"sheet":"SE Obe4","index":60,"n_rows":38,"n_cols":27,"rows_kept":38,"cut":false,"hidden":false,"merged":[[21,19,21,21],[21,23,21,25],[22,7,22,9],[22,11,22,13],[22,15,22,17],[22,19,22,21],[22,23,22,25],[12,7,12,9],[12,11,12,13],[12,15,12,17],[12,19,12,21],[12,23,12,25],[2,1,2,25],[9,1,9,24],[5,3,5,19],[6,3,6,19],[8,1,8,24],[14,7,14,9],[14,11,14,13],[14,15,14,17],[14,19,14,21],[14,23,14,25],[13,7,13,9],[13,11,13,13],[13,15,13,17],[13,19,13,21],[13,23,13,25],[24,4,24,5],[24,13,24,16],[16,7,16,9],[16,11,16,13],[16,15,16,17],[21,7,21,9],[21,11,21,13],[21,15,21,17],[18,7,18,9],[18,11,18,13],[18,15,18,17],[15,23,15,25],[17,7,17,9],[17,11,17,13],[17,15,17,17],[17,19,17,21],[17,23,17,25],[16,19,16,21],[16,23,16,25],[15,7,15,9],[15,11,15,13],[15,15,15,17],[15,19,15,21],[18,19,18,21],[18,23,18,25],[19,7,19,9],[19,11,19,13],[19,15,19,17],[19,19,19,21],[19,23,19,25]]}
[]
[null,"Child Support Guidelines Calculator - Schedule B - Self Employment Income Entry"]
[]
[]
[]
[null,{"$f":"NameScr!$B$7","v":"Obligor:"},null,{"$f":"HomeScr!$C$5","v":" "}]
[null,{"$f":"NameScr!$B$13","v":"Obligee:"},null,{"$f":"HomeScr!$C$6","v":" "}]
[null,null,"Activity number:  4  for   ",null,null,{"$f":"NameScr!C13","v":0},null,"(enter up to 2 lines for business description below)   "]
[]
[]
[null,"                                                                                "]
[null,"Tax Year . . . . . . . . . . . . . . . . . . . . . . . . . . . . . . . . . . . . . . . . . . . . . . "]
[null,null,"Total income . . . . . . . . . . . . . . . . . . . . . . . . . . . . . . . . . . . . . . . . ",null,null,null,null,null,null,null,{"$f":"VALUE(H13)","v":0},null,null,null,{"$f":"VALUE(L13)","v":0},null,null,null,{"$f":"VALUE(P13)","v":0},null,null,null,{"$f":"VALUE(T13)","v":0},null,null,null,{"$f":"VALUE(X13)","v":0}]
[null,null,"Income that is not this obligor's . . . . . . . . . . . . . . . . . . . . . . . . .",null,null,null,null,null,null,null,{"$f":"VALUE(H14)","v":0},null,null,null,{"$f":"VALUE(L14)","v":0},null,null,null,{"$f":"VALUE(P14)","v":0},null,null,null,{"$f":"VALUE(T14)","v":0},null,null,null,{"$f":"VALUE(X14)","v":0}]
[null,null,"Income that is not from self employment . . . . . . . . . . . . . . . . . ",null,null,null,null,null,null,null,0,null,null,null,0,null,null,null,0,null,null,null,0,null,null,null,0]
[null,null,"Undistributed partnership\\S-corp income . . . . . . . . . . . . . . . .",null,null,null,null,null,null,null,0,null,null,null,0,null,null,null,0,null,null,null,0,null,null,null,0]
[null,null,"Benefits\\pension\\profit sharing income . . . . . . . . . . . . . . . . . . ",null,null,null,null,null,null,null,0,null,null,null,0,null,null,null,0,null,null,null,0,null,null,null,0]
[null,null,"Payments to household member over fair market value  . . . . ",null,null,null,null,null,null,null,0,null,null,null,0,null,null,null,0,null,null,null,0,null,null,null,0]
[null,null,"C-corp taxable income . . . . . . . . . . . . . . . . . . . . . . . . . . . . . . . .",null,null,null,null,null,null,null,0,null,null,null,0,null,null,null,0,null,null,null,0,null,null,null,0]
[null,null,"C-corp federal income tax . . . . . . . . . . . . . . . . . . . . . . . . . . . . . ",null,null,null,null,null,null,null,0,null,null,null,0,null,null,null,0,null,null,null,0,null,null,null,0]
[null,null,"Obligor's ownership interest in C-corp (percentage) . . . . . . .",null,null,null,null,null,null,null,{"$f":"VALUE(I21)","v":0},null,null,null,{"$f":"VALUE(M21)","v":0},null,null,null,{"$f":"VALUE(Q21)","v":0},null,null,null,{"$f":"VALUE(U21)","v":0},null,null,null,{"$f":"VALUE(Y21)","v":0}]
[null,"Total additions . . . . . . . . . . . . . . . . . . . . . . . . . . . . . . . . . . . . . . . . . .",null,null,null,null,null,{"$f":"(K19-K20)*ROUND(((I21)/100*0.7),2)","v":0},null,null,null,{"$f":"(O19-O20)*ROUND(((M21)/100*0.7),2)","v":0},null,null,null,{"$f":"(S19-S20)*ROUND(((Q21)/100*0.7),2)","v":0},null,null,null,{"$f":"(W19-W20)*ROUND(((U21)/100*0.7),2)","v":0},null,null,null,{"$f":"(AA19-AA20)*ROUND(((Y21)/100*0.7),2)","v":0}]
[null,"Total annual net income from self-employment  . . . . . . . . . . . . . . . ",null,null,null,null,null,{"$f":"H13-(H14+H15+H16)+(H17+H18+H22)","v":0},null,null,null,{"$f":"L13-(L14+L15+L16)+(L17+L18+L22)","v":0},null,null,null,{"$f":"P13-(P14+P15+P16)+(P17+P18+P22)","v":0},null,null,null,{"$f":"T13-(T14+T15+T16)+(T17+T18+T22)","v":0},null,null,null,{"$f":"X13-(X14+X15+X16)+(X17+X18+X22)","v":0}]
[null,"                                                                                ",null,null,null,null,"Total years for average:",null,null,null,null,null,null,null,null,null,{"$f":"IF(M12=0,1,IF(Q12=0,2,IF(U12=0,3,IF(Y12=0,4,5))))","v":1}]
[null,"Total net income:",null,null,{"$f":"H23+L23+P23+T23+X23","v":0},null,"Average annual income:",null,null,null,null,null,null,{"$f":"ROUND(E25/Q24,0)","v":0}]
[null,4,"E",null,null,null,null,null,null,null,null,null,null,null,null,null,null,null,null,null,null,null,null,null,null,{"$f":"IF(N25<0,\"Y\",\"\")","v":""}]
[null,null,null,null,null,null,null,null,null,null,11]
[null,null,null,null,null,null,null,null,null,null,12]
[null,null,null,null,null,null,null,null,null,null,13]
[null,null,null,null,null,null,null,null,null,null,14]
[null,null,null,null,null,null,null,null,null,null,15]
[null,null,null,null,null,null,null,null,null,null,16]
[null,null,null,null,null,null,null,null,null,null,17]
[null,null,null,null,null,null,null,null,null,null,18]
[null,null,null,null,null,null,null,null,null,null,19]
[null,null,null,null,null,null,null,null,null,null,20]
[null,null,null,null,null,null,null,null,null,null,21]
[null,null,null,null,null,null,null,null,null,null,22]

{"sheet":"SE Obe5","index":61,"n_rows":38,"n_cols":27,"rows_kept":38,"cut":false,"hidden":false,"merged":[[21,19,21,21],[21,23,21,25],[22,7,22,9],[22,11,22,13],[22,15,22,17],[22,19,22,21],[22,23,22,25],[12,7,12,9],[12,11,12,13],[12,15,12,17],[12,19,12,21],[12,23,12,25],[2,1,2,25],[9,1,9,24],[5,3,5,19],[6,3,6,19],[8,1,8,24],[14,7,14,9],[14,11,14,13],[14,15,14,17],[14,19,14,21],[14,23,14,25],[13,7,13,9],[13,11,13,13],[13,15,13,17],[13,19,13,21],[13,23,13,25],[24,4,24,5],[24,13,24,16],[16,7,16,9],[16,11,16,13],[16,15,16,17],[21,7,21,9],[21,11,21,13],[21,15,21,17],[18,7,18,9],[18,11,18,13],[18,15,18,17],[15,23,15,25],[17,7,17,9],[17,11,17,13],[17,15,17,17],[17,19,17,21],[17,23,17,25],[16,19,16,21],[16,23,16,25],[15,7,15,9],[15,11,15,13],[15,15,15,17],[15,19,15,21],[18,19,18,21],[18,23,18,25],[19,7,19,9],[19,11,19,13],[19,15,19,17],[19,19,19,21],[19,23,19,25]]}
[]
[null,"Child Support Guidelines Calculator - Schedule B - Self Employment Income Entry"]
[]
[]
[]
[null,{"$f":"NameScr!$B$7","v":"Obligor:"},null,{"$f":"HomeScr!$C$5","v":" "}]
[null,{"$f":"NameScr!$B$13","v":"Obligee:"},null,{"$f":"HomeScr!$C$6","v":" "}]
[null,null,"Activity number:  5  for",null,null,{"$f":"NameScr!C13","v":0},null,"(enter up to 2 lines for business description below)   "]
[]
[]
[null,"                                                                                "]
[null,"Tax Year . . . . . . . . . . . . . . . . . . . . . . . . . . . . . . . . . . . . . . . . . . . . . . "]
[null,null,"Total income . . . . . . . . . . . . . . . . . . . . . . . . . . . . . . . . . . . . . . . . ",null,null,null,null,null,null,null,{"$f":"VALUE(H13)","v":0},null,null,null,{"$f":"VALUE(L13)","v":0},null,null,null,{"$f":"VALUE(P13)","v":0},null,null,null,{"$f":"VALUE(T13)","v":0},null,null,null,{"$f":"VALUE(X13)","v":0}]
[null,null,"Income that is not this obligor's . . . . . . . . . . . . . . . . . . . . . . . . .",null,null,null,null,null,null,null,{"$f":"VALUE(H14)","v":0},null,null,null,{"$f":"VALUE(L14)","v":0},null,null,null,{"$f":"VALUE(P14)","v":0},null,null,null,{"$f":"VALUE(T14)","v":0},null,null,null,{"$f":"VALUE(X14)","v":0}]
[null,null,"Income that is not from self employment . . . . . . . . . . . . . . . . . ",null,null,null,null,null,null,null,0,null,null,null,0,null,null,null,0,null,null,null,0,null,null,null,0]
[null,null,"Undistributed partnership\\S-corp income . . . . . . . . . . . . . . . .",null,null,null,null,null,null,null,0,null,null,null,0,null,null,null,0,null,null,null,0,null,null,null,0]
[null,null,"Benefits\\pension\\profit sharing income . . . . . . . . . . . . . . . . . . ",null,null,null,null,null,null,null,0,null,null,null,0,null,null,null,0,null,null,null,0,null,null,null,0]
[null,null,"Payments to household member over fair market value  . . . . ",null,null,null,null,null,null,null,0,null,null,null,0,null,null,null,0,null,null,null,0,null,null,null,0]
[null,null,"C-corp taxable income . . . . . . . . . . . . . . . . . . . . . . . . . . . . . . . .",null,null,null,null,null,null,null,0,null,null,null,0,null,null,null,0,null,null,null,0,null,null,null,0]
[null,null,"C-corp federal income tax . . . . . . . . . . . . . . . . . . . . . . . . . . . . . ",null,null,null,null,null,null,null,0,null,null,null,0,null,null,null,0,null,null,null,0,null,null,null,0]
[null,null,"Obligor's ownership interest in C-corp (percentage) . . . . . . .",null,null,null,null,null,null,null,{"$f":"VALUE(I21)","v":0},null,null,null,{"$f":"VALUE(M21)","v":0},null,null,null,{"$f":"VALUE(Q21)","v":0},null,null,null,{"$f":"VALUE(U21)","v":0},null,null,null,{"$f":"VALUE(Y21)","v":0}]
[null,"Total additions . . . . . . . . . . . . . . . . . . . . . . . . . . . . . . . . . . . . . . . . . .",null,null,null,null,null,{"$f":"(K19-K20)*ROUND(((I21)/100*0.7),2)","v":0},null,null,null,{"$f":"(O19-O20)*ROUND(((M21)/100*0.7),2)","v":0},null,null,null,{"$f":"(S19-S20)*ROUND(((Q21)/100*0.7),2)","v":0},null,null,null,{"$f":"(W19-W20)*ROUND(((U21)/100*0.7),2)","v":0},null,null,null,{"$f":"(AA19-AA20)*ROUND(((Y21)/100*0.7),2)","v":0}]
[null,"Total annual net income from self-employment  . . . . . . . . . . . . . . . ",null,null,null,null,null,{"$f":"H13-(H14+H15+H16)+(H17+H18+H22)","v":0},null,null,null,{"$f":"L13-(L14+L15+L16)+(L17+L18+L22)","v":0},null,null,null,{"$f":"P13-(P14+P15+P16)+(P17+P18+P22)","v":0},null,null,null,{"$f":"T13-(T14+T15+T16)+(T17+T18+T22)","v":0},null,null,null,{"$f":"X13-(X14+X15+X16)+(X17+X18+X22)","v":0}]
[null,null,null,null,null,null,"Total years for average:",null,null,null,null,null,null,null,null,null,{"$f":"IF(M12=0,1,IF(Q12=0,2,IF(U12=0,3,IF(Y12=0,4,5))))","v":1}]
[null,"Total net income:",null,null,{"$f":"H23+L23+P23+T23+X23","v":0},null,"Average annual income:",null,null,null,null,null,null,{"$f":"ROUND(E25/Q24,0)","v":0}]
[null,5,"E",null,null,null,null,null,null,null,null,null,null,null,null,null,null,null,null,null,null,null,null,null,null,{"$f":"IF(N25<0,\"Y\",\"\")","v":""}]
[null,null,null,null,null,null,null,null,null,null,11]
[null,null,null,null,null,null,null,null,null,null,12]
[null,null,null,null,null,null,null,null,null,null,13]
[null,null,null,null,null,null,null,null,null,null,14]
[null,null,null,null,null,null,null,null,null,null,15]
[null,null,null,null,null,null,null,null,null,null,16]
[null,null,null,null,null,null,null,null,null,null,17]
[null,null,null,null,null,null,null,null,null,null,18]
[null,null,null,null,null,null,null,null,null,null,19]
[null,null,null,null,null,null,null,null,null,null,20]
[null,null,null,null,null,null,null,null,null,null,21]
[null,null,null,null,null,null,null,null,null,null,22]

{"sheet":"SE Obe6","index":62,"n_rows":38,"n_cols":27,"rows_kept":38,"cut":false,"hidden":false,"merged":[[21,19,21,21],[21,23,21,25],[22,7,22,9],[22,11,22,13],[22,15,22,17],[22,19,22,21],[22,23,22,25],[12,7,12,9],[12,11,12,13],[12,15,12,17],[12,19,12,21],[12,23,12,25],[2,1,2,25],[9,1,9,24],[5,3,5,19],[6,3,6,19],[8,1,8,24],[14,7,14,9],[14,11,14,13],[14,15,14,17],[14,19,14,21],[14,23,14,25],[13,7,13,9],[13,11,13,13],[13,15,13,17],[13,19,13,21],[13,23,13,25],[24,4,24,5],[24,13,24,16],[16,7,16,9],[16,11,16,13],[16,15,16,17],[21,7,21,9],[21,11,21,13],[21,15,21,17],[18,7,18,9],[18,11,18,13],[18,15,18,17],[15,23,15,25],[17,7,17,9],[17,11,17,13],[17,15,17,17],[17,19,17,21],[17,23,17,25],[16,19,16,21],[16,23,16,25],[15,7,15,9],[15,11,15,13],[15,15,15,17],[15,19,15,21],[18,19,18,21],[18,23,18,25],[19,7,19,9],[19,11,19,13],[19,15,19,17],[19,19,19,21],[19,23,19,25]]}
[]
[null,"Child Support Guidelines Calculator - Schedule B - Self Employment Income Entry"]
[]
[]
[]
[null,{"$f":"NameScr!$B$7","v":"Obligor:"},null,{"$f":"HomeScr!$C$5","v":" "}]
[null,{"$f":"NameScr!$B$13","v":"Obligee:"},null,{"$f":"HomeScr!$C$6","v":" "}]
[null,null,"Activity number:  6  for",null,null,{"$f":"NameScr!C13","v":0},null,"(enter up to 2 lines for business description below)   "]
[]
[]
[null,"                                                                                "]
[null,"Tax Year . . . . . . . . . . . . . . . . . . . . . . . . . . . . . . . . . . . . . . . . . . . . . . "]
[null,null,"Total income . . . . . . . . . . . . . . . . . . . . . . . . . . . . . . . . . . . . . . . . ",null,null,null,null,null,null,null,{"$f":"VALUE(H13)","v":0},null,null,null,{"$f":"VALUE(L13)","v":0},null,null,null,{"$f":"VALUE(P13)","v":0},null,null,null,{"$f":"VALUE(T13)","v":0},null,null,null,{"$f":"VALUE(X13)","v":0}]
[null,null,"Income that is not this obligor's . . . . . . . . . . . . . . . . . . . . . . . . .",null,null,null,null,null,null,null,{"$f":"VALUE(H14)","v":0},null,null,null,{"$f":"VALUE(L14)","v":0},null,null,null,{"$f":"VALUE(P14)","v":0},null,null,null,{"$f":"VALUE(T14)","v":0},null,null,null,{"$f":"VALUE(X14)","v":0}]
[null,null,"Income that is not from self employment . . . . . . . . . . . . . . . . . ",null,null,null,null,null,null,null,0,null,null,null,0,null,null,null,0,null,null,null,0,null,null,null,0]
[null,null,"Undistributed partnership\\S-corp income . . . . . . . . . . . . . . . .",null,null,null,null,null,null,null,0,null,null,null,0,null,null,null,0,null,null,null,0,null,null,null,0]
[null,null,"Benefits\\pension\\profit sharing income . . . . . . . . . . . . . . . . . . ",null,null,null,null,null,null,null,0,null,null,null,0,null,null,null,0,null,null,null,0,null,null,null,0]
[null,null,"Payments to household member over fair market value  . . . . ",null,null,null,null,null,null,null,0,null,null,null,0,null,null,null,0,null,null,null,0,null,null,null,0]
[null,null,"C-corp taxable income . . . . . . . . . . . . . . . . . . . . . . . . . . . . . . . .",null,null,null,null,null,null,null,0,null,null,null,0,null,null,null,0,null,null,null,0,null,null,null,0]
[null,null,"C-corp federal income tax . . . . . . . . . . . . . . . . . . . . . . . . . . . . . ",null,null,null,null,null,null,null,0,null,null,null,0,null,null,null,0,null,null,null,0,null,null,null,0]
[null,null,"Obligor's ownership interest in C-corp (percentage) . . . . . . .",null,null,null,null,null,null,null,{"$f":"VALUE(I21)","v":0},null,null,null,{"$f":"VALUE(M21)","v":0},null,null,null,{"$f":"VALUE(Q21)","v":0},null,null,null,{"$f":"VALUE(U21)","v":0},null,null,null,{"$f":"VALUE(Y21)","v":0}]
[null,"Total additions . . . . . . . . . . . . . . . . . . . . . . . . . . . . . . . . . . . . . . . . . .",null,null,null,null,null,{"$f":"(K19-K20)*ROUND(((I21)/100*0.7),2)","v":0},null,null,null,{"$f":"(O19-O20)*ROUND(((M21)/100*0.7),2)","v":0},null,null,null,{"$f":"(S19-S20)*ROUND(((Q21)/100*0.7),2)","v":0},null,null,null,{"$f":"(W19-W20)*ROUND(((U21)/100*0.7),2)","v":0},null,null,null,{"$f":"(AA19-AA20)*ROUND(((Y21)/100*0.7),2)","v":0}]
[null,"Total annual net income from self-employment  . . . . . . . . . . . . . . . ",null,null,null,null,null,{"$f":"H13-(H14+H15+H16)+(H17+H18+H22)","v":0},null,null,null,{"$f":"L13-(L14+L15+L16)+(L17+L18+L22)","v":0},null,null,null,{"$f":"P13-(P14+P15+P16)+(P17+P18+P22)","v":0},null,null,null,{"$f":"T13-(T14+T15+T16)+(T17+T18+T22)","v":0},null,null,null,{"$f":"X13-(X14+X15+X16)+(X17+X18+X22)","v":0}]
[null,null,null,null,null,null,"Total years for average:",null,null,null,null,null,null,null,null,null,{"$f":"IF(M12=0,1,IF(Q12=0,2,IF(U12=0,3,IF(Y12=0,4,5))))","v":1}]
[null,"Total net income:",null,null,{"$f":"H23+L23+P23+T23+X23","v":0},null,"Average annual income:",null,null,null,null,null,null,{"$f":"ROUND(E25/Q24,0)","v":0}]
[null,6,"E",null,null,null,null,null,null,null,null,null,null,null,null,null,null,null,null,null,null,null,null,null,null,{"$f":"IF(N25<0,\"Y\",\"\")","v":""}]
[null,null,null,null,null,null,null,null,null,null,11]
[null,null,null,null,null,null,null,null,null,null,12]
[null,null,null,null,null,null,null,null,null,null,13]
[null,null,null,null,null,null,null,null,null,null,14]
[null,null,null,null,null,null,null,null,null,null,15]
[null,null,null,null,null,null,null,null,null,null,16]
[null,null,null,null,null,null,null,null,null,null,17]
[null,null,null,null,null,null,null,null,null,null,18]
[null,null,null,null,null,null,null,null,null,null,19]
[null,null,null,null,null,null,null,null,null,null,20]
[null,null,null,null,null,null,null,null,null,null,21]
[null,null,null,null,null,null,null,null,null,null,22]

{"sheet":"SE Obe7","index":63,"n_rows":38,"n_cols":27,"rows_kept":38,"cut":false,"hidden":false,"merged":[[21,19,21,21],[21,23,21,25],[22,7,22,9],[22,11,22,13],[22,15,22,17],[22,19,22,21],[22,23,22,25],[12,7,12,9],[12,11,12,13],[12,15,12,17],[12,19,12,21],[12,23,12,25],[2,1,2,25],[9,1,9,24],[5,3,5,19],[6,3,6,19],[8,1,8,24],[14,7,14,9],[14,11,14,13],[14,15,14,17],[14,19,14,21],[14,23,14,25],[13,7,13,9],[13,11,13,13],[13,15,13,17],[13,19,13,21],[13,23,13,25],[24,4,24,5],[24,13,24,16],[16,7,16,9],[16,11,16,13],[16,15,16,17],[21,7,21,9],[21,11,21,13],[21,15,21,17],[18,7,18,9],[18,11,18,13],[18,15,18,17],[15,23,15,25],[17,7,17,9],[17,11,17,13],[17,15,17,17],[17,19,17,21],[17,23,17,25],[16,19,16,21],[16,23,16,25],[15,7,15,9],[15,11,15,13],[15,15,15,17],[15,19,15,21],[18,19,18,21],[18,23,18,25],[19,7,19,9],[19,11,19,13],[19,15,19,17],[19,19,19,21],[19,23,19,25]]}
[]
[null,"Child Support Guidelines Calculator - Schedule B - Self Employment Income Entry"]
[]
[]
[]
[null,{"$f":"NameScr!$B$7","v":"Obligor:"},null,{"$f":"HomeScr!$C$5","v":" "}]
[null,{"$f":"NameScr!$B$13","v":"Obligee:"},null,{"$f":"HomeScr!$C$6","v":" "}]
[null,null,"Activity number:  7  for",null,null,{"$f":"NameScr!C13","v":0},null,"(enter up to 2 lines for business description below)   "]
[]
[]
[null,"                                                                                "]
[null,"Tax Year . . . . . . . . . . . . . . . . . . . . . . . . . . . . . . . . . . . . . . . . . . . . . . "]
[null,null,"Total income . . . . . . . . . . . . . . . . . . . . . . . . . . . . . . . . . . . . . . . . ",null,null,null,null,null,null,null,{"$f":"VALUE(H13)","v":0},null,null,null,{"$f":"VALUE(L13)","v":0},null,null,null,{"$f":"VALUE(P13)","v":0},null,null,null,{"$f":"VALUE(T13)","v":0},null,null,null,{"$f":"VALUE(X13)","v":0}]
[null,null,"Income that is not this obligor's . . . . . . . . . . . . . . . . . . . . . . . . .",null,null,null,null,null,null,null,{"$f":"VALUE(H14)","v":0},null,null,null,{"$f":"VALUE(L14)","v":0},null,null,null,{"$f":"VALUE(P14)","v":0},null,null,null,{"$f":"VALUE(T14)","v":0},null,null,null,{"$f":"VALUE(X14)","v":0}]
[null,null,"Income that is not from self employment . . . . . . . . . . . . . . . . . ",null,null,null,null,null,null,null,0,null,null,null,0,null,null,null,0,null,null,null,0,null,null,null,0]
[null,null,"Undistributed partnership\\S-corp income . . . . . . . . . . . . . . . .",null,null,null,null,null,null,null,0,null,null,null,0,null,null,null,0,null,null,null,0,null,null,null,0]
[null,null,"Benefits\\pension\\profit sharing income . . . . . . . . . . . . . . . . . . ",null,null,null,null,null,null,null,0,null,null,null,0,null,null,null,0,null,null,null,0,null,null,null,0]
[null,null,"Payments to household member over fair market value  . . . . ",null,null,null,null,null,null,null,0,null,null,null,0,null,null,null,0,null,null,null,0,null,null,null,0]
[null,null,"C-corp taxable income . . . . . . . . . . . . . . . . . . . . . . . . . . . . . . . .",null,null,null,null,null,null,null,0,null,null,null,0,null,null,null,0,null,null,null,0,null,null,null,0]
[null,null,"C-corp federal income tax . . . . . . . . . . . . . . . . . . . . . . . . . . . . . ",null,null,null,null,null,null,null,0,null,null,null,0,null,null,null,0,null,null,null,0,null,null,null,0]
[null,null,"Obligor's ownership interest in C-corp (percentage) . . . . . . .",null,null,null,null,null,null,null,{"$f":"VALUE(I21)","v":0},null,null,null,{"$f":"VALUE(M21)","v":0},null,null,null,{"$f":"VALUE(Q21)","v":0},null,null,null,{"$f":"VALUE(U21)","v":0},null,null,null,{"$f":"VALUE(Y21)","v":0}]
[null,"Total additions . . . . . . . . . . . . . . . . . . . . . . . . . . . . . . . . . . . . . . . . . .",null,null,null,null,null,{"$f":"(K19-K20)*ROUND(((I21)/100*0.7),2)","v":0},null,null,null,{"$f":"(O19-O20)*ROUND(((M21)/100*0.7),2)","v":0},null,null,null,{"$f":"(S19-S20)*ROUND(((Q21)/100*0.7),2)","v":0},null,null,null,{"$f":"(W19-W20)*ROUND(((U21)/100*0.7),2)","v":0},null,null,null,{"$f":"(AA19-AA20)*ROUND(((Y21)/100*0.7),2)","v":0}]
[null,"Total annual net income from self-employment  . . . . . . . . . . . . . . . ",null,null,null,null,null,{"$f":"H13-(H14+H15+H16)+(H17+H18+H22)","v":0},null,null,null,{"$f":"L13-(L14+L15+L16)+(L17+L18+L22)","v":0},null,null,null,{"$f":"P13-(P14+P15+P16)+(P17+P18+P22)","v":0},null,null,null,{"$f":"T13-(T14+T15+T16)+(T17+T18+T22)","v":0},null,null,null,{"$f":"X13-(X14+X15+X16)+(X17+X18+X22)","v":0}]
[null,null,null,null,null,null,"Total years for average:",null,null,null,null,null,null,null,null,null,{"$f":"IF(M12=0,1,IF(Q12=0,2,IF(U12=0,3,IF(Y12=0,4,5))))","v":1}]
[null,"Total net income:",null,null,{"$f":"H23+L23+P23+T23+X23","v":0},null,"Average annual income:",null,null,null,null,null,null,{"$f":"ROUND(E25/Q24,0)","v":0}]
[null,7,"E",null,null,null,null,null,null,null,null,null,null,null,null,null,null,null,null,null,null,null,null,null,null,{"$f":"IF(N25<0,\"Y\",\"\")","v":""}]
[null,null,null,null,null,null,null,null,null,null,11]
[null,null,null,null,null,null,null,null,null,null,12]
[null,null,null,null,null,null,null,null,null,null,13]
[null,null,null,null,null,null,null,null,null,null,14]
[null,null,null,null,null,null,null,null,null,null,15]
[null,null,null,null,null,null,null,null,null,null,16]
[null,null,null,null,null,null,null,null,null,null,17]
[null,null,null,null,null,null,null,null,null,null,18]
[null,null,null,null,null,null,null,null,null,null,19]
[null,null,null,null,null,null,null,null,null,null,20]
[null,null,null,null,null,null,null,null,null,null,21]
[null,null,null,null,null,null,null,null,null,null,22]

{"sheet":"SE Obe8","index":64,"n_rows":38,"n_cols":27,"rows_kept":38,"cut":false,"hidden":false,"merged":[[21,19,21,21],[21,23,21,25],[22,7,22,9],[22,11,22,13],[22,15,22,17],[22,19,22,21],[22,23,22,25],[12,7,12,9],[12,11,12,13],[12,15,12,17],[12,19,12,21],[12,23,12,25],[2,1,2,25],[9,1,9,24],[5,3,5,19],[6,3,6,19],[8,1,8,24],[14,7,14,9],[14,11,14,13],[14,15,14,17],[14,19,14,21],[14,23,14,25],[13,7,13,9],[13,11,13,13],[13,15,13,17],[13,19,13,21],[13,23,13,25],[24,4,24,5],[24,13,24,16],[16,7,16,9],[16,11,16,13],[16,15,16,17],[21,7,21,9],[21,11,21,13],[21,15,21,17],[18,7,18,9],[18,11,18,13],[18,15,18,17],[15,23,15,25],[17,7,17,9],[17,11,17,13],[17,15,17,17],[17,19,17,21],[17,23,17,25],[16,19,16,21],[16,23,16,25],[15,7,15,9],[15,11,15,13],[15,15,15,17],[15,19,15,21],[18,19,18,21],[18,23,18,25],[19,7,19,9],[19,11,19,13],[19,15,19,17],[19,19,19,21],[19,23,19,25]]}
[]
[null,"Child Support Guidelines Calculator - Schedule B - Self Employment Income Entry"]
[]
[]
[]
[null,{"$f":"NameScr!$B$7","v":"Obligor:"},null,{"$f":"HomeScr!$C$5","v":" "}]
[null,{"$f":"NameScr!$B$13","v":"Obligee:"},null,{"$f":"HomeScr!$C$6","v":" "}]
[null,null,"Activity number:  8  for",null,null,{"$f":"NameScr!C13","v":0},null,"(enter up to 2 lines for business description below)   "]
[]
[]
[null,"                                                                                "]
[null,"Tax Year . . . . . . . . . . . . . . . . . . . . . . . . . . . . . . . . . . . . . . . . . . . . . . "]
[null,null,"Total income . . . . . . . . . . . . . . . . . . . . . . . . . . . . . . . . . . . . . . . . ",null,null,null,null,null,null,null,{"$f":"VALUE(H13)","v":0},null,null,null,{"$f":"VALUE(L13)","v":0},null,null,null,{"$f":"VALUE(P13)","v":0},null,null,null,{"$f":"VALUE(T13)","v":0},null,null,null,{"$f":"VALUE(X13)","v":0}]
[null,null,"Income that is not this obligor's . . . . . . . . . . . . . . . . . . . . . . . . .",null,null,null,null,null,null,null,{"$f":"VALUE(H14)","v":0},null,null,null,{"$f":"VALUE(L14)","v":0},null,null,null,{"$f":"VALUE(P14)","v":0},null,null,null,{"$f":"VALUE(T14)","v":0},null,null,null,{"$f":"VALUE(X14)","v":0}]
[null,null,"Income that is not from self employment . . . . . . . . . . . . . . . . . ",null,null,null,null,null,null,null,0,null,null,null,0,null,null,null,0,null,null,null,0,null,null,null,0]
[null,null,"Undistributed partnership\\S-corp income . . . . . . . . . . . . . . . .",null,null,null,null,null,null,null,0,null,null,null,0,null,null,null,0,null,null,null,0,null,null,null,0]
[null,null,"Benefits\\pension\\profit sharing income . . . . . . . . . . . . . . . . . . ",null,null,null,null,null,null,null,0,null,null,null,0,null,null,null,0,null,null,null,0,null,null,null,0]
[null,null,"Payments to household member over fair market value  . . . . ",null,null,null,null,null,null,null,0,null,null,null,0,null,null,null,0,null,null,null,0,null,null,null,0]
[null,null,"C-corp taxable income . . . . . . . . . . . . . . . . . . . . . . . . . . . . . . . .",null,null,null,null,null,null,null,0,null,null,null,0,null,null,null,0,null,null,null,0,null,null,null,0]
[null,null,"C-corp federal income tax . . . . . . . . . . . . . . . . . . . . . . . . . . . . . ",null,null,null,null,null,null,null,0,null,null,null,0,null,null,null,0,null,null,null,0,null,null,null,0]
[null,null,"Obligor's ownership interest in C-corp (percentage) . . . . . . .",null,null,null,null,null,null,null,{"$f":"VALUE(I21)","v":0},null,null,null,{"$f":"VALUE(M21)","v":0},null,null,null,{"$f":"VALUE(Q21)","v":0},null,null,null,{"$f":"VALUE(U21)","v":0},null,null,null,{"$f":"VALUE(Y21)","v":0}]
[null,"Total additions . . . . . . . . . . . . . . . . . . . . . . . . . . . . . . . . . . . . . . . . . .",null,null,null,null,null,{"$f":"(K19-K20)*ROUND(((I21)/100*0.7),2)","v":0},null,null,null,{"$f":"(O19-O20)*ROUND(((M21)/100*0.7),2)","v":0},null,null,null,{"$f":"(S19-S20)*ROUND(((Q21)/100*0.7),2)","v":0},null,null,null,{"$f":"(W19-W20)*ROUND(((U21)/100*0.7),2)","v":0},null,null,null,{"$f":"(AA19-AA20)*ROUND(((Y21)/100*0.7),2)","v":0}]
[null,"Total annual net income from self-employment  . . . . . . . . . . . . . . . ",null,null,null,null,null,{"$f":"H13-(H14+H15+H16)+(H17+H18+H22)","v":0},null,null,null,{"$f":"L13-(L14+L15+L16)+(L17+L18+L22)","v":0},null,null,null,{"$f":"P13-(P14+P15+P16)+(P17+P18+P22)","v":0},null,null,null,{"$f":"T13-(T14+T15+T16)+(T17+T18+T22)","v":0},null,null,null,{"$f":"X13-(X14+X15+X16)+(X17+X18+X22)","v":0}]
[null,null,null,null,null,null,"Total years for average:",null,null,null,null,null,null,null,null,null,{"$f":"IF(M12=0,1,IF(Q12=0,2,IF(U12=0,3,IF(Y12=0,4,5))))","v":1}]
[null,"Total net income:",null,null,{"$f":"H23+L23+P23+T23+X23","v":0},null,"Average annual income:",null,null,null,null,null,null,{"$f":"ROUND(E25/Q24,0)","v":0}]
[null,8,"E",null,null,null,null,null,null,null,null,null,null,null,null,null,null,null,null,null,null,null,null,null,null,{"$f":"IF(N25<0,\"Y\",\"\")","v":""}]
[null,null,null,null,null,null,null,null,null,null,11]
[null,null,null,null,null,null,null,null,null,null,12]
[null,null,null,null,null,null,null,null,null,null,13]
[null,null,null,null,null,null,null,null,null,null,14]
[null,null,null,null,null,null,null,null,null,null,15]
[null,null,null,null,null,null,null,null,null,null,16]
[null,null,null,null,null,null,null,null,null,null,17]
[null,null,null,null,null,null,null,null,null,null,18]
[null,null,null,null,null,null,null,null,null,null,19]
[null,null,null,null,null,null,null,null,null,null,20]
[null,null,null,null,null,null,null,null,null,null,21]
[null,null,null,null,null,null,null,null,null,null,22]

{"sheet":"SE Obe9","index":65,"n_rows":38,"n_cols":27,"rows_kept":38,"cut":false,"hidden":false,"merged":[[21,19,21,21],[21,23,21,25],[22,7,22,9],[22,11,22,13],[22,15,22,17],[22,19,22,21],[22,23,22,25],[12,7,12,9],[12,11,12,13],[12,15,12,17],[12,19,12,21],[12,23,12,25],[2,1,2,25],[9,1,9,24],[5,3,5,19],[6,3,6,19],[8,1,8,24],[14,7,14,9],[14,11,14,13],[14,15,14,17],[14,19,14,21],[14,23,14,25],[13,7,13,9],[13,11,13,13],[13,15,13,17],[13,19,13,21],[13,23,13,25],[24,4,24,5],[24,13,24,16],[16,7,16,9],[16,11,16,13],[16,15,16,17],[21,7,21,9],[21,11,21,13],[21,15,21,17],[18,7,18,9],[18,11,18,13],[18,15,18,17],[15,23,15,25],[17,7,17,9],[17,11,17,13],[17,15,17,17],[17,19,17,21],[17,23,17,25],[16,19,16,21],[16,23,16,25],[15,7,15,9],[15,11,15,13],[15,15,15,17],[15,19,15,21],[18,19,18,21],[18,23,18,25],[19,7,19,9],[19,11,19,13],[19,15,19,17],[19,19,19,21],[19,23,19,25]]}
[]
[null,"Child Support Guidelines Calculator - Schedule B - Self Employment Income Entry"]
[]
[]
[]
[null,{"$f":"NameScr!$B$7","v":"Obligor:"},null,{"$f":"HomeScr!$C$5","v":" "}]
[null,{"$f":"NameScr!$B$13","v":"Obligee:"},null,{"$f":"HomeScr!$C$6","v":" "}]
[null,null,"Activity number:  9  for   ",null,null,{"$f":"NameScr!C13","v":0},null,"(enter up to 2 lines for business description below)   "]
[]
[]
[null,"                                                                                "]
[null,"Tax Year . . . . . . . . . . . . . . . . . . . . . . . . . . . . . . . . . . . . . . . . . . . . . . "]
[null,null,"Total income . . . . . . . . . . . . . . . . . . . . . . . . . . . . . . . . . . . . . . . . ",null,null,null,null,null,null,null,{"$f":"VALUE(H13)","v":0},null,null,null,{"$f":"VALUE(L13)","v":0},null,null,null,{"$f":"VALUE(P13)","v":0},null,null,null,{"$f":"VALUE(T13)","v":0},null,null,null,{"$f":"VALUE(X13)","v":0}]
[null,null,"Income that is not this obligor's . . . . . . . . . . . . . . . . . . . . . . . . .",null,null,null,null,null,null,null,{"$f":"VALUE(H14)","v":0},null,null,null,{"$f":"VALUE(L14)","v":0},null,null,null,{"$f":"VALUE(P14)","v":0},null,null,null,{"$f":"VALUE(T14)","v":0},null,null,null,{"$f":"VALUE(X14)","v":0}]
[null,null,"Income that is not from self employment . . . . . . . . . . . . . . . . . ",null,null,null,null,null,null,null,0,null,null,null,0,null,null,null,0,null,null,null,0,null,null,null,0]
[null,null,"Undistributed partnership\\S-corp income . . . . . . . . . . . . . . . .",null,null,null,null,null,null,null,0,null,null,null,0,null,null,null,0,null,null,null,0,null,null,null,0]
[null,null,"Benefits\\pension\\profit sharing income . . . . . . . . . . . . . . . . . . ",null,null,null,null,null,null,null,0,null,null,null,0,null,null,null,0,null,null,null,0,null,null,null,0]
[null,null,"Payments to household member over fair market value  . . . . ",null,null,null,null,null,null,null,0,null,null,null,0,null,null,null,0,null,null,null,0,null,null,null,0]
[null,null,"C-corp taxable income . . . . . . . . . . . . . . . . . . . . . . . . . . . . . . . .",null,null,null,null,null,null,null,0,null,null,null,0,null,null,null,0,null,null,null,0,null,null,null,0]
[null,null,"C-corp federal income tax . . . . . . . . . . . . . . . . . . . . . . . . . . . . . ",null,null,null,null,null,null,null,0,null,null,null,0,null,null,null,0,null,null,null,0,null,null,null,0]
[null,null,"Obligor's ownership interest in C-corp (percentage) . . . . . . .",null,null,null,null,null,null,null,{"$f":"VALUE(I21)","v":0},null,null,null,{"$f":"VALUE(M21)","v":0},null,null,null,{"$f":"VALUE(Q21)","v":0},null,null,null,{"$f":"VALUE(U21)","v":0},null,null,null,{"$f":"VALUE(Y21)","v":0}]
[null,"Total additions . . . . . . . . . . . . . . . . . . . . . . . . . . . . . . . . . . . . . . . . . .",null,null,null,null,null,{"$f":"(K19-K20)*ROUND(((I21)/100*0.7),2)","v":0},null,null,null,{"$f":"(O19-O20)*ROUND(((M21)/100*0.7),2)","v":0},null,null,null,{"$f":"(S19-S20)*ROUND(((Q21)/100*0.7),2)","v":0},null,null,null,{"$f":"(W19-W20)*ROUND(((U21)/100*0.7),2)","v":0},null,null,null,{"$f":"(AA19-AA20)*ROUND(((Y21)/100*0.7),2)","v":0}]
[null,"Total annual net income from self-employment  . . . . . . . . . . . . . . . ",null,null,null,null,null,{"$f":"H13-(H14+H15+H16)+(H17+H18+H22)","v":0},null,null,null,{"$f":"L13-(L14+L15+L16)+(L17+L18+L22)","v":0},null,null,null,{"$f":"P13-(P14+P15+P16)+(P17+P18+P22)","v":0},null,null,null,{"$f":"T13-(T14+T15+T16)+(T17+T18+T22)","v":0},null,null,null,{"$f":"X13-(X14+X15+X16)+(X17+X18+X22)","v":0}]
[null,null,null,null,null,null,"Total years for average:",null,null,null,null,null,null,null,null,null,{"$f":"IF(M12=0,1,IF(Q12=0,2,IF(U12=0,3,IF(Y12=0,4,5))))","v":1}]
[null,"Total net income:",null,null,{"$f":"H23+L23+P23+T23+X23","v":0},null,"Average annual income:",null,null,null,null,null,null,{"$f":"ROUND(E25/Q24,0)","v":0}]
[null,9,"E",null,null,null,null,null,null,null,null,null,null,null,null,null,null,null,null,null,null,null,null,null,null,{"$f":"IF(N25<0,\"Y\",\"\")","v":""}]
[null,null,null,null,null,null,null,null,null,null,11]
[null,null,null,null,null,null,null,null,null,null,12]
[null,null,null,null,null,null,null,null,null,null,13]
[null,null,null,null,null,null,null,null,null,null,14]
[null,null,null,null,null,null,null,null,null,null,15]
[null,null,null,null,null,null,null,null,null,null,16]
[null,null,null,null,null,null,null,null,null,null,17]
[null,null,null,null,null,null,null,null,null,null,18]
[null,null,null,null,null,null,null,null,null,null,19]
[null,null,null,null,null,null,null,null,null,null,20]
[null,null,null,null,null,null,null,null,null,null,21]
[null,null,null,null,null,null,null,null,null,null,22]

{"sheet":"SE Loss-Obe","index":66,"n_rows":27,"n_cols":21,"rows_kept":27,"cut":false,"hidden":false,"merged":[[2,1,2,25],[12,7,12,9],[12,15,12,17],[13,7,13,9],[13,15,13,17],[12,19,12,22],[13,19,13,22],[10,7,10,9],[10,15,10,17],[11,7,11,9],[11,15,11,17],[10,19,10,22],[11,19,11,22],[5,3,5,16],[6,3,6,16],[14,7,14,9],[14,15,14,17],[15,7,15,9],[15,15,15,17],[14,19,14,22],[15,19,15,22],[16,7,16,9],[16,15,16,17],[17,7,17,9],[17,15,17,17],[16,19,16,22],[17,19,17,22],[18,19,18,22],[19,7,19,9],[19,15,19,17],[19,19,19,22],[23,9,23,12],[18,7,18,9],[18,15,18,17],[21,9,21,12],[22,9,22,12]]}
[]
[null,"Child Support Guidelines Calculator - Schedule B - Self Employment Summary/Loss Entry"]
[]
[]
[]
[null,{"$f":"NameScr!$B$7","v":"Obligor:"},null,{"$f":"HomeScr!$C$5","v":" "}]
[null,{"$f":"NameScr!$B$13","v":"Obligee:"},null,{"$f":"HomeScr!$C$6","v":" "}]
[null,"Self Employment for:",null,null,{"$f":"NameScr!C13","v":0}]
[null,null,null,null,null,null,null,null,"Average annual",null,null,null,"Use loss",null,null,null,"Exclude ",null,null,null,"Amount transferred"]
[null,"Activity and description",null,null,null,null,null,null,"income",null,null,null,"analysis",null,null,null,"amount",null,null,null,"to worksheet"]
[null,1,{"$f":"'SchB1 Obge'!$A$18","v":0},null,null,null,null,{"$f":"'SE Obe1'!$N$25","v":0},null,null,null,null,{"$f":"IF(H11>=0,\"\",\"Y\")","v":""},null,null,{"$f":"IF(H11<0,IF(M11=\"N\",0,IF(M11=\"Z\",H11,IF(M11=\"Y\",IF('SchB1 Obge'!$S$158=0,H11,0),0))),0)","v":0},null,null,null,{"$f":"H11-P11","v":0}]
[null,2,{"$f":"'SchB2 Obge'!$A$17","v":0},null,null,null,null,{"$f":"'SE Obe2'!$N$25","v":0},null,null,null,null,{"$f":"IF(H12>=0,\"\",\"Y\")","v":""},null,null,{"$f":"IF(H12<0,IF(M12=\"N\",0,IF(M12=\"Z\",H12,IF(M12=\"Y\",IF('SchB2 Obge'!$S$157=0,H12,0),0))),0)","v":0},null,null,null,{"$f":"H12-P12","v":0}]
[null,3,{"$f":"'SchB3 Obge'!$A$17","v":0},null,null,null,null,{"$f":"'SE Obe3'!$N$25","v":0},null,null,null,null,"",null,null,{"$f":"IF(H13<0,IF(M13=\"N\",0,IF(M13=\"Z\",H13,IF(M13=\"Y\",IF('SchB3 Obge'!$S$157=0,H13,0),0))),0)","v":0},null,null,null,{"$f":"H13-P13","v":0}]
[null,4,{"$f":"'SchB4 Obge'!$A$17","v":0},null,null,null,null,{"$f":"'SE Obe4'!$N$25","v":0},null,null,null,null,"",null,null,{"$f":"IF(H14<0,IF(M14=\"N\",0,IF(M14=\"Z\",H14,IF(M14=\"Y\",IF('SchB4 Obge'!$S$157=0,H14,0),0))),0)","v":0},null,null,null,0]
[null,5,{"$f":"'SchB5 Obge'!$A$17","v":0},null,null,null,null,{"$f":"'SE Obe5'!$N$25","v":0},null,null,null,null,"",null,null,{"$f":"IF(H15<0,IF(M15=\"N\",0,IF(M15=\"Z\",H15,IF(M15=\"Y\",IF('SchB5 Obge'!$S$157=0,H15,0),0))),0)","v":0},null,null,null,0]
[null,6,{"$f":"'SchB6 Obge'!$A$17","v":0},null,null,null,null,{"$f":"'SE Obe6'!$N$25","v":0},null,null,null,null,"",null,null,{"$f":"IF(H16<0,IF(M16=\"N\",0,IF(M16=\"Z\",H16,IF(M16=\"Y\",IF('SchB6 Obge'!$S$157=0,H16,0),0))),0)","v":0},null,null,null,0]
[null,7,{"$f":"'SchB7 Obge'!$A$17","v":0},null,null,null,null,{"$f":"'SE Obe7'!$N$25","v":0},null,null,null,null,"",null,null,{"$f":"IF(H17<0,IF(M17=\"N\",0,IF(M17=\"Z\",H17,IF(M17=\"Y\",IF('SchB7 Obge'!$S$157=0,H17,0),0))),0)","v":0},null,null,null,0]
[null,8,{"$f":"'SchB8 Obge'!$A$17","v":0},null,null,null,null,{"$f":"'SE Obe8'!$N$25","v":0},null,null,null,null,"",null,null,{"$f":"IF(H18<0,IF(M18=\"N\",0,IF(M18=\"Z\",H18,IF(M18=\"Y\",IF('SchB8 Obge'!$S$157=0,H18,0),0))),0)","v":0},null,null,null,0]
[null,9,{"$f":"'SchB9 Obge'!$A$17","v":0},null,null,null,null,{"$f":"'SE Obe9'!$N$25","v":0},null,null,null,null,"",null,null,{"$f":"IF(H19<0,IF(M19=\"N\",0,IF(M19=\"Z\",H19,IF(M19=\"Y\",IF('SchB9 Obge'!$S$157=0,H19,0),0))),0)","v":0},null,null,null,0]
[null,null,"Total for all activities",null,null,null,null,{"$f":"SUM(H11:H19)","v":0},null,null,null,null,null,null,null,{"$f":"SUM(P11:P19)","v":0},null,null,null,{"$f":"SUM(T11:T19)","v":0}]
[]
[null,"Monthly gross income . . . . . . . . . . . . . . . . . . . . . . . . . . . . ",null,null,null,null,null,null,null,null,null,null,null,{"$f":"VALUE(J22)","v":0}]
[null,"Statewide average earnings  . . . . . . . . . . . . . . . . . . . . . . ",null,null,null,null,null,null,null,null,null,null,null,{"$f":"VALUE(J23)","v":0}]
[null,"Greatest twelve month average monthly earnings . . . . . ",null,null,null,null,null,null,null,null,null,null,null,0]
[]
[null,null,"E"]
[null,null,"L"]

{"sheet":"DedApp","index":67,"n_rows":29,"n_cols":8,"rows_kept":29,"cut":false,"hidden":false,"merged":[[2,1,2,6]]}
[]
[null,"Child Support Guidelines Calculator - Deductions/Applications Entry"]
[]
[]
[]
[null,{"$f":"NameScr!$B$7","v":"Obligor:"},null,{"$f":"HomeScr!$C$5","v":" "},null,"?"]
[null,{"$f":"NameScr!$B$13","v":"Obligee:"},null,{"$f":"HomeScr!$C$6","v":" "}]
[null,null,null,null,{"$f":"NameScr!C7","v":0},null,{"$f":"NameScr!C13","v":0},{"$f":"Rates!O49","v":0}]
[null,"Annual net income from self employment (Schedule B) . . . . . . . . . . . . . . . .",null,null,{"$f":"'Wks1 Obgr'!K29","v":0},null,{"$f":"'Wks1 Obge'!K29","v":0}]
[null,null,"Self employment income subject to self employment tax per IRS  . . . . . . ",null,null,{"$f":"VALUE(E10)","v":0},null,{"$f":"VALUE(G10)","v":0}]
[null,null,"Gross employment income not subject to FICA\\Medicare . . . . . . . . . . . . ",null,null,{"$f":"VALUE(E11)","v":0},null,0]
[null,"                                                                                "]
[null,"Annual deductions"]
[null,null,"FICA/Medicare/RRTA   . . . . . . . . . . . . . . . . . . . . . . . . . . . . . . . . . . . . . . . . . ",null,{"$f":"'Wks1 Obgr'!I38","v":0},null,{"$f":"'Wks1 Obge'!I38","v":0}]
[null,null,"Other medical expenses for children whom support is sought . . . . . . . . . ",null,null,{"$f":"VALUE(E15)","v":0},null,{"$f":"VALUE(G15)","v":0}]
[]
[null,null,"Required union dues and occupational license fees . . . . . . . . . . . . . . . . .",null,null,{"$f":"VALUE(E17)","v":0},null,{"$f":"VALUE(G17)","v":0}]
[null,null,"Required retirement contributions . . . . . . . . . . . . . . . . . . . . . . . . . . . . . . . . ",null,null,0,null,0]
[null,null,"Required employee expenses . . . . . . . . . . . . . . . . . . . . . . . . . . . . . . . . . . .",null,null,0,null,0]
[null,"                                                                                "]
[null,"Guidelines applications"]
[null,null,"Multiple families . . . . . . . . . . . . . . . . . . . . . . . . . . . . . . . . . . . . . . . . . . . . . . . ",null,{"$f":"IF(AND(Rates!O53=\"Y\",Rates!O57=0),'Wks2 Obgr'!I33,0)","v":0},null,{"$f":"IF(AND(Rates!P53=\"Y\",Rates!P57=0),'Wks2 Obge'!I33,0)","v":0}]
[null,null,"Extended parenting time (visitation)  . . . . . . . . . . . . . . . . . . . . . . . . . . . . . . ",null,{"$f":"IF(AND(Rates!O54=\"Y\",Rates!O58=0),'Wks2 Obgr'!I35,0)","v":0},null,{"$f":"IF(AND(Rates!P54=\"Y\",Rates!P58=0),'Wks2 Obge'!I35,0)","v":0}]
[]
[null,null,"If Railroad Retirement Tax Act is calculated manually, enter here . . . . . . . ",null,null,{"$f":"VALUE(E25)","v":0},null,{"$f":"VALUE(G25)","v":0}]
[null,null,null,null,null,0,null,0]
[null,null,"If multiple families is calculated manually, enter here  . . . . . . . . . . . . . . . . . ",null,null,0,null,0]
[null,null,null,null,null,0,null,0]
[null,null,"If extended parenting time is calculated manually, enter here .  . . . . . . . . . ",null,null,0,null,0]

{"sheet":"TaxEnt","index":68,"n_rows":25,"n_cols":11,"rows_kept":25,"cut":false,"hidden":false,"merged":[[2,1,2,9],[23,5,23,6],[24,5,24,6],[23,8,23,9],[24,8,24,9],[7,5,7,6],[7,8,7,9],[8,5,8,6],[9,5,9,6],[11,5,11,6],[8,8,8,9],[9,8,9,9],[11,8,11,9]]}
[]
[null,"Child Support Guidelines Calculator - Schedule 1 - Income Tax Entry"]
[]
[]
[]
[null,{"$f":"NameScr!$B$7","v":"Obligor:"},null,null,{"$f":"HomeScr!$C$5","v":" "}]
[null,{"$f":"NameScr!$B$13","v":"Obligee:"},null,null,{"$f":"HomeScr!$C$6","v":" "}]
[null,null,null,null,null,{"$f":"NameScr!C7","v":0},null,null,{"$f":"NameScr!C13","v":0},null,{"$f":"Rates!O49","v":0}]
[null,"Gross annual income . . . . . . . . . . . . . . . . . . . . . . . . . . . . . . . . . . . . . . . . . . . . . . . . . . . . . . .",null,null,null,{"$f":"'Sch1 Obgr'!M12","v":0},null,null,{"$f":"'Sch1 Obge'!M12","v":0}]
[null,null,"Amount of gross income not subject to income tax per IRS. . . . . . . . . . . . . . . . . . . . . . ",null,null,null,null,{"$f":"VALUE(F10)","v":0},null,null,{"$f":"VALUE(I10)","v":0}]
[]
[null,"?","Amount of deductions allowed in arriving at adjusted gross income per IRS . . . . . . . ",null,null,null,null,{"$f":"VALUE(F12)","v":0},null,null,{"$f":"VALUE(I12)","v":0}]
[null,"                                                                                "]
[null,null,null,null,null,null,null,{"$f":"VALUE(G14)","v":0},null,null,{"$f":"VALUE(J14)","v":0}]
[null,null,null,null,null,null,null,{"$f":"VALUE(G15)","v":0},null,null,{"$f":"VALUE(J15)","v":0}]
[]
[null,null,null,null,null,null,null,{"$f":"VALUE(G17)","v":0},null,null,{"$f":"VALUE(J17)","v":0}]
[]
[null,null,null,null,null,null,null,{"$f":"VALUE(G19)","v":0},null,null,{"$f":"VALUE(J19)","v":0}]
[]
[null,null,null,null,null,null,null,{"$f":"VALUE(G21)","v":0},null,null,{"$f":"VALUE(J21)","v":0}]
[null,null,null,null,null,null,null,{"$f":"VALUE(G22)","v":0},null,null,{"$f":"VALUE(J22)","v":0}]
[]
[null,"Taxable income . . . . . . . . . . . . . . . . . . . . . . . . . . . . . . . . . . . . . . . . . . . . . . . . . . . . . . . . . . . . . .",null,null,null,{"$f":"'Sch1 Obgr'!M20","v":0},null,null,{"$f":"'Sch1 Obge'!M20","v":0}]
[null,"Tax obligation for single individual. . . . . . . . . . . . . . . . . . . . . . . . . . . . . . . . . . . . . . . . . . . . . . . ",null,null,null,{"$f":"'Sch1 Obgr'!M21","v":0},null,null,{"$f":"'Sch1 Obge'!M21","v":0}]

{"sheet":"HlthInsr","index":69,"n_rows":22,"n_cols":13,"rows_kept":22,"cut":false,"hidden":false,"merged":[[25,4,25,9],[26,4,26,9],[24,4,24,9],[2,1,2,11],[8,5,8,7],[8,9,8,11],[12,5,12,7],[16,5,16,7],[12,9,12,11],[16,9,16,11],[5,3,5,4],[6,3,6,4],[7,2,7,6]]}
[]
[null,"Child Support Guidelines Calculator - Schedule 2 - Health Insurance Entry"]
[]
[]
[]
[null,{"$f":"NameScr!$B$7","v":"Obligor:"},null,{"$f":"HomeScr!$C$5","v":" "}]
[null,{"$f":"NameScr!$B$13","v":"Obligee:"},null,{"$f":"HomeScr!$C$6","v":" "}]
[null,"                                                                                ","If the obligor is not or will not be providing health insurance for the children (or if there is no cost for the health insurance), skip this screen by clicking \"Next\" below."]
[null,"Is there or will there be health insurance coverage, provided by the",null,null,null,{"$f":"NameScr!$C$7","v":0},null,null,null,{"$f":"NameScr!$C$13","v":0},null,null,{"$f":"Rates!O49","v":0}]
[null,"obligor, for the children for whom support is sought? (Y/N or blank) . . . .",null,null,null,null,{"$f":"UPPER(F10)","v":""},null,null,null,{"$f":"UPPER(J10)","v":""}]
[]
[]
[null,null,"Total annual insurance premium cost . . . . . . . . . . . . . . . . . . . . . . . . . . . . . ",null,null,null,null,null,{"$f":"VALUE(F13)","v":0},null,null,null,{"$f":"VALUE(J13)","v":0}]
[]
[null,null,"Is the cost of single coverage known? (Y/N) . . . . . . . . . . . . . . . . . . . . . . . .",null,null,null,{"$f":"UPPER(F15)","v":""},null,null,null,{"$f":"UPPER(J15)","v":""}]
[]
[null,null,null,"Premium cost for single coverage. . . . . . . .  . . . . . . . . . . . . . . . . ",null,null,null,null,{"$f":"VALUE(F17)","v":0},null,null,null,{"$f":"VALUE(J17)","v":0}]
[]
[null,null,"Total number of persons covered by insurance, including obligor . . . . . .",null,null,null,{"$f":"VALUE(F19)","v":0},null,null,null,{"$f":"VALUE(J19)","v":0}]
[]
[null,null,"Number of covered children for whom support is being sought . . . . . . . . ",null,null,null,{"$f":"VALUE(F21)","v":0},null,null,null,{"$f":"VALUE(J21)","v":0}]
[null,"                                                                                "]

{"sheet":"FCEnt","index":70,"n_rows":24,"n_cols":13,"rows_kept":24,"cut":false,"hidden":false,"merged":[[22,10,22,11],[23,10,23,11],[2,1,2,12],[4,3,4,6],[5,3,5,6]]}
[]
[null,"Child Support Guidelines Calculator - Schedule E - Foster Care Entry"]
[]
[]
[null,null,null,{"$f":"HomeScr!$C$5","v":" "}]
[null,{"$f":"NameScr!$B$13","v":"Obligee:"},null,{"$f":"HomeScr!$C$6","v":" "}]
[]
[null,"Is there a child entering foster care from this obligor's home? (Y/N) . . . . . . . . . . . . . . . . . . . . . . . . . . . . .",null,null,null,null,null,null,null,null,null,null,{"$f":"UPPER(L8)","v":""}]
[null,"Full siblings of the child entering foster care"]
[null,null,"Number of full siblings living with this obligor . . . . . .. . . . . . . . . . . . . . . . . . . . . . . . . . . . . . . . . . . . . . . . . . ",null,null,null,null,null,null,null,null,null,{"$f":"VALUE(L10)","v":0}]
[]
[null,null,"Number of full siblings not living with this obligor  . . . . . . . . . . . . . . . . . . . . . . . . . . . . . . . . . . . . . . . . . . . .",null,null,null,null,null,null,null,null,null,{"$f":"VALUE(L12)","v":0}]
[null,"Half siblings of the child entering foster care who are also a child of this obligor. (Do not include step children)"]
[]
[null,null,"Number of half siblings living with this obligor . . . . . . . . . . . . . . . . . . . . . . . . . . . . . . . . . . . . . . . . . . . . . . .",null,null,null,null,null,null,null,null,null,{"$f":"VALUE(L15)","v":0}]
[]
[]
[null,null,"Number of other homes in which this foster care child's half siblings reside . . . . . . . . . . . . . . . . . . . . . . . .",null,null,null,null,null,null,null,null,null,{"$f":"VALUE(L18)","v":0}]
[]
[null,null,null,"Number of half siblings residing in each of these other homes"]
[null,null,null,"Other home 1  ",null,"Other home 2  ",null,"Other home 3  "]
[null,null,null,null,{"$f":"VALUE(E21)","v":0},null,{"$f":"VALUE(G21)","v":0},null,{"$f":"VALUE(I21)","v":0}]
[null,"Per child foster care support amount (calculated automatically) . . . . . . . .",null,null,null,null,null,null,null,null,{"$f":"IF(N18<4,IF(M8=\"N\",IF(N18<1,'SchE Obgr'!M62,'SchE Obgr'!G85),IF(N18<1,'SchE Obgr'!M28,'SchE Obgr'!D48)),\"\")","v":0}]
[null,"Per child foster care support amount (calculated manually) . . . . . . . . . . . .",null,null,null,null,null,null,null,null,null,null,{"$f":"VALUE(K24)","v":0}]

{"sheet":"TotScr","index":71,"n_rows":29,"n_cols":13,"rows_kept":29,"cut":false,"hidden":false,"merged":[[25,4,25,11],[24,4,24,11],[20,4,20,11],[21,4,21,11],[2,1,2,11],[4,3,4,8],[5,3,5,8]]}
[]
[null,"Child Support Guidelines Calculator - Worksheet Total Screen"]
[]
[]
[null,{"$f":"NameScr!$B$7","v":"Obligor:"},null,{"$f":"HomeScr!$C$5","v":" "}]
[null,{"$f":"NameScr!$B$13","v":"Obligee:"},null,{"$f":"HomeScr!$C$6","v":" "}]
[]
[]
[null,null,null,null,null,null,null,null,null,{"$f":"NameScr!$C$7","v":0},null,{"$f":"NameScr!$C$13","v":0},{"$f":"Rates!O49","v":0}]
[null,"Number of children for whom support is determined . . . . . . . . . . . . . . . . . . . .",null,null,null,null,null,null,null,{"$f":"QuesScr!H12","v":0},null,{"$f":"QuesScr!L12","v":0}]
[null,"Net monthly income . . . . . . . . . . . . . . . . . . . . . . . . . . . . . . . . . . . . . . . . . . . . . . . . . . .",null,null,null,null,null,null,null,{"$f":"'Wks2 Obgr'!I1","v":0},null,{"$f":"'Wks2 Obge'!I1","v":0}]
[null,"Preliminary amount  . . . . . . . . . . . . . . . . . . . . . . . . . . . . . . . . . . . . . . . . . . . . . ",null,null,null,null,null,null,null,{"$f":"'Wks2 Obgr'!I6","v":0},null,{"$f":"'Wks2 Obge'!I6","v":0}]
[null,"Multiple family amount . . . . . . . . . . . . . . . . . . . . . . . . . . . . . . . . . . . . . . . . . . . ",null,null,null,null,null,null,null,{"$f":"'Wks2 Obgr'!I33","v":0},null,{"$f":"'Wks2 Obge'!I33","v":0}]
[null,"Extended parenting time amount. . . . . . . . . . . . . . . . . . . . . . . . . . . . . . . . . . . . . . . . .",null,null,null,null,null,null,null,{"$f":"'Wks2 Obgr'!I35","v":0},null,{"$f":"'Wks2 Obge'!I35","v":0}]
[null,"Foster care amount . . . . . . . . . . . . . . . . . . . . . . . . . . . . . . . . . . . . . . . . . . . . .",null,null,null,null,null,null,null,{"$f":"'Wks2 Obgr'!I37","v":0},null,{"$f":"'Wks2 Obge'!I37","v":0}]
[null,null,null,null,null,null,null,null,null,{"$f":"IF(J15=0,IF(J14=0,IF(J13=0,J12,J13),J14),J15)","v":0},null,{"$f":"IF(L15=0,IF(L14=0,IF(L13=0,L12,L13),L14),L15)","v":0}]
[]
[null,null,null,null,"Net child support payment . . . . . . . . . . . . . . . . . . . . . . . . . . . . . .",null,null,null,null,{"$f":"IF(J16>L16,J16-L16,\"0\")","v":"0"},null,{"$f":"IF(L16>J16,L16-J16,0)","v":0}]
[]
[null,"General Comments"]
[null,{"$f":"CONCATENATE(NameScr!$C$7 & \":\")","v":":"}]
[]
[]
[]
[null,{"$f":"CONCATENATE(NameScr!$C$13 & \":\")","v":":"}]
[]
[]
[null,"Date Calculation Completed:"]
[null,null,null,null,null,null,null,null,{"$f":"TODAY()","v":"2024-05-06"}]

{"sheet":"ListEnt","index":72,"n_rows":23,"n_cols":5,"rows_kept":23,"cut":false,"hidden":false,"merged":[[2,0,2,15],[4,3,4,10],[5,3,5,10]]}
["                                                                                "]
[null,"Child Support Guidelines Calculator - List Worksheets"]
[]
["                                                                                "]
[null,{"$f":"NameScr!$B$7","v":"Obligor:"},null,{"$f":"HomeScr!$C$5","v":" "}]
[null,{"$f":"NameScr!$B$13","v":"Obligee:"},null,{"$f":"HomeScr!$C$6","v":" "}]
["                                                                                "]
[null,"Select worksheet screens"]
["                                                                                "]
[null,null,null,{"$f":"UPPER(C10)","v":""},"Guideline Worksheet Entry                                     "]
[null,null,null,{"$f":"UPPER(C11)","v":""},"Multiple Families Entry                                        "]
[null,null,null,"","Extended Parenting Time (visitation) Entry                     "]
[null,null,null,"","Schedule A - Imputed Income Entry                              "]
[null,null,null,"","Schedule B - Self Employment Entry                             "]
[null,null,null,"","Worksheet Gross Income Entry                                   "]
[null,null,null,"","Worksheet Deductions/Guidelines Applications Entry             "]
[null,null,null,"","Schedule 1 - Income Tax Entry                                  "]
[null,null,null,"","Schedule 2 - Health Insurance Entry                            "]
[null,null,null,"","Schedule E - Foster Care Entry                   "]
[null,null,null,"","Guidelines Worksheet Total Screen                              "]
["                                                                                ",null,{"$f":"IF(COUNTIF(D10:D20,\"X\")>0,\"Y\",0)","v":0}]
["                                                                                "]
["                                                                                ","Enter 'X' to select screen"]

{"sheet":"ViewScr","index":73,"n_rows":21,"n_cols":8,"rows_kept":21,"cut":false,"hidden":false,"merged":[[4,4,4,12],[5,4,5,12]]}
[]
[null,"Child Support Guidelines Calculator - View Worksheets"]
[]
["                                                                                "]
[null,{"$f":"NameScr!$B$7","v":"Obligor:"},null,null,{"$f":"HomeScr!$C$5","v":" "}]
[null,{"$f":"NameScr!$B$13","v":"Obligee:"},null,null,{"$f":"HomeScr!$C$6","v":" "}]
["                                                                                "]
[null,{"$f":"UPPER(C8)","v":""},null,null,"View entire worksheet with schedules                           "]
[null,{"$f":"IF((COUNTIF(C8,\"x\")+COUNTIF(C12:C19,\"x\")+COUNTIF(F12:F18,\"x\"))>0,\"X\",\"\")","v":""},null,null,"(Or select specific documents by person below)                  "]
[]
[null,null,{"$f":"NameScr!$C$7","v":0},null,null,{"$f":"NameScr!$C$13","v":0},null,{"$f":"Rates!O49","v":0}]
[null,{"$f":"UPPER(C12)","v":""},null,null,{"$f":"UPPER(F12)","v":""},null,null,"Child support guidelines worksheet                      "]
[null,{"$f":"UPPER(C13)","v":""},null,null,{"$f":"UPPER(F13)","v":""},null,null,"Schedule 1 - Income tax                                 "]
[null,{"$f":"UPPER(C14)","v":""},null,null,"",null,null,"Schedule 2 - Health insurance                           "]
[null,"",null,null,"",null,null,"Schedule A - Imputed income                             "]
[null,"",null,null,"",null,null,"Schedule B - Self employment                            "]
[null,"",null,null,"",null,null,"Schedule C - Multiple families                          "]
[null,"",null,null,"",null,null,"Schedule D - Extended parenting time (visitation)       "]
[null,"",null,null,null,null,null,"Schedule E - Foster care                              "]
["                                                                                "]
[null,"Enter 'X' by the document(s) to be viewed                    "]

{"sheet":"PrtScr","index":74,"n_rows":66,"n_cols":8,"rows_kept":66,"cut":false,"hidden":false,"merged":[[4,4,4,12],[5,4,5,12]]}
[]
[null,"Child Support Guidelines Calculator - Print Worksheets"]
[]
["                                                                                "]
[null,{"$f":"NameScr!$B$7","v":"Obligor:"},null,null,{"$f":"HomeScr!$C$5","v":" "}]
[null,{"$f":"NameScr!$B$13","v":"Obligee:"},null,null,{"$f":"HomeScr!$C$6","v":" "}]
["                                                                                "]
[null,{"$f":"UPPER(C8)","v":""},null,null,"Print entire worksheet with schedules                           "]
[null,null,null,null,"(Or select specific documents by person below)                  "]
["                                                                                "]
[null,null,{"$f":"NameScr!$C$7","v":0},null,null,{"$f":"NameScr!$C$13","v":0},null,{"$f":"Rates!O49","v":0}]
[null,{"$f":"UPPER(C12)","v":""},null,null,{"$f":"UPPER(F12)","v":""},null,null,"Child support guidelines worksheet                      "]
[null,{"$f":"UPPER(C13)","v":""},null,null,{"$f":"UPPER(F13)","v":""},null,null,"Schedule 1 - Income tax                                 "]
[null,{"$f":"UPPER(C14)","v":""},null,null,"",null,null,"Schedule 2 - Health insurance                           "]
[null,"",null,null,"",null,null,"Schedule A - Imputed income                             "]
[null,"",null,null,"",null,null,"Schedule B - Self employment                            "]
[null,"",null,null,"",null,null,"Schedule C - Multiple families                          "]
[null,"",null,null,"",null,null,"Schedule D - Extended parenting time (visitation)       "]
[null,"",null,null,null,null,null,"Schedule E - Foster care                              "]
["                                                                                "]
[null,"Enter 'X' by the document(s) to be printed                          "]
[]
[null,"Note:  Documents will print using your default printer. To use a different printer click the 'Select Printer' BUTTON."]
[]
[]
[]
[]
[]
[]
[]
[]
[]
[]
[]
[]
[]
[]
[]
[]
[]
[]
[]
[]
[null,"OBLIGOR SE ACTIVITES"]
[null,null,"YR 1","YR 2","YR 3","YR 4","YR 5"]
["#1",{"$f":"IF('SE Obr1'!$B$9<>\"\",1,\"\")","v":""},{"$f":"IF('SE Obr1'!$I$12<>\"\",1,\"\")","v":""},{"$f":"IF('SE Obr1'!$M$12<>\"\",1,\"\")","v":""},{"$f":"IF('SE Obr1'!$Q$12<>\"\",1,\"\")","v":""},{"$f":"IF('SE Obr1'!$U$12<>\"\",1,\"\")","v":""},{"$f":"IF('SE Obr1'!$Y$12<>\"\",1,\"\")","v":""},{"$f":"SUM(C46:G46)","v":0}]
["#2",{"$f":"IF('SE Obr2'!$B$9<>\"\",1,\"\")","v":""},{"$f":"IF('SE Obr2'!$I$12<>\"\",1,\"\")","v":""},{"$f":"IF('SE Obr2'!$M$12<>\"\",1,\"\")","v":""},{"$f":"IF('SE Obr2'!$Q$12<>\"\",1,\"\")","v":""},{"$f":"IF('SE Obr2'!$U$12<>\"\",1,\"\")","v":""},{"$f":"IF('SE Obr2'!$Y$12<>\"\",1,\"\")","v":""},{"$f":"SUM(C47:G47)","v":0}]
["#3",{"$f":"IF('SE Obr3'!$B$9<>\"\",1,\"\")","v":""},{"$f":"IF('SE Obr3'!$I$12<>\"\",1,\"\")","v":""},{"$f":"IF('SE Obr3'!$M$12<>\"\",1,\"\")","v":""},{"$f":"IF('SE Obr3'!$Q$12<>\"\",1,\"\")","v":""},{"$f":"IF('SE Obr3'!$U$12<>\"\",1,\"\")","v":""},{"$f":"IF('SE Obr3'!$Y$12<>\"\",1,\"\")","v":""},0]
["#4",{"$f":"IF('SE Obr4'!$B$9<>\"\",1,\"\")","v":""},{"$f":"IF('SE Obr4'!$I$12<>\"\",1,\"\")","v":""},{"$f":"IF('SE Obr4'!$M$12<>\"\",1,\"\")","v":""},{"$f":"IF('SE Obr4'!$Q$12<>\"\",1,\"\")","v":""},{"$f":"IF('SE Obr4'!$U$12<>\"\",1,\"\")","v":""},{"$f":"IF('SE Obr4'!$Y$12<>\"\",1,\"\")","v":""},0]
["#5",{"$f":"IF('SE Obr5'!$B$9<>\"\",1,\"\")","v":""},{"$f":"IF('SE Obr5'!$I$12<>\"\",1,\"\")","v":""},{"$f":"IF('SE Obr5'!$M$12<>\"\",1,\"\")","v":""},{"$f":"IF('SE Obr5'!$Q$12<>\"\",1,\"\")","v":""},{"$f":"IF('SE Obr5'!$U$12<>\"\",1,\"\")","v":""},{"$f":"IF('SE Obr5'!$Y$12<>\"\",1,\"\")","v":""},0]
["#6",{"$f":"IF('SE Obr6'!$B$9<>\"\",1,\"\")","v":""},{"$f":"IF('SE Obr6'!$I$12<>\"\",1,\"\")","v":""},{"$f":"IF('SE Obr6'!$M$12<>\"\",1,\"\")","v":""},{"$f":"IF('SE Obr6'!$Q$12<>\"\",1,\"\")","v":""},{"$f":"IF('SE Obr6'!$U$12<>\"\",1,\"\")","v":""},{"$f":"IF('SE Obr6'!$Y$12<>\"\",1,\"\")","v":""},0]
["#7",{"$f":"IF('SE Obr7'!$B$9<>\"\",1,\"\")","v":""},{"$f":"IF('SE Obr7'!$I$12<>\"\",1,\"\")","v":""},{"$f":"IF('SE Obr7'!$M$12<>\"\",1,\"\")","v":""},{"$f":"IF('SE Obr7'!$Q$12<>\"\",1,\"\")","v":""},{"$f":"IF('SE Obr7'!$U$12<>\"\",1,\"\")","v":""},{"$f":"IF('SE Obr7'!$Y$12<>\"\",1,\"\")","v":""},0]
["#8",{"$f":"IF('SE Obr8'!$B$9<>\"\",1,\"\")","v":""},{"$f":"IF('SE Obr8'!$I$12<>\"\",1,\"\")","v":""},{"$f":"IF('SE Obr8'!$M$12<>\"\",1,\"\")","v":""},{"$f":"IF('SE Obr8'!$Q$12<>\"\",1,\"\")","v":""},{"$f":"IF('SE Obr8'!$U$12<>\"\",1,\"\")","v":""},{"$f":"IF('SE Obr8'!$Y$12<>\"\",1,\"\")","v":""},0]
["#9",{"$f":"IF('SE Obr9'!$B$9<>\"\",1,\"\")","v":""},{"$f":"IF('SE Obr9'!$I$12<>\"\",1,\"\")","v":""},{"$f":"IF('SE Obr9'!$M$12<>\"\",1,\"\")","v":""},{"$f":"IF('SE Obr9'!$Q$12<>\"\",1,\"\")","v":""},{"$f":"IF('SE Obr9'!$U$12<>\"\",1,\"\")","v":""},{"$f":"IF('SE Obr9'!$Y$12<>\"\",1,\"\")","v":""},0]
[]
[null,"OBLIGEE SE ACTIVITES"]
[null,null,"YR 1","YR 2","YR 3","YR 4","YR 5"]
["#1",{"$f":"IF('SE Obe1'!$B$9<>\"\",1,\"\")","v":""},{"$f":"IF('SE Obe1'!$I$12<>\"\",1,\"\")","v":""},{"$f":"IF('SE Obe1'!$M$12<>\"\",1,\"\")","v":""},{"$f":"IF('SE Obe1'!$Q$12<>\"\",1,\"\")","v":""},{"$f":"IF('SE Obe1'!$U$12<>\"\",1,\"\")","v":""},{"$f":"IF('SE Obe1'!$Y$12<>\"\",1,\"\")","v":""},{"$f":"SUM(C58:G58)","v":0}]
["#2",{"$f":"IF('SE Obe2'!$B$9<>\"\",1,\"\")","v":""},{"$f":"IF('SE Obe2'!$I$12<>\"\",1,\"\")","v":""},{"$f":"IF('SE Obe2'!$M$12<>\"\",1,\"\")","v":""},{"$f":"IF('SE Obe2'!$Q$12<>\"\",1,\"\")","v":""},{"$f":"IF('SE Obe2'!$U$12<>\"\",1,\"\")","v":""},{"$f":"IF('SE Obe2'!$Y$12<>\"\",1,\"\")","v":""},0]
["#3",{"$f":"IF('SE Obe3'!$B$9<>\"\",1,\"\")","v":""},{"$f":"IF('SE Obe3'!$I$12<>\"\",1,\"\")","v":""},{"$f":"IF('SE Obe3'!$M$12<>\"\",1,\"\")","v":""},{"$f":"IF('SE Obe3'!$Q$12<>\"\",1,\"\")","v":""},{"$f":"IF('SE Obe3'!$U$12<>\"\",1,\"\")","v":""},{"$f":"IF('SE Obe3'!$Y$12<>\"\",1,\"\")","v":""},0]
["#4",{"$f":"IF('SE Obe4'!$B$9<>\"\",1,\"\")","v":""},{"$f":"IF('SE Obe4'!$I$12<>\"\",1,\"\")","v":""},{"$f":"IF('SE Obe4'!$M$12<>\"\",1,\"\")","v":""},{"$f":"IF('SE Obe4'!$Q$12<>\"\",1,\"\")","v":""},{"$f":"IF('SE Obe4'!$U$12<>\"\",1,\"\")","v":""},{"$f":"IF('SE Obe4'!$Y$12<>\"\",1,\"\")","v":""},0]
["#5",{"$f":"IF('SE Obe5'!$B$9<>\"\",1,\"\")","v":""},{"$f":"IF('SE Obe5'!$I$12<>\"\",1,\"\")","v":""},{"$f":"IF('SE Obe5'!$M$12<>\"\",1,\"\")","v":""},{"$f":"IF('SE Obe5'!$Q$12<>\"\",1,\"\")","v":""},{"$f":"IF('SE Obe5'!$U$12<>\"\",1,\"\")","v":""},{"$f":"IF('SE Obe5'!$Y$12<>\"\",1,\"\")","v":""},0]
["#6",{"$f":"IF('SE Obe6'!$B$9<>\"\",1,\"\")","v":""},{"$f":"IF('SE Obe6'!$I$12<>\"\",1,\"\")","v":""},{"$f":"IF('SE Obe6'!$M$12<>\"\",1,\"\")","v":""},{"$f":"IF('SE Obe6'!$Q$12<>\"\",1,\"\")","v":""},{"$f":"IF('SE Obe6'!$U$12<>\"\",1,\"\")","v":""},{"$f":"IF('SE Obe6'!$Y$12<>\"\",1,\"\")","v":""},0]
["#7",{"$f":"IF('SE Obe7'!$B$9<>\"\",1,\"\")","v":""},{"$f":"IF('SE Obe7'!$I$12<>\"\",1,\"\")","v":""},{"$f":"IF('SE Obe7'!$M$12<>\"\",1,\"\")","v":""},{"$f":"IF('SE Obe7'!$Q$12<>\"\",1,\"\")","v":""},{"$f":"IF('SE Obe7'!$U$12<>\"\",1,\"\")","v":""},{"$f":"IF('SE Obe7'!$Y$12<>\"\",1,\"\")","v":""},0]
["#8",{"$f":"IF('SE Obe8'!$B$9<>\"\",1,\"\")","v":""},{"$f":"IF('SE Obe8'!$I$12<>\"\",1,\"\")","v":""},{"$f":"IF('SE Obe8'!$M$12<>\"\",1,\"\")","v":""},{"$f":"IF('SE Obe8'!$Q$12<>\"\",1,\"\")","v":""},{"$f":"IF('SE Obe8'!$U$12<>\"\",1,\"\")","v":""},{"$f":"IF('SE Obe8'!$Y$12<>\"\",1,\"\")","v":""},0]
["#9",{"$f":"IF('SE Obe9'!$B$9<>\"\",1,\"\")","v":""},{"$f":"IF('SE Obe9'!$I$12<>\"\",1,\"\")","v":""},{"$f":"IF('SE Obe9'!$M$12<>\"\",1,\"\")","v":""},{"$f":"IF('SE Obe9'!$Q$12<>\"\",1,\"\")","v":""},{"$f":"IF('SE Obe9'!$U$12<>\"\",1,\"\")","v":""},{"$f":"IF('SE Obe9'!$Y$12<>\"\",1,\"\")","v":""},0]

{"sheet":"Rates","index":75,"n_rows":1347,"n_cols":23,"rows_kept":1347,"cut":false,"hidden":false,"merged":[]}
[]
[null,null,null,null,null,null,null,null,null,"TAX FORMULA FOR SINGLE FILING STATUS"]
[" ",null,null,null,null,null,null,null,null,null,null,null,null,null,null,null,"OBLIGOR",null,null,"OBLIGEE"]
[" ",null,null,null,null,null,null,null,null,"       ","BUT NOT",null,null,null,"OF THE AMOUNT",null,"Adjusted Taxable ",null,null,"Adjusted Taxable "]
["    STANDARD DEDUCTIONS FOR TAX FILING STATUS: ",null,null,null,null,null,13850,null,null,"  OVER"," OVER   ",null,null,null,"    OVER     ",null,"Income from Sch1",null,null,"Income from Sch1"]
[" ",null,null,null,null,null,null,null,null,"       ","        ",null,null,null,"             ",null,{"$f":"'Sch1 Obgr'!M20","v":0},null,null,{"$f":"'Sch1 Obge'!M20","v":0}]
["                               TAX EXEMPTIONS:   3,000",null,null,null,null,null,0,null,null,0,11000,0,"+",0.1,{"$f":"J7","v":0}]
[" ",null,null,null,null,null,null,null,null,11000,44725,{"$f":"ROUND(((K7-J7)*N7)+L7,2)","v":1100},"+",0.12,{"$f":"J8","v":11000},null,"Quotient for $25 range",null,null,"Quotient for $25 range"]
["                             CHILD TAX CREDIT:     600",null,null,null,null,null,0,null,null,44725,95375,{"$f":"ROUND(((K8-J8)*N8)+L8,2)","v":5147},"+",0.22,44725,null,{"$f":"IF((Q6/25)-(ROUND(Q6/25,0))<0,(ROUND(Q6/25,0))-1,(ROUND(Q6/25,0)))","v":0},null,null,{"$f":"IF((T6/25)-(ROUND(T6/25,0))<0,(ROUND(T6/25,0))-1,(ROUND(T6/25,0)))","v":0}]
[" ",null,null,null,null,null,null,null,null,95375,182100,16290,"+",0.24,95375,null,"Quotient for $50 range",null,null,"Quotient for $50 range"]
["                                 MINIMUM WAGE:    5.15",null,null,null,null,null,7.25,null,null,182100,231250,37104,"+",0.32,182100,null,{"$f":"IF((Q6/50)-(ROUND(Q6/50,0))<0,(ROUND(Q6/50,0))-1,(ROUND(Q6/50,0)))","v":0},null,null,{"$f":"IF((T6/50)-(ROUND(T6/50,0))<0,(ROUND(T6/50,0))-1,(ROUND(T6/50,0)))","v":0}]
[" ",null,null,null,null,null,null,null,null,231250,578125,52832,"+",0.35,231250]
["                                    FICA RATE:   .0620",null,null,null,null,null,6.2E-2,null,null,578125,null,174238.25,"+",0.37,578125,null,"Taxable Income",null,null,"Taxable Income"]
[" ",null,null,null,null,null,null,null,null,null,null,null,null,null,null,null,"Range Midpoint",null,null,"Range Midpoint"]
["                                MEDICARE RATE:   .0145",null,null,null,null,null,1.4500000000000001E-2,null,null,null,null,null,null,null,null,null,{"$f":"IF(Q6=0,0,IF(Q6<5,2.5,IF(Q6<15,10,IF(Q6<25,20,IF(Q6<3000,(25*Q9)+12.5,(50*Q11)+25)))))","v":0},null,null,{"$f":"IF(T6=0,0,IF(T6<5,2.5,IF(T6<15,10,IF(T6<25,20,IF(T6<3000,(25*T9)+12.5,(50*T11)+25)))))","v":0}]
[" ",null,"Tier-2 Medicare Rate",null,null,null,2.35E-2,null,null,null,null,null,null,"July",2023]
[null,null,"FICA CAP:  87,000",null,null,null,160200,null,null,null,null,null,null,null,2017,null,"Calculated Tax",null,null,"Calculated Tax"]
[null,null,"Tier 2 Medicare Amount",null,null,null,200000,null,null,null,null,null,null,"State Rate",0.11,null,"Amount for Sch1",null,null,"Amount for Sch1"]
[null,null,"SELF-EMPLOYMENT OASDI TAX:",null,null,null,0.124,null,null,null,null,null,null,null,null,null,{"$f":"ROUND(IF(Q6<K7,Q15*N7,IF(Q6<K8,(Q15-J8)*N8+L8,IF(Q6<K9,(Q15-J9)*N9+L9,IF(Q6<100000,(Q15-J10)*N10+L10,IF(Q6<K10,(Q6-J10)*N10+L10,IF(Q6<K11,(Q6-J11)*N11+L11,IF(Q6<K12,(Q6-J12)*N12+L12,(Q6-J13)*N13+L13))))))),0)","v":0},null,null,{"$f":"ROUND(IF(T6<K7,T15*N7,IF(T6<K8,(T15-J8)*N8+L8,IF(T6<K9,(T15-J9)*N9+L9,IF(T6<100000,(T15-J10)*N10+L10,IF(T6<K10,(T6-J10)*N10+L10,IF(T6<K11,(T6-J11)*N11+L11,IF(T6<K12,(T6-J12)*N12+L12,(T6-J13)*N13+L13))))))),0)","v":0}]
["Note:  SE rates",null,"Self Employment Tier 2 Medicare Amount",null,null,null,200000,null,null,"Obligor",null,null,null,"Obligee"]
["are one year ",null,"SELF EMPLOYMENT MEDICARE RATE:",null,null,null,2.9000000000000001E-2,null,null,"Imputed Income 10%",null,null,null,"Imputed Income 10%"]
["behind the ",null,"Self Employment-Tier-2 Medicare Rate",null,null,null,3.7999999999999999E-2,null,null,"Override:","No",null,null,"Override:","No",null,"OBLIGOR SE ACTIVITES"]
["Employment",null,"SELF EMPLOYMENT REDUCTION RATE:",null,null,null,0.92349999999999999,null,"obsolete Formulas",null,{"$f":"IF('SchA Obgr'!O215>'SchA Obgr'!O33,\"Yes\",\"No\")","v":"No"},null,null,null,{"$f":"IF('SchA Obge'!O118>'SchA Obge'!O34,\"Yes\",\"No\")","v":"No"},null,null,"YR 1","YR 2","YR 3","YR 4","YR 5"]
["rates Per ",null,null,null,null,null,null,null,null,"Obligor",null,null,null,"Obligee",null,"#1",{"$f":"IF('SE Obr1'!$B$9<>\"\",1,\"\")","v":""},{"$f":"IF('SE Obr1'!$I$12<>\"\",1,\"\")","v":""},{"$f":"IF('SE Obr1'!$M$12<>\"\",1,\"\")","v":""},{"$f":"IF('SE Obr1'!$Q$12<>\"\",1,\"\")","v":""},{"$f":"IF('SE Obr1'!$U$12<>\"\",1,\"\")","v":""},{"$f":"IF('SE Obr1'!$Y$12<>\"\",1,\"\")","v":""},{"$f":"SUM(R24:V24)","v":0}]
["Paulette.",null,"SELF EMPLOYMENT OASDI CAP:",null,null,null,160200,null,null,"Imputed Income",null,null,null,"Imputed Income",null,"#2",{"$f":"IF('SE Obr2'!$B$9<>\"\",1,\"\")","v":""},{"$f":"IF('SE Obr2'!$I$12<>\"\",1,\"\")","v":""},{"$f":"IF('SE Obr2'!$M$12<>\"\",1,\"\")","v":""},{"$f":"IF('SE Obr2'!$Q$12<>\"\",1,\"\")","v":""},{"$f":"IF('SE Obr2'!$U$12<>\"\",1,\"\")","v":""},{"$f":"IF('SE Obr2'!$Y$12<>\"\",1,\"\")","v":""},{"$f":"SUM(R25:V25)","v":0}]
[null,null,null,null,null,null,null,null,null,{"$f":"ROUND(IF('SchA Obgr'!O65>0,'SchA Obgr'!O65,'SchA Obgr'!O38),0)","v":0},null,null,null,{"$f":"ROUND(IF(ImpInc!P60=\"Y\",'SchA Obge'!O46,IF(ImpInc!P62=\"Y\",'SchA Obge'!O80,IF('SchA Obge'!O97>0,'SchA Obge'!O97,IF('SchA Obge'!O118>'SchA Obge'!O34,'SchA Obge'!O118,'SchA Obge'!O38)))),0)","v":0},null,"#3",{"$f":"IF('SE Obr3'!$B$9<>\"\",1,\"\")","v":""},{"$f":"IF('SE Obr3'!$I$12<>\"\",1,\"\")","v":""},{"$f":"IF('SE Obr3'!$M$12<>\"\",1,\"\")","v":""},{"$f":"IF('SE Obr3'!$Q$12<>\"\",1,\"\")","v":""},{"$f":"IF('SE Obr3'!$U$12<>\"\",1,\"\")","v":""},{"$f":"IF('SE Obr3'!$Y$12<>\"\",1,\"\")","v":""},0]
["2019 Guidelines Amounts",null,null,null,null,null,null,null,null,null,null,null,null,null,null,"#4",{"$f":"IF('SE Obr4'!$B$9<>\"\",1,\"\")","v":""},{"$f":"IF('SE Obr4'!$I$12<>\"\",1,\"\")","v":""},{"$f":"IF('SE Obr4'!$M$12<>\"\",1,\"\")","v":""},{"$f":"IF('SE Obr4'!$Q$12<>\"\",1,\"\")","v":""},{"$f":"IF('SE Obr4'!$U$12<>\"\",1,\"\")","v":""},{"$f":"IF('SE Obr4'!$Y$12<>\"\",1,\"\")","v":""},0]
[null,null,null,null,null,null,null,null,null,"Obligor",null,null,null,"Obligee",null,"#5",{"$f":"IF('SE Obr5'!$B$9<>\"\",1,\"\")","v":""},{"$f":"IF('SE Obr5'!$I$12<>\"\",1,\"\")","v":""},{"$f":"IF('SE Obr5'!$M$12<>\"\",1,\"\")","v":""},{"$f":"IF('SE Obr5'!$Q$12<>\"\",1,\"\")","v":""},{"$f":"IF('SE Obr5'!$U$12<>\"\",1,\"\")","v":""},{"$f":"IF('SE Obr5'!$Y$12<>\"\",1,\"\")","v":""},0]
[100,0,0,0,0,0,0,null,null,"SE Oblg ",null,null,null,"SE Oblg ",null,"#6",{"$f":"IF('SE Obr6'!$B$9<>\"\",1,\"\")","v":""},{"$f":"IF('SE Obr6'!$I$12<>\"\",1,\"\")","v":""},{"$f":"IF('SE Obr6'!$M$12<>\"\",1,\"\")","v":""},{"$f":"IF('SE Obr6'!$Q$12<>\"\",1,\"\")","v":""},{"$f":"IF('SE Obr6'!$U$12<>\"\",1,\"\")","v":""},{"$f":"IF('SE Obr6'!$Y$12<>\"\",1,\"\")","v":""},0]
[200,0,0,0,0,0,0,null,null,"Other Income",null,null,null,"Other Income",null,"#7",{"$f":"IF('SE Obr7'!$B$9<>\"\",1,\"\")","v":""},{"$f":"IF('SE Obr7'!$I$12<>\"\",1,\"\")","v":""},{"$f":"IF('SE Obr7'!$M$12<>\"\",1,\"\")","v":""},{"$f":"IF('SE Obr7'!$Q$12<>\"\",1,\"\")","v":""},{"$f":"IF('SE Obr7'!$U$12<>\"\",1,\"\")","v":""},{"$f":"IF('SE Obr7'!$Y$12<>\"\",1,\"\")","v":""},0]
[300,0,0,0,0,0,0,null,null,{"$f":"'Wks1 Obgr'!K14+'Wks1 Obgr'!K27","v":0},null,null,null,{"$f":"'Wks1 Obge'!K14+'Wks1 Obge'!K27","v":0},null,"#8",{"$f":"IF('SE Obr8'!$B$9<>\"\",1,\"\")","v":""},{"$f":"IF('SE Obr8'!$I$12<>\"\",1,\"\")","v":""},{"$f":"IF('SE Obr8'!$M$12<>\"\",1,\"\")","v":""},{"$f":"IF('SE Obr8'!$Q$12<>\"\",1,\"\")","v":""},{"$f":"IF('SE Obr8'!$U$12<>\"\",1,\"\")","v":""},{"$f":"IF('SE Obr8'!$Y$12<>\"\",1,\"\")","v":""},0]
[400,0,0,0,0,0,0,null,null,null,null,null,null,null,null,"#9",{"$f":"IF('SE Obr9'!$B$9<>\"\",1,\"\")","v":""},{"$f":"IF('SE Obr9'!$I$12<>\"\",1,\"\")","v":""},{"$f":"IF('SE Obr9'!$M$12<>\"\",1,\"\")","v":""},{"$f":"IF('SE Obr9'!$Q$12<>\"\",1,\"\")","v":""},{"$f":"IF('SE Obr9'!$U$12<>\"\",1,\"\")","v":""},{"$f":"IF('SE Obr9'!$Y$12<>\"\",1,\"\")","v":""},0]
[500,0,0,0,0,0,0]
[600,0,0,0,0,0,0,null,null,null,null,null,null,null,null,null,"OBLIGEE SE ACTIVITES"]
[700,0,0,0,0,0,0,null,null,null,null,null,null,null,null,null,null,"YR 1","YR 2","YR 3","YR 4","YR 5"]
[800,0,0,0,0,0,0,null,null,"NewFileNameNext:",null,6,null,null,null,"#1",{"$f":"IF('SE Obe1'!$B$9<>\"\",1,\"\")","v":""},{"$f":"IF('SE Obe1'!$I$12<>\"\",1,\"\")","v":""},{"$f":"IF('SE Obe1'!$M$12<>\"\",1,\"\")","v":""},{"$f":"IF('SE Obe1'!$Q$12<>\"\",1,\"\")","v":""},{"$f":"IF('SE Obe1'!$U$12<>\"\",1,\"\")","v":""},{"$f":"IF('SE Obe1'!$Y$12<>\"\",1,\"\")","v":""},{"$f":"SUM(R36:V36)","v":0}]
[900,90,126,171,198,234,261,null,null,null,null,null,null,null,null,"#2",{"$f":"IF('SE Obe2'!$B$9<>\"\",1,\"\")","v":""},{"$f":"IF('SE Obe2'!$I$12<>\"\",1,\"\")","v":""},{"$f":"IF('SE Obe2'!$M$12<>\"\",1,\"\")","v":""},{"$f":"IF('SE Obe2'!$Q$12<>\"\",1,\"\")","v":""},{"$f":"IF('SE Obe2'!$U$12<>\"\",1,\"\")","v":""},{"$f":"IF('SE Obe2'!$Y$12<>\"\",1,\"\")","v":""},0]
[1000,140,183,232,265,305,337,null,null,null,null,null,null,null,null,"#3",{"$f":"IF('SE Obe3'!$B$9<>\"\",1,\"\")","v":""},{"$f":"IF('SE Obe3'!$I$12<>\"\",1,\"\")","v":""},{"$f":"IF('SE Obe3'!$M$12<>\"\",1,\"\")","v":""},{"$f":"IF('SE Obe3'!$Q$12<>\"\",1,\"\")","v":""},{"$f":"IF('SE Obe3'!$U$12<>\"\",1,\"\")","v":""},{"$f":"IF('SE Obe3'!$Y$12<>\"\",1,\"\")","v":""},0]
[1100,190,240,293,332,375,414,null,null,null,null,null,null,null,null,"#4",{"$f":"IF('SE Obe4'!$B$9<>\"\",1,\"\")","v":""},{"$f":"IF('SE Obe4'!$I$12<>\"\",1,\"\")","v":""},{"$f":"IF('SE Obe4'!$M$12<>\"\",1,\"\")","v":""},{"$f":"IF('SE Obe4'!$Q$12<>\"\",1,\"\")","v":""},{"$f":"IF('SE Obe4'!$U$12<>\"\",1,\"\")","v":""},{"$f":"IF('SE Obe4'!$Y$12<>\"\",1,\"\")","v":""},0]
[1200,240,296,355,399,446,490,null,null,null,null,null,null,null,null,"#5",{"$f":"IF('SE Obe5'!$B$9<>\"\",1,\"\")","v":""},{"$f":"IF('SE Obe5'!$I$12<>\"\",1,\"\")","v":""},{"$f":"IF('SE Obe5'!$M$12<>\"\",1,\"\")","v":""},{"$f":"IF('SE Obe5'!$Q$12<>\"\",1,\"\")","v":""},{"$f":"IF('SE Obe5'!$U$12<>\"\",1,\"\")","v":""},{"$f":"IF('SE Obe5'!$Y$12<>\"\",1,\"\")","v":""},0]
[1300,290,353,416,466,516,566,null,null,null,null,null,null,null,null,"#6",{"$f":"IF('SE Obe6'!$B$9<>\"\",1,\"\")","v":""},{"$f":"IF('SE Obe6'!$I$12<>\"\",1,\"\")","v":""},{"$f":"IF('SE Obe6'!$M$12<>\"\",1,\"\")","v":""},{"$f":"IF('SE Obe6'!$Q$12<>\"\",1,\"\")","v":""},{"$f":"IF('SE Obe6'!$U$12<>\"\",1,\"\")","v":""},{"$f":"IF('SE Obe6'!$Y$12<>\"\",1,\"\")","v":""},0]
[1400,316,385,453,508,563,617,null,null,null,null,null,null,null,null,"#7",{"$f":"IF('SE Obe7'!$B$9<>\"\",1,\"\")","v":""},{"$f":"IF('SE Obe7'!$I$12<>\"\",1,\"\")","v":""},{"$f":"IF('SE Obe7'!$M$12<>\"\",1,\"\")","v":""},{"$f":"IF('SE Obe7'!$Q$12<>\"\",1,\"\")","v":""},{"$f":"IF('SE Obe7'!$U$12<>\"\",1,\"\")","v":""},{"$f":"IF('SE Obe7'!$Y$12<>\"\",1,\"\")","v":""},0]
[1500,342,416,491,550,609,669,null,null,null,null,null,null,null,null,"#8",{"$f":"IF('SE Obe8'!$B$9<>\"\",1,\"\")","v":""},{"$f":"IF('SE Obe8'!$I$12<>\"\",1,\"\")","v":""},{"$f":"IF('SE Obe8'!$M$12<>\"\",1,\"\")","v":""},{"$f":"IF('SE Obe8'!$Q$12<>\"\",1,\"\")","v":""},{"$f":"IF('SE Obe8'!$U$12<>\"\",1,\"\")","v":""},{"$f":"IF('SE Obe8'!$Y$12<>\"\",1,\"\")","v":""},0]
[1600,368,448,528,592,656,720,null,null,null,null,null,null,null,null,"#9",{"$f":"IF('SE Obe9'!$B$9<>\"\",1,\"\")","v":""},{"$f":"IF('SE Obe9'!$I$12<>\"\",1,\"\")","v":""},{"$f":"IF('SE Obe9'!$M$12<>\"\",1,\"\")","v":""},{"$f":"IF('SE Obe9'!$Q$12<>\"\",1,\"\")","v":""},{"$f":"IF('SE Obe9'!$U$12<>\"\",1,\"\")","v":""},{"$f":"IF('SE Obe9'!$Y$12<>\"\",1,\"\")","v":""},0]
[1700,384,476,562,630,696,761]
[1800,400,505,596,668,736,803]
[1900,416,533,631,706,776,844]
[2000,431,562,665,744,816,885]
[2100,447,590,699,781,856,926,null,null,null,null,null,null,"Cust",null,null,{"$f":"ListEnt!D21","v":0},null,null,null,{"$f":"ViewScr!C9","v":0}]
[2200,463,619,733,819,896,968,null,null,null,null,null,null,"Child",{"$f":"QuesScr!H12","v":0},{"$f":"QuesScr!L12","v":0},{"$f":"UPPER(ListEnt!C10)","v":""},"QuesScr",null,null,"R","E"]
[2300,479,647,767,857,936,1009,null,null,null,null,null,null,"ImpIn",{"$f":"QuesScr!I14","v":""},{"$f":"QuesScr!M14","v":""},{"$f":"UPPER(ListEnt!C11)","v":""},"MultFam",null,"W",{"$f":"IF(ViewScr!C8=\"X\",\"X\",IF(ViewScr!B12=\"X\",\"X\",\"\"))","v":""},{"$f":"IF(AND(ViewScr!C8=\"X\",OR(O49=\"S\",O49=\"E\")),\"X\",IF(ViewScr!E12=\"X\",\"X\",\"\"))","v":""}]
[2400,495,676,802,895,976,1050,null,null,null,null,null,null,"SlEmp",{"$f":"QuesScr!I16","v":0},{"$f":"QuesScr!M16","v":0},{"$f":"UPPER(ListEnt!C12)","v":""},"ExtParTm",null,"1",{"$f":"IF(ViewScr!C8=\"X\",\"X\",IF(ViewScr!B13=\"X\",\"X\",\"\"))","v":""},{"$f":"IF(AND(ViewScr!C8=\"X\",OR(O49=\"S\",O49=\"E\")),\"X\",IF(ViewScr!E13=\"X\",\"X\",\"\"))","v":""}]
[2500,511,704,836,933,1017,1091,null,null,null,null,null,null,"MultF",{"$f":"QuesScr!I18","v":""},{"$f":"QuesScr!M18","v":""},{"$f":"UPPER(ListEnt!C13)","v":""},"ImpInc",null,"2",{"$f":"IF(ViewScr!C8=\"X\",\"X\",IF(ViewScr!B14=\"X\",\"X\",\"\"))","v":""},{"$f":"IF(AND(ViewScr!C8=\"X\",OR(O49=\"S\",O49=\"E\")),\"X\",IF(ViewScr!E14=\"X\",\"X\",\"\"))","v":""}]
[2600,527,733,870,971,1057,1133,null,null,null,null,null,null,"ExtPT",{"$f":"QuesScr!I21","v":""},{"$f":"QuesScr!M21","v":""},{"$f":"UPPER(ListEnt!C14)","v":""},"SE Obr1/SE Obe1",null,"A",{"$f":"IF(AND(ViewScr!C8=\"X\",O51=\"Y\"),\"X\",IF(ViewScr!B15=\"X\",\"X\",\"\"))","v":""},{"$f":"IF(AND(ViewScr!C8=\"X\",OR(O49=\"S\",O49=\"E\"),P51=\"Y\"),\"X\",IF(ViewScr!E15=\"X\",\"X\",\"\"))","v":""}]
[2700,542,761,904,1009,1097,1174,null,null,null,null,null,null,"RRTA",{"$f":"QuesScr!I23","v":""},{"$f":"QuesScr!M23","v":""},{"$f":"UPPER(ListEnt!C15)","v":""},"GrsInc",null,"B",{"$f":"IF(AND(ViewScr!C8=\"X\",O52>0),\"X\",IF(ViewScr!B16=\"X\",\"X\",\"\"))","v":""},{"$f":"IF(AND(ViewScr!C8=\"X\",OR(O49=\"S\",O49=\"E\"),P52>0),\"X\",IF(ViewScr!E16=\"X\",\"X\",\"\"))","v":""}]
[2800,558,789,939,1047,1137,1215,null,null,null,null,null,null,0.1,{"$f":"Rates!K22","v":"No"},{"$f":"O22","v":"No"},{"$f":"UPPER(ListEnt!C16)","v":""},"DedApp",null,"C",{"$f":"IF(AND(ViewScr!C8=\"X\",O53=\"Y\"),\"X\",IF(ViewScr!B17=\"X\",\"X\",\"\"))","v":""},{"$f":"IF(AND(ViewScr!C8=\"X\",OR(O49=\"S\",O49=\"E\"),P53=\"Y\"),\"X\",IF(ViewScr!E17=\"X\",\"X\",\"\"))","v":""}]
[2900,574,818,973,1084,1177,1257,null,null,null,null,null,null,"MF Man",{"$f":"MultFam!H13","v":0},{"$f":"MultFam!L13","v":0},{"$f":"UPPER(ListEnt!C17)","v":""},"TaxEnt",null,"D",{"$f":"IF(AND(ViewScr!C8=\"X\",O54=\"Y\"),\"X\",IF(ViewScr!B18=\"X\",\"X\",\"\"))","v":""},{"$f":"IF(AND(ViewScr!C8=\"X\",OR(O49=\"S\",O49=\"E\"),P54=\"Y\"),\"X\",IF(ViewScr!E18=\"X\",\"X\",\"\"))","v":""}]
[3000,590,846,1007,1122,1217,1298,null,null,null,null,null,null,"EP Man",{"$f":"ExtParTm!H10","v":0},{"$f":"ExtParTm!L10","v":0},{"$f":"UPPER(ListEnt!C18)","v":""},"HlthInsr",null,"E",{"$f":"IF(AND(ViewScr!C8=\"X\",O49=\"F\"),\"X\",IF(ViewScr!B19=\"X\",\"X\",\"\"))","v":""}]
[3100,606,875,1041,1160,1257,1339,null,null,null,null,null,null,"FC Man",{"$f":"IF(FCEnt!M24>0,\"Y\",\"\")","v":""},null,{"$f":"UPPER(ListEnt!C19)","v":""},"FCEnt",null,"W2"]
[3200,622,903,1075,1198,1297,1380,null,null,null,null,null,null,null,null,null,{"$f":"UPPER(ListEnt!C20)","v":""},"TotScr"]
[3300,637,932,1110,1236,1337,1422]
[3400,653,960,1144,1274,1377,1463]
[3500,669,989,1178,1312,1417,1504]
[3600,685,1017,1212,1350,1457,1545]
[3700,701,1045,1246,1387,1497,1587]
[3800,717,1074,1281,1425,1537,1628]
[3900,733,1102,1315,1463,1577,1669]
[4000,748,1131,1349,1501,1617,1710]
[4100,764,1159,1383,1539,1658,1752]
[4200,780,1188,1417,1577,1698,1793]
[4300,796,1216,1452,1615,1738,1834]
[4400,812,1245,1486,1653,1778,1876]
[4500,828,1273,1520,1691,1818,1917]
[4600,844,1302,1554,1728,1858,1958]
[4700,859,1330,1589,1766,1898,1999]
[4800,875,1358,1623,1804,1938,2041]
[4900,891,1387,1657,1842,1978,2082]
[5000,907,1415,1691,1880,2018,2123]
[5100,923,1444,1725,1918,2058,2164]
[5200,939,1472,1760,1956,2098,2206]
[5300,954,1501,1794,1994,2138,2247]
[5400,970,1529,1828,2031,2178,2288]
[5500,986,1558,1862,2069,2218,2330]
[5600,1002,1586,1896,2107,2258,2371]
[5700,1018,1614,1931,2145,2298,2412]
[5800,1034,1643,1965,2183,2339,2453]
[5900,1050,1671,1999,2221,2379,2495]
[6000,1065,1700,2033,2259,2419,2536]
[6100,1081,1728,2067,2297,2459,2577]
[6200,1097,1757,2102,2334,2499,2618]
[6300,1113,1785,2136,2372,2539,2660]
[6400,1129,1814,2170,2410,2579,2701]
[6500,1145,1842,2204,2448,2619,2742]
[6600,1161,1871,2239,2486,2659,2784]
[6700,1176,1899,2273,2524,2699,2825]
[6800,1192,1927,2307,2562,2739,2866]
[6900,1208,1956,2341,2600,2779,2907]
[7000,1224,1984,2375,2638,2819,2949]
[7100,1240,2013,2410,2675,2859,2990]
[7200,1256,2041,2444,2713,2899,3031]
[7300,1271,2070,2478,2751,2939,3072]
[7400,1287,2098,2512,2789,2979,3114]
[7500,1303,2127,2546,2827,3020,3155]
[7600,1319,2155,2581,2865,3060,3196]
[7700,1335,2183,2615,2903,3100,3237]
[7800,1351,2212,2649,2941,3140,3279]
[7900,1367,2240,2683,2978,3180,3320]
[8000,1382,2269,2717,3016,3220,3361]
[8100,1398,2297,2752,3054,3260,3403]
[8200,1414,2326,2786,3092,3300,3444]
[8300,1430,2354,2820,3130,3340,3485]
[8400,1446,2383,2854,3168,3380,3526]
[8500,1462,2411,2888,3206,3420,3568]
[8600,1478,2440,2923,3244,3460,3609]
[8700,1493,2468,2957,3281,3500,3650]
[8800,1509,2496,2991,3319,3540,3691]
[8900,1525,2525,3025,3357,3580,3733]
[9000,1541,2553,3060,3395,3620,3774]
[9100,1557,2582,3094,3433,3661,3815]
[9200,1573,2610,3128,3471,3701,3857]
[9300,1588,2639,3162,3509,3741,3898]
[9400,1604,2667,3196,3547,3781,3939]
[9500,1620,2696,3231,3585,3821,3980]
[9600,1636,2724,3265,3622,3861,4022]
[9700,1652,2752,3299,3660,3901,4063]
[9800,1668,2781,3333,3698,3941,4104]
[9900,1684,2809,3367,3736,3981,4145]
[10000,1699,2838,3402,3774,4021,4187]
[10100,1715,2847,3412,3785,4034,4202]
[10200,1730,2857,3423,3797,4047,4218]
[10300,1745,2866,3434,3808,4061,4233]
[10400,1760,2875,3444,3820,4074,4248]
[10500,1775,2885,3455,3831,4087,4264]
[10600,1789,2894,3466,3843,4100,4279]
[10700,1804,2904,3476,3854,4113,4295]
[10800,1819,2913,3487,3866,4127,4310]
[10900,1833,2923,3498,3878,4140,4325]
[11000,1848,2932,3508,3889,4153,4341]
[11100,1863,2941,3519,3901,4166,4356]
[11200,1877,2951,3529,3912,4179,4372]
[11300,1892,2960,3540,3924,4193,4387]
[11400,1906,2970,3551,3935,4206,4403]
[11500,1921,2979,3561,3947,4219,4418]
[11600,1935,2988,3572,3958,4232,4433]
[11700,1949,2998,3583,3970,4245,4449]
[11800,1964,3007,3593,3981,4258,4464]
[11900,1978,3017,3604,3993,4272,4480]
[12000,1992,3026,3615,4004,4285,4495]
[12100,2006,3035,3625,4016,4298,4511]
[12200,2020,3045,3636,4027,4311,4526]
[12300,2034,3054,3647,4039,4324,4541]
[12400,2048,3064,3657,4050,4338,4557]
[12500,2063,3073,3668,4062,4351,4572]
[12600,2076,3083,3679,4073,4364,4588]
[12700,2090,3092,3689,4085,4377,4603]
[12800,2104,3101,3700,4096,4390,4618]
[12900,2118,3111,3711,4108,4404,4634]
[13000,2132,3120,3721,4119,4417,4649]
[13100,2146,3130,3732,4131,4430,4665]
[13200,2160,3139,3743,4142,4443,4680]
[13300,2173,3148,3753,4154,4456,4696]
[13400,2187,3158,3764,4165,4469,4711]
[13500,2201,3167,3775,4177,4483,4726]
[13600,2214,3177,3785,4188,4496,4742]
[13700,2228,3186,3796,4200,4509,4757]
[13800,2241,3196,3806,4211,4522,4773]
[13900,2255,3205,3817,4223,4535,4788]
[14000,2268,3214,3828,4234,4549,4803]
[14100,2281,3224,3838,4246,4562,4819]
[14200,2295,3233,3849,4257,4575,4834]
[14300,2308,3243,3860,4269,4588,4850]
[14400,2321,3252,3870,4280,4601,4865]
[14500,2335,3261,3881,4292,4615,4881]
[14600,2348,3271,3892,4303,4628,4896]
[14700,2361,3280,3902,4315,4641,4911]
[14800,2374,3290,3913,4326,4654,4927]
[14900,2387,3299,3924,4338,4667,4942]
[15000,2400,3308,3934,4349,4681,4958]
[15100,2413,3318,3945,4361,4694,4973]
[15200,2426,3327,3956,4372,4707,4989]
[15300,2439,3337,3966,4384,4720,5004]
[15400,2452,3346,3977,4395,4733,5019]
[15500,2465,3356,3988,4407,4746,5035]
[15600,2477,3365,3998,4418,4760,5050]
[15700,2490,3374,4009,4430,4773,5066]
[15800,2503,3384,4020,4442,4786,5081]
[15900,2515,3393,4030,4453,4799,5096]
[16000,2528,3403,4041,4465,4812,5112]
[16100,2541,3412,4051,4476,4826,5127]
[16200,2553,3421,4062,4488,4839,5143]
[16300,2566,3431,4073,4499,4852,5158]
[16400,2578,3440,4083,4511,4865,5174]
[16500,2591,3450,4094,4522,4878,5189]
[16600,2603,3459,4105,4534,4892,5204]
[16700,2615,3468,4115,4545,4905,5220]
[16800,2628,3478,4126,4557,4918,5235]
[16900,2640,3487,4137,4568,4931,5251]
[17000,2652,3497,4147,4580,4944,5266]
[17100,2664,3506,4158,4591,4958,5282]
[17200,2676,3516,4169,4603,4971,5297]
[17300,2688,3525,4179,4614,4984,5312]
[17400,2700,3534,4190,4626,4997,5328]
[17500,2713,3544,4201,4637,5010,5343]
[17600,2724,3553,4211,4649,5023,5359]
[17700,2736,3563,4222,4660,5037,5374]
[17800,2748,3572,4233,4672,5050,5389]
[17900,2760,3581,4243,4683,5063,5405]
[18000,2772,3591,4254,4695,5076,5420]
[18100,2784,3600,4265,4706,5089,5436]
[18200,2796,3610,4275,4718,5103,5451]
[18300,2807,3619,4286,4729,5116,5467]
[18400,2819,3629,4297,4741,5129,5482]
[18500,2831,3638,4307,4752,5142,5497]
[18600,2842,3647,4318,4764,5155,5513]
[18700,2854,3657,4328,4775,5169,5528]
[18800,2865,3666,4339,4787,5182,5544]
[18900,2877,3676,4350,4798,5195,5559]
[19000,2888,3685,4360,4810,5208,5574]
[19100,2899,3694,4371,4821,5221,5590]
[19200,2911,3704,4382,4833,5235,5605]
[19300,2922,3713,4392,4844,5248,5621]
[19400,2933,3723,4403,4856,5261,5636]
[19500,2945,3732,4414,4867,5274,5652]
[19600,2956,3741,4424,4879,5287,5667]
[19700,2967,3751,4435,4890,5300,5682]
[19800,2978,3760,4446,4902,5314,5698]
[19900,2989,3770,4456,4913,5327,5713]
[20000,3000,3779,4467,4925,5340,5729]
[20100,3011,3789,4478,4936,5353,5744]
[20200,3022,3798,4488,4948,5366,5760]
[20300,3033,3807,4499,4959,5380,5775]
[20400,3044,3817,4510,4971,5393,5790]
[20500,3055,3826,4520,4982,5406,5806]
[20600,3065,3836,4531,4994,5419,5821]
[20700,3076,3845,4542,5005,5432,5837]
[20800,3087,3854,4552,5017,5446,5852]
[20900,3097,3864,4563,5029,5459,5867]
[21000,3108,3873,4574,5040,5472,5883]
[21100,3119,3883,4584,5052,5485,5898]
[21200,3129,3892,4595,5063,5498,5914]
[21300,3140,3902,4605,5075,5512,5929]
[21400,3150,3911,4616,5086,5525,5945]
[21500,3161,3920,4627,5098,5538,5960]
[21600,3171,3930,4637,5109,5551,5975]
[21700,3181,3939,4648,5121,5564,5991]
[21800,3192,3949,4659,5132,5577,6006]
[21900,3202,3958,4669,5144,5591,6022]
[22000,3212,3967,4680,5155,5604,6037]
[22100,3222,3977,4691,5167,5617,6053]
[22200,3232,3986,4701,5178,5630,6068]
[22300,3242,3996,4712,5190,5643,6083]
[22400,3252,4005,4723,5201,5657,6099]
[22500,3263,4014,4733,5213,5670,6114]
[22600,3272,4024,4744,5224,5683,6130]
[22700,3282,4033,4755,5236,5696,6145]
[22800,3292,4043,4765,5247,5709,6160]
[22900,3302,4052,4776,5259,5723,6176]
[23000,3312,4062,4787,5270,5736,6191]
[23100,3322,4071,4797,5282,5749,6207]
[23200,3332,4080,4808,5293,5762,6222]
[23300,3341,4090,4819,5305,5775,6238]
[23400,3351,4099,4829,5316,5788,6253]
[23500,3361,4109,4840,5328,5802,6268]
[23600,3370,4118,4850,5339,5815,6284]
[23700,3380,4127,4861,5351,5828,6299]
[23800,3389,4137,4872,5362,5841,6315]
[23900,3399,4146,4882,5374,5854,6330]
[24000,3408,4156,4893,5385,5868,6345]
[24100,3417,4165,4904,5397,5881,6361]
[24200,3427,4174,4914,5408,5894,6376]
[24300,3436,4184,4925,5420,5907,6392]
[24400,3445,4193,4936,5431,5920,6407]
[24500,3455,4203,4946,5443,5934,6423]
[24600,3464,4212,4957,5454,5947,6438]
[24700,3473,4222,4968,5466,5960,6453]
[24800,3482,4231,4978,5477,5973,6469]
[24900,3491,4240,4989,5489,5986,6484]
[25000,3500,4250,5000,5500,6000,6500]
[]
[]
[]
[]
[]
[]
[]
[]
[]
[]
[]
[]
[]
[]
[]
[]
["2017 Guidelines Amounts",null,null,null,null,null,null,null,null,null,null,null,null,null,null,null,{"$f":"IF('SE Obr4'!$B$9<>\"\",1,\"\")","v":""},{"$f":"IF('SE Obr4'!$I$12<>\"\",1,\"\")","v":""},{"$f":"IF('SE Obr4'!$M$12<>\"\",1,\"\")","v":""},{"$f":"IF('SE Obr4'!$Q$12<>\"\",1,\"\")","v":""},{"$f":"IF('SE Obr4'!$U$12<>\"\",1,\"\")","v":""},{"$f":"IF('SE Obr4'!$Y$12<>\"\",1,\"\")","v":""},{"$f":"SUM(R295:V295)","v":0}]
[null,null,null,null,null,null,null,null,null,null,null,null,null,null,null,null,null,null,null,null,null,null,0]
[100,0,0,0,0,0,0,null,null,null,null,null,null,null,null,null,null,null,null,null,null,null,0]
[200,0,0,0,0,0,0,null,null,null,null,null,null,null,null,null,null,null,null,null,null,null,0]
[300,0,0,0,0,0,0,null,null,null,null,null,null,null,null,null,null,null,null,null,null,null,0]
[400,0,0,0,0,0,0,null,null,null,null,null,null,null,null,null,null,null,null,null,null,null,0]
[500,0,0,0,0,0,0]
[600,0,0,0,0,0,0]
[700,0,0,0,0,0,0]
[800,160,195,229,256,283,309,null,null,null,null,null,null,null,null,null,null,null,null,null,null,null,{"$f":"SUM(R304:V304)","v":0}]
[900,186,226,267,298,329,361,null,null,null,null,null,null,null,null,null,null,null,null,null,null,null,0]
[1000,212,258,304,340,376,412,null,null,null,null,null,null,null,null,null,null,null,null,null,null,null,0]
[1100,238,290,341,382,423,463,null,null,null,null,null,null,null,null,null,null,null,null,null,null,null,0]
[1200,264,321,379,424,469,515,null,null,null,null,null,null,null,null,null,null,null,null,null,null,null,0]
[1300,290,353,416,466,516,566,null,null,null,null,null,null,null,null,null,null,null,null,null,null,null,0]
[1400,316,385,453,508,563,617,null,null,null,null,null,null,null,null,null,null,null,null,null,null,null,0]
[1500,342,416,491,550,609,669,null,null,null,null,null,null,null,null,null,null,null,null,null,null,null,0]
[1600,368,448,528,592,656,720,null,null,null,null,null,null,null,null,null,null,null,null,null,null,null,0]
[1700,384,476,562,630,696,761]
[1800,400,505,596,668,736,803]
[1900,416,533,631,706,776,844]
[2000,431,562,665,744,816,885]
[2100,447,590,699,781,856,926]
[2200,463,619,733,819,896,968]
[2300,479,647,767,857,936,1009]
[2400,495,676,802,895,976,1050]
[2500,511,704,836,933,1017,1091]
[2600,527,733,870,971,1057,1133]
[2700,542,761,904,1009,1097,1174]
[2800,558,789,939,1047,1137,1215]
[2900,574,818,973,1084,1177,1257]
[3000,590,846,1007,1122,1217,1298]
[3100,606,875,1041,1160,1257,1339]
[3200,622,903,1075,1198,1297,1380]
[3300,637,932,1110,1236,1337,1422]
[3400,653,960,1144,1274,1377,1463]
[3500,669,989,1178,1312,1417,1504]
[3600,685,1017,1212,1350,1457,1545]
[3700,701,1045,1246,1387,1497,1587]
[3800,717,1074,1281,1425,1537,1628]
[3900,733,1102,1315,1463,1577,1669]
[4000,748,1131,1349,1501,1617,1710]
[4100,764,1159,1383,1539,1658,1752]
[4200,780,1188,1417,1577,1698,1793]
[4300,796,1216,1452,1615,1738,1834]
[4400,812,1245,1486,1653,1778,1876]
[4500,828,1273,1520,1691,1818,1917]
[4600,844,1302,1554,1728,1858,1958]
[4700,859,1330,1589,1766,1898,1999]
[4800,875,1358,1623,1804,1938,2041]
[4900,891,1387,1657,1842,1978,2082]
[5000,907,1415,1691,1880,2018,2123]
[5100,923,1444,1725,1918,2058,2164]
[5200,939,1472,1760,1956,2098,2206]
[5300,954,1501,1794,1994,2138,2247]
[5400,970,1529,1828,2031,2178,2288]
[5500,986,1558,1862,2069,2218,2330]
[5600,1002,1586,1896,2107,2258,2371]
[5700,1018,1614,1931,2145,2298,2412]
[5800,1034,1643,1965,2183,2339,2453]
[5900,1050,1671,1999,2221,2379,2495]
[6000,1065,1700,2033,2259,2419,2536]
[6100,1081,1728,2067,2297,2459,2577]
[6200,1097,1757,2102,2334,2499,2618]
[6300,1113,1785,2136,2372,2539,2660]
[6400,1129,1814,2170,2410,2579,2701]
[6500,1145,1842,2204,2448,2619,2742]
[6600,1161,1871,2239,2486,2659,2784]
[6700,1176,1899,2273,2524,2699,2825]
[6800,1192,1927,2307,2562,2739,2866]
[6900,1208,1956,2341,2600,2779,2907]
[7000,1224,1984,2375,2638,2819,2949]
[7100,1240,2013,2410,2675,2859,2990]
[7200,1256,2041,2444,2713,2899,3031]
[7300,1271,2070,2478,2751,2939,3072]
[7400,1287,2098,2512,2789,2979,3114]
[7500,1303,2127,2546,2827,3020,3155]
[7600,1319,2155,2581,2865,3060,3196]
[7700,1335,2183,2615,2903,3100,3237]
[7800,1351,2212,2649,2941,3140,3279]
[7900,1367,2240,2683,2978,3180,3320]
[8000,1382,2269,2717,3016,3220,3361]
[8100,1398,2297,2752,3054,3260,3403]
[8200,1414,2326,2786,3092,3300,3444]
[8300,1430,2354,2820,3130,3340,3485]
[8400,1446,2383,2854,3168,3380,3526]
[8500,1462,2411,2888,3206,3420,3568]
[8600,1478,2440,2923,3244,3460,3609]
[8700,1493,2468,2957,3281,3500,3650]
[8800,1509,2496,2991,3319,3540,3691]
[8900,1525,2525,3025,3357,3580,3733]
[9000,1541,2553,3060,3395,3620,3774]
[9100,1557,2582,3094,3433,3661,3815]
[9200,1573,2610,3128,3471,3701,3857]
[9300,1588,2639,3162,3509,3741,3898]
[9400,1604,2667,3196,3547,3781,3939]
[9500,1620,2696,3231,3585,3821,3980]
[9600,1636,2724,3265,3622,3861,4022]
[9700,1652,2752,3299,3660,3901,4063]
[9800,1668,2781,3333,3698,3941,4104]
[9900,1684,2809,3367,3736,3981,4145]
[10000,1699,2838,3402,3774,4021,4187]
[10100,1715,2847,3412,3785,4034,4202]
[10200,1730,2857,3423,3797,4047,4218]
[10300,1745,2866,3434,3808,4061,4233]
[10400,1760,2875,3444,3820,4074,4248]
[10500,1775,2885,3455,3831,4087,4264]
[10600,1789,2894,3466,3843,4100,4279]
[10700,1804,2904,3476,3854,4113,4295]
[10800,1819,2913,3487,3866,4127,4310]
[10900,1833,2923,3498,3878,4140,4325]
[11000,1848,2932,3508,3889,4153,4341]
[11100,1863,2941,3519,3901,4166,4356]
[11200,1877,2951,3529,3912,4179,4372]
[11300,1892,2960,3540,3924,4193,4387]
[11400,1906,2970,3551,3935,4206,4403]
[11500,1921,2979,3561,3947,4219,4418]
[11600,1935,2988,3572,3958,4232,4433]
[11700,1949,2998,3583,3970,4245,4449]
[11800,1964,3007,3593,3981,4258,4464]
[11900,1978,3017,3604,3993,4272,4480]
[12000,1992,3026,3615,4004,4285,4495]
[12100,2006,3035,3625,4016,4298,4511]
[12200,2020,3045,3636,4027,4311,4526]
[12300,2034,3054,3647,4039,4324,4541]
[12400,2048,3064,3657,4050,4338,4557]
[12500,2063,3073,3668,4062,4351,4572]
[12600,2076,3083,3679,4073,4364,4588]
[12700,2090,3092,3689,4085,4377,4603]
[12800,2104,3101,3700,4096,4390,4618]
[12900,2118,3111,3711,4108,4404,4634]
[13000,2132,3120,3721,4119,4417,4649]
[13100,2146,3130,3732,4131,4430,4665]
[13200,2160,3139,3743,4142,4443,4680]
[13300,2173,3148,3753,4154,4456,4696]
[13400,2187,3158,3764,4165,4469,4711]
[13500,2201,3167,3775,4177,4483,4726]
[13600,2214,3177,3785,4188,4496,4742]
[13700,2228,3186,3796,4200,4509,4757]
[13800,2241,3196,3806,4211,4522,4773]
[13900,2255,3205,3817,4223,4535,4788]
[14000,2268,3214,3828,4234,4549,4803]
[14100,2281,3224,3838,4246,4562,4819]
[14200,2295,3233,3849,4257,4575,4834]
[14300,2308,3243,3860,4269,4588,4850]
[14400,2321,3252,3870,4280,4601,4865]
[14500,2335,3261,3881,4292,4615,4881]
[14600,2348,3271,3892,4303,4628,4896]
[14700,2361,3280,3902,4315,4641,4911]
[14800,2374,3290,3913,4326,4654,4927]
[14900,2387,3299,3924,4338,4667,4942]
[15000,2400,3308,3934,4349,4681,4958]
[15100,2413,3318,3945,4361,4694,4973]
[15200,2426,3327,3956,4372,4707,4989]
[15300,2439,3337,3966,4384,4720,5004]
[15400,2452,3346,3977,4395,4733,5019]
[15500,2465,3356,3988,4407,4746,5035]
[15600,2477,3365,3998,4418,4760,5050]
[15700,2490,3374,4009,4430,4773,5066]
[15800,2503,3384,4020,4442,4786,5081]
[15900,2515,3393,4030,4453,4799,5096]
[16000,2528,3403,4041,4465,4812,5112]
[16100,2541,3412,4051,4476,4826,5127]
[16200,2553,3421,4062,4488,4839,5143]
[16300,2566,3431,4073,4499,4852,5158]
[16400,2578,3440,4083,4511,4865,5174]
[16500,2591,3450,4094,4522,4878,5189]
[16600,2603,3459,4105,4534,4892,5204]
[16700,2615,3468,4115,4545,4905,5220]
[16800,2628,3478,4126,4557,4918,5235]
[16900,2640,3487,4137,4568,4931,5251]
[17000,2652,3497,4147,4580,4944,5266]
[17100,2664,3506,4158,4591,4958,5282]
[17200,2676,3516,4169,4603,4971,5297]
[17300,2688,3525,4179,4614,4984,5312]
[17400,2700,3534,4190,4626,4997,5328]
[17500,2713,3544,4201,4637,5010,5343]
[17600,2724,3553,4211,4649,5023,5359]
[17700,2736,3563,4222,4660,5037,5374]
[17800,2748,3572,4233,4672,5050,5389]
[17900,2760,3581,4243,4683,5063,5405]
[18000,2772,3591,4254,4695,5076,5420]
[18100,2784,3600,4265,4706,5089,5436]
[18200,2796,3610,4275,4718,5103,5451]
[18300,2807,3619,4286,4729,5116,5467]
[18400,2819,3629,4297,4741,5129,5482]
[18500,2831,3638,4307,4752,5142,5497]
[18600,2842,3647,4318,4764,5155,5513]
[18700,2854,3657,4328,4775,5169,5528]
[18800,2865,3666,4339,4787,5182,5544]
[18900,2877,3676,4350,4798,5195,5559]
[19000,2888,3685,4360,4810,5208,5574]
[19100,2899,3694,4371,4821,5221,5590]
[19200,2911,3704,4382,4833,5235,5605]
[19300,2922,3713,4392,4844,5248,5621]
[19400,2933,3723,4403,4856,5261,5636]
[19500,2945,3732,4414,4867,5274,5652]
[19600,2956,3741,4424,4879,5287,5667]
[19700,2967,3751,4435,4890,5300,5682]
[19800,2978,3760,4446,4902,5314,5698]
[19900,2989,3770,4456,4913,5327,5713]
[20000,3000,3779,4467,4925,5340,5729]
[20100,3011,3789,4478,4936,5353,5744]
[20200,3022,3798,4488,4948,5366,5760]
[20300,3033,3807,4499,4959,5380,5775]
[20400,3044,3817,4510,4971,5393,5790]
[20500,3055,3826,4520,4982,5406,5806]
[20600,3065,3836,4531,4994,5419,5821]
[20700,3076,3845,4542,5005,5432,5837]
[20800,3087,3854,4552,5017,5446,5852]
[20900,3097,3864,4563,5029,5459,5867]
[21000,3108,3873,4574,5040,5472,5883]
[21100,3119,3883,4584,5052,5485,5898]
[21200,3129,3892,4595,5063,5498,5914]
[21300,3140,3902,4605,5075,5512,5929]
[21400,3150,3911,4616,5086,5525,5945]
[21500,3161,3920,4627,5098,5538,5960]
[21600,3171,3930,4637,5109,5551,5975]
[21700,3181,3939,4648,5121,5564,5991]
[21800,3192,3949,4659,5132,5577,6006]
[21900,3202,3958,4669,5144,5591,6022]
[22000,3212,3967,4680,5155,5604,6037]
[22100,3222,3977,4691,5167,5617,6053]
[22200,3232,3986,4701,5178,5630,6068]
[22300,3242,3996,4712,5190,5643,6083]
[22400,3252,4005,4723,5201,5657,6099]
[22500,3263,4014,4733,5213,5670,6114]
[22600,3272,4024,4744,5224,5683,6130]
[22700,3282,4033,4755,5236,5696,6145]
[22800,3292,4043,4765,5247,5709,6160]
[22900,3302,4052,4776,5259,5723,6176]
[23000,3312,4062,4787,5270,5736,6191]
[23100,3322,4071,4797,5282,5749,6207]
[23200,3332,4080,4808,5293,5762,6222]
[23300,3341,4090,4819,5305,5775,6238]
[23400,3351,4099,4829,5316,5788,6253]
[23500,3361,4109,4840,5328,5802,6268]
[23600,3370,4118,4850,5339,5815,6284]
[23700,3380,4127,4861,5351,5828,6299]
[23800,3389,4137,4872,5362,5841,6315]
[23900,3399,4146,4882,5374,5854,6330]
[24000,3408,4156,4893,5385,5868,6345]
[24100,3417,4165,4904,5397,5881,6361]
[24200,3427,4174,4914,5408,5894,6376]
[24300,3436,4184,4925,5420,5907,6392]
[24400,3445,4193,4936,5431,5920,6407]
[24500,3455,4203,4946,5443,5934,6423]
[24600,3464,4212,4957,5454,5947,6438]
[24700,3473,4222,4968,5466,5960,6453]
[24800,3482,4231,4978,5477,5973,6469]
[24900,3491,4240,4989,5489,5986,6484]
[25000,3500,4250,5000,5500,6000,6500]
[]
[]
[]
[]
[]
[]
[]
[]
[]
[]
[]
[]
[]
[]
[]
[]
["2015 Guidelines Amounts"]
[]
[100,14,17,20,22,24,26]
[200,28,34,40,44,48,52]
[300,42,51,60,66,72,78]
[400,56,68,80,88,96,104]
[500,82,100,117,130,143,155]
[600,108,131,155,172,189,207]
[700,134,163,192,214,236,258]
[800,160,195,229,256,283,309]
[900,186,226,267,298,329,361]
[1000,212,258,304,340,376,412]
[1100,238,290,341,382,423,463]
[1200,264,321,379,424,469,515]
[1300,290,353,416,466,516,566]
[1400,316,385,453,508,563,617]
[1500,342,416,491,550,609,669]
[1600,368,448,528,592,656,720]
[1700,384,476,562,630,696,761]
[1800,400,505,596,668,736,803]
[1900,416,533,631,706,776,844]
[2000,431,562,665,744,816,885]
[2100,447,590,699,781,856,926]
[2200,463,619,733,819,896,968]
[2300,479,647,767,857,936,1009]
[2400,495,676,802,895,976,1050]
[2500,511,704,836,933,1017,1091]
[2600,527,733,870,971,1057,1133]
[2700,542,761,904,1009,1097,1174]
[2800,558,789,939,1047,1137,1215]
[2900,574,818,973,1084,1177,1257]
[3000,590,846,1007,1122,1217,1298]
[3100,606,875,1041,1160,1257,1339]
[3200,622,903,1075,1198,1297,1380]
[3300,637,932,1110,1236,1337,1422]
[3400,653,960,1144,1274,1377,1463]
[3500,669,989,1178,1312,1417,1504]
[3600,685,1017,1212,1350,1457,1545]
[3700,701,1045,1246,1387,1497,1587]
[3800,717,1074,1281,1425,1537,1628]
[3900,733,1102,1315,1463,1577,1669]
[4000,748,1131,1349,1501,1617,1710]
[4100,764,1159,1383,1539,1658,1752]
[4200,780,1188,1417,1577,1698,1793]
[4300,796,1216,1452,1615,1738,1834]
[4400,812,1245,1486,1653,1778,1876]
[4500,828,1273,1520,1691,1818,1917]
[4600,844,1302,1554,1728,1858,1958]
[4700,859,1330,1589,1766,1898,1999]
[4800,875,1358,1623,1804,1938,2041]
[4900,891,1387,1657,1842,1978,2082]
[5000,907,1415,1691,1880,2018,2123]
[5100,923,1444,1725,1918,2058,2164]
[5200,939,1472,1760,1956,2098,2206]
[5300,954,1501,1794,1994,2138,2247]
[5400,970,1529,1828,2031,2178,2288]
[5500,986,1558,1862,2069,2218,2330]
[5600,1002,1586,1896,2107,2258,2371]
[5700,1018,1614,1931,2145,2298,2412]
[5800,1034,1643,1965,2183,2339,2453]
[5900,1050,1671,1999,2221,2379,2495]
[6000,1065,1700,2033,2259,2419,2536]
[6100,1081,1728,2067,2297,2459,2577]
[6200,1097,1757,2102,2334,2499,2618]
[6300,1113,1785,2136,2372,2539,2660]
[6400,1129,1814,2170,2410,2579,2701]
[6500,1145,1842,2204,2448,2619,2742]
[6600,1161,1871,2239,2486,2659,2784]
[6700,1176,1899,2273,2524,2699,2825]
[6800,1192,1927,2307,2562,2739,2866]
[6900,1208,1956,2341,2600,2779,2907]
[7000,1224,1984,2375,2638,2819,2949]
[7100,1240,2013,2410,2675,2859,2990]
[7200,1256,2041,2444,2713,2899,3031]
[7300,1271,2070,2478,2751,2939,3072]
[7400,1287,2098,2512,2789,2979,3114]
[7500,1303,2127,2546,2827,3020,3155]
[7600,1319,2155,2581,2865,3060,3196]
[7700,1335,2183,2615,2903,3100,3237]
[7800,1351,2212,2649,2941,3140,3279]
[7900,1367,2240,2683,2978,3180,3320]
[8000,1382,2269,2717,3016,3220,3361]
[8100,1398,2297,2752,3054,3260,3403]
[8200,1414,2326,2786,3092,3300,3444]
[8300,1430,2354,2820,3130,3340,3485]
[8400,1446,2383,2854,3168,3380,3526]
[8500,1462,2411,2888,3206,3420,3568]
[8600,1478,2440,2923,3244,3460,3609]
[8700,1493,2468,2957,3281,3500,3650]
[8800,1509,2496,2991,3319,3540,3691]
[8900,1525,2525,3025,3357,3580,3733]
[9000,1541,2553,3060,3395,3620,3774]
[9100,1557,2582,3094,3433,3661,3815]
[9200,1573,2610,3128,3471,3701,3857]
[9300,1588,2639,3162,3509,3741,3898]
[9400,1604,2667,3196,3547,3781,3939]
[9500,1620,2696,3231,3585,3821,3980]
[9600,1636,2724,3265,3622,3861,4022]
[9700,1652,2752,3299,3660,3901,4063]
[9800,1668,2781,3333,3698,3941,4104]
[9900,1684,2809,3367,3736,3981,4145]
[10000,1699,2838,3402,3774,4021,4187]
[10100,1715,2847,3412,3785,4034,4202]
[10200,1730,2857,3423,3797,4047,4218]
[10300,1745,2866,3434,3808,4061,4233]
[10400,1760,2875,3444,3820,4074,4248]
[10500,1775,2885,3455,3831,4087,4264]
[10600,1789,2894,3466,3843,4100,4279]
[10700,1804,2904,3476,3854,4113,4295]
[10800,1819,2913,3487,3866,4127,4310]
[10900,1833,2923,3498,3878,4140,4325]
[11000,1848,2932,3508,3889,4153,4341]
[11100,1863,2941,3519,3901,4166,4356]
[11200,1877,2951,3529,3912,4179,4372]
[11300,1892,2960,3540,3924,4193,4387]
[11400,1906,2970,3551,3935,4206,4403]
[11500,1921,2979,3561,3947,4219,4418]
[11600,1935,2988,3572,3958,4232,4433]
[11700,1949,2998,3583,3970,4245,4449]
[11800,1964,3007,3593,3981,4258,4464]
[11900,1978,3017,3604,3993,4272,4480]
[12000,1992,3026,3615,4004,4285,4495]
[12100,2006,3035,3625,4016,4298,4511]
[12200,2020,3045,3636,4027,4311,4526]
[12300,2034,3054,3647,4039,4324,4541]
[12400,2048,3064,3657,4050,4338,4557]
[12500,2063,3073,3668,4062,4351,4572]
[12600,2076,3083,3679,4073,4364,4588]
[12700,2090,3092,3689,4085,4377,4603]
[12800,2104,3101,3700,4096,4390,4618]
[12900,2118,3111,3711,4108,4404,4634]
[13000,2132,3120,3721,4119,4417,4649]
[13100,2146,3130,3732,4131,4430,4665]
[13200,2160,3139,3743,4142,4443,4680]
[13300,2173,3148,3753,4154,4456,4696]
[13400,2187,3158,3764,4165,4469,4711]
[13500,2201,3167,3775,4177,4483,4726]
[13600,2214,3177,3785,4188,4496,4742]
[13700,2228,3186,3796,4200,4509,4757]
[13800,2241,3196,3806,4211,4522,4773]
[13900,2255,3205,3817,4223,4535,4788]
[14000,2268,3214,3828,4234,4549,4803]
[14100,2281,3224,3838,4246,4562,4819]
[14200,2295,3233,3849,4257,4575,4834]
[14300,2308,3243,3860,4269,4588,4850]
[14400,2321,3252,3870,4280,4601,4865]
[14500,2335,3261,3881,4292,4615,4881]
[14600,2348,3271,3892,4303,4628,4896]
[14700,2361,3280,3902,4315,4641,4911]
[14800,2374,3290,3913,4326,4654,4927]
[14900,2387,3299,3924,4338,4667,4942]
[15000,2400,3308,3934,4349,4681,4958]
[15100,2413,3318,3945,4361,4694,4973]
[15200,2426,3327,3956,4372,4707,4989]
[15300,2439,3337,3966,4384,4720,5004]
[15400,2452,3346,3977,4395,4733,5019]
[15500,2465,3356,3988,4407,4746,5035]
[15600,2477,3365,3998,4418,4760,5050]
[15700,2490,3374,4009,4430,4773,5066]
[15800,2503,3384,4020,4442,4786,5081]
[15900,2515,3393,4030,4453,4799,5096]
[16000,2528,3403,4041,4465,4812,5112]
[16100,2541,3412,4051,4476,4826,5127]
[16200,2553,3421,4062,4488,4839,5143]
[16300,2566,3431,4073,4499,4852,5158]
[16400,2578,3440,4083,4511,4865,5174]
[16500,2591,3450,4094,4522,4878,5189]
[16600,2603,3459,4105,4534,4892,5204]
[16700,2615,3468,4115,4545,4905,5220]
[16800,2628,3478,4126,4557,4918,5235]
[16900,2640,3487,4137,4568,4931,5251]
[17000,2652,3497,4147,4580,4944,5266]
[17100,2664,3506,4158,4591,4958,5282]
[17200,2676,3516,4169,4603,4971,5297]
[17300,2688,3525,4179,4614,4984,5312]
[17400,2700,3534,4190,4626,4997,5328]
[17500,2713,3544,4201,4637,5010,5343]
[17600,2724,3553,4211,4649,5023,5359]
[17700,2736,3563,4222,4660,5037,5374]
[17800,2748,3572,4233,4672,5050,5389]
[17900,2760,3581,4243,4683,5063,5405]
[18000,2772,3591,4254,4695,5076,5420]
[18100,2784,3600,4265,4706,5089,5436]
[18200,2796,3610,4275,4718,5103,5451]
[18300,2807,3619,4286,4729,5116,5467]
[18400,2819,3629,4297,4741,5129,5482]
[18500,2831,3638,4307,4752,5142,5497]
[18600,2842,3647,4318,4764,5155,5513]
[18700,2854,3657,4328,4775,5169,5528]
[18800,2865,3666,4339,4787,5182,5544]
[18900,2877,3676,4350,4798,5195,5559]
[19000,2888,3685,4360,4810,5208,5574]
[19100,2899,3694,4371,4821,5221,5590]
[19200,2911,3704,4382,4833,5235,5605]
[19300,2922,3713,4392,4844,5248,5621]
[19400,2933,3723,4403,4856,5261,5636]
[19500,2945,3732,4414,4867,5274,5652]
[19600,2956,3741,4424,4879,5287,5667]
[19700,2967,3751,4435,4890,5300,5682]
[19800,2978,3760,4446,4902,5314,5698]
[19900,2989,3770,4456,4913,5327,5713]
[20000,3000,3779,4467,4925,5340,5729]
[20100,3011,3789,4478,4936,5353,5744]
[20200,3022,3798,4488,4948,5366,5760]
[20300,3033,3807,4499,4959,5380,5775]
[20400,3044,3817,4510,4971,5393,5790]
[20500,3055,3826,4520,4982,5406,5806]
[20600,3065,3836,4531,4994,5419,5821]
[20700,3076,3845,4542,5005,5432,5837]
[20800,3087,3854,4552,5017,5446,5852]
[20900,3097,3864,4563,5029,5459,5867]
[21000,3108,3873,4574,5040,5472,5883]
[21100,3119,3883,4584,5052,5485,5898]
[21200,3129,3892,4595,5063,5498,5914]
[21300,3140,3902,4605,5075,5512,5929]
[21400,3150,3911,4616,5086,5525,5945]
[21500,3161,3920,4627,5098,5538,5960]
[21600,3171,3930,4637,5109,5551,5975]
[21700,3181,3939,4648,5121,5564,5991]
[21800,3192,3949,4659,5132,5577,6006]
[21900,3202,3958,4669,5144,5591,6022]
[22000,3212,3967,4680,5155,5604,6037]
[22100,3222,3977,4691,5167,5617,6053]
[22200,3232,3986,4701,5178,5630,6068]
[22300,3242,3996,4712,5190,5643,6083]
[22400,3252,4005,4723,5201,5657,6099]
[22500,3263,4014,4733,5213,5670,6114]
[22600,3272,4024,4744,5224,5683,6130]
[22700,3282,4033,4755,5236,5696,6145]
[22800,3292,4043,4765,5247,5709,6160]
[22900,3302,4052,4776,5259,5723,6176]
[23000,3312,4062,4787,5270,5736,6191]
[23100,3322,4071,4797,5282,5749,6207]
[23200,3332,4080,4808,5293,5762,6222]
[23300,3341,4090,4819,5305,5775,6238]
[23400,3351,4099,4829,5316,5788,6253]
[23500,3361,4109,4840,5328,5802,6268]
[23600,3370,4118,4850,5339,5815,6284]
[23700,3380,4127,4861,5351,5828,6299]
[23800,3389,4137,4872,5362,5841,6315]
[23900,3399,4146,4882,5374,5854,6330]
[24000,3408,4156,4893,5385,5868,6345]
[24100,3417,4165,4904,5397,5881,6361]
[24200,3427,4174,4914,5408,5894,6376]
[24300,3436,4184,4925,5420,5907,6392]
[24400,3445,4193,4936,5431,5920,6407]
[24500,3455,4203,4946,5443,5934,6423]
[24600,3464,4212,4957,5454,5947,6438]
[24700,3473,4222,4968,5466,5960,6453]
[24800,3482,4231,4978,5477,5973,6469]
[24900,3491,4240,4989,5489,5986,6484]
[25000,3500,4250,5000,5500,6000,6500]
[]
[]
[]
[]
[]
[]
[]
[]
[]
[]
[]
[]
[]
[]
[]
[]
[]
[]
[]
[]
[]
[]
[]
[]
[]
[]
[]
[]
[]
[]
[]
[]
[]
[]
[]
[]
[]
[]
[]
[]
[]
[]
[]
[]
[]
[]
[]
[]
[]
[]
[]
[]
[]
[]
[]
[]
[]
[]
[]
[]
[]
[]
[]
[]
[]
[]
[]
[]
[]
[]
[]
[]
[]
[]
[]
[]
[]
[]
[]
[]
[]
[]
[]
[]
[]
[]
[]
[]
[]
[]
[]
[]
[]
[]
[]
[]
[]
[]
[]
[]
[]
[]
[]
[]
[]
[]
[]
[]
[]
[]
[]
[]
[]
[]
[]
[]
[]
[]
[]
[]
[]
[]
[]
[]
[]
[]
[]
[]
[]
[]
[]
[]
[]
[]
[]
[]
[]
[]
[]
[]
[]
[]
[]
[]
[]
[]
[]
[]
[]
[]
[]
[]
[]
[]
[]
[]
[]
[]
[]
[]
[]
[]
[]
[]
[]
[]
[]
[]
[]
[]
[]
[]
[]
[]
[]
[]
[]
[]
[]
[]
[]
[]
[]
[]
[]
[]
[]
[]
[]
[]
[]
[]
[]
[]
[]
[]
[]
[]
[]
[]
[]
[]
[]
[]
[]
[]
[]
[]
[]
[]
[]
[]
[]
[]
[]
[]
[]
[]
[]
[]
[]
[]
[]
[]
[]
[]
[]
[]
[]
[]
[]
[]
[]
[]
[]
[]
[]
[]
[]
[]
[]
[]
[]
[]
[]
[]
[]
[]
[]
[]
[]
[]
[]
[]
[]
[]
[]
[]
[]
[]
[]
[]
[]
[]
[]
[]
[]
[]
[]
[]
[]
[]
["2011 Guidelines Amounts"]
[]
[100,14,17,20,22,24,26]
[200,28,34,40,44,48,52]
[300,42,51,60,66,72,78]
[400,56,68,80,88,96,104]
[500,82,100,117,130,143,155]
[600,108,131,155,172,189,207]
[700,134,163,192,214,236,258]
[800,160,195,229,256,283,309]
[900,186,226,267,298,329,361]
[1000,212,258,304,340,376,412]
[1100,238,290,341,382,423,463]
[1200,264,321,379,424,469,515]
[1300,290,353,416,466,516,566]
[1400,316,385,453,508,563,617]
[1500,342,416,491,550,609,669]
[1600,368,448,528,592,656,720]
[1700,384,476,562,630,696,761]
[1800,400,505,596,668,736,803]
[1900,416,533,631,706,776,844]
[2000,431,562,665,744,816,885]
[2100,447,590,699,781,856,926]
[2200,463,619,733,819,896,968]
[2300,479,647,767,857,936,1009]
[2400,495,676,802,895,976,1050]
[2500,511,704,836,933,1017,1091]
[2600,527,733,870,971,1057,1133]
[2700,542,761,904,1009,1097,1174]
[2800,558,789,939,1047,1137,1215]
[2900,574,818,973,1084,1177,1257]
[3000,590,846,1007,1122,1217,1298]
[3100,606,875,1041,1160,1257,1339]
[3200,622,903,1075,1198,1297,1380]
[3300,637,932,1110,1236,1337,1422]
[3400,653,960,1144,1274,1377,1463]
[3500,669,989,1178,1312,1417,1504]
[3600,685,1017,1212,1350,1457,1545]
[3700,701,1045,1246,1387,1497,1587]
[3800,717,1074,1281,1425,1537,1628]
[3900,733,1102,1315,1463,1577,1669]
[4000,748,1131,1349,1501,1617,1710]
[4100,764,1159,1383,1539,1658,1752]
[4200,780,1188,1417,1577,1698,1793]
[4300,796,1216,1452,1615,1738,1834]
[4400,812,1245,1486,1653,1778,1876]
[4500,828,1273,1520,1691,1818,1917]
[4600,844,1302,1554,1728,1858,1958]
[4700,859,1330,1589,1766,1898,1999]
[4800,875,1358,1623,1804,1938,2041]
[4900,891,1387,1657,1842,1978,2082]
[5000,907,1415,1691,1880,2018,2123]
[5100,923,1444,1725,1918,2058,2164]
[5200,939,1472,1760,1956,2098,2206]
[5300,954,1501,1794,1994,2138,2247]
[5400,970,1529,1828,2031,2178,2288]
[5500,986,1558,1862,2069,2218,2330]
[5600,1002,1586,1896,2107,2258,2371]
[5700,1018,1614,1931,2145,2298,2412]
[5800,1034,1643,1965,2183,2339,2453]
[5900,1050,1671,1999,2221,2379,2495]
[6000,1065,1700,2033,2259,2419,2536]
[6100,1081,1728,2067,2297,2459,2577]
[6200,1097,1757,2102,2334,2499,2618]
[6300,1113,1785,2136,2372,2539,2660]
[6400,1129,1814,2170,2410,2579,2701]
[6500,1145,1842,2204,2448,2619,2742]
[6600,1161,1871,2239,2486,2659,2784]
[6700,1176,1899,2273,2524,2699,2825]
[6800,1192,1927,2307,2562,2739,2866]
[6900,1208,1956,2341,2600,2779,2907]
[7000,1224,1984,2375,2638,2819,2949]
[7100,1240,2013,2410,2675,2859,2990]
[7200,1256,2041,2444,2713,2899,3031]
[7300,1271,2070,2478,2751,2939,3072]
[7400,1287,2098,2512,2789,2979,3114]
[7500,1303,2127,2546,2827,3020,3155]
[7600,1319,2155,2581,2865,3060,3196]
[7700,1335,2183,2615,2903,3100,3237]
[7800,1351,2212,2649,2941,3140,3279]
[7900,1367,2240,2683,2978,3180,3320]
[8000,1382,2269,2717,3016,3220,3361]
[8100,1398,2297,2752,3054,3260,3403]
[8200,1414,2326,2786,3092,3300,3444]
[8300,1430,2354,2820,3130,3340,3485]
[8400,1446,2383,2854,3168,3380,3526]
[8500,1462,2411,2888,3206,3420,3568]
[8600,1478,2440,2923,3244,3460,3609]
[8700,1493,2468,2957,3281,3500,3650]
[8800,1509,2496,2991,3319,3540,3691]
[8900,1525,2525,3025,3357,3580,3733]
[9000,1541,2553,3060,3395,3620,3774]
[9100,1557,2582,3094,3433,3661,3815]
[9200,1573,2610,3128,3471,3701,3857]
[9300,1588,2639,3162,3509,3741,3898]
[9400,1604,2667,3196,3547,3781,3939]
[9500,1620,2696,3231,3585,3821,3980]
[9600,1636,2724,3265,3622,3861,4022]
[9700,1652,2752,3299,3660,3901,4063]
[9800,1668,2781,3333,3698,3941,4104]
[9900,1684,2809,3367,3736,3981,4145]
[10000,1699,2838,3402,3774,4021,4187]
[10100,1715,2866,3436,3812,4061,4228]
[10200,1731,2894,3470,3849,4101,4270]
[10300,1747,2923,3504,3887,4141,4311]
[10400,1763,2951,3538,3924,4181,4352]
[10500,1780,2979,3572,3962,4221,4394]
[10600,1796,3007,3605,4000,4260,4435]
[10700,1812,3035,3639,4037,4300,4476]
[10800,1828,3064,3673,4075,4340,4517]
[10900,1844,3092,3707,4112,4380,4559]
[11000,1860,3120,3741,4150,4420,4600]
[11100,1876,3148,3775,4188,4460,4641]
[11200,1892,3176,3809,4225,4500,4683]
[11300,1908,3205,3843,4263,4540,4724]
[11400,1924,3233,3877,4300,4580,4765]
[11500,1941,3261,3911,4338,4620,4807]
[11600,1957,3289,3945,4376,4659,4848]
[11700,1973,3317,3978,4413,4699,4889]
[11800,1989,3346,4012,4451,4739,4930]
[11900,2005,3374,4046,4488,4779,4972]
[12000,2021,3402,4080,4526,4819,5013]
[12100,2037,3430,4114,4564,4859,5054]
[12200,2053,3458,4148,4601,4899,5096]
[12300,2069,3487,4182,4639,4939,5137]
[12400,2085,3515,4216,4676,4979,5178]
[12500,2102,3543,4250,4714,5019,5220]
[]
[]
[]
[]
[]
[]
[]
["2008 Guidelines Amounts"]
[]
[100,14,17,20,22,24,26]
[200,28,34,40,44,48,52]
[300,42,51,60,66,72,78]
[400,56,68,80,88,96,104]
[500,75,90,105,120,130,140]
[600,102,126,144,162,174,192]
[700,133,161,189,210,231,252]
[800,168,200,232,264,288,320]
[900,207,252,288,324,360,387]
[1000,250,300,350,390,430,470]
[1100,266,328,384,428,470,511]
[1200,282,356,418,465,510,553]
[1300,298,385,452,503,550,594]
[1400,314,412,486,540,590,635]
[1500,330,441,520,578,630,677]
[1600,346,469,554,616,669,718]
[1700,362,497,588,653,709,759]
[1800,378,526,622,691,749,800]
[1900,394,554,656,728,789,842]
[2000,411,582,690,766,829,883]
[2100,427,610,724,804,869,924]
[2200,443,638,758,841,909,966]
[2300,459,667,792,879,949,1007]
[2400,475,695,826,916,989,1048]
[2500,492,723,860,954,1029,1090]
[2600,508,751,893,992,1068,1131]
[2700,524,779,927,1029,1108,1172]
[2800,540,808,961,1067,1148,1213]
[2900,556,836,995,1104,1188,1255]
[3000,572,864,1029,1142,1228,1296]
[3100,588,892,1063,1180,1268,1337]
[3200,604,920,1097,1217,1308,1379]
[3300,620,949,1131,1255,1348,1420]
[3400,636,977,1165,1292,1388,1461]
[3500,653,1005,1199,1330,1428,1503]
[3600,669,1033,1232,1368,1467,1544]
[3700,685,1061,1266,1405,1507,1585]
[3800,701,1090,1300,1443,1547,1626]
[3900,717,1118,1334,1480,1587,1668]
[4000,733,1146,1368,1518,1627,1709]
[4100,749,1174,1402,1556,1667,1750]
[4200,765,1202,1436,1593,1707,1792]
[4300,781,1231,1470,1631,1747,1833]
[4400,797,1259,1504,1668,1787,1874]
[4500,814,1287,1538,1706,1827,1916]
[4600,830,1315,1571,1744,1866,1957]
[4700,846,1343,1605,1781,1906,1998]
[4800,862,1372,1639,1819,1946,2039]
[4900,878,1400,1673,1856,1986,2081]
[5000,894,1428,1707,1894,2026,2122]
[5100,910,1456,1741,1932,2066,2163]
[5200,926,1484,1775,1969,2106,2205]
[5300,942,1513,1809,2007,2146,2246]
[5400,958,1541,1843,2044,2186,2287]
[5500,975,1569,1877,2082,2226,2329]
[5600,991,1597,1910,2120,2265,2370]
[5700,1007,1625,1944,2157,2305,2411]
[5800,1023,1654,1978,2195,2345,2453]
[5900,1039,1682,2012,2232,2385,2494]
[6000,1055,1710,2046,2270,2425,2535]
[6100,1071,1738,2080,2308,2465,2576]
[6200,1087,1766,2114,2345,2505,2618]
[6300,1103,1795,2148,2383,2545,2659]
[6400,1119,1823,2182,2420,2585,2700]
[6500,1136,1851,2216,2458,2625,2742]
[6600,1152,1879,2249,2496,2664,2783]
[6700,1168,1907,2283,2533,2704,2824]
[6800,1184,1936,2317,2571,2744,2865]
[6900,1200,1964,2351,2608,2784,2907]
[7000,1216,1992,2385,2646,2824,2948]
[7100,1232,2020,2419,2684,2864,2989]
[7200,1248,2048,2453,2721,2904,3031]
[7300,1264,2077,2487,2759,2944,3072]
[7400,1280,2105,2521,2796,2984,3113]
[7500,1297,2133,2555,2834,3024,3155]
[7600,1313,2161,2588,2872,3063,3196]
[7700,1329,2189,2622,2909,3103,3237]
[7800,1345,2218,2656,2947,3143,3278]
[7900,1361,2246,2690,2984,3183,3320]
[8000,1377,2274,2724,3022,3223,3361]
[8100,1393,2302,2758,3060,3263,3402]
[8200,1409,2330,2792,3097,3303,3444]
[8300,1425,2359,2826,3135,3343,3485]
[8400,1441,2387,2860,3172,3383,3526]
[8500,1458,2415,2894,3210,3423,3568]
[8600,1474,2443,2927,3248,3462,3609]
[8700,1490,2471,2961,3285,3502,3650]
[8800,1506,2500,2995,3323,3542,3691]
[8900,1522,2528,3029,3360,3582,3733]
[9000,1538,2556,3063,3398,3622,3774]
[9100,1554,2584,3097,3436,3662,3815]
[9200,1570,2612,3131,3473,3702,3857]
[9300,1586,2641,3165,3511,3742,3898]
[9400,1602,2669,3199,3548,3782,3939]
[9500,1619,2697,3233,3586,3822,3981]
[9600,1635,2725,3266,3624,3861,4022]
[9700,1651,2753,3300,3661,3901,4063]
[9800,1667,2782,3334,3699,3941,4104]
[9900,1683,2809,3368,3736,3981,4146]
[10000,1699,2838,3402,3774,4021,4187]
[10100,1715,2866,3436,3812,4061,4228]
[10200,1731,2894,3470,3849,4101,4270]
[10300,1747,2923,3504,3887,4141,4311]
[10400,1763,2951,3538,3924,4181,4352]
[10500,1780,2979,3572,3962,4221,4394]
[10600,1796,3007,3605,4000,4260,4435]
[10700,1812,3035,3639,4037,4300,4476]
[10800,1828,3064,3673,4075,4340,4517]
[10900,1844,3092,3707,4112,4380,4559]
[11000,1860,3120,3741,4150,4420,4600]
[11100,1876,3148,3775,4188,4460,4641]
[11200,1892,3176,3809,4225,4500,4683]
[11300,1908,3205,3843,4263,4540,4724]
[11400,1924,3233,3877,4300,4580,4765]
[11500,1941,3261,3911,4338,4620,4807]
[11600,1957,3289,3945,4376,4659,4848]
[11700,1973,3317,3978,4413,4699,4889]
[11800,1989,3346,4012,4451,4739,4930]
[11900,2005,3374,4046,4488,4779,4972]
[12000,2021,3402,4080,4526,4819,5013]
[12100,2037,3430,4114,4564,4859,5054]
[12200,2053,3458,4148,4601,4899,5096]
[12300,2069,3487,4182,4639,4939,5137]
[12400,2085,3515,4216,4676,4979,5178]
[12500,2102,3543,4250,4714,5019,5220]